{"text_format":"1","workbook":"xlsx","n_sheets":4,"sheets":["Assortiment Hoortoestellen","Dataset hoortoestellen","Blad3","HSN nummer"],"not_rendered":{"charts":0,"images":0,"macros":1,"external_links":0,"defined_names":6,"comments":0,"pivot_tables":1},"unopened":[],"bounds":{"document_bytes":16777216,"sheet_cells":100000,"rows_first":2000,"rows_last":500,"rows_between":2000,"halvings":0,"cell_chars":16384,"cell_head_chars":4096},"cells_cut":0,"cells_raw":0,"read":"whole","date_system":"1900"}

{"sheet":"Assortiment Hoortoestellen","index":0,"n_rows":149,"n_cols":5,"rows_kept":149,"cut":false,"hidden":false,"merged":[]}
[]
[null,"Door CZ gecontracteerd "]
[null,"voorkeursassortiment Hoortoestellen"]
[]
[null,"Maak hieronder uw selectie op basis van categorie, merk, model of HSN nummer* voor het gewenste hoortoestel.  "]
[null,"Vervolgens ziet u onder de tabel een overzicht van audiciens waar het geselecteerde hoortoestel tot het CZ "]
[null,"voorkeursassortiment behoort. Meer productinformatie per hoortoestel vindt u in de ",null,null,"Hoorwijzer"]
[]
[null,"De selectie wordt gewist wanneer u op het kruisje rechtsboven in de selectielijsten klikt."]
[]
[]
[]
[]
[]
[]
[]
[]
[]
[]
[]
[]
[null,"Het is ook mogelijk om direct op de naam van het model van het hoortoestel te zoeken."]
[null,"Vul daarvoor in het oranje invul-vak de naam van het model in en klik op de knop ernaast."]
[]
[null,"Model"]
[]
[]
[null,"* uniek nummer dat is toegekend aan een hoortoestel dat is opgenomen in de landelijke Hoortoestellendatabase"]
[]
[null,"Audiciens"]
[]
[]
[]
[]
[null,"Selectie model",1]
[]
[null,"Rijlabels"]
[null,"A. de Jong"]
[null,"ABC Hoortechniek"]
[null,"Annemiek's Hoorstudio"]
[null,"Audibene"]
[null,"Audicienspraktijk Oordelman"]
[null,"Auditiek Lammers"]
[null,"Beeks Oog & Oor"]
[null,"Ben van der Heiden horen Halsteren "]
[null,"Bessems Hoortechniek"]
[null,"Beter Horen"]
[null,"Betzel Hooroplossingen"]
[null,"Bouwhuis Opticien-Audicien"]
[null,"Brabant Oor"]
[null,"Cityhoren Rotterdam"]
[null,"Coppes Hoorzorg"]
[null,"De Hoorwereld"]
[null,"De Hoorzaak"]
[null,"De Jong Audiciens"]
[null,"De Oor-zaak"]
[null,"De Pool v.o.f."]
[null,"Ecoutez"]
[null,"Een & Al Oor Bakel"]
[null,"Engel Hoorservice"]
[null,"EnginEars"]
[null,"Garant Opticien Audicien Apeldoorn"]
[null,"Gehoorpunt"]
[null,"Hans Anders"]
[null,"Het Hoorhuis-Hoorspecialisten"]
[null,"Hoogendoorn Optiek & Hoortechniek"]
[null,"Hoorcentrum Horst"]
[null,"Hoorcentrum JvG Heemstede"]
[null,"Hoorcentrum Meerkerk"]
[null,"Hoorcentrum Weert"]
[null,"Hoorkliniek VOF"]
[null,"HoorPartners Groep - Audicienspraktijk Apeldoorn"]
[null,"HoorPartners Groep - Hoorcentrum Wezep-Dalfsen"]
[null,"Hoorservice Schram"]
[null,"Hoorspecialist Leurs"]
[null,"Hoorspecialist Oirschot"]
[null,"Hoorspot Groenlo"]
[null,"Hoorstudio Gooise Meren"]
[null,"Hoorsucces Meppel"]
[null,"HoorSucces Urk"]
[null,"Hoortijd"]
[null,"Hoortoestelwinkel"]
[null,"Hoortzo Ridderkerk"]
[null,"Hoortzo Spijkenisse"]
[null,"Hoorus Boxmeer"]
[null,"Hoorus Malden"]
[null,"Hoorzaak van Neerven "]
[null,"Horen Epe"]
[null,"Horend Goed"]
[null,"Huiskens Optiek & Horen"]
[null,"IntoEars Hoorcentrum"]
[null,"Jan Bours De Audicien bij wie u thuis hoort"]
[null,"Jansen Horen en Zien"]
[null,"Janssen Hoorzorg"]
[null,"Jerre Hoorzorg "]
[null,"Jess Optiek"]
[null,"Joosten Hoorspecialisten Hoorn"]
[null,"Joosten Hoorspecialisten Zaandam"]
[null,"KIND HOREN"]
[null,"Kooijman Hoortoestellen"]
[null,"Krijnen HoorVisie "]
[null,"Lens de Meern BV"]
[null,"Lens Rotterdam BV"]
[null,"Makker Hoortoestellen & Makker Hoortoestellen Retail BV"]
[null,"Melens Optiek"]
[null,"Mijn Horen "]
[null,"Nico-Optiek"]
[null,"Oog en Oorzorgcentrum Noordwest Veluwe"]
[null,"Oogvoororen.nl"]
[null,"Oorwerk"]
[null,"Oorzaak Hoorkliniek"]
[null,"Oosterhoff Hoortoestellen BV"]
[null,"Ophof Optiek BV"]
[null,"OPTIEK GROESBEEK opticiens & Audiciens"]
[null,"Optiek Moonen "]
[null,"Optiek Swemmer"]
[null,"Optiek Verhoeven / Ear to Ear"]
[null,"PC van Gent Hoortoestellen BV"]
[null,"Peeters Horen"]
[null,"Roos Hoortoestellen"]
[null,"Ros hoortoestellen"]
[null,"Rutgers Hoortechniek"]
[null,"Schelfhout Audiciens"]
[null,"Schiks Hoortechniek"]
[null,"Schoonenberg"]
[null,"Specsavers"]
[null,"Struijk Acousticon"]
[null,"Struijk Audiciens BV"]
[null,"Struijk Audiciens Geldermalsen BV"]
[null,"Struijk Hoortechniek"]
[null,"Struijk Leerdam"]
[null,"Stufkens Hoorcentrum, Beste Oor, Kruytzer en Gijsen"]
[null,"Stufkens Hoorspecialist Tiel"]
[null,"Stutvoet Optiek"]
[null,"'t Hoorhuys"]
[null,"Thuis in Horen"]
[null,"Trend Zien en Horen"]
[null,"Uw audicien aan huis"]
[null,"Van Boxtel hoorwinkels"]
[null,"Van Der Landen Hoortechniek"]
[null,"Van der Leeuw Horen"]
[null,"Van Keulen Walenburgerweg BV "]
[null,"Van Mossel Hoortoestellen"]
[null,"Van Rugge optiek"]
[null,"Van Schijndel Hoortechniek"]
[null,"van't Wout Hoortoestellen"]
[null,"Weegels hoorbeleving"]
[null,"Zeezicht Optiek en Audiciens"]
[null,"Zweers Hoortoestellen V.O.F. "]

{"sheet":"Dataset hoortoestellen","index":1,"n_rows":29473,"n_cols":6,"rows_kept":4500,"cut":true,"hidden":true,"merged":[],"bounds":{"rows_first":2000,"rows_last":500,"rows_between":2000,"halvings":0}}
["Naam Zorgaanbieder","Categorie ","Merk","Model ","HSN-nummer","Selectie model"]
["A. de Jong",3,"Coselgi","Effect EF4-CIC Rechts","COS-0308",{"$f":"IF(ISBLANK('Assortiment Hoortoestellen'!$B$26),1,IF(ISERROR(SEARCH(PROPER('Assortiment Hoortoestellen'!$B$26),PROPER('Dataset hoortoestellen'!D2))),0,1))","v":1}]
["A. de Jong",4,"Coselgi","Effect EF5-F2 (M-tel)","COS-0317",{"$f":"IF(ISBLANK('Assortiment Hoortoestellen'!$B$26),1,IF(ISERROR(SEARCH(PROPER('Assortiment Hoortoestellen'!$B$26),PROPER('Dataset hoortoestellen'!D3))),0,1))","v":1}]
["A. de Jong",4,"Coselgi","Effect EF5-CIC Rechts","COS-0329",{"$f":"IF(ISBLANK('Assortiment Hoortoestellen'!$B$26),1,IF(ISERROR(SEARCH(PROPER('Assortiment Hoortoestellen'!$B$26),PROPER('Dataset hoortoestellen'!D4))),0,1))","v":1}]
["A. de Jong",2,"Starkey","Muse i1000 mRIC 312 opl","STA-0307",{"$f":"IF(ISBLANK('Assortiment Hoortoestellen'!$B$26),1,IF(ISERROR(SEARCH(PROPER('Assortiment Hoortoestellen'!$B$26),PROPER('Dataset hoortoestellen'!D5))),0,1))","v":1}]
["A. de Jong",1,"Starkey","Muse i1000 BTE 13","STA-0308",{"$f":"IF(ISBLANK('Assortiment Hoortoestellen'!$B$26),1,IF(ISERROR(SEARCH(PROPER('Assortiment Hoortoestellen'!$B$26),PROPER('Dataset hoortoestellen'!D6))),0,1))","v":1}]
["A. de Jong",5,"Starkey","Muse iQ 1600 ITC","STA-0347",{"$f":"IF(ISBLANK('Assortiment Hoortoestellen'!$B$26),1,IF(ISERROR(SEARCH(PROPER('Assortiment Hoortoestellen'!$B$26),PROPER('Dataset hoortoestellen'!D7))),0,1))","v":1}]
["A. de Jong",1,"Starkey","Muse iQ i1000 CIC","STA-0352",{"$f":"IF(ISBLANK('Assortiment Hoortoestellen'!$B$26),1,IF(ISERROR(SEARCH(PROPER('Assortiment Hoortoestellen'!$B$26),PROPER('Dataset hoortoestellen'!D8))),0,1))","v":1}]
["A. de Jong",2,"Starkey","Muse iQ i1000 ITE","STA-0354",{"$f":"IF(ISBLANK('Assortiment Hoortoestellen'!$B$26),1,IF(ISERROR(SEARCH(PROPER('Assortiment Hoortoestellen'!$B$26),PROPER('Dataset hoortoestellen'!D9))),0,1))","v":1}]
["A. de Jong",3,"Starkey","Muse iQ i1000 ITE","STA-0354",{"$f":"IF(ISBLANK('Assortiment Hoortoestellen'!$B$26),1,IF(ISERROR(SEARCH(PROPER('Assortiment Hoortoestellen'!$B$26),PROPER('Dataset hoortoestellen'!D10))),0,1))","v":1}]
["A. de Jong",4,"Starkey","Muse iQ i1200 CIC","STA-0362",{"$f":"IF(ISBLANK('Assortiment Hoortoestellen'!$B$26),1,IF(ISERROR(SEARCH(PROPER('Assortiment Hoortoestellen'!$B$26),PROPER('Dataset hoortoestellen'!D11))),0,1))","v":1}]
["A. de Jong",4,"Starkey","Livio 1200 RIC R","STA-0387",{"$f":"IF(ISBLANK('Assortiment Hoortoestellen'!$B$26),1,IF(ISERROR(SEARCH(PROPER('Assortiment Hoortoestellen'!$B$26),PROPER('Dataset hoortoestellen'!D12))),0,1))","v":1}]
["A. de Jong",5,"Starkey","Livio 1600 BTE 13","STA-0388",{"$f":"IF(ISBLANK('Assortiment Hoortoestellen'!$B$26),1,IF(ISERROR(SEARCH(PROPER('Assortiment Hoortoestellen'!$B$26),PROPER('Dataset hoortoestellen'!D13))),0,1))","v":1}]
["A. de Jong",5,"Starkey","Livio 1600 RIC R","STA-0391",{"$f":"IF(ISBLANK('Assortiment Hoortoestellen'!$B$26),1,IF(ISERROR(SEARCH(PROPER('Assortiment Hoortoestellen'!$B$26),PROPER('Dataset hoortoestellen'!D14))),0,1))","v":1}]
["A. de Jong",1,"Widex","U110-CIC","WID-0404",{"$f":"IF(ISBLANK('Assortiment Hoortoestellen'!$B$26),1,IF(ISERROR(SEARCH(PROPER('Assortiment Hoortoestellen'!$B$26),PROPER('Dataset hoortoestellen'!D15))),0,1))","v":1}]
["A. de Jong",3,"Widex","U110-CIC-M TR","WID-0407",{"$f":"IF(ISBLANK('Assortiment Hoortoestellen'!$B$26),1,IF(ISERROR(SEARCH(PROPER('Assortiment Hoortoestellen'!$B$26),PROPER('Dataset hoortoestellen'!D16))),0,1))","v":1}]
["A. de Jong",3,"Widex","U110-XP","WID-0417",{"$f":"IF(ISBLANK('Assortiment Hoortoestellen'!$B$26),1,IF(ISERROR(SEARCH(PROPER('Assortiment Hoortoestellen'!$B$26),PROPER('Dataset hoortoestellen'!D17))),0,1))","v":1}]
["A. de Jong",2,"Widex","U220-CIC-M","WID-0420",{"$f":"IF(ISBLANK('Assortiment Hoortoestellen'!$B$26),1,IF(ISERROR(SEARCH(PROPER('Assortiment Hoortoestellen'!$B$26),PROPER('Dataset hoortoestellen'!D18))),0,1))","v":1}]
["A. de Jong",5,"Widex","U440-CIC","WID-0444",{"$f":"IF(ISBLANK('Assortiment Hoortoestellen'!$B$26),1,IF(ISERROR(SEARCH(PROPER('Assortiment Hoortoestellen'!$B$26),PROPER('Dataset hoortoestellen'!D19))),0,1))","v":1}]
["A. de Jong",1,"Widex","Enjoy E-BTE 13D 50","WID-0549",{"$f":"IF(ISBLANK('Assortiment Hoortoestellen'!$B$26),1,IF(ISERROR(SEARCH(PROPER('Assortiment Hoortoestellen'!$B$26),PROPER('Dataset hoortoestellen'!D20))),0,1))","v":1}]
["A. de Jong",2,"Widex","Enjoy E-XP 50","WID-0655",{"$f":"IF(ISBLANK('Assortiment Hoortoestellen'!$B$26),1,IF(ISERROR(SEARCH(PROPER('Assortiment Hoortoestellen'!$B$26),PROPER('Dataset hoortoestellen'!D21))),0,1))","v":1}]
["ABC Hoortechniek",1,"Bernafon","Nevara 1 CICx","BER-0453",{"$f":"IF(ISBLANK('Assortiment Hoortoestellen'!$B$26),1,IF(ISERROR(SEARCH(PROPER('Assortiment Hoortoestellen'!$B$26),PROPER('Dataset hoortoestellen'!D22))),0,1))","v":1}]
["ABC Hoortechniek",1,"Bernafon","Nevara 1 PR","BER-0486",{"$f":"IF(ISBLANK('Assortiment Hoortoestellen'!$B$26),1,IF(ISERROR(SEARCH(PROPER('Assortiment Hoortoestellen'!$B$26),PROPER('Dataset hoortoestellen'!D23))),0,1))","v":1}]
["ABC Hoortechniek",2,"Bernafon","Zerena 1 CIC","BER-0616",{"$f":"IF(ISBLANK('Assortiment Hoortoestellen'!$B$26),1,IF(ISERROR(SEARCH(PROPER('Assortiment Hoortoestellen'!$B$26),PROPER('Dataset hoortoestellen'!D24))),0,1))","v":1}]
["ABC Hoortechniek",2,"Bernafon","Zerena 1 MNR","BER-0621",{"$f":"IF(ISBLANK('Assortiment Hoortoestellen'!$B$26),1,IF(ISERROR(SEARCH(PROPER('Assortiment Hoortoestellen'!$B$26),PROPER('Dataset hoortoestellen'!D25))),0,1))","v":1}]
["ABC Hoortechniek",3,"Bernafon","Zerena 3 CIC","BER-0624",{"$f":"IF(ISBLANK('Assortiment Hoortoestellen'!$B$26),1,IF(ISERROR(SEARCH(PROPER('Assortiment Hoortoestellen'!$B$26),PROPER('Dataset hoortoestellen'!D26))),0,1))","v":1}]
["ABC Hoortechniek",4,"Bernafon","Zerena 5 CIC","BER-0632",{"$f":"IF(ISBLANK('Assortiment Hoortoestellen'!$B$26),1,IF(ISERROR(SEARCH(PROPER('Assortiment Hoortoestellen'!$B$26),PROPER('Dataset hoortoestellen'!D27))),0,1))","v":1}]
["ABC Hoortechniek",4,"Bernafon","Zerena 5 MNR","BER-0637",{"$f":"IF(ISBLANK('Assortiment Hoortoestellen'!$B$26),1,IF(ISERROR(SEARCH(PROPER('Assortiment Hoortoestellen'!$B$26),PROPER('Dataset hoortoestellen'!D28))),0,1))","v":1}]
["ABC Hoortechniek",5,"Bernafon","Zerena 7 CIC","BER-0640",{"$f":"IF(ISBLANK('Assortiment Hoortoestellen'!$B$26),1,IF(ISERROR(SEARCH(PROPER('Assortiment Hoortoestellen'!$B$26),PROPER('Dataset hoortoestellen'!D29))),0,1))","v":1}]
["ABC Hoortechniek",5,"Bernafon","Zerena 7 MNR","BER-0645",{"$f":"IF(ISBLANK('Assortiment Hoortoestellen'!$B$26),1,IF(ISERROR(SEARCH(PROPER('Assortiment Hoortoestellen'!$B$26),PROPER('Dataset hoortoestellen'!D30))),0,1))","v":1}]
["ABC Hoortechniek",1,"Resound","Vea 180 VI","RES-0009",{"$f":"IF(ISBLANK('Assortiment Hoortoestellen'!$B$26),1,IF(ISERROR(SEARCH(PROPER('Assortiment Hoortoestellen'!$B$26),PROPER('Dataset hoortoestellen'!D31))),0,1))","v":1}]
["ABC Hoortechniek",1,"Resound","Vea 130 -/P","RES-0011",{"$f":"IF(ISBLANK('Assortiment Hoortoestellen'!$B$26),1,IF(ISERROR(SEARCH(PROPER('Assortiment Hoortoestellen'!$B$26),PROPER('Dataset hoortoestellen'!D32))),0,1))","v":1}]
["ABC Hoortechniek",3,"Resound","Ligo 467-DW","RES-0266",{"$f":"IF(ISBLANK('Assortiment Hoortoestellen'!$B$26),1,IF(ISERROR(SEARCH(PROPER('Assortiment Hoortoestellen'!$B$26),PROPER('Dataset hoortoestellen'!D33))),0,1))","v":1}]
["ABC Hoortechniek",3,"Starkey","Muse iQ i1000 CIC","STA-0352",{"$f":"IF(ISBLANK('Assortiment Hoortoestellen'!$B$26),1,IF(ISERROR(SEARCH(PROPER('Assortiment Hoortoestellen'!$B$26),PROPER('Dataset hoortoestellen'!D34))),0,1))","v":1}]
["ABC Hoortechniek",2,"Starkey","Muse iQ i1000 ITC","STA-0353",{"$f":"IF(ISBLANK('Assortiment Hoortoestellen'!$B$26),1,IF(ISERROR(SEARCH(PROPER('Assortiment Hoortoestellen'!$B$26),PROPER('Dataset hoortoestellen'!D35))),0,1))","v":1}]
["ABC Hoortechniek",2,"Starkey","Muse iQ i1000 RIC 312","STA-0357",{"$f":"IF(ISBLANK('Assortiment Hoortoestellen'!$B$26),1,IF(ISERROR(SEARCH(PROPER('Assortiment Hoortoestellen'!$B$26),PROPER('Dataset hoortoestellen'!D36))),0,1))","v":1}]
["ABC Hoortechniek",4,"Starkey","Muse iQ i1200 CIC","STA-0362",{"$f":"IF(ISBLANK('Assortiment Hoortoestellen'!$B$26),1,IF(ISERROR(SEARCH(PROPER('Assortiment Hoortoestellen'!$B$26),PROPER('Dataset hoortoestellen'!D37))),0,1))","v":1}]
["ABC Hoortechniek",5,"Starkey","Muse iQ i1600 CIC","STA-0372",{"$f":"IF(ISBLANK('Assortiment Hoortoestellen'!$B$26),1,IF(ISERROR(SEARCH(PROPER('Assortiment Hoortoestellen'!$B$26),PROPER('Dataset hoortoestellen'!D38))),0,1))","v":1}]
["ABC Hoortechniek",3,"Starkey","Livio 1000 RIC R","STA-0383",{"$f":"IF(ISBLANK('Assortiment Hoortoestellen'!$B$26),1,IF(ISERROR(SEARCH(PROPER('Assortiment Hoortoestellen'!$B$26),PROPER('Dataset hoortoestellen'!D39))),0,1))","v":1}]
["ABC Hoortechniek",4,"Starkey","Livio 1200 RIC R","STA-0387",{"$f":"IF(ISBLANK('Assortiment Hoortoestellen'!$B$26),1,IF(ISERROR(SEARCH(PROPER('Assortiment Hoortoestellen'!$B$26),PROPER('Dataset hoortoestellen'!D40))),0,1))","v":1}]
["ABC Hoortechniek",5,"Starkey","Livio 1600 RIC R","STA-0391",{"$f":"IF(ISBLANK('Assortiment Hoortoestellen'!$B$26),1,IF(ISERROR(SEARCH(PROPER('Assortiment Hoortoestellen'!$B$26),PROPER('Dataset hoortoestellen'!D41))),0,1))","v":1}]
["Annemiek's Hoorstudio",5,"Audio Service","Duo 12 G4","AUS-0129",{"$f":"IF(ISBLANK('Assortiment Hoortoestellen'!$B$26),1,IF(ISERROR(SEARCH(PROPER('Assortiment Hoortoestellen'!$B$26),PROPER('Dataset hoortoestellen'!D42))),0,1))","v":1}]
["Annemiek's Hoorstudio",4,"Audio Service","Duo 8 G4","AUS-0130",{"$f":"IF(ISBLANK('Assortiment Hoortoestellen'!$B$26),1,IF(ISERROR(SEARCH(PROPER('Assortiment Hoortoestellen'!$B$26),PROPER('Dataset hoortoestellen'!D43))),0,1))","v":1}]
["Annemiek's Hoorstudio",5,"Audio Service","HP 12 G4","AUS-0131",{"$f":"IF(ISBLANK('Assortiment Hoortoestellen'!$B$26),1,IF(ISERROR(SEARCH(PROPER('Assortiment Hoortoestellen'!$B$26),PROPER('Dataset hoortoestellen'!D44))),0,1))","v":1}]
["Annemiek's Hoorstudio",4,"Audio Service","HP 8 G4","AUS-0132",{"$f":"IF(ISBLANK('Assortiment Hoortoestellen'!$B$26),1,IF(ISERROR(SEARCH(PROPER('Assortiment Hoortoestellen'!$B$26),PROPER('Dataset hoortoestellen'!D45))),0,1))","v":1}]
["Annemiek's Hoorstudio",2,"Audio Service","HP 4 G4","AUS-0153",{"$f":"IF(ISBLANK('Assortiment Hoortoestellen'!$B$26),1,IF(ISERROR(SEARCH(PROPER('Assortiment Hoortoestellen'!$B$26),PROPER('Dataset hoortoestellen'!D46))),0,1))","v":1}]
["Annemiek's Hoorstudio",3,"Audio Service","HP 6 G4","AUS-0154",{"$f":"IF(ISBLANK('Assortiment Hoortoestellen'!$B$26),1,IF(ISERROR(SEARCH(PROPER('Assortiment Hoortoestellen'!$B$26),PROPER('Dataset hoortoestellen'!D47))),0,1))","v":1}]
["Annemiek's Hoorstudio",5,"Audio Service","Duo 12 G5","AUS-0177",{"$f":"IF(ISBLANK('Assortiment Hoortoestellen'!$B$26),1,IF(ISERROR(SEARCH(PROPER('Assortiment Hoortoestellen'!$B$26),PROPER('Dataset hoortoestellen'!D48))),0,1))","v":1}]
["Annemiek's Hoorstudio",4,"Audio Service","Duo 8 G5","AUS-0178",{"$f":"IF(ISBLANK('Assortiment Hoortoestellen'!$B$26),1,IF(ISERROR(SEARCH(PROPER('Assortiment Hoortoestellen'!$B$26),PROPER('Dataset hoortoestellen'!D49))),0,1))","v":1}]
["Annemiek's Hoorstudio",5,"Audio Service","IHO 12 G5","AUS-0182",{"$f":"IF(ISBLANK('Assortiment Hoortoestellen'!$B$26),1,IF(ISERROR(SEARCH(PROPER('Assortiment Hoortoestellen'!$B$26),PROPER('Dataset hoortoestellen'!D50))),0,1))","v":1}]
["Annemiek's Hoorstudio",4,"Audio Service","IHO 8 G5","AUS-0183",{"$f":"IF(ISBLANK('Assortiment Hoortoestellen'!$B$26),1,IF(ISERROR(SEARCH(PROPER('Assortiment Hoortoestellen'!$B$26),PROPER('Dataset hoortoestellen'!D51))),0,1))","v":1}]
["Annemiek's Hoorstudio",5,"Audio Service","Mood 12 G5","AUS-0184",{"$f":"IF(ISBLANK('Assortiment Hoortoestellen'!$B$26),1,IF(ISERROR(SEARCH(PROPER('Assortiment Hoortoestellen'!$B$26),PROPER('Dataset hoortoestellen'!D52))),0,1))","v":1}]
["Annemiek's Hoorstudio",4,"Audio Service","Mood 8 G5","AUS-0185",{"$f":"IF(ISBLANK('Assortiment Hoortoestellen'!$B$26),1,IF(ISERROR(SEARCH(PROPER('Assortiment Hoortoestellen'!$B$26),PROPER('Dataset hoortoestellen'!D53))),0,1))","v":1}]
["Annemiek's Hoorstudio",5,"Audio Service","P 12 G5","AUS-0189",{"$f":"IF(ISBLANK('Assortiment Hoortoestellen'!$B$26),1,IF(ISERROR(SEARCH(PROPER('Assortiment Hoortoestellen'!$B$26),PROPER('Dataset hoortoestellen'!D54))),0,1))","v":1}]
["Annemiek's Hoorstudio",4,"Audio Service","P 8 G5","AUS-0190",{"$f":"IF(ISBLANK('Assortiment Hoortoestellen'!$B$26),1,IF(ISERROR(SEARCH(PROPER('Assortiment Hoortoestellen'!$B$26),PROPER('Dataset hoortoestellen'!D55))),0,1))","v":1}]
["Annemiek's Hoorstudio",5,"Audio Service","quiX 12 G5 Links","AUS-0191",{"$f":"IF(ISBLANK('Assortiment Hoortoestellen'!$B$26),1,IF(ISERROR(SEARCH(PROPER('Assortiment Hoortoestellen'!$B$26),PROPER('Dataset hoortoestellen'!D56))),0,1))","v":1}]
["Annemiek's Hoorstudio",5,"Audio Service","quiX 12 G5 Rechts","AUS-0192",{"$f":"IF(ISBLANK('Assortiment Hoortoestellen'!$B$26),1,IF(ISERROR(SEARCH(PROPER('Assortiment Hoortoestellen'!$B$26),PROPER('Dataset hoortoestellen'!D57))),0,1))","v":1}]
["Annemiek's Hoorstudio",4,"Audio Service","quiX 8 G5 Links","AUS-0193",{"$f":"IF(ISBLANK('Assortiment Hoortoestellen'!$B$26),1,IF(ISERROR(SEARCH(PROPER('Assortiment Hoortoestellen'!$B$26),PROPER('Dataset hoortoestellen'!D58))),0,1))","v":1}]
["Annemiek's Hoorstudio",4,"Audio Service","quiX 8 G5 Rechts","AUS-0194",{"$f":"IF(ISBLANK('Assortiment Hoortoestellen'!$B$26),1,IF(ISERROR(SEARCH(PROPER('Assortiment Hoortoestellen'!$B$26),PROPER('Dataset hoortoestellen'!D59))),0,1))","v":1}]
["Annemiek's Hoorstudio",5,"Audio Service","Rixx 12 G5","AUS-0195",{"$f":"IF(ISBLANK('Assortiment Hoortoestellen'!$B$26),1,IF(ISERROR(SEARCH(PROPER('Assortiment Hoortoestellen'!$B$26),PROPER('Dataset hoortoestellen'!D60))),0,1))","v":1}]
["Annemiek's Hoorstudio",4,"Audio Service","Rixx 8 G5","AUS-0196",{"$f":"IF(ISBLANK('Assortiment Hoortoestellen'!$B$26),1,IF(ISERROR(SEARCH(PROPER('Assortiment Hoortoestellen'!$B$26),PROPER('Dataset hoortoestellen'!D61))),0,1))","v":1}]
["Annemiek's Hoorstudio",5,"Audio Service","Sun 12 G5","AUS-0197",{"$f":"IF(ISBLANK('Assortiment Hoortoestellen'!$B$26),1,IF(ISERROR(SEARCH(PROPER('Assortiment Hoortoestellen'!$B$26),PROPER('Dataset hoortoestellen'!D62))),0,1))","v":1}]
["Annemiek's Hoorstudio",4,"Audio Service","Sun 8 G5","AUS-0198",{"$f":"IF(ISBLANK('Assortiment Hoortoestellen'!$B$26),1,IF(ISERROR(SEARCH(PROPER('Assortiment Hoortoestellen'!$B$26),PROPER('Dataset hoortoestellen'!D63))),0,1))","v":1}]
["Annemiek's Hoorstudio",2,"Audio Service","Duo 4 G5","AUS-0205",{"$f":"IF(ISBLANK('Assortiment Hoortoestellen'!$B$26),1,IF(ISERROR(SEARCH(PROPER('Assortiment Hoortoestellen'!$B$26),PROPER('Dataset hoortoestellen'!D64))),0,1))","v":1}]
["Annemiek's Hoorstudio",3,"Audio Service","Duo 6 G5","AUS-0206",{"$f":"IF(ISBLANK('Assortiment Hoortoestellen'!$B$26),1,IF(ISERROR(SEARCH(PROPER('Assortiment Hoortoestellen'!$B$26),PROPER('Dataset hoortoestellen'!D65))),0,1))","v":1}]
["Annemiek's Hoorstudio",2,"Audio Service","Mood 4 G5","AUS-0207",{"$f":"IF(ISBLANK('Assortiment Hoortoestellen'!$B$26),1,IF(ISERROR(SEARCH(PROPER('Assortiment Hoortoestellen'!$B$26),PROPER('Dataset hoortoestellen'!D66))),0,1))","v":1}]
["Annemiek's Hoorstudio",3,"Audio Service","Mood 6 G5","AUS-0208",{"$f":"IF(ISBLANK('Assortiment Hoortoestellen'!$B$26),1,IF(ISERROR(SEARCH(PROPER('Assortiment Hoortoestellen'!$B$26),PROPER('Dataset hoortoestellen'!D67))),0,1))","v":1}]
["Annemiek's Hoorstudio",2,"Audio Service","P 4 G5","AUS-0209",{"$f":"IF(ISBLANK('Assortiment Hoortoestellen'!$B$26),1,IF(ISERROR(SEARCH(PROPER('Assortiment Hoortoestellen'!$B$26),PROPER('Dataset hoortoestellen'!D68))),0,1))","v":1}]
["Annemiek's Hoorstudio",3,"Audio Service","P 6 G5","AUS-0210",{"$f":"IF(ISBLANK('Assortiment Hoortoestellen'!$B$26),1,IF(ISERROR(SEARCH(PROPER('Assortiment Hoortoestellen'!$B$26),PROPER('Dataset hoortoestellen'!D69))),0,1))","v":1}]
["Annemiek's Hoorstudio",2,"Audio Service","quiX 4 G5 Links","AUS-0211",{"$f":"IF(ISBLANK('Assortiment Hoortoestellen'!$B$26),1,IF(ISERROR(SEARCH(PROPER('Assortiment Hoortoestellen'!$B$26),PROPER('Dataset hoortoestellen'!D70))),0,1))","v":1}]
["Annemiek's Hoorstudio",2,"Audio Service","quiX 4 G5 Rechts","AUS-0212",{"$f":"IF(ISBLANK('Assortiment Hoortoestellen'!$B$26),1,IF(ISERROR(SEARCH(PROPER('Assortiment Hoortoestellen'!$B$26),PROPER('Dataset hoortoestellen'!D71))),0,1))","v":1}]
["Annemiek's Hoorstudio",3,"Audio Service","quiX 6  G5 Rechts","AUS-0213",{"$f":"IF(ISBLANK('Assortiment Hoortoestellen'!$B$26),1,IF(ISERROR(SEARCH(PROPER('Assortiment Hoortoestellen'!$B$26),PROPER('Dataset hoortoestellen'!D72))),0,1))","v":1}]
["Annemiek's Hoorstudio",3,"Audio Service","quiX 6  G5 Links","AUS-0214",{"$f":"IF(ISBLANK('Assortiment Hoortoestellen'!$B$26),1,IF(ISERROR(SEARCH(PROPER('Assortiment Hoortoestellen'!$B$26),PROPER('Dataset hoortoestellen'!D73))),0,1))","v":1}]
["Annemiek's Hoorstudio",2,"Audio Service","Rixx 4  G5","AUS-0215",{"$f":"IF(ISBLANK('Assortiment Hoortoestellen'!$B$26),1,IF(ISERROR(SEARCH(PROPER('Assortiment Hoortoestellen'!$B$26),PROPER('Dataset hoortoestellen'!D74))),0,1))","v":1}]
["Annemiek's Hoorstudio",3,"Audio Service","Rixx 6 G5","AUS-0216",{"$f":"IF(ISBLANK('Assortiment Hoortoestellen'!$B$26),1,IF(ISERROR(SEARCH(PROPER('Assortiment Hoortoestellen'!$B$26),PROPER('Dataset hoortoestellen'!D75))),0,1))","v":1}]
["Annemiek's Hoorstudio",2,"Audio Service","Sun 4 G5","AUS-0217",{"$f":"IF(ISBLANK('Assortiment Hoortoestellen'!$B$26),1,IF(ISERROR(SEARCH(PROPER('Assortiment Hoortoestellen'!$B$26),PROPER('Dataset hoortoestellen'!D76))),0,1))","v":1}]
["Annemiek's Hoorstudio",3,"Audio Service","Sun 6 G5","AUS-0218",{"$f":"IF(ISBLANK('Assortiment Hoortoestellen'!$B$26),1,IF(ISERROR(SEARCH(PROPER('Assortiment Hoortoestellen'!$B$26),PROPER('Dataset hoortoestellen'!D77))),0,1))","v":1}]
["Annemiek's Hoorstudio",1,"Audio Service ","Volta HP C","AUS-0219",{"$f":"IF(ISBLANK('Assortiment Hoortoestellen'!$B$26),1,IF(ISERROR(SEARCH(PROPER('Assortiment Hoortoestellen'!$B$26),PROPER('Dataset hoortoestellen'!D78))),0,1))","v":1}]
["Annemiek's Hoorstudio",1,"Audio Service ","Volta P C","AUS-0220",{"$f":"IF(ISBLANK('Assortiment Hoortoestellen'!$B$26),1,IF(ISERROR(SEARCH(PROPER('Assortiment Hoortoestellen'!$B$26),PROPER('Dataset hoortoestellen'!D79))),0,1))","v":1}]
["Annemiek's Hoorstudio",1,"Audio Service ","Volta quiX C Links","AUS-0221",{"$f":"IF(ISBLANK('Assortiment Hoortoestellen'!$B$26),1,IF(ISERROR(SEARCH(PROPER('Assortiment Hoortoestellen'!$B$26),PROPER('Dataset hoortoestellen'!D80))),0,1))","v":1}]
["Annemiek's Hoorstudio",1,"Audio Service ","Volta XS C","AUS-0225",{"$f":"IF(ISBLANK('Assortiment Hoortoestellen'!$B$26),1,IF(ISERROR(SEARCH(PROPER('Assortiment Hoortoestellen'!$B$26),PROPER('Dataset hoortoestellen'!D81))),0,1))","v":1}]
["Annemiek's Hoorstudio",1,"Bernafon","Nevara 1 CICx","BER-0453",{"$f":"IF(ISBLANK('Assortiment Hoortoestellen'!$B$26),1,IF(ISERROR(SEARCH(PROPER('Assortiment Hoortoestellen'!$B$26),PROPER('Dataset hoortoestellen'!D82))),0,1))","v":1}]
["Annemiek's Hoorstudio",1,"Bernafon","Nevara 1 ITC","BER-0455",{"$f":"IF(ISBLANK('Assortiment Hoortoestellen'!$B$26),1,IF(ISERROR(SEARCH(PROPER('Assortiment Hoortoestellen'!$B$26),PROPER('Dataset hoortoestellen'!D83))),0,1))","v":1}]
["Annemiek's Hoorstudio",1,"Bernafon","Nevara 1 P","BER-0460",{"$f":"IF(ISBLANK('Assortiment Hoortoestellen'!$B$26),1,IF(ISERROR(SEARCH(PROPER('Assortiment Hoortoestellen'!$B$26),PROPER('Dataset hoortoestellen'!D84))),0,1))","v":1}]
["Annemiek's Hoorstudio",1,"Bernafon","Nevara 1 PR","BER-0486",{"$f":"IF(ISBLANK('Assortiment Hoortoestellen'!$B$26),1,IF(ISERROR(SEARCH(PROPER('Assortiment Hoortoestellen'!$B$26),PROPER('Dataset hoortoestellen'!D85))),0,1))","v":1}]
["Annemiek's Hoorstudio",2,"Bernafon","Zerena 1 BTE 105","BER-0615",{"$f":"IF(ISBLANK('Assortiment Hoortoestellen'!$B$26),1,IF(ISERROR(SEARCH(PROPER('Assortiment Hoortoestellen'!$B$26),PROPER('Dataset hoortoestellen'!D86))),0,1))","v":1}]
["Annemiek's Hoorstudio",2,"Bernafon","Zerena 1 CIC","BER-0616",{"$f":"IF(ISBLANK('Assortiment Hoortoestellen'!$B$26),1,IF(ISERROR(SEARCH(PROPER('Assortiment Hoortoestellen'!$B$26),PROPER('Dataset hoortoestellen'!D87))),0,1))","v":1}]
["Annemiek's Hoorstudio",2,"Bernafon","Zerena 1 IIC","BER-0617",{"$f":"IF(ISBLANK('Assortiment Hoortoestellen'!$B$26),1,IF(ISERROR(SEARCH(PROPER('Assortiment Hoortoestellen'!$B$26),PROPER('Dataset hoortoestellen'!D88))),0,1))","v":1}]
["Annemiek's Hoorstudio",2,"Bernafon","Zerena 1 MNR","BER-0621",{"$f":"IF(ISBLANK('Assortiment Hoortoestellen'!$B$26),1,IF(ISERROR(SEARCH(PROPER('Assortiment Hoortoestellen'!$B$26),PROPER('Dataset hoortoestellen'!D89))),0,1))","v":1}]
["Annemiek's Hoorstudio",3,"Bernafon","Zerena 3 BTE 105","BER-0623",{"$f":"IF(ISBLANK('Assortiment Hoortoestellen'!$B$26),1,IF(ISERROR(SEARCH(PROPER('Assortiment Hoortoestellen'!$B$26),PROPER('Dataset hoortoestellen'!D90))),0,1))","v":1}]
["Annemiek's Hoorstudio",3,"Bernafon","Zerena 3 CIC","BER-0624",{"$f":"IF(ISBLANK('Assortiment Hoortoestellen'!$B$26),1,IF(ISERROR(SEARCH(PROPER('Assortiment Hoortoestellen'!$B$26),PROPER('Dataset hoortoestellen'!D91))),0,1))","v":1}]
["Annemiek's Hoorstudio",3,"Bernafon","Zerena 3 IIC","BER-0625",{"$f":"IF(ISBLANK('Assortiment Hoortoestellen'!$B$26),1,IF(ISERROR(SEARCH(PROPER('Assortiment Hoortoestellen'!$B$26),PROPER('Dataset hoortoestellen'!D92))),0,1))","v":1}]
["Annemiek's Hoorstudio",3,"Bernafon","Zerena 3 MNR","BER-0629",{"$f":"IF(ISBLANK('Assortiment Hoortoestellen'!$B$26),1,IF(ISERROR(SEARCH(PROPER('Assortiment Hoortoestellen'!$B$26),PROPER('Dataset hoortoestellen'!D93))),0,1))","v":1}]
["Annemiek's Hoorstudio",4,"Bernafon","Zerena 5 BTE 105","BER-0631",{"$f":"IF(ISBLANK('Assortiment Hoortoestellen'!$B$26),1,IF(ISERROR(SEARCH(PROPER('Assortiment Hoortoestellen'!$B$26),PROPER('Dataset hoortoestellen'!D94))),0,1))","v":1}]
["Annemiek's Hoorstudio",4,"Bernafon","Zerena 5 CIC","BER-0632",{"$f":"IF(ISBLANK('Assortiment Hoortoestellen'!$B$26),1,IF(ISERROR(SEARCH(PROPER('Assortiment Hoortoestellen'!$B$26),PROPER('Dataset hoortoestellen'!D95))),0,1))","v":1}]
["Annemiek's Hoorstudio",4,"Bernafon","Zerena 5 IIC","BER-0633",{"$f":"IF(ISBLANK('Assortiment Hoortoestellen'!$B$26),1,IF(ISERROR(SEARCH(PROPER('Assortiment Hoortoestellen'!$B$26),PROPER('Dataset hoortoestellen'!D96))),0,1))","v":1}]
["Annemiek's Hoorstudio",4,"Bernafon","Zerena 5 MNR","BER-0637",{"$f":"IF(ISBLANK('Assortiment Hoortoestellen'!$B$26),1,IF(ISERROR(SEARCH(PROPER('Assortiment Hoortoestellen'!$B$26),PROPER('Dataset hoortoestellen'!D97))),0,1))","v":1}]
["Annemiek's Hoorstudio",5,"Bernafon","Zerena 7 BTE 105","BER-0639",{"$f":"IF(ISBLANK('Assortiment Hoortoestellen'!$B$26),1,IF(ISERROR(SEARCH(PROPER('Assortiment Hoortoestellen'!$B$26),PROPER('Dataset hoortoestellen'!D98))),0,1))","v":1}]
["Annemiek's Hoorstudio",5,"Bernafon","Zerena 7 CIC","BER-0640",{"$f":"IF(ISBLANK('Assortiment Hoortoestellen'!$B$26),1,IF(ISERROR(SEARCH(PROPER('Assortiment Hoortoestellen'!$B$26),PROPER('Dataset hoortoestellen'!D99))),0,1))","v":1}]
["Annemiek's Hoorstudio",5,"Bernafon","Zerena 7 IIC","BER-0641",{"$f":"IF(ISBLANK('Assortiment Hoortoestellen'!$B$26),1,IF(ISERROR(SEARCH(PROPER('Assortiment Hoortoestellen'!$B$26),PROPER('Dataset hoortoestellen'!D100))),0,1))","v":1}]
["Annemiek's Hoorstudio",5,"Bernafon","Zerena 7 MNR","BER-0645",{"$f":"IF(ISBLANK('Assortiment Hoortoestellen'!$B$26),1,IF(ISERROR(SEARCH(PROPER('Assortiment Hoortoestellen'!$B$26),PROPER('Dataset hoortoestellen'!D101))),0,1))","v":1}]
["Annemiek's Hoorstudio",3,"Coselgi","U10-CIC (links)","COS-0137",{"$f":"IF(ISBLANK('Assortiment Hoortoestellen'!$B$26),1,IF(ISERROR(SEARCH(PROPER('Assortiment Hoortoestellen'!$B$26),PROPER('Dataset hoortoestellen'!D102))),0,1))","v":1}]
["Annemiek's Hoorstudio",3,"Coselgi","U10-CIC TR (links)","COS-0138",{"$f":"IF(ISBLANK('Assortiment Hoortoestellen'!$B$26),1,IF(ISERROR(SEARCH(PROPER('Assortiment Hoortoestellen'!$B$26),PROPER('Dataset hoortoestellen'!D103))),0,1))","v":1}]
["Annemiek's Hoorstudio",3,"Coselgi","U10-FA","COS-0139",{"$f":"IF(ISBLANK('Assortiment Hoortoestellen'!$B$26),1,IF(ISERROR(SEARCH(PROPER('Assortiment Hoortoestellen'!$B$26),PROPER('Dataset hoortoestellen'!D104))),0,1))","v":1}]
["Annemiek's Hoorstudio",3,"Coselgi","U10-FM","COS-0140",{"$f":"IF(ISBLANK('Assortiment Hoortoestellen'!$B$26),1,IF(ISERROR(SEARCH(PROPER('Assortiment Hoortoestellen'!$B$26),PROPER('Dataset hoortoestellen'!D105))),0,1))","v":1}]
["Annemiek's Hoorstudio",3,"Coselgi","U10-FP","COS-0141",{"$f":"IF(ISBLANK('Assortiment Hoortoestellen'!$B$26),1,IF(ISERROR(SEARCH(PROPER('Assortiment Hoortoestellen'!$B$26),PROPER('Dataset hoortoestellen'!D106))),0,1))","v":1}]
["Annemiek's Hoorstudio",3,"Coselgi","U10-FS (HP-tel)","COS-0142",{"$f":"IF(ISBLANK('Assortiment Hoortoestellen'!$B$26),1,IF(ISERROR(SEARCH(PROPER('Assortiment Hoortoestellen'!$B$26),PROPER('Dataset hoortoestellen'!D107))),0,1))","v":1}]
["Annemiek's Hoorstudio",3,"Coselgi","U10-FS (M-tel)","COS-0143",{"$f":"IF(ISBLANK('Assortiment Hoortoestellen'!$B$26),1,IF(ISERROR(SEARCH(PROPER('Assortiment Hoortoestellen'!$B$26),PROPER('Dataset hoortoestellen'!D108))),0,1))","v":1}]
["Annemiek's Hoorstudio",3,"Coselgi","U10-FS (P-tel)","COS-0144",{"$f":"IF(ISBLANK('Assortiment Hoortoestellen'!$B$26),1,IF(ISERROR(SEARCH(PROPER('Assortiment Hoortoestellen'!$B$26),PROPER('Dataset hoortoestellen'!D109))),0,1))","v":1}]
["Annemiek's Hoorstudio",3,"Coselgi","U10-FS (S-tel)","COS-0145",{"$f":"IF(ISBLANK('Assortiment Hoortoestellen'!$B$26),1,IF(ISERROR(SEARCH(PROPER('Assortiment Hoortoestellen'!$B$26),PROPER('Dataset hoortoestellen'!D110))),0,1))","v":1}]
["Annemiek's Hoorstudio",3,"Coselgi","U10-PA (M-tel)","COS-0146",{"$f":"IF(ISBLANK('Assortiment Hoortoestellen'!$B$26),1,IF(ISERROR(SEARCH(PROPER('Assortiment Hoortoestellen'!$B$26),PROPER('Dataset hoortoestellen'!D111))),0,1))","v":1}]
["Annemiek's Hoorstudio",3,"Coselgi","U10-PA (S-tel)","COS-0147",{"$f":"IF(ISBLANK('Assortiment Hoortoestellen'!$B$26),1,IF(ISERROR(SEARCH(PROPER('Assortiment Hoortoestellen'!$B$26),PROPER('Dataset hoortoestellen'!D112))),0,1))","v":1}]
["Annemiek's Hoorstudio",3,"Coselgi","U10-XP","COS-0148",{"$f":"IF(ISBLANK('Assortiment Hoortoestellen'!$B$26),1,IF(ISERROR(SEARCH(PROPER('Assortiment Hoortoestellen'!$B$26),PROPER('Dataset hoortoestellen'!D113))),0,1))","v":1}]
["Annemiek's Hoorstudio",4,"Coselgi","U10E-CIC (links)","COS-0149",{"$f":"IF(ISBLANK('Assortiment Hoortoestellen'!$B$26),1,IF(ISERROR(SEARCH(PROPER('Assortiment Hoortoestellen'!$B$26),PROPER('Dataset hoortoestellen'!D114))),0,1))","v":1}]
["Annemiek's Hoorstudio",4,"Coselgi","U10E-CIC TR (links)","COS-0150",{"$f":"IF(ISBLANK('Assortiment Hoortoestellen'!$B$26),1,IF(ISERROR(SEARCH(PROPER('Assortiment Hoortoestellen'!$B$26),PROPER('Dataset hoortoestellen'!D115))),0,1))","v":1}]
["Annemiek's Hoorstudio",4,"Coselgi","U10E-FA","COS-0151",{"$f":"IF(ISBLANK('Assortiment Hoortoestellen'!$B$26),1,IF(ISERROR(SEARCH(PROPER('Assortiment Hoortoestellen'!$B$26),PROPER('Dataset hoortoestellen'!D116))),0,1))","v":1}]
["Annemiek's Hoorstudio",4,"Coselgi","U10E-FM","COS-0152",{"$f":"IF(ISBLANK('Assortiment Hoortoestellen'!$B$26),1,IF(ISERROR(SEARCH(PROPER('Assortiment Hoortoestellen'!$B$26),PROPER('Dataset hoortoestellen'!D117))),0,1))","v":1}]
["Annemiek's Hoorstudio",4,"Coselgi","U10E-FP","COS-0153",{"$f":"IF(ISBLANK('Assortiment Hoortoestellen'!$B$26),1,IF(ISERROR(SEARCH(PROPER('Assortiment Hoortoestellen'!$B$26),PROPER('Dataset hoortoestellen'!D118))),0,1))","v":1}]
["Annemiek's Hoorstudio",4,"Coselgi","U10E-FS (HP-tel)","COS-0154",{"$f":"IF(ISBLANK('Assortiment Hoortoestellen'!$B$26),1,IF(ISERROR(SEARCH(PROPER('Assortiment Hoortoestellen'!$B$26),PROPER('Dataset hoortoestellen'!D119))),0,1))","v":1}]
["Annemiek's Hoorstudio",4,"Coselgi","U10E-FS (M-tel)","COS-0155",{"$f":"IF(ISBLANK('Assortiment Hoortoestellen'!$B$26),1,IF(ISERROR(SEARCH(PROPER('Assortiment Hoortoestellen'!$B$26),PROPER('Dataset hoortoestellen'!D120))),0,1))","v":1}]
["Annemiek's Hoorstudio",4,"Coselgi","U10E-FS (P-tel)","COS-0156",{"$f":"IF(ISBLANK('Assortiment Hoortoestellen'!$B$26),1,IF(ISERROR(SEARCH(PROPER('Assortiment Hoortoestellen'!$B$26),PROPER('Dataset hoortoestellen'!D121))),0,1))","v":1}]
["Annemiek's Hoorstudio",4,"Coselgi","U10E-FS (S-tel)","COS-0157",{"$f":"IF(ISBLANK('Assortiment Hoortoestellen'!$B$26),1,IF(ISERROR(SEARCH(PROPER('Assortiment Hoortoestellen'!$B$26),PROPER('Dataset hoortoestellen'!D122))),0,1))","v":1}]
["Annemiek's Hoorstudio",4,"Coselgi","U10E-PA (M-tel)","COS-0158",{"$f":"IF(ISBLANK('Assortiment Hoortoestellen'!$B$26),1,IF(ISERROR(SEARCH(PROPER('Assortiment Hoortoestellen'!$B$26),PROPER('Dataset hoortoestellen'!D123))),0,1))","v":1}]
["Annemiek's Hoorstudio",4,"Coselgi","U10E-PA (S-tel)","COS-0159",{"$f":"IF(ISBLANK('Assortiment Hoortoestellen'!$B$26),1,IF(ISERROR(SEARCH(PROPER('Assortiment Hoortoestellen'!$B$26),PROPER('Dataset hoortoestellen'!D124))),0,1))","v":1}]
["Annemiek's Hoorstudio",4,"Coselgi","U10E-XP","COS-0160",{"$f":"IF(ISBLANK('Assortiment Hoortoestellen'!$B$26),1,IF(ISERROR(SEARCH(PROPER('Assortiment Hoortoestellen'!$B$26),PROPER('Dataset hoortoestellen'!D125))),0,1))","v":1}]
["Annemiek's Hoorstudio",5,"Coselgi","U15-CIC (links)","COS-0161",{"$f":"IF(ISBLANK('Assortiment Hoortoestellen'!$B$26),1,IF(ISERROR(SEARCH(PROPER('Assortiment Hoortoestellen'!$B$26),PROPER('Dataset hoortoestellen'!D126))),0,1))","v":1}]
["Annemiek's Hoorstudio",5,"Coselgi","U15-CIC TR (links)","COS-0162",{"$f":"IF(ISBLANK('Assortiment Hoortoestellen'!$B$26),1,IF(ISERROR(SEARCH(PROPER('Assortiment Hoortoestellen'!$B$26),PROPER('Dataset hoortoestellen'!D127))),0,1))","v":1}]
["Annemiek's Hoorstudio",5,"Coselgi","U15-FA","COS-0163",{"$f":"IF(ISBLANK('Assortiment Hoortoestellen'!$B$26),1,IF(ISERROR(SEARCH(PROPER('Assortiment Hoortoestellen'!$B$26),PROPER('Dataset hoortoestellen'!D128))),0,1))","v":1}]
["Annemiek's Hoorstudio",5,"Coselgi","U15-FM","COS-0164",{"$f":"IF(ISBLANK('Assortiment Hoortoestellen'!$B$26),1,IF(ISERROR(SEARCH(PROPER('Assortiment Hoortoestellen'!$B$26),PROPER('Dataset hoortoestellen'!D129))),0,1))","v":1}]
["Annemiek's Hoorstudio",5,"Coselgi","U15-FP","COS-0165",{"$f":"IF(ISBLANK('Assortiment Hoortoestellen'!$B$26),1,IF(ISERROR(SEARCH(PROPER('Assortiment Hoortoestellen'!$B$26),PROPER('Dataset hoortoestellen'!D130))),0,1))","v":1}]
["Annemiek's Hoorstudio",5,"Coselgi","U15-FS (HP-tel)","COS-0166",{"$f":"IF(ISBLANK('Assortiment Hoortoestellen'!$B$26),1,IF(ISERROR(SEARCH(PROPER('Assortiment Hoortoestellen'!$B$26),PROPER('Dataset hoortoestellen'!D131))),0,1))","v":1}]
["Annemiek's Hoorstudio",5,"Coselgi","U15-FS (M-tel)","COS-0167",{"$f":"IF(ISBLANK('Assortiment Hoortoestellen'!$B$26),1,IF(ISERROR(SEARCH(PROPER('Assortiment Hoortoestellen'!$B$26),PROPER('Dataset hoortoestellen'!D132))),0,1))","v":1}]
["Annemiek's Hoorstudio",5,"Coselgi","U15-FS (P-tel)","COS-0168",{"$f":"IF(ISBLANK('Assortiment Hoortoestellen'!$B$26),1,IF(ISERROR(SEARCH(PROPER('Assortiment Hoortoestellen'!$B$26),PROPER('Dataset hoortoestellen'!D133))),0,1))","v":1}]
["Annemiek's Hoorstudio",5,"Coselgi","U15-FS (S-tel)","COS-0169",{"$f":"IF(ISBLANK('Assortiment Hoortoestellen'!$B$26),1,IF(ISERROR(SEARCH(PROPER('Assortiment Hoortoestellen'!$B$26),PROPER('Dataset hoortoestellen'!D134))),0,1))","v":1}]
["Annemiek's Hoorstudio",5,"Coselgi","U15-PA (M-tel)","COS-0170",{"$f":"IF(ISBLANK('Assortiment Hoortoestellen'!$B$26),1,IF(ISERROR(SEARCH(PROPER('Assortiment Hoortoestellen'!$B$26),PROPER('Dataset hoortoestellen'!D135))),0,1))","v":1}]
["Annemiek's Hoorstudio",5,"Coselgi","U15-XP","COS-0172",{"$f":"IF(ISBLANK('Assortiment Hoortoestellen'!$B$26),1,IF(ISERROR(SEARCH(PROPER('Assortiment Hoortoestellen'!$B$26),PROPER('Dataset hoortoestellen'!D136))),0,1))","v":1}]
["Annemiek's Hoorstudio",2,"Coselgi","U6-CIC (links)","COS-0241",{"$f":"IF(ISBLANK('Assortiment Hoortoestellen'!$B$26),1,IF(ISERROR(SEARCH(PROPER('Assortiment Hoortoestellen'!$B$26),PROPER('Dataset hoortoestellen'!D137))),0,1))","v":1}]
["Annemiek's Hoorstudio",2,"Coselgi","U6-CIC TR (links)","COS-0242",{"$f":"IF(ISBLANK('Assortiment Hoortoestellen'!$B$26),1,IF(ISERROR(SEARCH(PROPER('Assortiment Hoortoestellen'!$B$26),PROPER('Dataset hoortoestellen'!D138))),0,1))","v":1}]
["Annemiek's Hoorstudio",2,"Coselgi","U6-FA","COS-0243",{"$f":"IF(ISBLANK('Assortiment Hoortoestellen'!$B$26),1,IF(ISERROR(SEARCH(PROPER('Assortiment Hoortoestellen'!$B$26),PROPER('Dataset hoortoestellen'!D139))),0,1))","v":1}]
["Annemiek's Hoorstudio",2,"Coselgi","U6-FM","COS-0244",{"$f":"IF(ISBLANK('Assortiment Hoortoestellen'!$B$26),1,IF(ISERROR(SEARCH(PROPER('Assortiment Hoortoestellen'!$B$26),PROPER('Dataset hoortoestellen'!D140))),0,1))","v":1}]
["Annemiek's Hoorstudio",2,"Coselgi","U6-FP","COS-0245",{"$f":"IF(ISBLANK('Assortiment Hoortoestellen'!$B$26),1,IF(ISERROR(SEARCH(PROPER('Assortiment Hoortoestellen'!$B$26),PROPER('Dataset hoortoestellen'!D141))),0,1))","v":1}]
["Annemiek's Hoorstudio",2,"Coselgi","U6-FS (HP-tel)","COS-0246",{"$f":"IF(ISBLANK('Assortiment Hoortoestellen'!$B$26),1,IF(ISERROR(SEARCH(PROPER('Assortiment Hoortoestellen'!$B$26),PROPER('Dataset hoortoestellen'!D142))),0,1))","v":1}]
["Annemiek's Hoorstudio",2,"Coselgi","U6-FS (M-tel)","COS-0247",{"$f":"IF(ISBLANK('Assortiment Hoortoestellen'!$B$26),1,IF(ISERROR(SEARCH(PROPER('Assortiment Hoortoestellen'!$B$26),PROPER('Dataset hoortoestellen'!D143))),0,1))","v":1}]
["Annemiek's Hoorstudio",2,"Coselgi","U6-FS (P-tel)","COS-0248",{"$f":"IF(ISBLANK('Assortiment Hoortoestellen'!$B$26),1,IF(ISERROR(SEARCH(PROPER('Assortiment Hoortoestellen'!$B$26),PROPER('Dataset hoortoestellen'!D144))),0,1))","v":1}]
["Annemiek's Hoorstudio",2,"Coselgi","U6-FS (S-tel)","COS-0249",{"$f":"IF(ISBLANK('Assortiment Hoortoestellen'!$B$26),1,IF(ISERROR(SEARCH(PROPER('Assortiment Hoortoestellen'!$B$26),PROPER('Dataset hoortoestellen'!D145))),0,1))","v":1}]
["Annemiek's Hoorstudio",2,"Coselgi","U6-PA (M-tel)","COS-0250",{"$f":"IF(ISBLANK('Assortiment Hoortoestellen'!$B$26),1,IF(ISERROR(SEARCH(PROPER('Assortiment Hoortoestellen'!$B$26),PROPER('Dataset hoortoestellen'!D146))),0,1))","v":1}]
["Annemiek's Hoorstudio",2,"Coselgi","U6-PA (S-tel)","COS-0251",{"$f":"IF(ISBLANK('Assortiment Hoortoestellen'!$B$26),1,IF(ISERROR(SEARCH(PROPER('Assortiment Hoortoestellen'!$B$26),PROPER('Dataset hoortoestellen'!D147))),0,1))","v":1}]
["Annemiek's Hoorstudio",2,"Coselgi","U6-XP","COS-0252",{"$f":"IF(ISBLANK('Assortiment Hoortoestellen'!$B$26),1,IF(ISERROR(SEARCH(PROPER('Assortiment Hoortoestellen'!$B$26),PROPER('Dataset hoortoestellen'!D148))),0,1))","v":1}]
["Annemiek's Hoorstudio",3,"Coselgi","U6E-FA","COS-0255",{"$f":"IF(ISBLANK('Assortiment Hoortoestellen'!$B$26),1,IF(ISERROR(SEARCH(PROPER('Assortiment Hoortoestellen'!$B$26),PROPER('Dataset hoortoestellen'!D149))),0,1))","v":1}]
["Annemiek's Hoorstudio",3,"Coselgi","U6E-FM","COS-0256",{"$f":"IF(ISBLANK('Assortiment Hoortoestellen'!$B$26),1,IF(ISERROR(SEARCH(PROPER('Assortiment Hoortoestellen'!$B$26),PROPER('Dataset hoortoestellen'!D150))),0,1))","v":1}]
["Annemiek's Hoorstudio",3,"Coselgi","U6E-FP","COS-0257",{"$f":"IF(ISBLANK('Assortiment Hoortoestellen'!$B$26),1,IF(ISERROR(SEARCH(PROPER('Assortiment Hoortoestellen'!$B$26),PROPER('Dataset hoortoestellen'!D151))),0,1))","v":1}]
["Annemiek's Hoorstudio",3,"Coselgi","U6E-FS (HP-tel)","COS-0258",{"$f":"IF(ISBLANK('Assortiment Hoortoestellen'!$B$26),1,IF(ISERROR(SEARCH(PROPER('Assortiment Hoortoestellen'!$B$26),PROPER('Dataset hoortoestellen'!D152))),0,1))","v":1}]
["Annemiek's Hoorstudio",3,"Coselgi","U6E-FS (M-tel)","COS-0259",{"$f":"IF(ISBLANK('Assortiment Hoortoestellen'!$B$26),1,IF(ISERROR(SEARCH(PROPER('Assortiment Hoortoestellen'!$B$26),PROPER('Dataset hoortoestellen'!D153))),0,1))","v":1}]
["Annemiek's Hoorstudio",3,"Coselgi","U6E-FS (P-tel)","COS-0260",{"$f":"IF(ISBLANK('Assortiment Hoortoestellen'!$B$26),1,IF(ISERROR(SEARCH(PROPER('Assortiment Hoortoestellen'!$B$26),PROPER('Dataset hoortoestellen'!D154))),0,1))","v":1}]
["Annemiek's Hoorstudio",3,"Coselgi","U6E-FS (S-tel)","COS-0261",{"$f":"IF(ISBLANK('Assortiment Hoortoestellen'!$B$26),1,IF(ISERROR(SEARCH(PROPER('Assortiment Hoortoestellen'!$B$26),PROPER('Dataset hoortoestellen'!D155))),0,1))","v":1}]
["Annemiek's Hoorstudio",3,"Coselgi","U6E-PA (M-tel)","COS-0262",{"$f":"IF(ISBLANK('Assortiment Hoortoestellen'!$B$26),1,IF(ISERROR(SEARCH(PROPER('Assortiment Hoortoestellen'!$B$26),PROPER('Dataset hoortoestellen'!D156))),0,1))","v":1}]
["Annemiek's Hoorstudio",3,"Coselgi","U6E-PA (S-tel)","COS-0263",{"$f":"IF(ISBLANK('Assortiment Hoortoestellen'!$B$26),1,IF(ISERROR(SEARCH(PROPER('Assortiment Hoortoestellen'!$B$26),PROPER('Dataset hoortoestellen'!D157))),0,1))","v":1}]
["Annemiek's Hoorstudio",3,"Coselgi","U6E-XP","COS-0264",{"$f":"IF(ISBLANK('Assortiment Hoortoestellen'!$B$26),1,IF(ISERROR(SEARCH(PROPER('Assortiment Hoortoestellen'!$B$26),PROPER('Dataset hoortoestellen'!D158))),0,1))","v":1}]
["Annemiek's Hoorstudio",3,"Coselgi","U6-CIC (rechts)","COS-0271",{"$f":"IF(ISBLANK('Assortiment Hoortoestellen'!$B$26),1,IF(ISERROR(SEARCH(PROPER('Assortiment Hoortoestellen'!$B$26),PROPER('Dataset hoortoestellen'!D159))),0,1))","v":1}]
["Annemiek's Hoorstudio",3,"Coselgi","U6-CIC TR (rechts)","COS-0272",{"$f":"IF(ISBLANK('Assortiment Hoortoestellen'!$B$26),1,IF(ISERROR(SEARCH(PROPER('Assortiment Hoortoestellen'!$B$26),PROPER('Dataset hoortoestellen'!D160))),0,1))","v":1}]
["Annemiek's Hoorstudio",2,"Coselgi","Effect EF2-F2 (HP-tel)","COS-0276",{"$f":"IF(ISBLANK('Assortiment Hoortoestellen'!$B$26),1,IF(ISERROR(SEARCH(PROPER('Assortiment Hoortoestellen'!$B$26),PROPER('Dataset hoortoestellen'!D161))),0,1))","v":1}]
["Annemiek's Hoorstudio",2,"Coselgi","Effect EF2-F2 (M-tel)","COS-0277",{"$f":"IF(ISBLANK('Assortiment Hoortoestellen'!$B$26),1,IF(ISERROR(SEARCH(PROPER('Assortiment Hoortoestellen'!$B$26),PROPER('Dataset hoortoestellen'!D162))),0,1))","v":1}]
["Annemiek's Hoorstudio",2,"Coselgi","Effect EF2-F2 (P-tel)","COS-0278",{"$f":"IF(ISBLANK('Assortiment Hoortoestellen'!$B$26),1,IF(ISERROR(SEARCH(PROPER('Assortiment Hoortoestellen'!$B$26),PROPER('Dataset hoortoestellen'!D163))),0,1))","v":1}]
["Annemiek's Hoorstudio",2,"Coselgi","Effect EF2-F2 (S-tel)","COS-0279",{"$f":"IF(ISBLANK('Assortiment Hoortoestellen'!$B$26),1,IF(ISERROR(SEARCH(PROPER('Assortiment Hoortoestellen'!$B$26),PROPER('Dataset hoortoestellen'!D164))),0,1))","v":1}]
["Annemiek's Hoorstudio",2,"Coselgi","Effect EF2-FS (M-tel)","COS-0281",{"$f":"IF(ISBLANK('Assortiment Hoortoestellen'!$B$26),1,IF(ISERROR(SEARCH(PROPER('Assortiment Hoortoestellen'!$B$26),PROPER('Dataset hoortoestellen'!D165))),0,1))","v":1}]
["Annemiek's Hoorstudio",2,"Coselgi","Effect EF2-FS (P-tel)","COS-0282",{"$f":"IF(ISBLANK('Assortiment Hoortoestellen'!$B$26),1,IF(ISERROR(SEARCH(PROPER('Assortiment Hoortoestellen'!$B$26),PROPER('Dataset hoortoestellen'!D166))),0,1))","v":1}]
["Annemiek's Hoorstudio",2,"Coselgi","Effect EF2-FS (S-tel)","COS-0283",{"$f":"IF(ISBLANK('Assortiment Hoortoestellen'!$B$26),1,IF(ISERROR(SEARCH(PROPER('Assortiment Hoortoestellen'!$B$26),PROPER('Dataset hoortoestellen'!D167))),0,1))","v":1}]
["Annemiek's Hoorstudio",2,"Coselgi","Effect EF2-CIC Links","COS-0284",{"$f":"IF(ISBLANK('Assortiment Hoortoestellen'!$B$26),1,IF(ISERROR(SEARCH(PROPER('Assortiment Hoortoestellen'!$B$26),PROPER('Dataset hoortoestellen'!D168))),0,1))","v":1}]
["Annemiek's Hoorstudio",2,"Coselgi","Effect EF2-CIC M","COS-0285",{"$f":"IF(ISBLANK('Assortiment Hoortoestellen'!$B$26),1,IF(ISERROR(SEARCH(PROPER('Assortiment Hoortoestellen'!$B$26),PROPER('Dataset hoortoestellen'!D169))),0,1))","v":1}]
["Annemiek's Hoorstudio",2,"Coselgi","Effect EF2-CIC Rechts","COS-0287",{"$f":"IF(ISBLANK('Assortiment Hoortoestellen'!$B$26),1,IF(ISERROR(SEARCH(PROPER('Assortiment Hoortoestellen'!$B$26),PROPER('Dataset hoortoestellen'!D170))),0,1))","v":1}]
["Annemiek's Hoorstudio",2,"Coselgi","Effect EF2-CIC TR Links","COS-0288",{"$f":"IF(ISBLANK('Assortiment Hoortoestellen'!$B$26),1,IF(ISERROR(SEARCH(PROPER('Assortiment Hoortoestellen'!$B$26),PROPER('Dataset hoortoestellen'!D171))),0,1))","v":1}]
["Annemiek's Hoorstudio",2,"Coselgi","Effect EF2-CIC TR Rechts","COS-0289",{"$f":"IF(ISBLANK('Assortiment Hoortoestellen'!$B$26),1,IF(ISERROR(SEARCH(PROPER('Assortiment Hoortoestellen'!$B$26),PROPER('Dataset hoortoestellen'!D172))),0,1))","v":1}]
["Annemiek's Hoorstudio",2,"Coselgi","Effect EF2-FA","COS-0290",{"$f":"IF(ISBLANK('Assortiment Hoortoestellen'!$B$26),1,IF(ISERROR(SEARCH(PROPER('Assortiment Hoortoestellen'!$B$26),PROPER('Dataset hoortoestellen'!D173))),0,1))","v":1}]
["Annemiek's Hoorstudio",2,"Coselgi","Effect EF2-FM","COS-0291",{"$f":"IF(ISBLANK('Assortiment Hoortoestellen'!$B$26),1,IF(ISERROR(SEARCH(PROPER('Assortiment Hoortoestellen'!$B$26),PROPER('Dataset hoortoestellen'!D174))),0,1))","v":1}]
["Annemiek's Hoorstudio",2,"Coselgi","Effect EF2-FP","COS-0292",{"$f":"IF(ISBLANK('Assortiment Hoortoestellen'!$B$26),1,IF(ISERROR(SEARCH(PROPER('Assortiment Hoortoestellen'!$B$26),PROPER('Dataset hoortoestellen'!D175))),0,1))","v":1}]
["Annemiek's Hoorstudio",2,"Coselgi","Effect EF2-XP","COS-0293",{"$f":"IF(ISBLANK('Assortiment Hoortoestellen'!$B$26),1,IF(ISERROR(SEARCH(PROPER('Assortiment Hoortoestellen'!$B$26),PROPER('Dataset hoortoestellen'!D176))),0,1))","v":1}]
["Annemiek's Hoorstudio",3,"Coselgi","Effect EF4-F2 (M-tel)","COS-0295",{"$f":"IF(ISBLANK('Assortiment Hoortoestellen'!$B$26),1,IF(ISERROR(SEARCH(PROPER('Assortiment Hoortoestellen'!$B$26),PROPER('Dataset hoortoestellen'!D177))),0,1))","v":1}]
["Annemiek's Hoorstudio",3,"Coselgi","Effect EF4-F2 (P-tel)","COS-0296",{"$f":"IF(ISBLANK('Assortiment Hoortoestellen'!$B$26),1,IF(ISERROR(SEARCH(PROPER('Assortiment Hoortoestellen'!$B$26),PROPER('Dataset hoortoestellen'!D178))),0,1))","v":1}]
["Annemiek's Hoorstudio",3,"Coselgi","Effect EF4-F2 (S-tel)","COS-0297",{"$f":"IF(ISBLANK('Assortiment Hoortoestellen'!$B$26),1,IF(ISERROR(SEARCH(PROPER('Assortiment Hoortoestellen'!$B$26),PROPER('Dataset hoortoestellen'!D179))),0,1))","v":1}]
["Annemiek's Hoorstudio",3,"Coselgi","Effect EF4 F2(HP-tel)","COS-0298",{"$f":"IF(ISBLANK('Assortiment Hoortoestellen'!$B$26),1,IF(ISERROR(SEARCH(PROPER('Assortiment Hoortoestellen'!$B$26),PROPER('Dataset hoortoestellen'!D180))),0,1))","v":1}]
["Annemiek's Hoorstudio",3,"Coselgi","Effect EF4-FS (HP-tel)","COS-0299",{"$f":"IF(ISBLANK('Assortiment Hoortoestellen'!$B$26),1,IF(ISERROR(SEARCH(PROPER('Assortiment Hoortoestellen'!$B$26),PROPER('Dataset hoortoestellen'!D181))),0,1))","v":1}]
["Annemiek's Hoorstudio",3,"Coselgi","Effect EF4-FS (M-tel)","COS-0300",{"$f":"IF(ISBLANK('Assortiment Hoortoestellen'!$B$26),1,IF(ISERROR(SEARCH(PROPER('Assortiment Hoortoestellen'!$B$26),PROPER('Dataset hoortoestellen'!D182))),0,1))","v":1}]
["Annemiek's Hoorstudio",3,"Coselgi","Effect EF4-FS (P-tel)","COS-0301",{"$f":"IF(ISBLANK('Assortiment Hoortoestellen'!$B$26),1,IF(ISERROR(SEARCH(PROPER('Assortiment Hoortoestellen'!$B$26),PROPER('Dataset hoortoestellen'!D183))),0,1))","v":1}]
["Annemiek's Hoorstudio",3,"Coselgi","Effect EF4-RIC 10 (M-tel)","COS-0303",{"$f":"IF(ISBLANK('Assortiment Hoortoestellen'!$B$26),1,IF(ISERROR(SEARCH(PROPER('Assortiment Hoortoestellen'!$B$26),PROPER('Dataset hoortoestellen'!D184))),0,1))","v":1}]
["Annemiek's Hoorstudio",3,"Coselgi","Effect EF4-RIC 10 (S-tel)","COS-0304",{"$f":"IF(ISBLANK('Assortiment Hoortoestellen'!$B$26),1,IF(ISERROR(SEARCH(PROPER('Assortiment Hoortoestellen'!$B$26),PROPER('Dataset hoortoestellen'!D185))),0,1))","v":1}]
["Annemiek's Hoorstudio",3,"Coselgi","Effect EF4-CIC Links","COS-0305",{"$f":"IF(ISBLANK('Assortiment Hoortoestellen'!$B$26),1,IF(ISERROR(SEARCH(PROPER('Assortiment Hoortoestellen'!$B$26),PROPER('Dataset hoortoestellen'!D186))),0,1))","v":1}]
["Annemiek's Hoorstudio",3,"Coselgi","Effect EF4-CIC M","COS-0306",{"$f":"IF(ISBLANK('Assortiment Hoortoestellen'!$B$26),1,IF(ISERROR(SEARCH(PROPER('Assortiment Hoortoestellen'!$B$26),PROPER('Dataset hoortoestellen'!D187))),0,1))","v":1}]
["Annemiek's Hoorstudio",3,"Coselgi","Effect EF4-CIC Rechts","COS-0308",{"$f":"IF(ISBLANK('Assortiment Hoortoestellen'!$B$26),1,IF(ISERROR(SEARCH(PROPER('Assortiment Hoortoestellen'!$B$26),PROPER('Dataset hoortoestellen'!D188))),0,1))","v":1}]
["Annemiek's Hoorstudio",3,"Coselgi","Effect EF4-CIC TR Links","COS-0309",{"$f":"IF(ISBLANK('Assortiment Hoortoestellen'!$B$26),1,IF(ISERROR(SEARCH(PROPER('Assortiment Hoortoestellen'!$B$26),PROPER('Dataset hoortoestellen'!D189))),0,1))","v":1}]
["Annemiek's Hoorstudio",3,"Coselgi","Effect EF4-CIC TR Rechts","COS-0310",{"$f":"IF(ISBLANK('Assortiment Hoortoestellen'!$B$26),1,IF(ISERROR(SEARCH(PROPER('Assortiment Hoortoestellen'!$B$26),PROPER('Dataset hoortoestellen'!D190))),0,1))","v":1}]
["Annemiek's Hoorstudio",3,"Coselgi","Effect EF4-FA","COS-0311",{"$f":"IF(ISBLANK('Assortiment Hoortoestellen'!$B$26),1,IF(ISERROR(SEARCH(PROPER('Assortiment Hoortoestellen'!$B$26),PROPER('Dataset hoortoestellen'!D191))),0,1))","v":1}]
["Annemiek's Hoorstudio",3,"Coselgi","Effect EF4-FM","COS-0312",{"$f":"IF(ISBLANK('Assortiment Hoortoestellen'!$B$26),1,IF(ISERROR(SEARCH(PROPER('Assortiment Hoortoestellen'!$B$26),PROPER('Dataset hoortoestellen'!D192))),0,1))","v":1}]
["Annemiek's Hoorstudio",3,"Coselgi","Effect EF4-FP","COS-0313",{"$f":"IF(ISBLANK('Assortiment Hoortoestellen'!$B$26),1,IF(ISERROR(SEARCH(PROPER('Assortiment Hoortoestellen'!$B$26),PROPER('Dataset hoortoestellen'!D193))),0,1))","v":1}]
["Annemiek's Hoorstudio",3,"Coselgi","Effect EF4-XP","COS-0314",{"$f":"IF(ISBLANK('Assortiment Hoortoestellen'!$B$26),1,IF(ISERROR(SEARCH(PROPER('Assortiment Hoortoestellen'!$B$26),PROPER('Dataset hoortoestellen'!D194))),0,1))","v":1}]
["Annemiek's Hoorstudio",4,"Coselgi","Effect EF5-F2 (HP-tel)","COS-0316",{"$f":"IF(ISBLANK('Assortiment Hoortoestellen'!$B$26),1,IF(ISERROR(SEARCH(PROPER('Assortiment Hoortoestellen'!$B$26),PROPER('Dataset hoortoestellen'!D195))),0,1))","v":1}]
["Annemiek's Hoorstudio",4,"Coselgi","Effect EF5-F2 (M-tel)","COS-0317",{"$f":"IF(ISBLANK('Assortiment Hoortoestellen'!$B$26),1,IF(ISERROR(SEARCH(PROPER('Assortiment Hoortoestellen'!$B$26),PROPER('Dataset hoortoestellen'!D196))),0,1))","v":1}]
["Annemiek's Hoorstudio",4,"Coselgi","Effect EF5-F2 (P-tel)","COS-0318",{"$f":"IF(ISBLANK('Assortiment Hoortoestellen'!$B$26),1,IF(ISERROR(SEARCH(PROPER('Assortiment Hoortoestellen'!$B$26),PROPER('Dataset hoortoestellen'!D197))),0,1))","v":1}]
["Annemiek's Hoorstudio",4,"Coselgi","Effect EF5-FS (HP-tel)","COS-0320",{"$f":"IF(ISBLANK('Assortiment Hoortoestellen'!$B$26),1,IF(ISERROR(SEARCH(PROPER('Assortiment Hoortoestellen'!$B$26),PROPER('Dataset hoortoestellen'!D198))),0,1))","v":1}]
["Annemiek's Hoorstudio",4,"Coselgi","Effect EF5-FS (M-tel)","COS-0321",{"$f":"IF(ISBLANK('Assortiment Hoortoestellen'!$B$26),1,IF(ISERROR(SEARCH(PROPER('Assortiment Hoortoestellen'!$B$26),PROPER('Dataset hoortoestellen'!D199))),0,1))","v":1}]
["Annemiek's Hoorstudio",4,"Coselgi","Effect EF5-FS (P-tel)","COS-0322",{"$f":"IF(ISBLANK('Assortiment Hoortoestellen'!$B$26),1,IF(ISERROR(SEARCH(PROPER('Assortiment Hoortoestellen'!$B$26),PROPER('Dataset hoortoestellen'!D200))),0,1))","v":1}]
["Annemiek's Hoorstudio",4,"Coselgi","Effect EF5-FS (S-tel)","COS-0323",{"$f":"IF(ISBLANK('Assortiment Hoortoestellen'!$B$26),1,IF(ISERROR(SEARCH(PROPER('Assortiment Hoortoestellen'!$B$26),PROPER('Dataset hoortoestellen'!D201))),0,1))","v":1}]
["Annemiek's Hoorstudio",4,"Coselgi","Effect EF5-RIC 10 (M-tel)","COS-0324",{"$f":"IF(ISBLANK('Assortiment Hoortoestellen'!$B$26),1,IF(ISERROR(SEARCH(PROPER('Assortiment Hoortoestellen'!$B$26),PROPER('Dataset hoortoestellen'!D202))),0,1))","v":1}]
["Annemiek's Hoorstudio",4,"Coselgi","Effect EF5-RIC 10 (S-tel)","COS-0325",{"$f":"IF(ISBLANK('Assortiment Hoortoestellen'!$B$26),1,IF(ISERROR(SEARCH(PROPER('Assortiment Hoortoestellen'!$B$26),PROPER('Dataset hoortoestellen'!D203))),0,1))","v":1}]
["Annemiek's Hoorstudio",4,"Coselgi","Effect EF5-CIC Links","COS-0326",{"$f":"IF(ISBLANK('Assortiment Hoortoestellen'!$B$26),1,IF(ISERROR(SEARCH(PROPER('Assortiment Hoortoestellen'!$B$26),PROPER('Dataset hoortoestellen'!D204))),0,1))","v":1}]
["Annemiek's Hoorstudio",4,"Coselgi","Effect EF5-CIC M","COS-0327",{"$f":"IF(ISBLANK('Assortiment Hoortoestellen'!$B$26),1,IF(ISERROR(SEARCH(PROPER('Assortiment Hoortoestellen'!$B$26),PROPER('Dataset hoortoestellen'!D205))),0,1))","v":1}]
["Annemiek's Hoorstudio",4,"Coselgi","Effect EF5-CIC Rechts","COS-0329",{"$f":"IF(ISBLANK('Assortiment Hoortoestellen'!$B$26),1,IF(ISERROR(SEARCH(PROPER('Assortiment Hoortoestellen'!$B$26),PROPER('Dataset hoortoestellen'!D206))),0,1))","v":1}]
["Annemiek's Hoorstudio",4,"Coselgi","Effect EF5-CIC TR Links","COS-0330",{"$f":"IF(ISBLANK('Assortiment Hoortoestellen'!$B$26),1,IF(ISERROR(SEARCH(PROPER('Assortiment Hoortoestellen'!$B$26),PROPER('Dataset hoortoestellen'!D207))),0,1))","v":1}]
["Annemiek's Hoorstudio",4,"Coselgi","Effect EF5-CIC TR Rechts","COS-0331",{"$f":"IF(ISBLANK('Assortiment Hoortoestellen'!$B$26),1,IF(ISERROR(SEARCH(PROPER('Assortiment Hoortoestellen'!$B$26),PROPER('Dataset hoortoestellen'!D208))),0,1))","v":1}]
["Annemiek's Hoorstudio",4,"Coselgi","Effect EF5-FA","COS-0332",{"$f":"IF(ISBLANK('Assortiment Hoortoestellen'!$B$26),1,IF(ISERROR(SEARCH(PROPER('Assortiment Hoortoestellen'!$B$26),PROPER('Dataset hoortoestellen'!D209))),0,1))","v":1}]
["Annemiek's Hoorstudio",4,"Coselgi","Effect EF5-FM","COS-0333",{"$f":"IF(ISBLANK('Assortiment Hoortoestellen'!$B$26),1,IF(ISERROR(SEARCH(PROPER('Assortiment Hoortoestellen'!$B$26),PROPER('Dataset hoortoestellen'!D210))),0,1))","v":1}]
["Annemiek's Hoorstudio",4,"Coselgi","Effect EF5-FP","COS-0334",{"$f":"IF(ISBLANK('Assortiment Hoortoestellen'!$B$26),1,IF(ISERROR(SEARCH(PROPER('Assortiment Hoortoestellen'!$B$26),PROPER('Dataset hoortoestellen'!D211))),0,1))","v":1}]
["Annemiek's Hoorstudio",4,"Coselgi","Effect EF5-XP","COS-0335",{"$f":"IF(ISBLANK('Assortiment Hoortoestellen'!$B$26),1,IF(ISERROR(SEARCH(PROPER('Assortiment Hoortoestellen'!$B$26),PROPER('Dataset hoortoestellen'!D212))),0,1))","v":1}]
["Annemiek's Hoorstudio",5,"Coselgi","Effect EF6-F2 (HP-tel)","COS-0337",{"$f":"IF(ISBLANK('Assortiment Hoortoestellen'!$B$26),1,IF(ISERROR(SEARCH(PROPER('Assortiment Hoortoestellen'!$B$26),PROPER('Dataset hoortoestellen'!D213))),0,1))","v":1}]
["Annemiek's Hoorstudio",5,"Coselgi","Effect EF6-F2 (M-tel)","COS-0338",{"$f":"IF(ISBLANK('Assortiment Hoortoestellen'!$B$26),1,IF(ISERROR(SEARCH(PROPER('Assortiment Hoortoestellen'!$B$26),PROPER('Dataset hoortoestellen'!D214))),0,1))","v":1}]
["Annemiek's Hoorstudio",5,"Coselgi","Effect EF6-F2 (P-tel)","COS-0339",{"$f":"IF(ISBLANK('Assortiment Hoortoestellen'!$B$26),1,IF(ISERROR(SEARCH(PROPER('Assortiment Hoortoestellen'!$B$26),PROPER('Dataset hoortoestellen'!D215))),0,1))","v":1}]
["Annemiek's Hoorstudio",5,"Coselgi","Effect EF6-F2 (S-tel)","COS-0340",{"$f":"IF(ISBLANK('Assortiment Hoortoestellen'!$B$26),1,IF(ISERROR(SEARCH(PROPER('Assortiment Hoortoestellen'!$B$26),PROPER('Dataset hoortoestellen'!D216))),0,1))","v":1}]
["Annemiek's Hoorstudio",5,"Coselgi","Effect EF6-FS (HP-tel)","COS-0341",{"$f":"IF(ISBLANK('Assortiment Hoortoestellen'!$B$26),1,IF(ISERROR(SEARCH(PROPER('Assortiment Hoortoestellen'!$B$26),PROPER('Dataset hoortoestellen'!D217))),0,1))","v":1}]
["Annemiek's Hoorstudio",5,"Coselgi","Effect EF6-FS (M-tel)","COS-0342",{"$f":"IF(ISBLANK('Assortiment Hoortoestellen'!$B$26),1,IF(ISERROR(SEARCH(PROPER('Assortiment Hoortoestellen'!$B$26),PROPER('Dataset hoortoestellen'!D218))),0,1))","v":1}]
["Annemiek's Hoorstudio",5,"Coselgi","Effect EF6-FS (P-tel)","COS-0343",{"$f":"IF(ISBLANK('Assortiment Hoortoestellen'!$B$26),1,IF(ISERROR(SEARCH(PROPER('Assortiment Hoortoestellen'!$B$26),PROPER('Dataset hoortoestellen'!D219))),0,1))","v":1}]
["Annemiek's Hoorstudio",5,"Coselgi","Effect EF6-FS (S-tel)","COS-0344",{"$f":"IF(ISBLANK('Assortiment Hoortoestellen'!$B$26),1,IF(ISERROR(SEARCH(PROPER('Assortiment Hoortoestellen'!$B$26),PROPER('Dataset hoortoestellen'!D220))),0,1))","v":1}]
["Annemiek's Hoorstudio",5,"Coselgi","Effect EF6-RIC 10 (M-tel)","COS-0345",{"$f":"IF(ISBLANK('Assortiment Hoortoestellen'!$B$26),1,IF(ISERROR(SEARCH(PROPER('Assortiment Hoortoestellen'!$B$26),PROPER('Dataset hoortoestellen'!D221))),0,1))","v":1}]
["Annemiek's Hoorstudio",5,"Coselgi","Effect EF6-CIC Links","COS-0347",{"$f":"IF(ISBLANK('Assortiment Hoortoestellen'!$B$26),1,IF(ISERROR(SEARCH(PROPER('Assortiment Hoortoestellen'!$B$26),PROPER('Dataset hoortoestellen'!D222))),0,1))","v":1}]
["Annemiek's Hoorstudio",5,"Coselgi","Effect EF6-CIC M","COS-0348",{"$f":"IF(ISBLANK('Assortiment Hoortoestellen'!$B$26),1,IF(ISERROR(SEARCH(PROPER('Assortiment Hoortoestellen'!$B$26),PROPER('Dataset hoortoestellen'!D223))),0,1))","v":1}]
["Annemiek's Hoorstudio",5,"Coselgi","Effect EF6-CIC Rechts","COS-0350",{"$f":"IF(ISBLANK('Assortiment Hoortoestellen'!$B$26),1,IF(ISERROR(SEARCH(PROPER('Assortiment Hoortoestellen'!$B$26),PROPER('Dataset hoortoestellen'!D224))),0,1))","v":1}]
["Annemiek's Hoorstudio",5,"Coselgi","Effect EF6-CIC TR Links","COS-0351",{"$f":"IF(ISBLANK('Assortiment Hoortoestellen'!$B$26),1,IF(ISERROR(SEARCH(PROPER('Assortiment Hoortoestellen'!$B$26),PROPER('Dataset hoortoestellen'!D225))),0,1))","v":1}]
["Annemiek's Hoorstudio",5,"Coselgi","Effect EF6-CIC TR Rechts","COS-0352",{"$f":"IF(ISBLANK('Assortiment Hoortoestellen'!$B$26),1,IF(ISERROR(SEARCH(PROPER('Assortiment Hoortoestellen'!$B$26),PROPER('Dataset hoortoestellen'!D226))),0,1))","v":1}]
["Annemiek's Hoorstudio",5,"Coselgi","Effect EF6-FA","COS-0353",{"$f":"IF(ISBLANK('Assortiment Hoortoestellen'!$B$26),1,IF(ISERROR(SEARCH(PROPER('Assortiment Hoortoestellen'!$B$26),PROPER('Dataset hoortoestellen'!D227))),0,1))","v":1}]
["Annemiek's Hoorstudio",5,"Coselgi","Effect EF6-FM","COS-0354",{"$f":"IF(ISBLANK('Assortiment Hoortoestellen'!$B$26),1,IF(ISERROR(SEARCH(PROPER('Assortiment Hoortoestellen'!$B$26),PROPER('Dataset hoortoestellen'!D228))),0,1))","v":1}]
["Annemiek's Hoorstudio",5,"Coselgi","Effect EF6-FP","COS-0355",{"$f":"IF(ISBLANK('Assortiment Hoortoestellen'!$B$26),1,IF(ISERROR(SEARCH(PROPER('Assortiment Hoortoestellen'!$B$26),PROPER('Dataset hoortoestellen'!D229))),0,1))","v":1}]
["Annemiek's Hoorstudio",5,"Coselgi","Effect EF6-XP","COS-0356",{"$f":"IF(ISBLANK('Assortiment Hoortoestellen'!$B$26),1,IF(ISERROR(SEARCH(PROPER('Assortiment Hoortoestellen'!$B$26),PROPER('Dataset hoortoestellen'!D230))),0,1))","v":1}]
["Annemiek's Hoorstudio",2,"Interton","RD261-DRW","INT-0026",{"$f":"IF(ISBLANK('Assortiment Hoortoestellen'!$B$26),1,IF(ISERROR(SEARCH(PROPER('Assortiment Hoortoestellen'!$B$26),PROPER('Dataset hoortoestellen'!D231))),0,1))","v":1}]
["Annemiek's Hoorstudio",2,"Interton","RD262-DRW","INT-0027",{"$f":"IF(ISBLANK('Assortiment Hoortoestellen'!$B$26),1,IF(ISERROR(SEARCH(PROPER('Assortiment Hoortoestellen'!$B$26),PROPER('Dataset hoortoestellen'!D232))),0,1))","v":1}]
["Annemiek's Hoorstudio",1,"Interton","RD270-DW","INT-0028",{"$f":"IF(ISBLANK('Assortiment Hoortoestellen'!$B$26),1,IF(ISERROR(SEARCH(PROPER('Assortiment Hoortoestellen'!$B$26),PROPER('Dataset hoortoestellen'!D233))),0,1))","v":1}]
["Annemiek's Hoorstudio",1,"Interton","RD280-DW","INT-0029",{"$f":"IF(ISBLANK('Assortiment Hoortoestellen'!$B$26),1,IF(ISERROR(SEARCH(PROPER('Assortiment Hoortoestellen'!$B$26),PROPER('Dataset hoortoestellen'!D234))),0,1))","v":1}]
["Annemiek's Hoorstudio",2,"Interton","RD361-DRW","INT-0032",{"$f":"IF(ISBLANK('Assortiment Hoortoestellen'!$B$26),1,IF(ISERROR(SEARCH(PROPER('Assortiment Hoortoestellen'!$B$26),PROPER('Dataset hoortoestellen'!D235))),0,1))","v":1}]
["Annemiek's Hoorstudio",2,"Interton","RD362-DRW","INT-0033",{"$f":"IF(ISBLANK('Assortiment Hoortoestellen'!$B$26),1,IF(ISERROR(SEARCH(PROPER('Assortiment Hoortoestellen'!$B$26),PROPER('Dataset hoortoestellen'!D236))),0,1))","v":1}]
["Annemiek's Hoorstudio",2,"Interton","RD370-DW","INT-0034",{"$f":"IF(ISBLANK('Assortiment Hoortoestellen'!$B$26),1,IF(ISERROR(SEARCH(PROPER('Assortiment Hoortoestellen'!$B$26),PROPER('Dataset hoortoestellen'!D237))),0,1))","v":1}]
["Annemiek's Hoorstudio",2,"Interton","RD380-DW","INT-0035",{"$f":"IF(ISBLANK('Assortiment Hoortoestellen'!$B$26),1,IF(ISERROR(SEARCH(PROPER('Assortiment Hoortoestellen'!$B$26),PROPER('Dataset hoortoestellen'!D238))),0,1))","v":1}]
["Annemiek's Hoorstudio",3,"Interton","RD3CIC","INT-0036",{"$f":"IF(ISBLANK('Assortiment Hoortoestellen'!$B$26),1,IF(ISERROR(SEARCH(PROPER('Assortiment Hoortoestellen'!$B$26),PROPER('Dataset hoortoestellen'!D239))),0,1))","v":1}]
["Annemiek's Hoorstudio",3,"Interton","RD3ITC-DW","INT-0037",{"$f":"IF(ISBLANK('Assortiment Hoortoestellen'!$B$26),1,IF(ISERROR(SEARCH(PROPER('Assortiment Hoortoestellen'!$B$26),PROPER('Dataset hoortoestellen'!D240))),0,1))","v":1}]
["Annemiek's Hoorstudio",3,"Interton","RD461-DRW","INT-0038",{"$f":"IF(ISBLANK('Assortiment Hoortoestellen'!$B$26),1,IF(ISERROR(SEARCH(PROPER('Assortiment Hoortoestellen'!$B$26),PROPER('Dataset hoortoestellen'!D241))),0,1))","v":1}]
["Annemiek's Hoorstudio",3,"Interton","RD462-DRW","INT-0039",{"$f":"IF(ISBLANK('Assortiment Hoortoestellen'!$B$26),1,IF(ISERROR(SEARCH(PROPER('Assortiment Hoortoestellen'!$B$26),PROPER('Dataset hoortoestellen'!D242))),0,1))","v":1}]
["Annemiek's Hoorstudio",3,"Interton","RD470-DW","INT-0040",{"$f":"IF(ISBLANK('Assortiment Hoortoestellen'!$B$26),1,IF(ISERROR(SEARCH(PROPER('Assortiment Hoortoestellen'!$B$26),PROPER('Dataset hoortoestellen'!D243))),0,1))","v":1}]
["Annemiek's Hoorstudio",3,"Interton","RD480-DW","INT-0041",{"$f":"IF(ISBLANK('Assortiment Hoortoestellen'!$B$26),1,IF(ISERROR(SEARCH(PROPER('Assortiment Hoortoestellen'!$B$26),PROPER('Dataset hoortoestellen'!D244))),0,1))","v":1}]
["Annemiek's Hoorstudio",3,"Interton","RD4CIC","INT-0042",{"$f":"IF(ISBLANK('Assortiment Hoortoestellen'!$B$26),1,IF(ISERROR(SEARCH(PROPER('Assortiment Hoortoestellen'!$B$26),PROPER('Dataset hoortoestellen'!D245))),0,1))","v":1}]
["Annemiek's Hoorstudio",3,"Interton","RD4ITC-DW","INT-0043",{"$f":"IF(ISBLANK('Assortiment Hoortoestellen'!$B$26),1,IF(ISERROR(SEARCH(PROPER('Assortiment Hoortoestellen'!$B$26),PROPER('Dataset hoortoestellen'!D246))),0,1))","v":1}]
["Annemiek's Hoorstudio",4,"Interton","RD661-DRW","INT-0044",{"$f":"IF(ISBLANK('Assortiment Hoortoestellen'!$B$26),1,IF(ISERROR(SEARCH(PROPER('Assortiment Hoortoestellen'!$B$26),PROPER('Dataset hoortoestellen'!D247))),0,1))","v":1}]
["Annemiek's Hoorstudio",4,"Interton","RD662-DRW","INT-0045",{"$f":"IF(ISBLANK('Assortiment Hoortoestellen'!$B$26),1,IF(ISERROR(SEARCH(PROPER('Assortiment Hoortoestellen'!$B$26),PROPER('Dataset hoortoestellen'!D248))),0,1))","v":1}]
["Annemiek's Hoorstudio",5,"Interton","RD670-DW","INT-0046",{"$f":"IF(ISBLANK('Assortiment Hoortoestellen'!$B$26),1,IF(ISERROR(SEARCH(PROPER('Assortiment Hoortoestellen'!$B$26),PROPER('Dataset hoortoestellen'!D249))),0,1))","v":1}]
["Annemiek's Hoorstudio",4,"Interton","RD680-DW","INT-0047",{"$f":"IF(ISBLANK('Assortiment Hoortoestellen'!$B$26),1,IF(ISERROR(SEARCH(PROPER('Assortiment Hoortoestellen'!$B$26),PROPER('Dataset hoortoestellen'!D250))),0,1))","v":1}]
["Annemiek's Hoorstudio",5,"Interton","RD6CIC","INT-0048",{"$f":"IF(ISBLANK('Assortiment Hoortoestellen'!$B$26),1,IF(ISERROR(SEARCH(PROPER('Assortiment Hoortoestellen'!$B$26),PROPER('Dataset hoortoestellen'!D251))),0,1))","v":1}]
["Annemiek's Hoorstudio",5,"Interton","RD6ITC-DW","INT-0049",{"$f":"IF(ISBLANK('Assortiment Hoortoestellen'!$B$26),1,IF(ISERROR(SEARCH(PROPER('Assortiment Hoortoestellen'!$B$26),PROPER('Dataset hoortoestellen'!D252))),0,1))","v":1}]
["Annemiek's Hoorstudio",1,"Oticon","Get","OTI-0064",{"$f":"IF(ISBLANK('Assortiment Hoortoestellen'!$B$26),1,IF(ISERROR(SEARCH(PROPER('Assortiment Hoortoestellen'!$B$26),PROPER('Dataset hoortoestellen'!D253))),0,1))","v":1}]
["Annemiek's Hoorstudio",1,"Oticon","Get","OTI-0065",{"$f":"IF(ISBLANK('Assortiment Hoortoestellen'!$B$26),1,IF(ISERROR(SEARCH(PROPER('Assortiment Hoortoestellen'!$B$26),PROPER('Dataset hoortoestellen'!D254))),0,1))","v":1}]
["Annemiek's Hoorstudio",1,"Oticon","Get","OTI-0066",{"$f":"IF(ISBLANK('Assortiment Hoortoestellen'!$B$26),1,IF(ISERROR(SEARCH(PROPER('Assortiment Hoortoestellen'!$B$26),PROPER('Dataset hoortoestellen'!D255))),0,1))","v":1}]
["Annemiek's Hoorstudio",1,"Oticon","Get","OTI-0068",{"$f":"IF(ISBLANK('Assortiment Hoortoestellen'!$B$26),1,IF(ISERROR(SEARCH(PROPER('Assortiment Hoortoestellen'!$B$26),PROPER('Dataset hoortoestellen'!D256))),0,1))","v":1}]
["Annemiek's Hoorstudio",4,"Oticon","Siya 1 CIC 75 - 85","OTI-0340",{"$f":"IF(ISBLANK('Assortiment Hoortoestellen'!$B$26),1,IF(ISERROR(SEARCH(PROPER('Assortiment Hoortoestellen'!$B$26),PROPER('Dataset hoortoestellen'!D257))),0,1))","v":1}]
["Annemiek's Hoorstudio",4,"Oticon","Siya 1 ITE 75 - 100","OTI-0342",{"$f":"IF(ISBLANK('Assortiment Hoortoestellen'!$B$26),1,IF(ISERROR(SEARCH(PROPER('Assortiment Hoortoestellen'!$B$26),PROPER('Dataset hoortoestellen'!D258))),0,1))","v":1}]
["Annemiek's Hoorstudio",4,"Oticon","Siya 1 miniRITE T 60 - 105","OTI-0344",{"$f":"IF(ISBLANK('Assortiment Hoortoestellen'!$B$26),1,IF(ISERROR(SEARCH(PROPER('Assortiment Hoortoestellen'!$B$26),PROPER('Dataset hoortoestellen'!D259))),0,1))","v":1}]
["Annemiek's Hoorstudio",3,"Oticon","Siya 2 ITE 75 - 100","OTI-0349",{"$f":"IF(ISBLANK('Assortiment Hoortoestellen'!$B$26),1,IF(ISERROR(SEARCH(PROPER('Assortiment Hoortoestellen'!$B$26),PROPER('Dataset hoortoestellen'!D260))),0,1))","v":1}]
["Annemiek's Hoorstudio",3,"Oticon","Siya 2 miniRITE T 60 - 105","OTI-0351",{"$f":"IF(ISBLANK('Assortiment Hoortoestellen'!$B$26),1,IF(ISERROR(SEARCH(PROPER('Assortiment Hoortoestellen'!$B$26),PROPER('Dataset hoortoestellen'!D261))),0,1))","v":1}]
["Annemiek's Hoorstudio",5,"Oticon","Opn 3 CIC 75 - 85","OTI-0360",{"$f":"IF(ISBLANK('Assortiment Hoortoestellen'!$B$26),1,IF(ISERROR(SEARCH(PROPER('Assortiment Hoortoestellen'!$B$26),PROPER('Dataset hoortoestellen'!D262))),0,1))","v":1}]
["Annemiek's Hoorstudio",5,"Oticon","Opn 3 ITE 75 - 100","OTI-0362",{"$f":"IF(ISBLANK('Assortiment Hoortoestellen'!$B$26),1,IF(ISERROR(SEARCH(PROPER('Assortiment Hoortoestellen'!$B$26),PROPER('Dataset hoortoestellen'!D263))),0,1))","v":1}]
["Annemiek's Hoorstudio",5,"Oticon","Opn 3 miniRITE T 60 - 105","OTI-0364",{"$f":"IF(ISBLANK('Assortiment Hoortoestellen'!$B$26),1,IF(ISERROR(SEARCH(PROPER('Assortiment Hoortoestellen'!$B$26),PROPER('Dataset hoortoestellen'!D264))),0,1))","v":1}]
["Annemiek's Hoorstudio",5,"Oticon","Ruby 1 miniRITE R 60 - 105","OTI-0368",{"$f":"IF(ISBLANK('Assortiment Hoortoestellen'!$B$26),1,IF(ISERROR(SEARCH(PROPER('Assortiment Hoortoestellen'!$B$26),PROPER('Dataset hoortoestellen'!D265))),0,1))","v":1}]
["Annemiek's Hoorstudio",4,"Oticon","Ruby 2 miniRITE R 60 - 105","OTI-0373",{"$f":"IF(ISBLANK('Assortiment Hoortoestellen'!$B$26),1,IF(ISERROR(SEARCH(PROPER('Assortiment Hoortoestellen'!$B$26),PROPER('Dataset hoortoestellen'!D266))),0,1))","v":1}]
["Annemiek's Hoorstudio",3,"Oticon","Geno 1 BTE 85","OTI-0377",{"$f":"IF(ISBLANK('Assortiment Hoortoestellen'!$B$26),1,IF(ISERROR(SEARCH(PROPER('Assortiment Hoortoestellen'!$B$26),PROPER('Dataset hoortoestellen'!D267))),0,1))","v":1}]
["Annemiek's Hoorstudio",3,"Oticon","Geno 1 Custom 75 - 100","OTI-0378",{"$f":"IF(ISBLANK('Assortiment Hoortoestellen'!$B$26),1,IF(ISERROR(SEARCH(PROPER('Assortiment Hoortoestellen'!$B$26),PROPER('Dataset hoortoestellen'!D268))),0,1))","v":1}]
["Annemiek's Hoorstudio",2,"Oticon","Geno 2 BTE 105 PP","OTI-0383",{"$f":"IF(ISBLANK('Assortiment Hoortoestellen'!$B$26),1,IF(ISERROR(SEARCH(PROPER('Assortiment Hoortoestellen'!$B$26),PROPER('Dataset hoortoestellen'!D269))),0,1))","v":1}]
["Annemiek's Hoorstudio",2,"Oticon","Geno 2 Custom 75 - 100","OTI-0385",{"$f":"IF(ISBLANK('Assortiment Hoortoestellen'!$B$26),1,IF(ISERROR(SEARCH(PROPER('Assortiment Hoortoestellen'!$B$26),PROPER('Dataset hoortoestellen'!D270))),0,1))","v":1}]
["Annemiek's Hoorstudio",2,"Oticon","Geno 2 BTE 85","OTI-384",{"$f":"IF(ISBLANK('Assortiment Hoortoestellen'!$B$26),1,IF(ISERROR(SEARCH(PROPER('Assortiment Hoortoestellen'!$B$26),PROPER('Dataset hoortoestellen'!D271))),0,1))","v":1}]
["Annemiek's Hoorstudio",2,"Phonak","Vitus BTE-micro","PHO-0260",{"$f":"IF(ISBLANK('Assortiment Hoortoestellen'!$B$26),1,IF(ISERROR(SEARCH(PROPER('Assortiment Hoortoestellen'!$B$26),PROPER('Dataset hoortoestellen'!D272))),0,1))","v":1}]
["Annemiek's Hoorstudio",2,"Phonak","Vitus BTE-P","PHO-0261",{"$f":"IF(ISBLANK('Assortiment Hoortoestellen'!$B$26),1,IF(ISERROR(SEARCH(PROPER('Assortiment Hoortoestellen'!$B$26),PROPER('Dataset hoortoestellen'!D273))),0,1))","v":1}]
["Annemiek's Hoorstudio",2,"Phonak","Vitus BTE-UP","PHO-0262",{"$f":"IF(ISBLANK('Assortiment Hoortoestellen'!$B$26),1,IF(ISERROR(SEARCH(PROPER('Assortiment Hoortoestellen'!$B$26),PROPER('Dataset hoortoestellen'!D274))),0,1))","v":1}]
["Annemiek's Hoorstudio",3,"Phonak","Audeo B 30 10","PHO-0269",{"$f":"IF(ISBLANK('Assortiment Hoortoestellen'!$B$26),1,IF(ISERROR(SEARCH(PROPER('Assortiment Hoortoestellen'!$B$26),PROPER('Dataset hoortoestellen'!D275))),0,1))","v":1}]
["Annemiek's Hoorstudio",3,"Phonak","Audeo B 30 13","PHO-0270",{"$f":"IF(ISBLANK('Assortiment Hoortoestellen'!$B$26),1,IF(ISERROR(SEARCH(PROPER('Assortiment Hoortoestellen'!$B$26),PROPER('Dataset hoortoestellen'!D276))),0,1))","v":1}]
["Annemiek's Hoorstudio",3,"Phonak","Audeo B 30 312","PHO-0271",{"$f":"IF(ISBLANK('Assortiment Hoortoestellen'!$B$26),1,IF(ISERROR(SEARCH(PROPER('Assortiment Hoortoestellen'!$B$26),PROPER('Dataset hoortoestellen'!D277))),0,1))","v":1}]
["Annemiek's Hoorstudio",3,"Phonak","Audeo B 30 312 T","PHO-0272",{"$f":"IF(ISBLANK('Assortiment Hoortoestellen'!$B$26),1,IF(ISERROR(SEARCH(PROPER('Assortiment Hoortoestellen'!$B$26),PROPER('Dataset hoortoestellen'!D278))),0,1))","v":1}]
["Annemiek's Hoorstudio",4,"Phonak","Audeo B 50 10","PHO-0273",{"$f":"IF(ISBLANK('Assortiment Hoortoestellen'!$B$26),1,IF(ISERROR(SEARCH(PROPER('Assortiment Hoortoestellen'!$B$26),PROPER('Dataset hoortoestellen'!D279))),0,1))","v":1}]
["Annemiek's Hoorstudio",4,"Phonak","Audeo B 50 13","PHO-0274",{"$f":"IF(ISBLANK('Assortiment Hoortoestellen'!$B$26),1,IF(ISERROR(SEARCH(PROPER('Assortiment Hoortoestellen'!$B$26),PROPER('Dataset hoortoestellen'!D280))),0,1))","v":1}]
["Annemiek's Hoorstudio",4,"Phonak","Audeo B 50 312","PHO-0275",{"$f":"IF(ISBLANK('Assortiment Hoortoestellen'!$B$26),1,IF(ISERROR(SEARCH(PROPER('Assortiment Hoortoestellen'!$B$26),PROPER('Dataset hoortoestellen'!D281))),0,1))","v":1}]
["Annemiek's Hoorstudio",4,"Phonak","Audeo B 50 312 T","PHO-0276",{"$f":"IF(ISBLANK('Assortiment Hoortoestellen'!$B$26),1,IF(ISERROR(SEARCH(PROPER('Assortiment Hoortoestellen'!$B$26),PROPER('Dataset hoortoestellen'!D282))),0,1))","v":1}]
["Annemiek's Hoorstudio",5,"Phonak","Audeo B 70 10","PHO-0278",{"$f":"IF(ISBLANK('Assortiment Hoortoestellen'!$B$26),1,IF(ISERROR(SEARCH(PROPER('Assortiment Hoortoestellen'!$B$26),PROPER('Dataset hoortoestellen'!D283))),0,1))","v":1}]
["Annemiek's Hoorstudio",5,"Phonak","Audeo B 70 13","PHO-0279",{"$f":"IF(ISBLANK('Assortiment Hoortoestellen'!$B$26),1,IF(ISERROR(SEARCH(PROPER('Assortiment Hoortoestellen'!$B$26),PROPER('Dataset hoortoestellen'!D284))),0,1))","v":1}]
["Annemiek's Hoorstudio",5,"Phonak","Audeo B 70 312 T","PHO-0281",{"$f":"IF(ISBLANK('Assortiment Hoortoestellen'!$B$26),1,IF(ISERROR(SEARCH(PROPER('Assortiment Hoortoestellen'!$B$26),PROPER('Dataset hoortoestellen'!D285))),0,1))","v":1}]
["Annemiek's Hoorstudio",3,"Phonak","Bolero B 30 M","PHO-0283",{"$f":"IF(ISBLANK('Assortiment Hoortoestellen'!$B$26),1,IF(ISERROR(SEARCH(PROPER('Assortiment Hoortoestellen'!$B$26),PROPER('Dataset hoortoestellen'!D286))),0,1))","v":1}]
["Annemiek's Hoorstudio",3,"Phonak","Bolero B 30 P","PHO-0284",{"$f":"IF(ISBLANK('Assortiment Hoortoestellen'!$B$26),1,IF(ISERROR(SEARCH(PROPER('Assortiment Hoortoestellen'!$B$26),PROPER('Dataset hoortoestellen'!D287))),0,1))","v":1}]
["Annemiek's Hoorstudio",3,"Phonak","Bolero B 30 SP","PHO-0285",{"$f":"IF(ISBLANK('Assortiment Hoortoestellen'!$B$26),1,IF(ISERROR(SEARCH(PROPER('Assortiment Hoortoestellen'!$B$26),PROPER('Dataset hoortoestellen'!D288))),0,1))","v":1}]
["Annemiek's Hoorstudio",4,"Phonak","Bolero B 50 M","PHO-0286",{"$f":"IF(ISBLANK('Assortiment Hoortoestellen'!$B$26),1,IF(ISERROR(SEARCH(PROPER('Assortiment Hoortoestellen'!$B$26),PROPER('Dataset hoortoestellen'!D289))),0,1))","v":1}]
["Annemiek's Hoorstudio",4,"Phonak","Bolero B 50 P","PHO-0287",{"$f":"IF(ISBLANK('Assortiment Hoortoestellen'!$B$26),1,IF(ISERROR(SEARCH(PROPER('Assortiment Hoortoestellen'!$B$26),PROPER('Dataset hoortoestellen'!D290))),0,1))","v":1}]
["Annemiek's Hoorstudio",4,"Phonak","Bolero B 50 SP","PHO-0289",{"$f":"IF(ISBLANK('Assortiment Hoortoestellen'!$B$26),1,IF(ISERROR(SEARCH(PROPER('Assortiment Hoortoestellen'!$B$26),PROPER('Dataset hoortoestellen'!D291))),0,1))","v":1}]
["Annemiek's Hoorstudio",5,"Phonak","Bolero B 70 M","PHO-0290",{"$f":"IF(ISBLANK('Assortiment Hoortoestellen'!$B$26),1,IF(ISERROR(SEARCH(PROPER('Assortiment Hoortoestellen'!$B$26),PROPER('Dataset hoortoestellen'!D292))),0,1))","v":1}]
["Annemiek's Hoorstudio",5,"Phonak","Bolero B 70 P","PHO-0291",{"$f":"IF(ISBLANK('Assortiment Hoortoestellen'!$B$26),1,IF(ISERROR(SEARCH(PROPER('Assortiment Hoortoestellen'!$B$26),PROPER('Dataset hoortoestellen'!D293))),0,1))","v":1}]
["Annemiek's Hoorstudio",5,"Phonak","Bolero B 70 SP","PHO-0293",{"$f":"IF(ISBLANK('Assortiment Hoortoestellen'!$B$26),1,IF(ISERROR(SEARCH(PROPER('Assortiment Hoortoestellen'!$B$26),PROPER('Dataset hoortoestellen'!D294))),0,1))","v":1}]
["Annemiek's Hoorstudio",3,"Phonak","Naida B 30 SP","PHO-0299",{"$f":"IF(ISBLANK('Assortiment Hoortoestellen'!$B$26),1,IF(ISERROR(SEARCH(PROPER('Assortiment Hoortoestellen'!$B$26),PROPER('Dataset hoortoestellen'!D295))),0,1))","v":1}]
["Annemiek's Hoorstudio",3,"Phonak","Naida B 30 UP","PHO-0300",{"$f":"IF(ISBLANK('Assortiment Hoortoestellen'!$B$26),1,IF(ISERROR(SEARCH(PROPER('Assortiment Hoortoestellen'!$B$26),PROPER('Dataset hoortoestellen'!D296))),0,1))","v":1}]
["Annemiek's Hoorstudio",4,"Phonak","Naida B 50 SP","PHO-0302",{"$f":"IF(ISBLANK('Assortiment Hoortoestellen'!$B$26),1,IF(ISERROR(SEARCH(PROPER('Assortiment Hoortoestellen'!$B$26),PROPER('Dataset hoortoestellen'!D297))),0,1))","v":1}]
["Annemiek's Hoorstudio",4,"Phonak","Naida B 50 UP","PHO-0303",{"$f":"IF(ISBLANK('Assortiment Hoortoestellen'!$B$26),1,IF(ISERROR(SEARCH(PROPER('Assortiment Hoortoestellen'!$B$26),PROPER('Dataset hoortoestellen'!D298))),0,1))","v":1}]
["Annemiek's Hoorstudio",5,"Phonak","Naida B 70 SP","PHO-0305",{"$f":"IF(ISBLANK('Assortiment Hoortoestellen'!$B$26),1,IF(ISERROR(SEARCH(PROPER('Assortiment Hoortoestellen'!$B$26),PROPER('Dataset hoortoestellen'!D299))),0,1))","v":1}]
["Annemiek's Hoorstudio",5,"Phonak","Naida B 70 UP","PHO-0306",{"$f":"IF(ISBLANK('Assortiment Hoortoestellen'!$B$26),1,IF(ISERROR(SEARCH(PROPER('Assortiment Hoortoestellen'!$B$26),PROPER('Dataset hoortoestellen'!D300))),0,1))","v":1}]
["Annemiek's Hoorstudio",3,"Phonak","Sky B 30 M","PHO-0307",{"$f":"IF(ISBLANK('Assortiment Hoortoestellen'!$B$26),1,IF(ISERROR(SEARCH(PROPER('Assortiment Hoortoestellen'!$B$26),PROPER('Dataset hoortoestellen'!D301))),0,1))","v":1}]
["Annemiek's Hoorstudio",3,"Phonak","Sky B 30 P","PHO-0308",{"$f":"IF(ISBLANK('Assortiment Hoortoestellen'!$B$26),1,IF(ISERROR(SEARCH(PROPER('Assortiment Hoortoestellen'!$B$26),PROPER('Dataset hoortoestellen'!D302))),0,1))","v":1}]
["Annemiek's Hoorstudio",3,"Phonak","Sky B 30 RIC","PHO-0309",{"$f":"IF(ISBLANK('Assortiment Hoortoestellen'!$B$26),1,IF(ISERROR(SEARCH(PROPER('Assortiment Hoortoestellen'!$B$26),PROPER('Dataset hoortoestellen'!D303))),0,1))","v":1}]
["Annemiek's Hoorstudio",3,"Phonak","Sky B 30 SP","PHO-0310",{"$f":"IF(ISBLANK('Assortiment Hoortoestellen'!$B$26),1,IF(ISERROR(SEARCH(PROPER('Assortiment Hoortoestellen'!$B$26),PROPER('Dataset hoortoestellen'!D304))),0,1))","v":1}]
["Annemiek's Hoorstudio",3,"Phonak","Sky B 30 UP","PHO-0311",{"$f":"IF(ISBLANK('Assortiment Hoortoestellen'!$B$26),1,IF(ISERROR(SEARCH(PROPER('Assortiment Hoortoestellen'!$B$26),PROPER('Dataset hoortoestellen'!D305))),0,1))","v":1}]
["Annemiek's Hoorstudio",4,"Phonak","Sky B 50 M","PHO-0312",{"$f":"IF(ISBLANK('Assortiment Hoortoestellen'!$B$26),1,IF(ISERROR(SEARCH(PROPER('Assortiment Hoortoestellen'!$B$26),PROPER('Dataset hoortoestellen'!D306))),0,1))","v":1}]
["Annemiek's Hoorstudio",4,"Phonak","Sky B 50 P","PHO-0313",{"$f":"IF(ISBLANK('Assortiment Hoortoestellen'!$B$26),1,IF(ISERROR(SEARCH(PROPER('Assortiment Hoortoestellen'!$B$26),PROPER('Dataset hoortoestellen'!D307))),0,1))","v":1}]
["Annemiek's Hoorstudio",4,"Phonak","Sky B 50 RIC","PHO-0315",{"$f":"IF(ISBLANK('Assortiment Hoortoestellen'!$B$26),1,IF(ISERROR(SEARCH(PROPER('Assortiment Hoortoestellen'!$B$26),PROPER('Dataset hoortoestellen'!D308))),0,1))","v":1}]
["Annemiek's Hoorstudio",4,"Phonak","Sky B 50 SP","PHO-0316",{"$f":"IF(ISBLANK('Assortiment Hoortoestellen'!$B$26),1,IF(ISERROR(SEARCH(PROPER('Assortiment Hoortoestellen'!$B$26),PROPER('Dataset hoortoestellen'!D309))),0,1))","v":1}]
["Annemiek's Hoorstudio",4,"Phonak","Sky B 50 UP","PHO-0317",{"$f":"IF(ISBLANK('Assortiment Hoortoestellen'!$B$26),1,IF(ISERROR(SEARCH(PROPER('Assortiment Hoortoestellen'!$B$26),PROPER('Dataset hoortoestellen'!D310))),0,1))","v":1}]
["Annemiek's Hoorstudio",5,"Phonak","Sky B 70 M","PHO-0318",{"$f":"IF(ISBLANK('Assortiment Hoortoestellen'!$B$26),1,IF(ISERROR(SEARCH(PROPER('Assortiment Hoortoestellen'!$B$26),PROPER('Dataset hoortoestellen'!D311))),0,1))","v":1}]
["Annemiek's Hoorstudio",5,"Phonak","Sky B 70 P","PHO-0319",{"$f":"IF(ISBLANK('Assortiment Hoortoestellen'!$B$26),1,IF(ISERROR(SEARCH(PROPER('Assortiment Hoortoestellen'!$B$26),PROPER('Dataset hoortoestellen'!D312))),0,1))","v":1}]
["Annemiek's Hoorstudio",5,"Phonak","Sky B 70 RIC","PHO-0321",{"$f":"IF(ISBLANK('Assortiment Hoortoestellen'!$B$26),1,IF(ISERROR(SEARCH(PROPER('Assortiment Hoortoestellen'!$B$26),PROPER('Dataset hoortoestellen'!D313))),0,1))","v":1}]
["Annemiek's Hoorstudio",5,"Phonak","Sky B 70 SP","PHO-0322",{"$f":"IF(ISBLANK('Assortiment Hoortoestellen'!$B$26),1,IF(ISERROR(SEARCH(PROPER('Assortiment Hoortoestellen'!$B$26),PROPER('Dataset hoortoestellen'!D314))),0,1))","v":1}]
["Annemiek's Hoorstudio",5,"Phonak","Sky B 70 UP","PHO-0323",{"$f":"IF(ISBLANK('Assortiment Hoortoestellen'!$B$26),1,IF(ISERROR(SEARCH(PROPER('Assortiment Hoortoestellen'!$B$26),PROPER('Dataset hoortoestellen'!D315))),0,1))","v":1}]
["Annemiek's Hoorstudio",3,"Phonak","Virto B 30 10","PHO-0324",{"$f":"IF(ISBLANK('Assortiment Hoortoestellen'!$B$26),1,IF(ISERROR(SEARCH(PROPER('Assortiment Hoortoestellen'!$B$26),PROPER('Dataset hoortoestellen'!D316))),0,1))","v":1}]
["Annemiek's Hoorstudio",3,"Phonak","Virto B 30 13","PHO-0325",{"$f":"IF(ISBLANK('Assortiment Hoortoestellen'!$B$26),1,IF(ISERROR(SEARCH(PROPER('Assortiment Hoortoestellen'!$B$26),PROPER('Dataset hoortoestellen'!D317))),0,1))","v":1}]
["Annemiek's Hoorstudio",3,"Phonak","Virto B 30 312","PHO-0326",{"$f":"IF(ISBLANK('Assortiment Hoortoestellen'!$B$26),1,IF(ISERROR(SEARCH(PROPER('Assortiment Hoortoestellen'!$B$26),PROPER('Dataset hoortoestellen'!D318))),0,1))","v":1}]
["Annemiek's Hoorstudio",4,"Phonak","Virto B 50 10","PHO-0327",{"$f":"IF(ISBLANK('Assortiment Hoortoestellen'!$B$26),1,IF(ISERROR(SEARCH(PROPER('Assortiment Hoortoestellen'!$B$26),PROPER('Dataset hoortoestellen'!D319))),0,1))","v":1}]
["Annemiek's Hoorstudio",4,"Phonak","Virto B 50 13","PHO-0328",{"$f":"IF(ISBLANK('Assortiment Hoortoestellen'!$B$26),1,IF(ISERROR(SEARCH(PROPER('Assortiment Hoortoestellen'!$B$26),PROPER('Dataset hoortoestellen'!D320))),0,1))","v":1}]
["Annemiek's Hoorstudio",4,"Phonak","Virto B 50 312","PHO-0329",{"$f":"IF(ISBLANK('Assortiment Hoortoestellen'!$B$26),1,IF(ISERROR(SEARCH(PROPER('Assortiment Hoortoestellen'!$B$26),PROPER('Dataset hoortoestellen'!D321))),0,1))","v":1}]
["Annemiek's Hoorstudio",5,"Phonak","Virto B 70 10","PHO-0330",{"$f":"IF(ISBLANK('Assortiment Hoortoestellen'!$B$26),1,IF(ISERROR(SEARCH(PROPER('Assortiment Hoortoestellen'!$B$26),PROPER('Dataset hoortoestellen'!D322))),0,1))","v":1}]
["Annemiek's Hoorstudio",5,"Phonak","Virto B 70 312","PHO-0332",{"$f":"IF(ISBLANK('Assortiment Hoortoestellen'!$B$26),1,IF(ISERROR(SEARCH(PROPER('Assortiment Hoortoestellen'!$B$26),PROPER('Dataset hoortoestellen'!D323))),0,1))","v":1}]
["Annemiek's Hoorstudio",4,"Phonak","Sky M30-M","PHO-0333",{"$f":"IF(ISBLANK('Assortiment Hoortoestellen'!$B$26),1,IF(ISERROR(SEARCH(PROPER('Assortiment Hoortoestellen'!$B$26),PROPER('Dataset hoortoestellen'!D324))),0,1))","v":1}]
["Annemiek's Hoorstudio",5,"Phonak","Sky M30-PR","PHO-0334",{"$f":"IF(ISBLANK('Assortiment Hoortoestellen'!$B$26),1,IF(ISERROR(SEARCH(PROPER('Assortiment Hoortoestellen'!$B$26),PROPER('Dataset hoortoestellen'!D325))),0,1))","v":1}]
["Annemiek's Hoorstudio",4,"Phonak","Sky M30-SP","PHO-0335",{"$f":"IF(ISBLANK('Assortiment Hoortoestellen'!$B$26),1,IF(ISERROR(SEARCH(PROPER('Assortiment Hoortoestellen'!$B$26),PROPER('Dataset hoortoestellen'!D326))),0,1))","v":1}]
["Annemiek's Hoorstudio",5,"Phonak","Sky M50-M","PHO-0336",{"$f":"IF(ISBLANK('Assortiment Hoortoestellen'!$B$26),1,IF(ISERROR(SEARCH(PROPER('Assortiment Hoortoestellen'!$B$26),PROPER('Dataset hoortoestellen'!D327))),0,1))","v":1}]
["Annemiek's Hoorstudio",5,"Phonak","Sky M50-SP","PHO-0338",{"$f":"IF(ISBLANK('Assortiment Hoortoestellen'!$B$26),1,IF(ISERROR(SEARCH(PROPER('Assortiment Hoortoestellen'!$B$26),PROPER('Dataset hoortoestellen'!D328))),0,1))","v":1}]
["Annemiek's Hoorstudio",1,"ReSound","Vea 180 VI","RES-0009",{"$f":"IF(ISBLANK('Assortiment Hoortoestellen'!$B$26),1,IF(ISERROR(SEARCH(PROPER('Assortiment Hoortoestellen'!$B$26),PROPER('Dataset hoortoestellen'!D329))),0,1))","v":1}]
["Annemiek's Hoorstudio",1,"ReSound","Vea 170 VI","RES-0010",{"$f":"IF(ISBLANK('Assortiment Hoortoestellen'!$B$26),1,IF(ISERROR(SEARCH(PROPER('Assortiment Hoortoestellen'!$B$26),PROPER('Dataset hoortoestellen'!D330))),0,1))","v":1}]
["Annemiek's Hoorstudio",1,"ReSound","Vea 130 -/P","RES-0011",{"$f":"IF(ISBLANK('Assortiment Hoortoestellen'!$B$26),1,IF(ISERROR(SEARCH(PROPER('Assortiment Hoortoestellen'!$B$26),PROPER('Dataset hoortoestellen'!D331))),0,1))","v":1}]
["Annemiek's Hoorstudio",2,"ReSound","Enya 3 ITC","RES-0212",{"$f":"IF(ISBLANK('Assortiment Hoortoestellen'!$B$26),1,IF(ISERROR(SEARCH(PROPER('Assortiment Hoortoestellen'!$B$26),PROPER('Dataset hoortoestellen'!D332))),0,1))","v":1}]
["Annemiek's Hoorstudio",2,"ReSound","Enya 362-DRW","RES-0213",{"$f":"IF(ISBLANK('Assortiment Hoortoestellen'!$B$26),1,IF(ISERROR(SEARCH(PROPER('Assortiment Hoortoestellen'!$B$26),PROPER('Dataset hoortoestellen'!D333))),0,1))","v":1}]
["Annemiek's Hoorstudio",2,"ReSound","Enya 367-DW","RES-0214",{"$f":"IF(ISBLANK('Assortiment Hoortoestellen'!$B$26),1,IF(ISERROR(SEARCH(PROPER('Assortiment Hoortoestellen'!$B$26),PROPER('Dataset hoortoestellen'!D334))),0,1))","v":1}]
["Annemiek's Hoorstudio",2,"ReSound","Enya 377-DW","RES-0215",{"$f":"IF(ISBLANK('Assortiment Hoortoestellen'!$B$26),1,IF(ISERROR(SEARCH(PROPER('Assortiment Hoortoestellen'!$B$26),PROPER('Dataset hoortoestellen'!D335))),0,1))","v":1}]
["Annemiek's Hoorstudio",2,"ReSound","Enya 388-DW","RES-0216",{"$f":"IF(ISBLANK('Assortiment Hoortoestellen'!$B$26),1,IF(ISERROR(SEARCH(PROPER('Assortiment Hoortoestellen'!$B$26),PROPER('Dataset hoortoestellen'!D336))),0,1))","v":1}]
["Annemiek's Hoorstudio",2,"ReSound","MagnaSP 490 DVI","RES-0227",{"$f":"IF(ISBLANK('Assortiment Hoortoestellen'!$B$26),1,IF(ISERROR(SEARCH(PROPER('Assortiment Hoortoestellen'!$B$26),PROPER('Dataset hoortoestellen'!D337))),0,1))","v":1}]
["Annemiek's Hoorstudio",3,"ReSound","Ligo 4 CIC","RES-0262",{"$f":"IF(ISBLANK('Assortiment Hoortoestellen'!$B$26),1,IF(ISERROR(SEARCH(PROPER('Assortiment Hoortoestellen'!$B$26),PROPER('Dataset hoortoestellen'!D338))),0,1))","v":1}]
["Annemiek's Hoorstudio",3,"ReSound","Ligo 4 ITC-DW","RES-0263",{"$f":"IF(ISBLANK('Assortiment Hoortoestellen'!$B$26),1,IF(ISERROR(SEARCH(PROPER('Assortiment Hoortoestellen'!$B$26),PROPER('Dataset hoortoestellen'!D339))),0,1))","v":1}]
["Annemiek's Hoorstudio",3,"ReSound","Ligo 461-DRW","RES-0264",{"$f":"IF(ISBLANK('Assortiment Hoortoestellen'!$B$26),1,IF(ISERROR(SEARCH(PROPER('Assortiment Hoortoestellen'!$B$26),PROPER('Dataset hoortoestellen'!D340))),0,1))","v":1}]
["Annemiek's Hoorstudio",3,"ReSound","Ligo 462-DRW","RES-0265",{"$f":"IF(ISBLANK('Assortiment Hoortoestellen'!$B$26),1,IF(ISERROR(SEARCH(PROPER('Assortiment Hoortoestellen'!$B$26),PROPER('Dataset hoortoestellen'!D341))),0,1))","v":1}]
["Annemiek's Hoorstudio",3,"ReSound","Ligo 467-DW","RES-0266",{"$f":"IF(ISBLANK('Assortiment Hoortoestellen'!$B$26),1,IF(ISERROR(SEARCH(PROPER('Assortiment Hoortoestellen'!$B$26),PROPER('Dataset hoortoestellen'!D342))),0,1))","v":1}]
["Annemiek's Hoorstudio",3,"ReSound","Ligo 477-DW","RES-0267",{"$f":"IF(ISBLANK('Assortiment Hoortoestellen'!$B$26),1,IF(ISERROR(SEARCH(PROPER('Assortiment Hoortoestellen'!$B$26),PROPER('Dataset hoortoestellen'!D343))),0,1))","v":1}]
["Annemiek's Hoorstudio",3,"ReSound","Ligo 488-DW","RES-0268",{"$f":"IF(ISBLANK('Assortiment Hoortoestellen'!$B$26),1,IF(ISERROR(SEARCH(PROPER('Assortiment Hoortoestellen'!$B$26),PROPER('Dataset hoortoestellen'!D344))),0,1))","v":1}]
["Annemiek's Hoorstudio",3,"ReSound","Ligo 498-DW","RES-0269",{"$f":"IF(ISBLANK('Assortiment Hoortoestellen'!$B$26),1,IF(ISERROR(SEARCH(PROPER('Assortiment Hoortoestellen'!$B$26),PROPER('Dataset hoortoestellen'!D345))),0,1))","v":1}]
["Annemiek's Hoorstudio",4,"ReSound","Ligo 598-DW","RES-0277",{"$f":"IF(ISBLANK('Assortiment Hoortoestellen'!$B$26),1,IF(ISERROR(SEARCH(PROPER('Assortiment Hoortoestellen'!$B$26),PROPER('Dataset hoortoestellen'!D346))),0,1))","v":1}]
["Annemiek's Hoorstudio",5,"ReSound","Ligo 798-DW","RES-0285",{"$f":"IF(ISBLANK('Assortiment Hoortoestellen'!$B$26),1,IF(ISERROR(SEARCH(PROPER('Assortiment Hoortoestellen'!$B$26),PROPER('Dataset hoortoestellen'!D347))),0,1))","v":1}]
["Annemiek's Hoorstudio",4,"ReSound","LiNX 3D 5 CIC","RES-0292",{"$f":"IF(ISBLANK('Assortiment Hoortoestellen'!$B$26),1,IF(ISERROR(SEARCH(PROPER('Assortiment Hoortoestellen'!$B$26),PROPER('Dataset hoortoestellen'!D348))),0,1))","v":1}]
["Annemiek's Hoorstudio",4,"ReSound","LiNX 3D 5 ITC-DW","RES-0293",{"$f":"IF(ISBLANK('Assortiment Hoortoestellen'!$B$26),1,IF(ISERROR(SEARCH(PROPER('Assortiment Hoortoestellen'!$B$26),PROPER('Dataset hoortoestellen'!D349))),0,1))","v":1}]
["Annemiek's Hoorstudio",4,"ReSound","LiNX 3D 561-DRW","RES-0294",{"$f":"IF(ISBLANK('Assortiment Hoortoestellen'!$B$26),1,IF(ISERROR(SEARCH(PROPER('Assortiment Hoortoestellen'!$B$26),PROPER('Dataset hoortoestellen'!D350))),0,1))","v":1}]
["Annemiek's Hoorstudio",4,"ReSound","LiNX 3D 562-DRW","RES-0295",{"$f":"IF(ISBLANK('Assortiment Hoortoestellen'!$B$26),1,IF(ISERROR(SEARCH(PROPER('Assortiment Hoortoestellen'!$B$26),PROPER('Dataset hoortoestellen'!D351))),0,1))","v":1}]
["Annemiek's Hoorstudio",4,"ReSound","LiNX 3D 567-DW","RES-0296",{"$f":"IF(ISBLANK('Assortiment Hoortoestellen'!$B$26),1,IF(ISERROR(SEARCH(PROPER('Assortiment Hoortoestellen'!$B$26),PROPER('Dataset hoortoestellen'!D352))),0,1))","v":1}]
["Annemiek's Hoorstudio",4,"ReSound","LiNX 3D 577-DW","RES-0297",{"$f":"IF(ISBLANK('Assortiment Hoortoestellen'!$B$26),1,IF(ISERROR(SEARCH(PROPER('Assortiment Hoortoestellen'!$B$26),PROPER('Dataset hoortoestellen'!D353))),0,1))","v":1}]
["Annemiek's Hoorstudio",4,"ReSound","LiNX 3D 588-DW","RES-0298",{"$f":"IF(ISBLANK('Assortiment Hoortoestellen'!$B$26),1,IF(ISERROR(SEARCH(PROPER('Assortiment Hoortoestellen'!$B$26),PROPER('Dataset hoortoestellen'!D354))),0,1))","v":1}]
["Annemiek's Hoorstudio",5,"ReSound","LiNX 3D 7 CIC","RES-0299",{"$f":"IF(ISBLANK('Assortiment Hoortoestellen'!$B$26),1,IF(ISERROR(SEARCH(PROPER('Assortiment Hoortoestellen'!$B$26),PROPER('Dataset hoortoestellen'!D355))),0,1))","v":1}]
["Annemiek's Hoorstudio",5,"ReSound","LiNX 3D 7 ITC-DW","RES-0300",{"$f":"IF(ISBLANK('Assortiment Hoortoestellen'!$B$26),1,IF(ISERROR(SEARCH(PROPER('Assortiment Hoortoestellen'!$B$26),PROPER('Dataset hoortoestellen'!D356))),0,1))","v":1}]
["Annemiek's Hoorstudio",5,"ReSound","LiNX 3D 761-DRW","RES-0301",{"$f":"IF(ISBLANK('Assortiment Hoortoestellen'!$B$26),1,IF(ISERROR(SEARCH(PROPER('Assortiment Hoortoestellen'!$B$26),PROPER('Dataset hoortoestellen'!D357))),0,1))","v":1}]
["Annemiek's Hoorstudio",5,"ReSound","LiNX 3D 762-DRW","RES-0302",{"$f":"IF(ISBLANK('Assortiment Hoortoestellen'!$B$26),1,IF(ISERROR(SEARCH(PROPER('Assortiment Hoortoestellen'!$B$26),PROPER('Dataset hoortoestellen'!D358))),0,1))","v":1}]
["Annemiek's Hoorstudio",5,"ReSound","LiNX 3D 767-DW","RES-0303",{"$f":"IF(ISBLANK('Assortiment Hoortoestellen'!$B$26),1,IF(ISERROR(SEARCH(PROPER('Assortiment Hoortoestellen'!$B$26),PROPER('Dataset hoortoestellen'!D359))),0,1))","v":1}]
["Annemiek's Hoorstudio",5,"ReSound","LiNX 3D 777-DW","RES-0304",{"$f":"IF(ISBLANK('Assortiment Hoortoestellen'!$B$26),1,IF(ISERROR(SEARCH(PROPER('Assortiment Hoortoestellen'!$B$26),PROPER('Dataset hoortoestellen'!D360))),0,1))","v":1}]
["Annemiek's Hoorstudio",5,"ReSound","LiNX 3D 788-DW","RES-0305",{"$f":"IF(ISBLANK('Assortiment Hoortoestellen'!$B$26),1,IF(ISERROR(SEARCH(PROPER('Assortiment Hoortoestellen'!$B$26),PROPER('Dataset hoortoestellen'!D361))),0,1))","v":1}]
["Annemiek's Hoorstudio",5,"ReSound","LiNX Quattro 561-DRWC","RES-0306",{"$f":"IF(ISBLANK('Assortiment Hoortoestellen'!$B$26),1,IF(ISERROR(SEARCH(PROPER('Assortiment Hoortoestellen'!$B$26),PROPER('Dataset hoortoestellen'!D362))),0,1))","v":1}]
["Annemiek's Hoorstudio",1,"Starkey","Muse i1000 CIC","STA-0277",{"$f":"IF(ISBLANK('Assortiment Hoortoestellen'!$B$26),1,IF(ISERROR(SEARCH(PROPER('Assortiment Hoortoestellen'!$B$26),PROPER('Dataset hoortoestellen'!D363))),0,1))","v":1}]
["Annemiek's Hoorstudio",1,"Starkey","Muse i1000 BTE312","STA-0278",{"$f":"IF(ISBLANK('Assortiment Hoortoestellen'!$B$26),1,IF(ISERROR(SEARCH(PROPER('Assortiment Hoortoestellen'!$B$26),PROPER('Dataset hoortoestellen'!D364))),0,1))","v":1}]
["Annemiek's Hoorstudio",1,"Starkey","Muse i1000 ITC","STA-0279",{"$f":"IF(ISBLANK('Assortiment Hoortoestellen'!$B$26),1,IF(ISERROR(SEARCH(PROPER('Assortiment Hoortoestellen'!$B$26),PROPER('Dataset hoortoestellen'!D365))),0,1))","v":1}]
["Annemiek's Hoorstudio",1,"Starkey","Muse i1000 mRIC 312","STA-0280",{"$f":"IF(ISBLANK('Assortiment Hoortoestellen'!$B$26),1,IF(ISERROR(SEARCH(PROPER('Assortiment Hoortoestellen'!$B$26),PROPER('Dataset hoortoestellen'!D366))),0,1))","v":1}]
["Annemiek's Hoorstudio",1,"Starkey","Muse i1000 BTE 13","STA-0308",{"$f":"IF(ISBLANK('Assortiment Hoortoestellen'!$B$26),1,IF(ISERROR(SEARCH(PROPER('Assortiment Hoortoestellen'!$B$26),PROPER('Dataset hoortoestellen'!D367))),0,1))","v":1}]
["Annemiek's Hoorstudio",1,"Starkey","Muse i1000 RIC 312","STA-0309",{"$f":"IF(ISBLANK('Assortiment Hoortoestellen'!$B$26),1,IF(ISERROR(SEARCH(PROPER('Assortiment Hoortoestellen'!$B$26),PROPER('Dataset hoortoestellen'!D368))),0,1))","v":1}]
["Annemiek's Hoorstudio",5,"Starkey","Muse i1600  CIC","STA-0330",{"$f":"IF(ISBLANK('Assortiment Hoortoestellen'!$B$26),1,IF(ISERROR(SEARCH(PROPER('Assortiment Hoortoestellen'!$B$26),PROPER('Dataset hoortoestellen'!D369))),0,1))","v":1}]
["Annemiek's Hoorstudio",1,"Starkey","Muse i1000 BTE 13 PP","STA-0331",{"$f":"IF(ISBLANK('Assortiment Hoortoestellen'!$B$26),1,IF(ISERROR(SEARCH(PROPER('Assortiment Hoortoestellen'!$B$26),PROPER('Dataset hoortoestellen'!D370))),0,1))","v":1}]
["Annemiek's Hoorstudio",2,"Starkey","Muse iQ i1000 RIC Li-Ion","STA-0334",{"$f":"IF(ISBLANK('Assortiment Hoortoestellen'!$B$26),1,IF(ISERROR(SEARCH(PROPER('Assortiment Hoortoestellen'!$B$26),PROPER('Dataset hoortoestellen'!D371))),0,1))","v":1}]
["Annemiek's Hoorstudio",2,"Starkey","Muse iQ 1000 CIC","STA-0340",{"$f":"IF(ISBLANK('Assortiment Hoortoestellen'!$B$26),1,IF(ISERROR(SEARCH(PROPER('Assortiment Hoortoestellen'!$B$26),PROPER('Dataset hoortoestellen'!D372))),0,1))","v":1}]
["Annemiek's Hoorstudio",2,"Starkey","Muse iQ 1000 ITC","STA-0341",{"$f":"IF(ISBLANK('Assortiment Hoortoestellen'!$B$26),1,IF(ISERROR(SEARCH(PROPER('Assortiment Hoortoestellen'!$B$26),PROPER('Dataset hoortoestellen'!D373))),0,1))","v":1}]
["Annemiek's Hoorstudio",4,"Starkey","Muse iQ 1200 CIC","STA-0343",{"$f":"IF(ISBLANK('Assortiment Hoortoestellen'!$B$26),1,IF(ISERROR(SEARCH(PROPER('Assortiment Hoortoestellen'!$B$26),PROPER('Dataset hoortoestellen'!D374))),0,1))","v":1}]
["Annemiek's Hoorstudio",2,"Starkey","Muse iQ i1000 BTE 13","STA-0349",{"$f":"IF(ISBLANK('Assortiment Hoortoestellen'!$B$26),1,IF(ISERROR(SEARCH(PROPER('Assortiment Hoortoestellen'!$B$26),PROPER('Dataset hoortoestellen'!D375))),0,1))","v":1}]
["Annemiek's Hoorstudio",2,"Starkey","Muse iQ i1000 BTE 13 PP","STA-0350",{"$f":"IF(ISBLANK('Assortiment Hoortoestellen'!$B$26),1,IF(ISERROR(SEARCH(PROPER('Assortiment Hoortoestellen'!$B$26),PROPER('Dataset hoortoestellen'!D376))),0,1))","v":1}]
["Annemiek's Hoorstudio",2,"Starkey","Muse iQ i1000 BTE 312","STA-0351",{"$f":"IF(ISBLANK('Assortiment Hoortoestellen'!$B$26),1,IF(ISERROR(SEARCH(PROPER('Assortiment Hoortoestellen'!$B$26),PROPER('Dataset hoortoestellen'!D377))),0,1))","v":1}]
["Annemiek's Hoorstudio",3,"Starkey","Muse iQ i1000 CIC","STA-0352\n",{"$f":"IF(ISBLANK('Assortiment Hoortoestellen'!$B$26),1,IF(ISERROR(SEARCH(PROPER('Assortiment Hoortoestellen'!$B$26),PROPER('Dataset hoortoestellen'!D378))),0,1))","v":1}]
["Annemiek's Hoorstudio",3,"Starkey","Muse iQ i1000 ITC","STA-0353",{"$f":"IF(ISBLANK('Assortiment Hoortoestellen'!$B$26),1,IF(ISERROR(SEARCH(PROPER('Assortiment Hoortoestellen'!$B$26),PROPER('Dataset hoortoestellen'!D379))),0,1))","v":1}]
["Annemiek's Hoorstudio",3,"Starkey","Muse iQ i1000 ITE","STA-0354",{"$f":"IF(ISBLANK('Assortiment Hoortoestellen'!$B$26),1,IF(ISERROR(SEARCH(PROPER('Assortiment Hoortoestellen'!$B$26),PROPER('Dataset hoortoestellen'!D380))),0,1))","v":1}]
["Annemiek's Hoorstudio",2,"Starkey","Muse iQ i1000 mRIC","STA-0355",{"$f":"IF(ISBLANK('Assortiment Hoortoestellen'!$B$26),1,IF(ISERROR(SEARCH(PROPER('Assortiment Hoortoestellen'!$B$26),PROPER('Dataset hoortoestellen'!D381))),0,1))","v":1}]
["Annemiek's Hoorstudio",2,"Starkey","Muse iQ i1000 RIC 312","STA-0357",{"$f":"IF(ISBLANK('Assortiment Hoortoestellen'!$B$26),1,IF(ISERROR(SEARCH(PROPER('Assortiment Hoortoestellen'!$B$26),PROPER('Dataset hoortoestellen'!D382))),0,1))","v":1}]
["Annemiek's Hoorstudio",4,"Starkey","Muse iQ i1200 CIC","STA-0362",{"$f":"IF(ISBLANK('Assortiment Hoortoestellen'!$B$26),1,IF(ISERROR(SEARCH(PROPER('Assortiment Hoortoestellen'!$B$26),PROPER('Dataset hoortoestellen'!D383))),0,1))","v":1}]
["Annemiek's Hoorstudio",4,"Starkey","Muse iQ i1200 ITC","STA-0363",{"$f":"IF(ISBLANK('Assortiment Hoortoestellen'!$B$26),1,IF(ISERROR(SEARCH(PROPER('Assortiment Hoortoestellen'!$B$26),PROPER('Dataset hoortoestellen'!D384))),0,1))","v":1}]
["Annemiek's Hoorstudio",4,"Starkey","Muse iQ i1200 ITE","STA-0364",{"$f":"IF(ISBLANK('Assortiment Hoortoestellen'!$B$26),1,IF(ISERROR(SEARCH(PROPER('Assortiment Hoortoestellen'!$B$26),PROPER('Dataset hoortoestellen'!D385))),0,1))","v":1}]
["Annemiek's Hoorstudio",5,"Starkey","Muse iQ i1600 CIC","STA-0372\n",{"$f":"IF(ISBLANK('Assortiment Hoortoestellen'!$B$26),1,IF(ISERROR(SEARCH(PROPER('Assortiment Hoortoestellen'!$B$26),PROPER('Dataset hoortoestellen'!D386))),0,1))","v":1}]
["Annemiek's Hoorstudio",5,"Starkey","Muse iQ i1600 ITC","STA-0373",{"$f":"IF(ISBLANK('Assortiment Hoortoestellen'!$B$26),1,IF(ISERROR(SEARCH(PROPER('Assortiment Hoortoestellen'!$B$26),PROPER('Dataset hoortoestellen'!D387))),0,1))","v":1}]
["Annemiek's Hoorstudio",5,"Starkey","Muse iQ i1600 ITE","STA-0374",{"$f":"IF(ISBLANK('Assortiment Hoortoestellen'!$B$26),1,IF(ISERROR(SEARCH(PROPER('Assortiment Hoortoestellen'!$B$26),PROPER('Dataset hoortoestellen'!D388))),0,1))","v":1}]
["Annemiek's Hoorstudio",3,"Starkey","Livio 1000 BTE 13","STA-0380",{"$f":"IF(ISBLANK('Assortiment Hoortoestellen'!$B$26),1,IF(ISERROR(SEARCH(PROPER('Assortiment Hoortoestellen'!$B$26),PROPER('Dataset hoortoestellen'!D389))),0,1))","v":1}]
["Annemiek's Hoorstudio",3,"Starkey","Livio 1000 mRIC 312","STA-0381",{"$f":"IF(ISBLANK('Assortiment Hoortoestellen'!$B$26),1,IF(ISERROR(SEARCH(PROPER('Assortiment Hoortoestellen'!$B$26),PROPER('Dataset hoortoestellen'!D390))),0,1))","v":1}]
["Annemiek's Hoorstudio",3,"Starkey","Livio 1000 RIC 312","STA-0382",{"$f":"IF(ISBLANK('Assortiment Hoortoestellen'!$B$26),1,IF(ISERROR(SEARCH(PROPER('Assortiment Hoortoestellen'!$B$26),PROPER('Dataset hoortoestellen'!D391))),0,1))","v":1}]
["Annemiek's Hoorstudio",3,"Starkey","Livio 1000 RIC R","STA-0383",{"$f":"IF(ISBLANK('Assortiment Hoortoestellen'!$B$26),1,IF(ISERROR(SEARCH(PROPER('Assortiment Hoortoestellen'!$B$26),PROPER('Dataset hoortoestellen'!D392))),0,1))","v":1}]
["Annemiek's Hoorstudio",4,"Starkey","Livio 1200 BTE 13","STA-0384",{"$f":"IF(ISBLANK('Assortiment Hoortoestellen'!$B$26),1,IF(ISERROR(SEARCH(PROPER('Assortiment Hoortoestellen'!$B$26),PROPER('Dataset hoortoestellen'!D393))),0,1))","v":1}]
["Annemiek's Hoorstudio",4,"Starkey","Livio 1200 mRIC 312","STA-0385",{"$f":"IF(ISBLANK('Assortiment Hoortoestellen'!$B$26),1,IF(ISERROR(SEARCH(PROPER('Assortiment Hoortoestellen'!$B$26),PROPER('Dataset hoortoestellen'!D394))),0,1))","v":1}]
["Annemiek's Hoorstudio",4,"Starkey","Livio 1200 RIC 312","STA-0386",{"$f":"IF(ISBLANK('Assortiment Hoortoestellen'!$B$26),1,IF(ISERROR(SEARCH(PROPER('Assortiment Hoortoestellen'!$B$26),PROPER('Dataset hoortoestellen'!D395))),0,1))","v":1}]
["Annemiek's Hoorstudio",4,"Starkey","Livio 1200 RIC R","STA-0387",{"$f":"IF(ISBLANK('Assortiment Hoortoestellen'!$B$26),1,IF(ISERROR(SEARCH(PROPER('Assortiment Hoortoestellen'!$B$26),PROPER('Dataset hoortoestellen'!D396))),0,1))","v":1}]
["Annemiek's Hoorstudio",5,"Starkey","Livio 1600 BTE 13","STA-0388",{"$f":"IF(ISBLANK('Assortiment Hoortoestellen'!$B$26),1,IF(ISERROR(SEARCH(PROPER('Assortiment Hoortoestellen'!$B$26),PROPER('Dataset hoortoestellen'!D397))),0,1))","v":1}]
["Annemiek's Hoorstudio",5,"Starkey","Livio 1600 mRIC 312","STA-0389",{"$f":"IF(ISBLANK('Assortiment Hoortoestellen'!$B$26),1,IF(ISERROR(SEARCH(PROPER('Assortiment Hoortoestellen'!$B$26),PROPER('Dataset hoortoestellen'!D398))),0,1))","v":1}]
["Annemiek's Hoorstudio",5,"Starkey","Livio 1600 RIC 312","STA-0390",{"$f":"IF(ISBLANK('Assortiment Hoortoestellen'!$B$26),1,IF(ISERROR(SEARCH(PROPER('Assortiment Hoortoestellen'!$B$26),PROPER('Dataset hoortoestellen'!D399))),0,1))","v":1}]
["Annemiek's Hoorstudio",5,"Starkey","Livio 1600 RIC R","STA-0391",{"$f":"IF(ISBLANK('Assortiment Hoortoestellen'!$B$26),1,IF(ISERROR(SEARCH(PROPER('Assortiment Hoortoestellen'!$B$26),PROPER('Dataset hoortoestellen'!D400))),0,1))","v":1}]
["Annemiek's Hoorstudio",3,"Starkey","Livio 1000 BTE R","STA-0392",{"$f":"IF(ISBLANK('Assortiment Hoortoestellen'!$B$26),1,IF(ISERROR(SEARCH(PROPER('Assortiment Hoortoestellen'!$B$26),PROPER('Dataset hoortoestellen'!D401))),0,1))","v":1}]
["Annemiek's Hoorstudio",4,"Starkey","Livio 1200 BTE R","STA-0393",{"$f":"IF(ISBLANK('Assortiment Hoortoestellen'!$B$26),1,IF(ISERROR(SEARCH(PROPER('Assortiment Hoortoestellen'!$B$26),PROPER('Dataset hoortoestellen'!D402))),0,1))","v":1}]
["Annemiek's Hoorstudio",5,"Starkey","Livio 1600 BTE R","STA-0394",{"$f":"IF(ISBLANK('Assortiment Hoortoestellen'!$B$26),1,IF(ISERROR(SEARCH(PROPER('Assortiment Hoortoestellen'!$B$26),PROPER('Dataset hoortoestellen'!D403))),0,1))","v":1}]
["Annemiek's Hoorstudio",3,"Unitron","T Max SP 500","UNI-0272",{"$f":"IF(ISBLANK('Assortiment Hoortoestellen'!$B$26),1,IF(ISERROR(SEARCH(PROPER('Assortiment Hoortoestellen'!$B$26),PROPER('Dataset hoortoestellen'!D404))),0,1))","v":1}]
["Annemiek's Hoorstudio",4,"Unitron","T Max SP 600","UNI-0273",{"$f":"IF(ISBLANK('Assortiment Hoortoestellen'!$B$26),1,IF(ISERROR(SEARCH(PROPER('Assortiment Hoortoestellen'!$B$26),PROPER('Dataset hoortoestellen'!D405))),0,1))","v":1}]
["Annemiek's Hoorstudio",5,"Unitron","T Max SP 800","UNI-0275",{"$f":"IF(ISBLANK('Assortiment Hoortoestellen'!$B$26),1,IF(ISERROR(SEARCH(PROPER('Assortiment Hoortoestellen'!$B$26),PROPER('Dataset hoortoestellen'!D406))),0,1))","v":1}]
["Annemiek's Hoorstudio",3,"Unitron","T Max UP 500","UNI-0276",{"$f":"IF(ISBLANK('Assortiment Hoortoestellen'!$B$26),1,IF(ISERROR(SEARCH(PROPER('Assortiment Hoortoestellen'!$B$26),PROPER('Dataset hoortoestellen'!D407))),0,1))","v":1}]
["Annemiek's Hoorstudio",4,"Unitron","T Max UP 600","UNI-0277",{"$f":"IF(ISBLANK('Assortiment Hoortoestellen'!$B$26),1,IF(ISERROR(SEARCH(PROPER('Assortiment Hoortoestellen'!$B$26),PROPER('Dataset hoortoestellen'!D408))),0,1))","v":1}]
["Annemiek's Hoorstudio",5,"Unitron","T Max UP 800","UNI-0279",{"$f":"IF(ISBLANK('Assortiment Hoortoestellen'!$B$26),1,IF(ISERROR(SEARCH(PROPER('Assortiment Hoortoestellen'!$B$26),PROPER('Dataset hoortoestellen'!D409))),0,1))","v":1}]
["Annemiek's Hoorstudio",3,"Unitron","T Stride 500 M","UNI-0304",{"$f":"IF(ISBLANK('Assortiment Hoortoestellen'!$B$26),1,IF(ISERROR(SEARCH(PROPER('Assortiment Hoortoestellen'!$B$26),PROPER('Dataset hoortoestellen'!D410))),0,1))","v":1}]
["Annemiek's Hoorstudio",3,"Unitron","T Stride 500 P","UNI-0305",{"$f":"IF(ISBLANK('Assortiment Hoortoestellen'!$B$26),1,IF(ISERROR(SEARCH(PROPER('Assortiment Hoortoestellen'!$B$26),PROPER('Dataset hoortoestellen'!D411))),0,1))","v":1}]
["Annemiek's Hoorstudio",3,"Unitron","T Insera 500 W 10A Dir","UNI-0323",{"$f":"IF(ISBLANK('Assortiment Hoortoestellen'!$B$26),1,IF(ISERROR(SEARCH(PROPER('Assortiment Hoortoestellen'!$B$26),PROPER('Dataset hoortoestellen'!D412))),0,1))","v":1}]
["Annemiek's Hoorstudio",3,"Unitron","T Insera 500 W 13 Dir","UNI-0325",{"$f":"IF(ISBLANK('Assortiment Hoortoestellen'!$B$26),1,IF(ISERROR(SEARCH(PROPER('Assortiment Hoortoestellen'!$B$26),PROPER('Dataset hoortoestellen'!D413))),0,1))","v":1}]
["Annemiek's Hoorstudio",3,"Unitron","T Insera 500 W 312 Dir","UNI-0326",{"$f":"IF(ISBLANK('Assortiment Hoortoestellen'!$B$26),1,IF(ISERROR(SEARCH(PROPER('Assortiment Hoortoestellen'!$B$26),PROPER('Dataset hoortoestellen'!D414))),0,1))","v":1}]
["Annemiek's Hoorstudio",4,"Unitron","T Insera 600 W 10A Dir","UNI-0328",{"$f":"IF(ISBLANK('Assortiment Hoortoestellen'!$B$26),1,IF(ISERROR(SEARCH(PROPER('Assortiment Hoortoestellen'!$B$26),PROPER('Dataset hoortoestellen'!D415))),0,1))","v":1}]
["Annemiek's Hoorstudio",4,"Unitron","T Insera 600 W 13 Dir","UNI-0330",{"$f":"IF(ISBLANK('Assortiment Hoortoestellen'!$B$26),1,IF(ISERROR(SEARCH(PROPER('Assortiment Hoortoestellen'!$B$26),PROPER('Dataset hoortoestellen'!D416))),0,1))","v":1}]
["Annemiek's Hoorstudio",4,"Unitron","T Insera 600 W 312 Dir","UNI-0331",{"$f":"IF(ISBLANK('Assortiment Hoortoestellen'!$B$26),1,IF(ISERROR(SEARCH(PROPER('Assortiment Hoortoestellen'!$B$26),PROPER('Dataset hoortoestellen'!D417))),0,1))","v":1}]
["Annemiek's Hoorstudio",5,"Unitron","T Insera 800 W 10A Dir","UNI-0338",{"$f":"IF(ISBLANK('Assortiment Hoortoestellen'!$B$26),1,IF(ISERROR(SEARCH(PROPER('Assortiment Hoortoestellen'!$B$26),PROPER('Dataset hoortoestellen'!D418))),0,1))","v":1}]
["Annemiek's Hoorstudio",5,"Unitron","T Insera 800 W 10A Omni","UNI-0339",{"$f":"IF(ISBLANK('Assortiment Hoortoestellen'!$B$26),1,IF(ISERROR(SEARCH(PROPER('Assortiment Hoortoestellen'!$B$26),PROPER('Dataset hoortoestellen'!D419))),0,1))","v":1}]
["Annemiek's Hoorstudio",5,"Unitron","T Insera 800 W 13 Dir","UNI-0340",{"$f":"IF(ISBLANK('Assortiment Hoortoestellen'!$B$26),1,IF(ISERROR(SEARCH(PROPER('Assortiment Hoortoestellen'!$B$26),PROPER('Dataset hoortoestellen'!D420))),0,1))","v":1}]
["Annemiek's Hoorstudio",5,"Unitron","T Insera 800 W 312 Dir","UNI-0341",{"$f":"IF(ISBLANK('Assortiment Hoortoestellen'!$B$26),1,IF(ISERROR(SEARCH(PROPER('Assortiment Hoortoestellen'!$B$26),PROPER('Dataset hoortoestellen'!D421))),0,1))","v":1}]
["Annemiek's Hoorstudio",2,"Unitron","Shine Rev+ M","UNI-0430",{"$f":"IF(ISBLANK('Assortiment Hoortoestellen'!$B$26),1,IF(ISERROR(SEARCH(PROPER('Assortiment Hoortoestellen'!$B$26),PROPER('Dataset hoortoestellen'!D422))),0,1))","v":1}]
["Annemiek's Hoorstudio",2,"Unitron","Shine Rev+ P","UNI-0431",{"$f":"IF(ISBLANK('Assortiment Hoortoestellen'!$B$26),1,IF(ISERROR(SEARCH(PROPER('Assortiment Hoortoestellen'!$B$26),PROPER('Dataset hoortoestellen'!D423))),0,1))","v":1}]
["Annemiek's Hoorstudio",2,"Unitron","Shine Rev+ RIC","UNI-0432",{"$f":"IF(ISBLANK('Assortiment Hoortoestellen'!$B$26),1,IF(ISERROR(SEARCH(PROPER('Assortiment Hoortoestellen'!$B$26),PROPER('Dataset hoortoestellen'!D424))),0,1))","v":1}]
["Annemiek's Hoorstudio",2,"Unitron ","Shine Rev+ UP","UNI-0433",{"$f":"IF(ISBLANK('Assortiment Hoortoestellen'!$B$26),1,IF(ISERROR(SEARCH(PROPER('Assortiment Hoortoestellen'!$B$26),PROPER('Dataset hoortoestellen'!D425))),0,1))","v":1}]
["Annemiek's Hoorstudio",3,"Unitron","DX Insera 3 10A Omni","UNI-0434",{"$f":"IF(ISBLANK('Assortiment Hoortoestellen'!$B$26),1,IF(ISERROR(SEARCH(PROPER('Assortiment Hoortoestellen'!$B$26),PROPER('Dataset hoortoestellen'!D426))),0,1))","v":1}]
["Annemiek's Hoorstudio",3,"Unitron","DX Insera 3 312 Omni","UNI-0435",{"$f":"IF(ISBLANK('Assortiment Hoortoestellen'!$B$26),1,IF(ISERROR(SEARCH(PROPER('Assortiment Hoortoestellen'!$B$26),PROPER('Dataset hoortoestellen'!D427))),0,1))","v":1}]
["Annemiek's Hoorstudio",3,"Unitron","DX Insera 3 W 312 Dir","UNI-0436",{"$f":"IF(ISBLANK('Assortiment Hoortoestellen'!$B$26),1,IF(ISERROR(SEARCH(PROPER('Assortiment Hoortoestellen'!$B$26),PROPER('Dataset hoortoestellen'!D428))),0,1))","v":1}]
["Annemiek's Hoorstudio",4,"Unitron","DX Insera 5 10A Omni","UNI-0437",{"$f":"IF(ISBLANK('Assortiment Hoortoestellen'!$B$26),1,IF(ISERROR(SEARCH(PROPER('Assortiment Hoortoestellen'!$B$26),PROPER('Dataset hoortoestellen'!D429))),0,1))","v":1}]
["Annemiek's Hoorstudio",4,"Unitron","DX Insera 5 312 Omni","UNI-0438",{"$f":"IF(ISBLANK('Assortiment Hoortoestellen'!$B$26),1,IF(ISERROR(SEARCH(PROPER('Assortiment Hoortoestellen'!$B$26),PROPER('Dataset hoortoestellen'!D430))),0,1))","v":1}]
["Annemiek's Hoorstudio",4,"Unitron","DX Insera 5 W 312 Dir","UNI-0439",{"$f":"IF(ISBLANK('Assortiment Hoortoestellen'!$B$26),1,IF(ISERROR(SEARCH(PROPER('Assortiment Hoortoestellen'!$B$26),PROPER('Dataset hoortoestellen'!D431))),0,1))","v":1}]
["Annemiek's Hoorstudio",5,"Unitron","DX Insera 7 W 312 Dir","UNI-0442",{"$f":"IF(ISBLANK('Assortiment Hoortoestellen'!$B$26),1,IF(ISERROR(SEARCH(PROPER('Assortiment Hoortoestellen'!$B$26),PROPER('Dataset hoortoestellen'!D432))),0,1))","v":1}]
["Annemiek's Hoorstudio",3,"Unitron","DX Moxi Fit 3","UNI-0443",{"$f":"IF(ISBLANK('Assortiment Hoortoestellen'!$B$26),1,IF(ISERROR(SEARCH(PROPER('Assortiment Hoortoestellen'!$B$26),PROPER('Dataset hoortoestellen'!D433))),0,1))","v":1}]
["Annemiek's Hoorstudio",4,"Unitron","DX Moxi Fit 5","UNI-0444",{"$f":"IF(ISBLANK('Assortiment Hoortoestellen'!$B$26),1,IF(ISERROR(SEARCH(PROPER('Assortiment Hoortoestellen'!$B$26),PROPER('Dataset hoortoestellen'!D434))),0,1))","v":1}]
["Annemiek's Hoorstudio",5,"Unitron","DX Moxi Fit 7","UNI-0445",{"$f":"IF(ISBLANK('Assortiment Hoortoestellen'!$B$26),1,IF(ISERROR(SEARCH(PROPER('Assortiment Hoortoestellen'!$B$26),PROPER('Dataset hoortoestellen'!D435))),0,1))","v":1}]
["Annemiek's Hoorstudio",4,"Unitron","DX Moxi Jump R T 3","UNI-0446",{"$f":"IF(ISBLANK('Assortiment Hoortoestellen'!$B$26),1,IF(ISERROR(SEARCH(PROPER('Assortiment Hoortoestellen'!$B$26),PROPER('Dataset hoortoestellen'!D436))),0,1))","v":1}]
["Annemiek's Hoorstudio",5,"Unitron","DX Moxi Jump R T 5","UNI-0447",{"$f":"IF(ISBLANK('Assortiment Hoortoestellen'!$B$26),1,IF(ISERROR(SEARCH(PROPER('Assortiment Hoortoestellen'!$B$26),PROPER('Dataset hoortoestellen'!D437))),0,1))","v":1}]
["Annemiek's Hoorstudio",4,"Unitron","DX Moxi Move R 3","UNI-0449",{"$f":"IF(ISBLANK('Assortiment Hoortoestellen'!$B$26),1,IF(ISERROR(SEARCH(PROPER('Assortiment Hoortoestellen'!$B$26),PROPER('Dataset hoortoestellen'!D438))),0,1))","v":1}]
["Annemiek's Hoorstudio",5,"Unitron","DX Moxi Move R 5","UNI-0450",{"$f":"IF(ISBLANK('Assortiment Hoortoestellen'!$B$26),1,IF(ISERROR(SEARCH(PROPER('Assortiment Hoortoestellen'!$B$26),PROPER('Dataset hoortoestellen'!D439))),0,1))","v":1}]
["Annemiek's Hoorstudio",3,"Unitron","DX Stride M 3","UNI-0452",{"$f":"IF(ISBLANK('Assortiment Hoortoestellen'!$B$26),1,IF(ISERROR(SEARCH(PROPER('Assortiment Hoortoestellen'!$B$26),PROPER('Dataset hoortoestellen'!D440))),0,1))","v":1}]
["Annemiek's Hoorstudio",4,"Unitron","DX Stride M 5","UNI-0453",{"$f":"IF(ISBLANK('Assortiment Hoortoestellen'!$B$26),1,IF(ISERROR(SEARCH(PROPER('Assortiment Hoortoestellen'!$B$26),PROPER('Dataset hoortoestellen'!D441))),0,1))","v":1}]
["Annemiek's Hoorstudio",5,"Unitron","DX Stride M 7","UNI-0454",{"$f":"IF(ISBLANK('Assortiment Hoortoestellen'!$B$26),1,IF(ISERROR(SEARCH(PROPER('Assortiment Hoortoestellen'!$B$26),PROPER('Dataset hoortoestellen'!D442))),0,1))","v":1}]
["Annemiek's Hoorstudio",4,"Unitron","DX Stride P R 3","UNI-0455",{"$f":"IF(ISBLANK('Assortiment Hoortoestellen'!$B$26),1,IF(ISERROR(SEARCH(PROPER('Assortiment Hoortoestellen'!$B$26),PROPER('Dataset hoortoestellen'!D443))),0,1))","v":1}]
["Annemiek's Hoorstudio",5,"Unitron","DX Stride P R 5","UNI-0456",{"$f":"IF(ISBLANK('Assortiment Hoortoestellen'!$B$26),1,IF(ISERROR(SEARCH(PROPER('Assortiment Hoortoestellen'!$B$26),PROPER('Dataset hoortoestellen'!D444))),0,1))","v":1}]
["Annemiek's Hoorstudio",2,"Unitron","Shine Rev+ 10A Omni","UNI-0473",{"$f":"IF(ISBLANK('Assortiment Hoortoestellen'!$B$26),1,IF(ISERROR(SEARCH(PROPER('Assortiment Hoortoestellen'!$B$26),PROPER('Dataset hoortoestellen'!D445))),0,1))","v":1}]
["Annemiek's Hoorstudio",2,"Unitron ","Shine Rev+ W 13 Dir","UNI-0474",{"$f":"IF(ISBLANK('Assortiment Hoortoestellen'!$B$26),1,IF(ISERROR(SEARCH(PROPER('Assortiment Hoortoestellen'!$B$26),PROPER('Dataset hoortoestellen'!D446))),0,1))","v":1}]
["Annemiek's Hoorstudio",2,"Unitron","Shine Rev+ W 312 Dir","UNI-0475",{"$f":"IF(ISBLANK('Assortiment Hoortoestellen'!$B$26),1,IF(ISERROR(SEARCH(PROPER('Assortiment Hoortoestellen'!$B$26),PROPER('Dataset hoortoestellen'!D447))),0,1))","v":1}]
["Annemiek's Hoorstudio",3,"Widex","U110-CIC","WID-0404",{"$f":"IF(ISBLANK('Assortiment Hoortoestellen'!$B$26),1,IF(ISERROR(SEARCH(PROPER('Assortiment Hoortoestellen'!$B$26),PROPER('Dataset hoortoestellen'!D448))),0,1))","v":1}]
["Annemiek's Hoorstudio",3,"Widex","U110-CIC TR","WID-0405",{"$f":"IF(ISBLANK('Assortiment Hoortoestellen'!$B$26),1,IF(ISERROR(SEARCH(PROPER('Assortiment Hoortoestellen'!$B$26),PROPER('Dataset hoortoestellen'!D449))),0,1))","v":1}]
["Annemiek's Hoorstudio",3,"Widex","U110-CIC-M","WID-0406",{"$f":"IF(ISBLANK('Assortiment Hoortoestellen'!$B$26),1,IF(ISERROR(SEARCH(PROPER('Assortiment Hoortoestellen'!$B$26),PROPER('Dataset hoortoestellen'!D450))),0,1))","v":1}]
["Annemiek's Hoorstudio",3,"Widex","U110-CIC-M TR","WID-0407",{"$f":"IF(ISBLANK('Assortiment Hoortoestellen'!$B$26),1,IF(ISERROR(SEARCH(PROPER('Assortiment Hoortoestellen'!$B$26),PROPER('Dataset hoortoestellen'!D451))),0,1))","v":1}]
["Annemiek's Hoorstudio",3,"Widex","U110-FA","WID-0408",{"$f":"IF(ISBLANK('Assortiment Hoortoestellen'!$B$26),1,IF(ISERROR(SEARCH(PROPER('Assortiment Hoortoestellen'!$B$26),PROPER('Dataset hoortoestellen'!D452))),0,1))","v":1}]
["Annemiek's Hoorstudio",3,"Widex","U110-FM","WID-0409",{"$f":"IF(ISBLANK('Assortiment Hoortoestellen'!$B$26),1,IF(ISERROR(SEARCH(PROPER('Assortiment Hoortoestellen'!$B$26),PROPER('Dataset hoortoestellen'!D453))),0,1))","v":1}]
["Annemiek's Hoorstudio",3,"Widex","U110-FP","WID-0410",{"$f":"IF(ISBLANK('Assortiment Hoortoestellen'!$B$26),1,IF(ISERROR(SEARCH(PROPER('Assortiment Hoortoestellen'!$B$26),PROPER('Dataset hoortoestellen'!D454))),0,1))","v":1}]
["Annemiek's Hoorstudio",3,"Widex","U110-FS (HP-tel)","WID-0411",{"$f":"IF(ISBLANK('Assortiment Hoortoestellen'!$B$26),1,IF(ISERROR(SEARCH(PROPER('Assortiment Hoortoestellen'!$B$26),PROPER('Dataset hoortoestellen'!D455))),0,1))","v":1}]
["Annemiek's Hoorstudio",3,"Widex","U110-FS (M-tel)","WID-0412",{"$f":"IF(ISBLANK('Assortiment Hoortoestellen'!$B$26),1,IF(ISERROR(SEARCH(PROPER('Assortiment Hoortoestellen'!$B$26),PROPER('Dataset hoortoestellen'!D456))),0,1))","v":1}]
["Annemiek's Hoorstudio",3,"Widex","U110-FS (P-tel)","WID-0413",{"$f":"IF(ISBLANK('Assortiment Hoortoestellen'!$B$26),1,IF(ISERROR(SEARCH(PROPER('Assortiment Hoortoestellen'!$B$26),PROPER('Dataset hoortoestellen'!D457))),0,1))","v":1}]
["Annemiek's Hoorstudio",3,"Widex","U110-FS (S-tel)","WID-0414",{"$f":"IF(ISBLANK('Assortiment Hoortoestellen'!$B$26),1,IF(ISERROR(SEARCH(PROPER('Assortiment Hoortoestellen'!$B$26),PROPER('Dataset hoortoestellen'!D458))),0,1))","v":1}]
["Annemiek's Hoorstudio",3,"Widex","U110-PA (M-tel)","WID-0415",{"$f":"IF(ISBLANK('Assortiment Hoortoestellen'!$B$26),1,IF(ISERROR(SEARCH(PROPER('Assortiment Hoortoestellen'!$B$26),PROPER('Dataset hoortoestellen'!D459))),0,1))","v":1}]
["Annemiek's Hoorstudio",3,"Widex","U110-PA (S-tel)","WID-0416",{"$f":"IF(ISBLANK('Assortiment Hoortoestellen'!$B$26),1,IF(ISERROR(SEARCH(PROPER('Assortiment Hoortoestellen'!$B$26),PROPER('Dataset hoortoestellen'!D460))),0,1))","v":1}]
["Annemiek's Hoorstudio",3,"Widex","U110-XP","WID-0417",{"$f":"IF(ISBLANK('Assortiment Hoortoestellen'!$B$26),1,IF(ISERROR(SEARCH(PROPER('Assortiment Hoortoestellen'!$B$26),PROPER('Dataset hoortoestellen'!D461))),0,1))","v":1}]
["Annemiek's Hoorstudio",3,"Widex","U220-CIC","WID-0418",{"$f":"IF(ISBLANK('Assortiment Hoortoestellen'!$B$26),1,IF(ISERROR(SEARCH(PROPER('Assortiment Hoortoestellen'!$B$26),PROPER('Dataset hoortoestellen'!D462))),0,1))","v":1}]
["Annemiek's Hoorstudio",3,"Widex","U220-CIC TR","WID-0419",{"$f":"IF(ISBLANK('Assortiment Hoortoestellen'!$B$26),1,IF(ISERROR(SEARCH(PROPER('Assortiment Hoortoestellen'!$B$26),PROPER('Dataset hoortoestellen'!D463))),0,1))","v":1}]
["Annemiek's Hoorstudio",3,"Widex","U220-CIC-M","WID-0420",{"$f":"IF(ISBLANK('Assortiment Hoortoestellen'!$B$26),1,IF(ISERROR(SEARCH(PROPER('Assortiment Hoortoestellen'!$B$26),PROPER('Dataset hoortoestellen'!D464))),0,1))","v":1}]
["Annemiek's Hoorstudio",3,"Widex","U220-CIC-M TR","WID-0421",{"$f":"IF(ISBLANK('Assortiment Hoortoestellen'!$B$26),1,IF(ISERROR(SEARCH(PROPER('Assortiment Hoortoestellen'!$B$26),PROPER('Dataset hoortoestellen'!D465))),0,1))","v":1}]
["Annemiek's Hoorstudio",3,"Widex","U220-FA","WID-0422",{"$f":"IF(ISBLANK('Assortiment Hoortoestellen'!$B$26),1,IF(ISERROR(SEARCH(PROPER('Assortiment Hoortoestellen'!$B$26),PROPER('Dataset hoortoestellen'!D466))),0,1))","v":1}]
["Annemiek's Hoorstudio",3,"Widex","U220-FM","WID-0423",{"$f":"IF(ISBLANK('Assortiment Hoortoestellen'!$B$26),1,IF(ISERROR(SEARCH(PROPER('Assortiment Hoortoestellen'!$B$26),PROPER('Dataset hoortoestellen'!D467))),0,1))","v":1}]
["Annemiek's Hoorstudio",3,"Widex","U220-FS (HP-tel)","WID-0424",{"$f":"IF(ISBLANK('Assortiment Hoortoestellen'!$B$26),1,IF(ISERROR(SEARCH(PROPER('Assortiment Hoortoestellen'!$B$26),PROPER('Dataset hoortoestellen'!D468))),0,1))","v":1}]
["Annemiek's Hoorstudio",3,"Widex","U220-FS (M-tel)","WID-0425",{"$f":"IF(ISBLANK('Assortiment Hoortoestellen'!$B$26),1,IF(ISERROR(SEARCH(PROPER('Assortiment Hoortoestellen'!$B$26),PROPER('Dataset hoortoestellen'!D469))),0,1))","v":1}]
["Annemiek's Hoorstudio",3,"Widex","U220-FS (P-tel)","WID-0426",{"$f":"IF(ISBLANK('Assortiment Hoortoestellen'!$B$26),1,IF(ISERROR(SEARCH(PROPER('Assortiment Hoortoestellen'!$B$26),PROPER('Dataset hoortoestellen'!D470))),0,1))","v":1}]
["Annemiek's Hoorstudio",3,"Widex","U220-FS (S-tel)","WID-0427",{"$f":"IF(ISBLANK('Assortiment Hoortoestellen'!$B$26),1,IF(ISERROR(SEARCH(PROPER('Assortiment Hoortoestellen'!$B$26),PROPER('Dataset hoortoestellen'!D471))),0,1))","v":1}]
["Annemiek's Hoorstudio",3,"Widex","U220-PA (M-tel)","WID-0428",{"$f":"IF(ISBLANK('Assortiment Hoortoestellen'!$B$26),1,IF(ISERROR(SEARCH(PROPER('Assortiment Hoortoestellen'!$B$26),PROPER('Dataset hoortoestellen'!D472))),0,1))","v":1}]
["Annemiek's Hoorstudio",3,"Widex","U220-PA (S-tel)","WID-0429",{"$f":"IF(ISBLANK('Assortiment Hoortoestellen'!$B$26),1,IF(ISERROR(SEARCH(PROPER('Assortiment Hoortoestellen'!$B$26),PROPER('Dataset hoortoestellen'!D473))),0,1))","v":1}]
["Annemiek's Hoorstudio",3,"Widex","U220-XP","WID-0430",{"$f":"IF(ISBLANK('Assortiment Hoortoestellen'!$B$26),1,IF(ISERROR(SEARCH(PROPER('Assortiment Hoortoestellen'!$B$26),PROPER('Dataset hoortoestellen'!D474))),0,1))","v":1}]
["Annemiek's Hoorstudio",4,"Widex","U330-CIC","WID-0431",{"$f":"IF(ISBLANK('Assortiment Hoortoestellen'!$B$26),1,IF(ISERROR(SEARCH(PROPER('Assortiment Hoortoestellen'!$B$26),PROPER('Dataset hoortoestellen'!D475))),0,1))","v":1}]
["Annemiek's Hoorstudio",4,"Widex","U330-CIC TR","WID-0432",{"$f":"IF(ISBLANK('Assortiment Hoortoestellen'!$B$26),1,IF(ISERROR(SEARCH(PROPER('Assortiment Hoortoestellen'!$B$26),PROPER('Dataset hoortoestellen'!D476))),0,1))","v":1}]
["Annemiek's Hoorstudio",4,"Widex","U330-CIC-M","WID-0433",{"$f":"IF(ISBLANK('Assortiment Hoortoestellen'!$B$26),1,IF(ISERROR(SEARCH(PROPER('Assortiment Hoortoestellen'!$B$26),PROPER('Dataset hoortoestellen'!D477))),0,1))","v":1}]
["Annemiek's Hoorstudio",4,"Widex","U330-CIC-M TR","WID-0434",{"$f":"IF(ISBLANK('Assortiment Hoortoestellen'!$B$26),1,IF(ISERROR(SEARCH(PROPER('Assortiment Hoortoestellen'!$B$26),PROPER('Dataset hoortoestellen'!D478))),0,1))","v":1}]
["Annemiek's Hoorstudio",4,"Widex","U330-FA","WID-0435",{"$f":"IF(ISBLANK('Assortiment Hoortoestellen'!$B$26),1,IF(ISERROR(SEARCH(PROPER('Assortiment Hoortoestellen'!$B$26),PROPER('Dataset hoortoestellen'!D479))),0,1))","v":1}]
["Annemiek's Hoorstudio",4,"Widex","U330-FM","WID-0436",{"$f":"IF(ISBLANK('Assortiment Hoortoestellen'!$B$26),1,IF(ISERROR(SEARCH(PROPER('Assortiment Hoortoestellen'!$B$26),PROPER('Dataset hoortoestellen'!D480))),0,1))","v":1}]
["Annemiek's Hoorstudio",4,"Widex","U330-FS (HP-tel)","WID-0437",{"$f":"IF(ISBLANK('Assortiment Hoortoestellen'!$B$26),1,IF(ISERROR(SEARCH(PROPER('Assortiment Hoortoestellen'!$B$26),PROPER('Dataset hoortoestellen'!D481))),0,1))","v":1}]
["Annemiek's Hoorstudio",4,"Widex","U330-FS (M-tel)","WID-0438",{"$f":"IF(ISBLANK('Assortiment Hoortoestellen'!$B$26),1,IF(ISERROR(SEARCH(PROPER('Assortiment Hoortoestellen'!$B$26),PROPER('Dataset hoortoestellen'!D482))),0,1))","v":1}]
["Annemiek's Hoorstudio",4,"Widex","U330-FS (P-tel)","WID-0439",{"$f":"IF(ISBLANK('Assortiment Hoortoestellen'!$B$26),1,IF(ISERROR(SEARCH(PROPER('Assortiment Hoortoestellen'!$B$26),PROPER('Dataset hoortoestellen'!D483))),0,1))","v":1}]
["Annemiek's Hoorstudio",4,"Widex","U330-FS (S-tel)","WID-0440",{"$f":"IF(ISBLANK('Assortiment Hoortoestellen'!$B$26),1,IF(ISERROR(SEARCH(PROPER('Assortiment Hoortoestellen'!$B$26),PROPER('Dataset hoortoestellen'!D484))),0,1))","v":1}]
["Annemiek's Hoorstudio",4,"Widex","U330-PA (M-tel)","WID-0441",{"$f":"IF(ISBLANK('Assortiment Hoortoestellen'!$B$26),1,IF(ISERROR(SEARCH(PROPER('Assortiment Hoortoestellen'!$B$26),PROPER('Dataset hoortoestellen'!D485))),0,1))","v":1}]
["Annemiek's Hoorstudio",4,"Widex","U330-PA (S-tel)","WID-0442",{"$f":"IF(ISBLANK('Assortiment Hoortoestellen'!$B$26),1,IF(ISERROR(SEARCH(PROPER('Assortiment Hoortoestellen'!$B$26),PROPER('Dataset hoortoestellen'!D486))),0,1))","v":1}]
["Annemiek's Hoorstudio",4,"Widex","U330-XP","WID-0443",{"$f":"IF(ISBLANK('Assortiment Hoortoestellen'!$B$26),1,IF(ISERROR(SEARCH(PROPER('Assortiment Hoortoestellen'!$B$26),PROPER('Dataset hoortoestellen'!D487))),0,1))","v":1}]
["Annemiek's Hoorstudio",5,"Widex","U440-CIC","WID-0444",{"$f":"IF(ISBLANK('Assortiment Hoortoestellen'!$B$26),1,IF(ISERROR(SEARCH(PROPER('Assortiment Hoortoestellen'!$B$26),PROPER('Dataset hoortoestellen'!D488))),0,1))","v":1}]
["Annemiek's Hoorstudio",5,"Widex","U440-CIC-M","WID-0446",{"$f":"IF(ISBLANK('Assortiment Hoortoestellen'!$B$26),1,IF(ISERROR(SEARCH(PROPER('Assortiment Hoortoestellen'!$B$26),PROPER('Dataset hoortoestellen'!D489))),0,1))","v":1}]
["Annemiek's Hoorstudio",5,"Widex","U440-CIC-M TR","WID-0447",{"$f":"IF(ISBLANK('Assortiment Hoortoestellen'!$B$26),1,IF(ISERROR(SEARCH(PROPER('Assortiment Hoortoestellen'!$B$26),PROPER('Dataset hoortoestellen'!D490))),0,1))","v":1}]
["Annemiek's Hoorstudio",5,"Widex","U440-FA","WID-0448",{"$f":"IF(ISBLANK('Assortiment Hoortoestellen'!$B$26),1,IF(ISERROR(SEARCH(PROPER('Assortiment Hoortoestellen'!$B$26),PROPER('Dataset hoortoestellen'!D491))),0,1))","v":1}]
["Annemiek's Hoorstudio",5,"Widex","U440-FM","WID-0449",{"$f":"IF(ISBLANK('Assortiment Hoortoestellen'!$B$26),1,IF(ISERROR(SEARCH(PROPER('Assortiment Hoortoestellen'!$B$26),PROPER('Dataset hoortoestellen'!D492))),0,1))","v":1}]
["Annemiek's Hoorstudio",5,"Widex","U440-FS (HP-tel)","WID-0450",{"$f":"IF(ISBLANK('Assortiment Hoortoestellen'!$B$26),1,IF(ISERROR(SEARCH(PROPER('Assortiment Hoortoestellen'!$B$26),PROPER('Dataset hoortoestellen'!D493))),0,1))","v":1}]
["Annemiek's Hoorstudio",5,"Widex","U440-FS (M-tel)","WID-0451",{"$f":"IF(ISBLANK('Assortiment Hoortoestellen'!$B$26),1,IF(ISERROR(SEARCH(PROPER('Assortiment Hoortoestellen'!$B$26),PROPER('Dataset hoortoestellen'!D494))),0,1))","v":1}]
["Annemiek's Hoorstudio",5,"Widex","U440-FS (P-tel)","WID-0452",{"$f":"IF(ISBLANK('Assortiment Hoortoestellen'!$B$26),1,IF(ISERROR(SEARCH(PROPER('Assortiment Hoortoestellen'!$B$26),PROPER('Dataset hoortoestellen'!D495))),0,1))","v":1}]
["Annemiek's Hoorstudio",5,"Widex","U440-FS (S-tel)","WID-0453",{"$f":"IF(ISBLANK('Assortiment Hoortoestellen'!$B$26),1,IF(ISERROR(SEARCH(PROPER('Assortiment Hoortoestellen'!$B$26),PROPER('Dataset hoortoestellen'!D496))),0,1))","v":1}]
["Annemiek's Hoorstudio",5,"Widex","U440-PA (M-tel)","WID-0454",{"$f":"IF(ISBLANK('Assortiment Hoortoestellen'!$B$26),1,IF(ISERROR(SEARCH(PROPER('Assortiment Hoortoestellen'!$B$26),PROPER('Dataset hoortoestellen'!D497))),0,1))","v":1}]
["Annemiek's Hoorstudio",5,"Widex","U440-PA (S-tel)","WID-0455",{"$f":"IF(ISBLANK('Assortiment Hoortoestellen'!$B$26),1,IF(ISERROR(SEARCH(PROPER('Assortiment Hoortoestellen'!$B$26),PROPER('Dataset hoortoestellen'!D498))),0,1))","v":1}]
["Annemiek's Hoorstudio",5,"Widex","U440-XP","WID-0456",{"$f":"IF(ISBLANK('Assortiment Hoortoestellen'!$B$26),1,IF(ISERROR(SEARCH(PROPER('Assortiment Hoortoestellen'!$B$26),PROPER('Dataset hoortoestellen'!D499))),0,1))","v":1}]
["Annemiek's Hoorstudio",3,"Widex","U220-FP","WID-0457",{"$f":"IF(ISBLANK('Assortiment Hoortoestellen'!$B$26),1,IF(ISERROR(SEARCH(PROPER('Assortiment Hoortoestellen'!$B$26),PROPER('Dataset hoortoestellen'!D500))),0,1))","v":1}]
["Annemiek's Hoorstudio",4,"Widex","U330-FP","WID-0458",{"$f":"IF(ISBLANK('Assortiment Hoortoestellen'!$B$26),1,IF(ISERROR(SEARCH(PROPER('Assortiment Hoortoestellen'!$B$26),PROPER('Dataset hoortoestellen'!D501))),0,1))","v":1}]
["Annemiek's Hoorstudio",5,"Widex","U440-FP","WID-0459",{"$f":"IF(ISBLANK('Assortiment Hoortoestellen'!$B$26),1,IF(ISERROR(SEARCH(PROPER('Assortiment Hoortoestellen'!$B$26),PROPER('Dataset hoortoestellen'!D502))),0,1))","v":1}]
["Annemiek's Hoorstudio",3,"Widex","Enjoy E-BTE 13D 110","WID-0545",{"$f":"IF(ISBLANK('Assortiment Hoortoestellen'!$B$26),1,IF(ISERROR(SEARCH(PROPER('Assortiment Hoortoestellen'!$B$26),PROPER('Dataset hoortoestellen'!D503))),0,1))","v":1}]
["Annemiek's Hoorstudio",4,"Widex","Enjoy E-BTE 13D 220","WID-0546",{"$f":"IF(ISBLANK('Assortiment Hoortoestellen'!$B$26),1,IF(ISERROR(SEARCH(PROPER('Assortiment Hoortoestellen'!$B$26),PROPER('Dataset hoortoestellen'!D504))),0,1))","v":1}]
["Annemiek's Hoorstudio",5,"Widex","Enjoy E-BTE 13D 330","WID-0547",{"$f":"IF(ISBLANK('Assortiment Hoortoestellen'!$B$26),1,IF(ISERROR(SEARCH(PROPER('Assortiment Hoortoestellen'!$B$26),PROPER('Dataset hoortoestellen'!D505))),0,1))","v":1}]
["Annemiek's Hoorstudio",2,"Widex","Enjoy E-BTE 13D 50","WID-0549",{"$f":"IF(ISBLANK('Assortiment Hoortoestellen'!$B$26),1,IF(ISERROR(SEARCH(PROPER('Assortiment Hoortoestellen'!$B$26),PROPER('Dataset hoortoestellen'!D506))),0,1))","v":1}]
["Annemiek's Hoorstudio",3,"Widex","Enjoy E-CIC 110 Links","WID-0551",{"$f":"IF(ISBLANK('Assortiment Hoortoestellen'!$B$26),1,IF(ISERROR(SEARCH(PROPER('Assortiment Hoortoestellen'!$B$26),PROPER('Dataset hoortoestellen'!D507))),0,1))","v":1}]
["Annemiek's Hoorstudio",4,"Widex","Enjoy E-CIC 220 Links","WID-0552",{"$f":"IF(ISBLANK('Assortiment Hoortoestellen'!$B$26),1,IF(ISERROR(SEARCH(PROPER('Assortiment Hoortoestellen'!$B$26),PROPER('Dataset hoortoestellen'!D508))),0,1))","v":1}]
["Annemiek's Hoorstudio",5,"Widex","Enjoy E-CIC 330 Links","WID-0553",{"$f":"IF(ISBLANK('Assortiment Hoortoestellen'!$B$26),1,IF(ISERROR(SEARCH(PROPER('Assortiment Hoortoestellen'!$B$26),PROPER('Dataset hoortoestellen'!D509))),0,1))","v":1}]
["Annemiek's Hoorstudio",3,"Widex","Enjoy E-CIC M 110","WID-0557",{"$f":"IF(ISBLANK('Assortiment Hoortoestellen'!$B$26),1,IF(ISERROR(SEARCH(PROPER('Assortiment Hoortoestellen'!$B$26),PROPER('Dataset hoortoestellen'!D510))),0,1))","v":1}]
["Annemiek's Hoorstudio",4,"Widex","Enjoy E-CIC M 220","WID-0558",{"$f":"IF(ISBLANK('Assortiment Hoortoestellen'!$B$26),1,IF(ISERROR(SEARCH(PROPER('Assortiment Hoortoestellen'!$B$26),PROPER('Dataset hoortoestellen'!D511))),0,1))","v":1}]
["Annemiek's Hoorstudio",5,"Widex","Enjoy E-CIC M 330","WID-0559",{"$f":"IF(ISBLANK('Assortiment Hoortoestellen'!$B$26),1,IF(ISERROR(SEARCH(PROPER('Assortiment Hoortoestellen'!$B$26),PROPER('Dataset hoortoestellen'!D512))),0,1))","v":1}]
["Annemiek's Hoorstudio",3,"Widex","Enjoy E-CIC M TR 110","WID-0563",{"$f":"IF(ISBLANK('Assortiment Hoortoestellen'!$B$26),1,IF(ISERROR(SEARCH(PROPER('Assortiment Hoortoestellen'!$B$26),PROPER('Dataset hoortoestellen'!D513))),0,1))","v":1}]
["Annemiek's Hoorstudio",3,"Widex","Enjoy E-CIC TR 110 Links","WID-0569",{"$f":"IF(ISBLANK('Assortiment Hoortoestellen'!$B$26),1,IF(ISERROR(SEARCH(PROPER('Assortiment Hoortoestellen'!$B$26),PROPER('Dataset hoortoestellen'!D514))),0,1))","v":1}]
["Annemiek's Hoorstudio",4,"Widex","Enjoy E-CIC TR 220 Links","WID-0570",{"$f":"IF(ISBLANK('Assortiment Hoortoestellen'!$B$26),1,IF(ISERROR(SEARCH(PROPER('Assortiment Hoortoestellen'!$B$26),PROPER('Dataset hoortoestellen'!D515))),0,1))","v":1}]
["Annemiek's Hoorstudio",5,"Widex","Enjoy E-CIC TR 330 Links","WID-0571",{"$f":"IF(ISBLANK('Assortiment Hoortoestellen'!$B$26),1,IF(ISERROR(SEARCH(PROPER('Assortiment Hoortoestellen'!$B$26),PROPER('Dataset hoortoestellen'!D516))),0,1))","v":1}]
["Annemiek's Hoorstudio",3,"Widex","Enjoy E-F2 110 (HP-tel)","WID-0578",{"$f":"IF(ISBLANK('Assortiment Hoortoestellen'!$B$26),1,IF(ISERROR(SEARCH(PROPER('Assortiment Hoortoestellen'!$B$26),PROPER('Dataset hoortoestellen'!D517))),0,1))","v":1}]
["Annemiek's Hoorstudio",3,"Widex","Enjoy E-F2 110 (M-tel)","WID-0579",{"$f":"IF(ISBLANK('Assortiment Hoortoestellen'!$B$26),1,IF(ISERROR(SEARCH(PROPER('Assortiment Hoortoestellen'!$B$26),PROPER('Dataset hoortoestellen'!D518))),0,1))","v":1}]
["Annemiek's Hoorstudio",3,"Widex","Enjoy E-F2 110 (P-tel)","WID-0580",{"$f":"IF(ISBLANK('Assortiment Hoortoestellen'!$B$26),1,IF(ISERROR(SEARCH(PROPER('Assortiment Hoortoestellen'!$B$26),PROPER('Dataset hoortoestellen'!D519))),0,1))","v":1}]
["Annemiek's Hoorstudio",3,"Widex","Enjoy E-F2 110 (S-tel)","WID-0581",{"$f":"IF(ISBLANK('Assortiment Hoortoestellen'!$B$26),1,IF(ISERROR(SEARCH(PROPER('Assortiment Hoortoestellen'!$B$26),PROPER('Dataset hoortoestellen'!D520))),0,1))","v":1}]
["Annemiek's Hoorstudio",4,"Widex","Enjoy E-F2 220 (HP-tel)","WID-0582",{"$f":"IF(ISBLANK('Assortiment Hoortoestellen'!$B$26),1,IF(ISERROR(SEARCH(PROPER('Assortiment Hoortoestellen'!$B$26),PROPER('Dataset hoortoestellen'!D521))),0,1))","v":1}]
["Annemiek's Hoorstudio",4,"Widex","Enjoy E-F2 220 (M-tel)","WID-0583",{"$f":"IF(ISBLANK('Assortiment Hoortoestellen'!$B$26),1,IF(ISERROR(SEARCH(PROPER('Assortiment Hoortoestellen'!$B$26),PROPER('Dataset hoortoestellen'!D522))),0,1))","v":1}]
["Annemiek's Hoorstudio",4,"Widex","Enjoy E-F2 220 (P-tel)","WID-0584",{"$f":"IF(ISBLANK('Assortiment Hoortoestellen'!$B$26),1,IF(ISERROR(SEARCH(PROPER('Assortiment Hoortoestellen'!$B$26),PROPER('Dataset hoortoestellen'!D523))),0,1))","v":1}]
["Annemiek's Hoorstudio",4,"Widex","Enjoy E-F2 220 (S-tel)","WID-0585",{"$f":"IF(ISBLANK('Assortiment Hoortoestellen'!$B$26),1,IF(ISERROR(SEARCH(PROPER('Assortiment Hoortoestellen'!$B$26),PROPER('Dataset hoortoestellen'!D524))),0,1))","v":1}]
["Annemiek's Hoorstudio",5,"Widex","Enjoy E-F2 330 (HP-tel)","WID-0586",{"$f":"IF(ISBLANK('Assortiment Hoortoestellen'!$B$26),1,IF(ISERROR(SEARCH(PROPER('Assortiment Hoortoestellen'!$B$26),PROPER('Dataset hoortoestellen'!D525))),0,1))","v":1}]
["Annemiek's Hoorstudio",5,"Widex","Enjoy E-F2 330 (M-tel)","WID-0587",{"$f":"IF(ISBLANK('Assortiment Hoortoestellen'!$B$26),1,IF(ISERROR(SEARCH(PROPER('Assortiment Hoortoestellen'!$B$26),PROPER('Dataset hoortoestellen'!D526))),0,1))","v":1}]
["Annemiek's Hoorstudio",5,"Widex","Enjoy E-F2 330 (P-tel)","WID-0588",{"$f":"IF(ISBLANK('Assortiment Hoortoestellen'!$B$26),1,IF(ISERROR(SEARCH(PROPER('Assortiment Hoortoestellen'!$B$26),PROPER('Dataset hoortoestellen'!D527))),0,1))","v":1}]
["Annemiek's Hoorstudio",5,"Widex","Enjoy E-F2 330 (S-tel)","WID-0589",{"$f":"IF(ISBLANK('Assortiment Hoortoestellen'!$B$26),1,IF(ISERROR(SEARCH(PROPER('Assortiment Hoortoestellen'!$B$26),PROPER('Dataset hoortoestellen'!D528))),0,1))","v":1}]
["Annemiek's Hoorstudio",2,"Widex","Enjoy E-F2 50 (HP-tel)","WID-0594",{"$f":"IF(ISBLANK('Assortiment Hoortoestellen'!$B$26),1,IF(ISERROR(SEARCH(PROPER('Assortiment Hoortoestellen'!$B$26),PROPER('Dataset hoortoestellen'!D529))),0,1))","v":1}]
["Annemiek's Hoorstudio",2,"Widex","Enjoy E-F2 50 (M-tel)","WID-0595",{"$f":"IF(ISBLANK('Assortiment Hoortoestellen'!$B$26),1,IF(ISERROR(SEARCH(PROPER('Assortiment Hoortoestellen'!$B$26),PROPER('Dataset hoortoestellen'!D530))),0,1))","v":1}]
["Annemiek's Hoorstudio",2,"Widex","Enjoy E-F2 50 (P-tel)","WID-0596",{"$f":"IF(ISBLANK('Assortiment Hoortoestellen'!$B$26),1,IF(ISERROR(SEARCH(PROPER('Assortiment Hoortoestellen'!$B$26),PROPER('Dataset hoortoestellen'!D531))),0,1))","v":1}]
["Annemiek's Hoorstudio",2,"Widex","Enjoy E-F2 50 (S-tel)","WID-0597",{"$f":"IF(ISBLANK('Assortiment Hoortoestellen'!$B$26),1,IF(ISERROR(SEARCH(PROPER('Assortiment Hoortoestellen'!$B$26),PROPER('Dataset hoortoestellen'!D532))),0,1))","v":1}]
["Annemiek's Hoorstudio",3,"Widex","Enjoy E-FA 110","WID-0599",{"$f":"IF(ISBLANK('Assortiment Hoortoestellen'!$B$26),1,IF(ISERROR(SEARCH(PROPER('Assortiment Hoortoestellen'!$B$26),PROPER('Dataset hoortoestellen'!D533))),0,1))","v":1}]
["Annemiek's Hoorstudio",4,"Widex","Enjoy E-FA 220","WID-0600",{"$f":"IF(ISBLANK('Assortiment Hoortoestellen'!$B$26),1,IF(ISERROR(SEARCH(PROPER('Assortiment Hoortoestellen'!$B$26),PROPER('Dataset hoortoestellen'!D534))),0,1))","v":1}]
["Annemiek's Hoorstudio",5,"Widex","Enjoy E-FA 330","WID-0601",{"$f":"IF(ISBLANK('Assortiment Hoortoestellen'!$B$26),1,IF(ISERROR(SEARCH(PROPER('Assortiment Hoortoestellen'!$B$26),PROPER('Dataset hoortoestellen'!D535))),0,1))","v":1}]
["Annemiek's Hoorstudio",2,"Widex","Enjoy E-FA 50","WID-0603",{"$f":"IF(ISBLANK('Assortiment Hoortoestellen'!$B$26),1,IF(ISERROR(SEARCH(PROPER('Assortiment Hoortoestellen'!$B$26),PROPER('Dataset hoortoestellen'!D536))),0,1))","v":1}]
["Annemiek's Hoorstudio",3,"Widex","Enjoy E-FM 110","WID-0605",{"$f":"IF(ISBLANK('Assortiment Hoortoestellen'!$B$26),1,IF(ISERROR(SEARCH(PROPER('Assortiment Hoortoestellen'!$B$26),PROPER('Dataset hoortoestellen'!D537))),0,1))","v":1}]
["Annemiek's Hoorstudio",4,"Widex","Enjoy E-FM 220","WID-0606",{"$f":"IF(ISBLANK('Assortiment Hoortoestellen'!$B$26),1,IF(ISERROR(SEARCH(PROPER('Assortiment Hoortoestellen'!$B$26),PROPER('Dataset hoortoestellen'!D538))),0,1))","v":1}]
["Annemiek's Hoorstudio",5,"Widex","Enjoy E-FM 330","WID-0607",{"$f":"IF(ISBLANK('Assortiment Hoortoestellen'!$B$26),1,IF(ISERROR(SEARCH(PROPER('Assortiment Hoortoestellen'!$B$26),PROPER('Dataset hoortoestellen'!D539))),0,1))","v":1}]
["Annemiek's Hoorstudio",2,"Widex","Enjoy E-FM 50","WID-0609",{"$f":"IF(ISBLANK('Assortiment Hoortoestellen'!$B$26),1,IF(ISERROR(SEARCH(PROPER('Assortiment Hoortoestellen'!$B$26),PROPER('Dataset hoortoestellen'!D540))),0,1))","v":1}]
["Annemiek's Hoorstudio",3,"Widex","Enjoy E-FP 110","WID-0611",{"$f":"IF(ISBLANK('Assortiment Hoortoestellen'!$B$26),1,IF(ISERROR(SEARCH(PROPER('Assortiment Hoortoestellen'!$B$26),PROPER('Dataset hoortoestellen'!D541))),0,1))","v":1}]
["Annemiek's Hoorstudio",4,"Widex","Enjoy E-FP 220","WID-0612",{"$f":"IF(ISBLANK('Assortiment Hoortoestellen'!$B$26),1,IF(ISERROR(SEARCH(PROPER('Assortiment Hoortoestellen'!$B$26),PROPER('Dataset hoortoestellen'!D542))),0,1))","v":1}]
["Annemiek's Hoorstudio",5,"Widex","Enjoy E-FP 330","WID-0613",{"$f":"IF(ISBLANK('Assortiment Hoortoestellen'!$B$26),1,IF(ISERROR(SEARCH(PROPER('Assortiment Hoortoestellen'!$B$26),PROPER('Dataset hoortoestellen'!D543))),0,1))","v":1}]
["Annemiek's Hoorstudio",2,"Widex","Enjoy E-FP 50","WID-0615",{"$f":"IF(ISBLANK('Assortiment Hoortoestellen'!$B$26),1,IF(ISERROR(SEARCH(PROPER('Assortiment Hoortoestellen'!$B$26),PROPER('Dataset hoortoestellen'!D544))),0,1))","v":1}]
["Annemiek's Hoorstudio",3,"Widex","Enjoy E-FS 110 (HP-tel)","WID-0620",{"$f":"IF(ISBLANK('Assortiment Hoortoestellen'!$B$26),1,IF(ISERROR(SEARCH(PROPER('Assortiment Hoortoestellen'!$B$26),PROPER('Dataset hoortoestellen'!D545))),0,1))","v":1}]
["Annemiek's Hoorstudio",3,"Widex","Enjoy E-FS 110 (M-tel)","WID-0621",{"$f":"IF(ISBLANK('Assortiment Hoortoestellen'!$B$26),1,IF(ISERROR(SEARCH(PROPER('Assortiment Hoortoestellen'!$B$26),PROPER('Dataset hoortoestellen'!D546))),0,1))","v":1}]
["Annemiek's Hoorstudio",3,"Widex","Enjoy E-FS 110 (P-tel)","WID-0622",{"$f":"IF(ISBLANK('Assortiment Hoortoestellen'!$B$26),1,IF(ISERROR(SEARCH(PROPER('Assortiment Hoortoestellen'!$B$26),PROPER('Dataset hoortoestellen'!D547))),0,1))","v":1}]
["Annemiek's Hoorstudio",3,"Widex","Enjoy E-FS 110 (S-tel)","WID-0623",{"$f":"IF(ISBLANK('Assortiment Hoortoestellen'!$B$26),1,IF(ISERROR(SEARCH(PROPER('Assortiment Hoortoestellen'!$B$26),PROPER('Dataset hoortoestellen'!D548))),0,1))","v":1}]
["Annemiek's Hoorstudio",4,"Widex","Enjoy E-FS 220 (HP-tel)","WID-0624",{"$f":"IF(ISBLANK('Assortiment Hoortoestellen'!$B$26),1,IF(ISERROR(SEARCH(PROPER('Assortiment Hoortoestellen'!$B$26),PROPER('Dataset hoortoestellen'!D549))),0,1))","v":1}]
["Annemiek's Hoorstudio",4,"Widex","Enjoy E-FS 220 (M-tel)","WID-0625",{"$f":"IF(ISBLANK('Assortiment Hoortoestellen'!$B$26),1,IF(ISERROR(SEARCH(PROPER('Assortiment Hoortoestellen'!$B$26),PROPER('Dataset hoortoestellen'!D550))),0,1))","v":1}]
["Annemiek's Hoorstudio",4,"Widex","Enjoy E-FS 220 (P-tel)","WID-0626",{"$f":"IF(ISBLANK('Assortiment Hoortoestellen'!$B$26),1,IF(ISERROR(SEARCH(PROPER('Assortiment Hoortoestellen'!$B$26),PROPER('Dataset hoortoestellen'!D551))),0,1))","v":1}]
["Annemiek's Hoorstudio",4,"Widex","Enjoy E-FS 220 (S-tel)","WID-0627",{"$f":"IF(ISBLANK('Assortiment Hoortoestellen'!$B$26),1,IF(ISERROR(SEARCH(PROPER('Assortiment Hoortoestellen'!$B$26),PROPER('Dataset hoortoestellen'!D552))),0,1))","v":1}]
["Annemiek's Hoorstudio",5,"Widex","Enjoy E-FS 330 (HP-tel)","WID-0628",{"$f":"IF(ISBLANK('Assortiment Hoortoestellen'!$B$26),1,IF(ISERROR(SEARCH(PROPER('Assortiment Hoortoestellen'!$B$26),PROPER('Dataset hoortoestellen'!D553))),0,1))","v":1}]
["Annemiek's Hoorstudio",5,"Widex","Enjoy E-FS 330 (M-tel)","WID-0629",{"$f":"IF(ISBLANK('Assortiment Hoortoestellen'!$B$26),1,IF(ISERROR(SEARCH(PROPER('Assortiment Hoortoestellen'!$B$26),PROPER('Dataset hoortoestellen'!D554))),0,1))","v":1}]
["Annemiek's Hoorstudio",5,"Widex","Enjoy E-FS 330 (P-tel)","WID-0630",{"$f":"IF(ISBLANK('Assortiment Hoortoestellen'!$B$26),1,IF(ISERROR(SEARCH(PROPER('Assortiment Hoortoestellen'!$B$26),PROPER('Dataset hoortoestellen'!D555))),0,1))","v":1}]
["Annemiek's Hoorstudio",5,"Widex","Enjoy E-FS 330 (S-tel)","WID-0631",{"$f":"IF(ISBLANK('Assortiment Hoortoestellen'!$B$26),1,IF(ISERROR(SEARCH(PROPER('Assortiment Hoortoestellen'!$B$26),PROPER('Dataset hoortoestellen'!D556))),0,1))","v":1}]
["Annemiek's Hoorstudio",2,"Widex","Enjoy E-FS 50 (HP-tel)","WID-0636",{"$f":"IF(ISBLANK('Assortiment Hoortoestellen'!$B$26),1,IF(ISERROR(SEARCH(PROPER('Assortiment Hoortoestellen'!$B$26),PROPER('Dataset hoortoestellen'!D557))),0,1))","v":1}]
["Annemiek's Hoorstudio",2,"Widex","Enjoy E-FS 50 (M-tel)","WID-0637",{"$f":"IF(ISBLANK('Assortiment Hoortoestellen'!$B$26),1,IF(ISERROR(SEARCH(PROPER('Assortiment Hoortoestellen'!$B$26),PROPER('Dataset hoortoestellen'!D558))),0,1))","v":1}]
["Annemiek's Hoorstudio",2,"Widex","Enjoy E-FS 50 (P-tel)","WID-0638",{"$f":"IF(ISBLANK('Assortiment Hoortoestellen'!$B$26),1,IF(ISERROR(SEARCH(PROPER('Assortiment Hoortoestellen'!$B$26),PROPER('Dataset hoortoestellen'!D559))),0,1))","v":1}]
["Annemiek's Hoorstudio",2,"Widex","Enjoy E-FS 50 (S-tel)","WID-0639",{"$f":"IF(ISBLANK('Assortiment Hoortoestellen'!$B$26),1,IF(ISERROR(SEARCH(PROPER('Assortiment Hoortoestellen'!$B$26),PROPER('Dataset hoortoestellen'!D560))),0,1))","v":1}]
["Annemiek's Hoorstudio",3,"Widex","Enjoy E-PA 110 (M-tel)","WID-0642",{"$f":"IF(ISBLANK('Assortiment Hoortoestellen'!$B$26),1,IF(ISERROR(SEARCH(PROPER('Assortiment Hoortoestellen'!$B$26),PROPER('Dataset hoortoestellen'!D561))),0,1))","v":1}]
["Annemiek's Hoorstudio",3,"Widex","Enjoy E-PA 110 (S-tel)","WID-0643",{"$f":"IF(ISBLANK('Assortiment Hoortoestellen'!$B$26),1,IF(ISERROR(SEARCH(PROPER('Assortiment Hoortoestellen'!$B$26),PROPER('Dataset hoortoestellen'!D562))),0,1))","v":1}]
["Annemiek's Hoorstudio",4,"Widex","Enjoy E-PA 220 (M-tel)","WID-0644",{"$f":"IF(ISBLANK('Assortiment Hoortoestellen'!$B$26),1,IF(ISERROR(SEARCH(PROPER('Assortiment Hoortoestellen'!$B$26),PROPER('Dataset hoortoestellen'!D563))),0,1))","v":1}]
["Annemiek's Hoorstudio",4,"Widex","Enjoy E-PA 220 (S-tel)","WID-0645",{"$f":"IF(ISBLANK('Assortiment Hoortoestellen'!$B$26),1,IF(ISERROR(SEARCH(PROPER('Assortiment Hoortoestellen'!$B$26),PROPER('Dataset hoortoestellen'!D564))),0,1))","v":1}]
["Annemiek's Hoorstudio",5,"Widex","Enjoy E-PA 330 (M-tel)","WID-0646",{"$f":"IF(ISBLANK('Assortiment Hoortoestellen'!$B$26),1,IF(ISERROR(SEARCH(PROPER('Assortiment Hoortoestellen'!$B$26),PROPER('Dataset hoortoestellen'!D565))),0,1))","v":1}]
["Annemiek's Hoorstudio",5,"Widex","Enjoy E-PA 330 (S-tel)","WID-0647",{"$f":"IF(ISBLANK('Assortiment Hoortoestellen'!$B$26),1,IF(ISERROR(SEARCH(PROPER('Assortiment Hoortoestellen'!$B$26),PROPER('Dataset hoortoestellen'!D566))),0,1))","v":1}]
["Annemiek's Hoorstudio",3,"Widex","Enjoy E-XP 110","WID-0651",{"$f":"IF(ISBLANK('Assortiment Hoortoestellen'!$B$26),1,IF(ISERROR(SEARCH(PROPER('Assortiment Hoortoestellen'!$B$26),PROPER('Dataset hoortoestellen'!D567))),0,1))","v":1}]
["Annemiek's Hoorstudio",4,"Widex","Enjoy E-XP 220","WID-0652",{"$f":"IF(ISBLANK('Assortiment Hoortoestellen'!$B$26),1,IF(ISERROR(SEARCH(PROPER('Assortiment Hoortoestellen'!$B$26),PROPER('Dataset hoortoestellen'!D568))),0,1))","v":1}]
["Annemiek's Hoorstudio",5,"Widex","Enjoy E-XP 330","WID-0653",{"$f":"IF(ISBLANK('Assortiment Hoortoestellen'!$B$26),1,IF(ISERROR(SEARCH(PROPER('Assortiment Hoortoestellen'!$B$26),PROPER('Dataset hoortoestellen'!D569))),0,1))","v":1}]
["Annemiek's Hoorstudio",3,"Widex","Enjoy E-CIC 110 Rechts","WID-0656",{"$f":"IF(ISBLANK('Assortiment Hoortoestellen'!$B$26),1,IF(ISERROR(SEARCH(PROPER('Assortiment Hoortoestellen'!$B$26),PROPER('Dataset hoortoestellen'!D570))),0,1))","v":1}]
["Annemiek's Hoorstudio",4,"Widex","Enjoy E-CIC 220 Rechts","WID-0657",{"$f":"IF(ISBLANK('Assortiment Hoortoestellen'!$B$26),1,IF(ISERROR(SEARCH(PROPER('Assortiment Hoortoestellen'!$B$26),PROPER('Dataset hoortoestellen'!D571))),0,1))","v":1}]
["Annemiek's Hoorstudio",5,"Widex","Enjoy E-CIC 330 Rechts","WID-0658",{"$f":"IF(ISBLANK('Assortiment Hoortoestellen'!$B$26),1,IF(ISERROR(SEARCH(PROPER('Assortiment Hoortoestellen'!$B$26),PROPER('Dataset hoortoestellen'!D572))),0,1))","v":1}]
["Annemiek's Hoorstudio",4,"Widex","Enjoy E-CIC TR 220 Rechts","WID-0662",{"$f":"IF(ISBLANK('Assortiment Hoortoestellen'!$B$26),1,IF(ISERROR(SEARCH(PROPER('Assortiment Hoortoestellen'!$B$26),PROPER('Dataset hoortoestellen'!D573))),0,1))","v":1}]
["Annemiek's Hoorstudio",5,"Widex","Enjoy E-CIC TR 330 Rechts","WID-0663",{"$f":"IF(ISBLANK('Assortiment Hoortoestellen'!$B$26),1,IF(ISERROR(SEARCH(PROPER('Assortiment Hoortoestellen'!$B$26),PROPER('Dataset hoortoestellen'!D574))),0,1))","v":1}]
["Annemiek's Hoorstudio",5,"Widex","U440-CIC TR","WID-445",{"$f":"IF(ISBLANK('Assortiment Hoortoestellen'!$B$26),1,IF(ISERROR(SEARCH(PROPER('Assortiment Hoortoestellen'!$B$26),PROPER('Dataset hoortoestellen'!D575))),0,1))","v":1}]
["Audibene",5,"Audio Service","Duo 12 G4","AUS-0129",{"$f":"IF(ISBLANK('Assortiment Hoortoestellen'!$B$26),1,IF(ISERROR(SEARCH(PROPER('Assortiment Hoortoestellen'!$B$26),PROPER('Dataset hoortoestellen'!D576))),0,1))","v":1}]
["Audibene",4,"Audio Service","Duo 8 G4","AUS-0130",{"$f":"IF(ISBLANK('Assortiment Hoortoestellen'!$B$26),1,IF(ISERROR(SEARCH(PROPER('Assortiment Hoortoestellen'!$B$26),PROPER('Dataset hoortoestellen'!D577))),0,1))","v":1}]
["Audibene",5,"Audio Service","HP 12 G4","AUS-0131",{"$f":"IF(ISBLANK('Assortiment Hoortoestellen'!$B$26),1,IF(ISERROR(SEARCH(PROPER('Assortiment Hoortoestellen'!$B$26),PROPER('Dataset hoortoestellen'!D578))),0,1))","v":1}]
["Audibene",4,"Audio Service","HP 8 G4","AUS-0132",{"$f":"IF(ISBLANK('Assortiment Hoortoestellen'!$B$26),1,IF(ISERROR(SEARCH(PROPER('Assortiment Hoortoestellen'!$B$26),PROPER('Dataset hoortoestellen'!D579))),0,1))","v":1}]
["Audibene",5,"Audio Service","Sun 12 G4","AUS-0146",{"$f":"IF(ISBLANK('Assortiment Hoortoestellen'!$B$26),1,IF(ISERROR(SEARCH(PROPER('Assortiment Hoortoestellen'!$B$26),PROPER('Dataset hoortoestellen'!D580))),0,1))","v":1}]
["Audibene",4,"Audio Service","Sun 8 G4","AUS-0147",{"$f":"IF(ISBLANK('Assortiment Hoortoestellen'!$B$26),1,IF(ISERROR(SEARCH(PROPER('Assortiment Hoortoestellen'!$B$26),PROPER('Dataset hoortoestellen'!D581))),0,1))","v":1}]
["Audibene",2,"Audio Service","HP 4 G4","AUS-0153",{"$f":"IF(ISBLANK('Assortiment Hoortoestellen'!$B$26),1,IF(ISERROR(SEARCH(PROPER('Assortiment Hoortoestellen'!$B$26),PROPER('Dataset hoortoestellen'!D582))),0,1))","v":1}]
["Audibene",3,"Audio Service","HP 6 G4","AUS-0154",{"$f":"IF(ISBLANK('Assortiment Hoortoestellen'!$B$26),1,IF(ISERROR(SEARCH(PROPER('Assortiment Hoortoestellen'!$B$26),PROPER('Dataset hoortoestellen'!D583))),0,1))","v":1}]
["Audibene",5,"Audio Service","Duo 12 G5","AUS-0177",{"$f":"IF(ISBLANK('Assortiment Hoortoestellen'!$B$26),1,IF(ISERROR(SEARCH(PROPER('Assortiment Hoortoestellen'!$B$26),PROPER('Dataset hoortoestellen'!D584))),0,1))","v":1}]
["Audibene",4,"Audio Service","Duo 8 G5","AUS-0178",{"$f":"IF(ISBLANK('Assortiment Hoortoestellen'!$B$26),1,IF(ISERROR(SEARCH(PROPER('Assortiment Hoortoestellen'!$B$26),PROPER('Dataset hoortoestellen'!D585))),0,1))","v":1}]
["Audibene",5,"Audio Service","IHO 12 G5","AUS-0182",{"$f":"IF(ISBLANK('Assortiment Hoortoestellen'!$B$26),1,IF(ISERROR(SEARCH(PROPER('Assortiment Hoortoestellen'!$B$26),PROPER('Dataset hoortoestellen'!D586))),0,1))","v":1}]
["Audibene",4,"Audio Service","IHO 8 G5","AUS-0183",{"$f":"IF(ISBLANK('Assortiment Hoortoestellen'!$B$26),1,IF(ISERROR(SEARCH(PROPER('Assortiment Hoortoestellen'!$B$26),PROPER('Dataset hoortoestellen'!D587))),0,1))","v":1}]
["Audibene",5,"Audio Service","Mood 12 G5","AUS-0184",{"$f":"IF(ISBLANK('Assortiment Hoortoestellen'!$B$26),1,IF(ISERROR(SEARCH(PROPER('Assortiment Hoortoestellen'!$B$26),PROPER('Dataset hoortoestellen'!D588))),0,1))","v":1}]
["Audibene",4,"Audio Service","Mood 8 G5","AUS-0185",{"$f":"IF(ISBLANK('Assortiment Hoortoestellen'!$B$26),1,IF(ISERROR(SEARCH(PROPER('Assortiment Hoortoestellen'!$B$26),PROPER('Dataset hoortoestellen'!D589))),0,1))","v":1}]
["Audibene",5,"Audio Service","P 12 G5","AUS-0189",{"$f":"IF(ISBLANK('Assortiment Hoortoestellen'!$B$26),1,IF(ISERROR(SEARCH(PROPER('Assortiment Hoortoestellen'!$B$26),PROPER('Dataset hoortoestellen'!D590))),0,1))","v":1}]
["Audibene",4,"Audio Service","P 8 G5","AUS-0190",{"$f":"IF(ISBLANK('Assortiment Hoortoestellen'!$B$26),1,IF(ISERROR(SEARCH(PROPER('Assortiment Hoortoestellen'!$B$26),PROPER('Dataset hoortoestellen'!D591))),0,1))","v":1}]
["Audibene",5,"Audio Service","quiX 12 G5 Links","AUS-0191",{"$f":"IF(ISBLANK('Assortiment Hoortoestellen'!$B$26),1,IF(ISERROR(SEARCH(PROPER('Assortiment Hoortoestellen'!$B$26),PROPER('Dataset hoortoestellen'!D592))),0,1))","v":1}]
["Audibene",5,"Audio Service","quiX 12 G5 Rechts","AUS-0192",{"$f":"IF(ISBLANK('Assortiment Hoortoestellen'!$B$26),1,IF(ISERROR(SEARCH(PROPER('Assortiment Hoortoestellen'!$B$26),PROPER('Dataset hoortoestellen'!D593))),0,1))","v":1}]
["Audibene",4,"Audio Service","quiX 8 G5 Links","AUS-0193",{"$f":"IF(ISBLANK('Assortiment Hoortoestellen'!$B$26),1,IF(ISERROR(SEARCH(PROPER('Assortiment Hoortoestellen'!$B$26),PROPER('Dataset hoortoestellen'!D594))),0,1))","v":1}]
["Audibene",4,"Audio Service","quiX 8 G5 Rechts","AUS-0194",{"$f":"IF(ISBLANK('Assortiment Hoortoestellen'!$B$26),1,IF(ISERROR(SEARCH(PROPER('Assortiment Hoortoestellen'!$B$26),PROPER('Dataset hoortoestellen'!D595))),0,1))","v":1}]
["Audibene",5,"Audio Service","Rixx 12 G5","AUS-0195",{"$f":"IF(ISBLANK('Assortiment Hoortoestellen'!$B$26),1,IF(ISERROR(SEARCH(PROPER('Assortiment Hoortoestellen'!$B$26),PROPER('Dataset hoortoestellen'!D596))),0,1))","v":1}]
["Audibene",4,"Audio Service","Rixx 8 G5","AUS-0196",{"$f":"IF(ISBLANK('Assortiment Hoortoestellen'!$B$26),1,IF(ISERROR(SEARCH(PROPER('Assortiment Hoortoestellen'!$B$26),PROPER('Dataset hoortoestellen'!D597))),0,1))","v":1}]
["Audibene",5,"Audio Service","Sun 12 G5","AUS-0197",{"$f":"IF(ISBLANK('Assortiment Hoortoestellen'!$B$26),1,IF(ISERROR(SEARCH(PROPER('Assortiment Hoortoestellen'!$B$26),PROPER('Dataset hoortoestellen'!D598))),0,1))","v":1}]
["Audibene",4,"Audio Service","Sun 8 G5","AUS-0198",{"$f":"IF(ISBLANK('Assortiment Hoortoestellen'!$B$26),1,IF(ISERROR(SEARCH(PROPER('Assortiment Hoortoestellen'!$B$26),PROPER('Dataset hoortoestellen'!D599))),0,1))","v":1}]
["Audibene",2,"Audio Service","Duo 4 G5","AUS-0205",{"$f":"IF(ISBLANK('Assortiment Hoortoestellen'!$B$26),1,IF(ISERROR(SEARCH(PROPER('Assortiment Hoortoestellen'!$B$26),PROPER('Dataset hoortoestellen'!D600))),0,1))","v":1}]
["Audibene",3,"Audio Service","Duo 6 G5","AUS-0206",{"$f":"IF(ISBLANK('Assortiment Hoortoestellen'!$B$26),1,IF(ISERROR(SEARCH(PROPER('Assortiment Hoortoestellen'!$B$26),PROPER('Dataset hoortoestellen'!D601))),0,1))","v":1}]
["Audibene",2,"Audio Service","Mood 4 G5","AUS-0207",{"$f":"IF(ISBLANK('Assortiment Hoortoestellen'!$B$26),1,IF(ISERROR(SEARCH(PROPER('Assortiment Hoortoestellen'!$B$26),PROPER('Dataset hoortoestellen'!D602))),0,1))","v":1}]
["Audibene",3,"Audio Service","Mood 6 G5","AUS-0208",{"$f":"IF(ISBLANK('Assortiment Hoortoestellen'!$B$26),1,IF(ISERROR(SEARCH(PROPER('Assortiment Hoortoestellen'!$B$26),PROPER('Dataset hoortoestellen'!D603))),0,1))","v":1}]
["Audibene",2,"Audio Service","P 4 G5","AUS-0209",{"$f":"IF(ISBLANK('Assortiment Hoortoestellen'!$B$26),1,IF(ISERROR(SEARCH(PROPER('Assortiment Hoortoestellen'!$B$26),PROPER('Dataset hoortoestellen'!D604))),0,1))","v":1}]
["Audibene",3,"Audio Service","P 6 G5","AUS-0210",{"$f":"IF(ISBLANK('Assortiment Hoortoestellen'!$B$26),1,IF(ISERROR(SEARCH(PROPER('Assortiment Hoortoestellen'!$B$26),PROPER('Dataset hoortoestellen'!D605))),0,1))","v":1}]
["Audibene",2,"Audio Service","quiX 4 G5 Links","AUS-0211",{"$f":"IF(ISBLANK('Assortiment Hoortoestellen'!$B$26),1,IF(ISERROR(SEARCH(PROPER('Assortiment Hoortoestellen'!$B$26),PROPER('Dataset hoortoestellen'!D606))),0,1))","v":1}]
["Audibene",2,"Audio Service","quiX 4 G5 Rechts","AUS-0212",{"$f":"IF(ISBLANK('Assortiment Hoortoestellen'!$B$26),1,IF(ISERROR(SEARCH(PROPER('Assortiment Hoortoestellen'!$B$26),PROPER('Dataset hoortoestellen'!D607))),0,1))","v":1}]
["Audibene",3,"Audio Service","quiX 6  G5 Rechts","AUS-0213",{"$f":"IF(ISBLANK('Assortiment Hoortoestellen'!$B$26),1,IF(ISERROR(SEARCH(PROPER('Assortiment Hoortoestellen'!$B$26),PROPER('Dataset hoortoestellen'!D608))),0,1))","v":1}]
["Audibene",3,"Audio Service","quiX 6  G5 Links","AUS-0214",{"$f":"IF(ISBLANK('Assortiment Hoortoestellen'!$B$26),1,IF(ISERROR(SEARCH(PROPER('Assortiment Hoortoestellen'!$B$26),PROPER('Dataset hoortoestellen'!D609))),0,1))","v":1}]
["Audibene",2,"Audio Service","Rixx 4  G5","AUS-0215",{"$f":"IF(ISBLANK('Assortiment Hoortoestellen'!$B$26),1,IF(ISERROR(SEARCH(PROPER('Assortiment Hoortoestellen'!$B$26),PROPER('Dataset hoortoestellen'!D610))),0,1))","v":1}]
["Audibene",3,"Audio Service","Rixx 6 G5","AUS-0216",{"$f":"IF(ISBLANK('Assortiment Hoortoestellen'!$B$26),1,IF(ISERROR(SEARCH(PROPER('Assortiment Hoortoestellen'!$B$26),PROPER('Dataset hoortoestellen'!D611))),0,1))","v":1}]
["Audibene",2,"Audio Service","Sun 4 G5","AUS-0217",{"$f":"IF(ISBLANK('Assortiment Hoortoestellen'!$B$26),1,IF(ISERROR(SEARCH(PROPER('Assortiment Hoortoestellen'!$B$26),PROPER('Dataset hoortoestellen'!D612))),0,1))","v":1}]
["Audibene",3,"Audio Service","Sun 6 G5","AUS-0218",{"$f":"IF(ISBLANK('Assortiment Hoortoestellen'!$B$26),1,IF(ISERROR(SEARCH(PROPER('Assortiment Hoortoestellen'!$B$26),PROPER('Dataset hoortoestellen'!D613))),0,1))","v":1}]
["Audibene",1,"Coselgi","Dinamico 3 D-FA","COS-0056",{"$f":"IF(ISBLANK('Assortiment Hoortoestellen'!$B$26),1,IF(ISERROR(SEARCH(PROPER('Assortiment Hoortoestellen'!$B$26),PROPER('Dataset hoortoestellen'!D614))),0,1))","v":1}]
["Audibene",1,"Coselgi","Dinamico 3 D-XP","COS-0058",{"$f":"IF(ISBLANK('Assortiment Hoortoestellen'!$B$26),1,IF(ISERROR(SEARCH(PROPER('Assortiment Hoortoestellen'!$B$26),PROPER('Dataset hoortoestellen'!D615))),0,1))","v":1}]
["Audibene",3,"Coselgi","U10-CIC (links)","COS-0137",{"$f":"IF(ISBLANK('Assortiment Hoortoestellen'!$B$26),1,IF(ISERROR(SEARCH(PROPER('Assortiment Hoortoestellen'!$B$26),PROPER('Dataset hoortoestellen'!D616))),0,1))","v":1}]
["Audibene",3,"Coselgi","U10-CIC TR (links)","COS-0138",{"$f":"IF(ISBLANK('Assortiment Hoortoestellen'!$B$26),1,IF(ISERROR(SEARCH(PROPER('Assortiment Hoortoestellen'!$B$26),PROPER('Dataset hoortoestellen'!D617))),0,1))","v":1}]
["Audibene",3,"Coselgi","U10-FA","COS-0139",{"$f":"IF(ISBLANK('Assortiment Hoortoestellen'!$B$26),1,IF(ISERROR(SEARCH(PROPER('Assortiment Hoortoestellen'!$B$26),PROPER('Dataset hoortoestellen'!D618))),0,1))","v":1}]
["Audibene",3,"Coselgi","U10-FM","COS-0140",{"$f":"IF(ISBLANK('Assortiment Hoortoestellen'!$B$26),1,IF(ISERROR(SEARCH(PROPER('Assortiment Hoortoestellen'!$B$26),PROPER('Dataset hoortoestellen'!D619))),0,1))","v":1}]
["Audibene",3,"Coselgi","U10-FP","COS-0141",{"$f":"IF(ISBLANK('Assortiment Hoortoestellen'!$B$26),1,IF(ISERROR(SEARCH(PROPER('Assortiment Hoortoestellen'!$B$26),PROPER('Dataset hoortoestellen'!D620))),0,1))","v":1}]
["Audibene",3,"Coselgi","U10-FS (HP-tel)","COS-0142",{"$f":"IF(ISBLANK('Assortiment Hoortoestellen'!$B$26),1,IF(ISERROR(SEARCH(PROPER('Assortiment Hoortoestellen'!$B$26),PROPER('Dataset hoortoestellen'!D621))),0,1))","v":1}]
["Audibene",3,"Coselgi","U10-FS (M-tel)","COS-0143",{"$f":"IF(ISBLANK('Assortiment Hoortoestellen'!$B$26),1,IF(ISERROR(SEARCH(PROPER('Assortiment Hoortoestellen'!$B$26),PROPER('Dataset hoortoestellen'!D622))),0,1))","v":1}]
["Audibene",3,"Coselgi","U10-FS (P-tel)","COS-0144",{"$f":"IF(ISBLANK('Assortiment Hoortoestellen'!$B$26),1,IF(ISERROR(SEARCH(PROPER('Assortiment Hoortoestellen'!$B$26),PROPER('Dataset hoortoestellen'!D623))),0,1))","v":1}]
["Audibene",3,"Coselgi","U10-FS (S-tel)","COS-0145",{"$f":"IF(ISBLANK('Assortiment Hoortoestellen'!$B$26),1,IF(ISERROR(SEARCH(PROPER('Assortiment Hoortoestellen'!$B$26),PROPER('Dataset hoortoestellen'!D624))),0,1))","v":1}]
["Audibene",3,"Coselgi","U10-PA (M-tel)","COS-0146",{"$f":"IF(ISBLANK('Assortiment Hoortoestellen'!$B$26),1,IF(ISERROR(SEARCH(PROPER('Assortiment Hoortoestellen'!$B$26),PROPER('Dataset hoortoestellen'!D625))),0,1))","v":1}]
["Audibene",3,"Coselgi","U10-PA (S-tel)","COS-0147",{"$f":"IF(ISBLANK('Assortiment Hoortoestellen'!$B$26),1,IF(ISERROR(SEARCH(PROPER('Assortiment Hoortoestellen'!$B$26),PROPER('Dataset hoortoestellen'!D626))),0,1))","v":1}]
["Audibene",3,"Coselgi","U10-XP","COS-0148",{"$f":"IF(ISBLANK('Assortiment Hoortoestellen'!$B$26),1,IF(ISERROR(SEARCH(PROPER('Assortiment Hoortoestellen'!$B$26),PROPER('Dataset hoortoestellen'!D627))),0,1))","v":1}]
["Audibene",4,"Coselgi","U10E-CIC (links)","COS-0149",{"$f":"IF(ISBLANK('Assortiment Hoortoestellen'!$B$26),1,IF(ISERROR(SEARCH(PROPER('Assortiment Hoortoestellen'!$B$26),PROPER('Dataset hoortoestellen'!D628))),0,1))","v":1}]
["Audibene",4,"Coselgi","U10E-CIC TR (links)","COS-0150",{"$f":"IF(ISBLANK('Assortiment Hoortoestellen'!$B$26),1,IF(ISERROR(SEARCH(PROPER('Assortiment Hoortoestellen'!$B$26),PROPER('Dataset hoortoestellen'!D629))),0,1))","v":1}]
["Audibene",4,"Coselgi","U10E-FA","COS-0151",{"$f":"IF(ISBLANK('Assortiment Hoortoestellen'!$B$26),1,IF(ISERROR(SEARCH(PROPER('Assortiment Hoortoestellen'!$B$26),PROPER('Dataset hoortoestellen'!D630))),0,1))","v":1}]
["Audibene",4,"Coselgi","U10E-FM","COS-0152",{"$f":"IF(ISBLANK('Assortiment Hoortoestellen'!$B$26),1,IF(ISERROR(SEARCH(PROPER('Assortiment Hoortoestellen'!$B$26),PROPER('Dataset hoortoestellen'!D631))),0,1))","v":1}]
["Audibene",4,"Coselgi","U10E-FP","COS-0153",{"$f":"IF(ISBLANK('Assortiment Hoortoestellen'!$B$26),1,IF(ISERROR(SEARCH(PROPER('Assortiment Hoortoestellen'!$B$26),PROPER('Dataset hoortoestellen'!D632))),0,1))","v":1}]
["Audibene",4,"Coselgi","U10E-FS (HP-tel)","COS-0154",{"$f":"IF(ISBLANK('Assortiment Hoortoestellen'!$B$26),1,IF(ISERROR(SEARCH(PROPER('Assortiment Hoortoestellen'!$B$26),PROPER('Dataset hoortoestellen'!D633))),0,1))","v":1}]
["Audibene",4,"Coselgi","U10E-FS (M-tel)","COS-0155",{"$f":"IF(ISBLANK('Assortiment Hoortoestellen'!$B$26),1,IF(ISERROR(SEARCH(PROPER('Assortiment Hoortoestellen'!$B$26),PROPER('Dataset hoortoestellen'!D634))),0,1))","v":1}]
["Audibene",4,"Coselgi","U10E-FS (P-tel)","COS-0156",{"$f":"IF(ISBLANK('Assortiment Hoortoestellen'!$B$26),1,IF(ISERROR(SEARCH(PROPER('Assortiment Hoortoestellen'!$B$26),PROPER('Dataset hoortoestellen'!D635))),0,1))","v":1}]
["Audibene",4,"Coselgi","U10E-FS (S-tel)","COS-0157",{"$f":"IF(ISBLANK('Assortiment Hoortoestellen'!$B$26),1,IF(ISERROR(SEARCH(PROPER('Assortiment Hoortoestellen'!$B$26),PROPER('Dataset hoortoestellen'!D636))),0,1))","v":1}]
["Audibene",4,"Coselgi","U10E-PA (M-tel)","COS-0158",{"$f":"IF(ISBLANK('Assortiment Hoortoestellen'!$B$26),1,IF(ISERROR(SEARCH(PROPER('Assortiment Hoortoestellen'!$B$26),PROPER('Dataset hoortoestellen'!D637))),0,1))","v":1}]
["Audibene",4,"Coselgi","U10E-PA (S-tel)","COS-0159",{"$f":"IF(ISBLANK('Assortiment Hoortoestellen'!$B$26),1,IF(ISERROR(SEARCH(PROPER('Assortiment Hoortoestellen'!$B$26),PROPER('Dataset hoortoestellen'!D638))),0,1))","v":1}]
["Audibene",4,"Coselgi","U10E-XP","COS-0160",{"$f":"IF(ISBLANK('Assortiment Hoortoestellen'!$B$26),1,IF(ISERROR(SEARCH(PROPER('Assortiment Hoortoestellen'!$B$26),PROPER('Dataset hoortoestellen'!D639))),0,1))","v":1}]
["Audibene",5,"Coselgi","U15-CIC (links)","COS-0161",{"$f":"IF(ISBLANK('Assortiment Hoortoestellen'!$B$26),1,IF(ISERROR(SEARCH(PROPER('Assortiment Hoortoestellen'!$B$26),PROPER('Dataset hoortoestellen'!D640))),0,1))","v":1}]
["Audibene",5,"Coselgi","U15-CIC TR (links)","COS-0162",{"$f":"IF(ISBLANK('Assortiment Hoortoestellen'!$B$26),1,IF(ISERROR(SEARCH(PROPER('Assortiment Hoortoestellen'!$B$26),PROPER('Dataset hoortoestellen'!D641))),0,1))","v":1}]
["Audibene",5,"Coselgi","U15-FA","COS-0163",{"$f":"IF(ISBLANK('Assortiment Hoortoestellen'!$B$26),1,IF(ISERROR(SEARCH(PROPER('Assortiment Hoortoestellen'!$B$26),PROPER('Dataset hoortoestellen'!D642))),0,1))","v":1}]
["Audibene",5,"Coselgi","U15-FM","COS-0164",{"$f":"IF(ISBLANK('Assortiment Hoortoestellen'!$B$26),1,IF(ISERROR(SEARCH(PROPER('Assortiment Hoortoestellen'!$B$26),PROPER('Dataset hoortoestellen'!D643))),0,1))","v":1}]
["Audibene",5,"Coselgi","U15-FP","COS-0165",{"$f":"IF(ISBLANK('Assortiment Hoortoestellen'!$B$26),1,IF(ISERROR(SEARCH(PROPER('Assortiment Hoortoestellen'!$B$26),PROPER('Dataset hoortoestellen'!D644))),0,1))","v":1}]
["Audibene",5,"Coselgi","U15-FS (HP-tel)","COS-0166",{"$f":"IF(ISBLANK('Assortiment Hoortoestellen'!$B$26),1,IF(ISERROR(SEARCH(PROPER('Assortiment Hoortoestellen'!$B$26),PROPER('Dataset hoortoestellen'!D645))),0,1))","v":1}]
["Audibene",5,"Coselgi","U15-FS (M-tel)","COS-0167",{"$f":"IF(ISBLANK('Assortiment Hoortoestellen'!$B$26),1,IF(ISERROR(SEARCH(PROPER('Assortiment Hoortoestellen'!$B$26),PROPER('Dataset hoortoestellen'!D646))),0,1))","v":1}]
["Audibene",5,"Coselgi","U15-FS (P-tel)","COS-0168",{"$f":"IF(ISBLANK('Assortiment Hoortoestellen'!$B$26),1,IF(ISERROR(SEARCH(PROPER('Assortiment Hoortoestellen'!$B$26),PROPER('Dataset hoortoestellen'!D647))),0,1))","v":1}]
["Audibene",5,"Coselgi","U15-FS (S-tel)","COS-0169",{"$f":"IF(ISBLANK('Assortiment Hoortoestellen'!$B$26),1,IF(ISERROR(SEARCH(PROPER('Assortiment Hoortoestellen'!$B$26),PROPER('Dataset hoortoestellen'!D648))),0,1))","v":1}]
["Audibene",5,"Coselgi","U15-PA (M-tel)","COS-0170",{"$f":"IF(ISBLANK('Assortiment Hoortoestellen'!$B$26),1,IF(ISERROR(SEARCH(PROPER('Assortiment Hoortoestellen'!$B$26),PROPER('Dataset hoortoestellen'!D649))),0,1))","v":1}]
["Audibene",5,"Coselgi","U15-XP","COS-0172",{"$f":"IF(ISBLANK('Assortiment Hoortoestellen'!$B$26),1,IF(ISERROR(SEARCH(PROPER('Assortiment Hoortoestellen'!$B$26),PROPER('Dataset hoortoestellen'!D650))),0,1))","v":1}]
["Audibene",2,"Coselgi","U6-CIC (links)","COS-0241",{"$f":"IF(ISBLANK('Assortiment Hoortoestellen'!$B$26),1,IF(ISERROR(SEARCH(PROPER('Assortiment Hoortoestellen'!$B$26),PROPER('Dataset hoortoestellen'!D651))),0,1))","v":1}]
["Audibene",2,"Coselgi","U6-CIC TR (links)","COS-0242",{"$f":"IF(ISBLANK('Assortiment Hoortoestellen'!$B$26),1,IF(ISERROR(SEARCH(PROPER('Assortiment Hoortoestellen'!$B$26),PROPER('Dataset hoortoestellen'!D652))),0,1))","v":1}]
["Audibene",2,"Coselgi","U6-FA","COS-0243",{"$f":"IF(ISBLANK('Assortiment Hoortoestellen'!$B$26),1,IF(ISERROR(SEARCH(PROPER('Assortiment Hoortoestellen'!$B$26),PROPER('Dataset hoortoestellen'!D653))),0,1))","v":1}]
["Audibene",2,"Coselgi","U6-FM","COS-0244",{"$f":"IF(ISBLANK('Assortiment Hoortoestellen'!$B$26),1,IF(ISERROR(SEARCH(PROPER('Assortiment Hoortoestellen'!$B$26),PROPER('Dataset hoortoestellen'!D654))),0,1))","v":1}]
["Audibene",2,"Coselgi","U6-FP","COS-0245",{"$f":"IF(ISBLANK('Assortiment Hoortoestellen'!$B$26),1,IF(ISERROR(SEARCH(PROPER('Assortiment Hoortoestellen'!$B$26),PROPER('Dataset hoortoestellen'!D655))),0,1))","v":1}]
["Audibene",2,"Coselgi","U6-FS (HP-tel)","COS-0246",{"$f":"IF(ISBLANK('Assortiment Hoortoestellen'!$B$26),1,IF(ISERROR(SEARCH(PROPER('Assortiment Hoortoestellen'!$B$26),PROPER('Dataset hoortoestellen'!D656))),0,1))","v":1}]
["Audibene",2,"Coselgi","U6-FS (M-tel)","COS-0247",{"$f":"IF(ISBLANK('Assortiment Hoortoestellen'!$B$26),1,IF(ISERROR(SEARCH(PROPER('Assortiment Hoortoestellen'!$B$26),PROPER('Dataset hoortoestellen'!D657))),0,1))","v":1}]
["Audibene",2,"Coselgi","U6-FS (P-tel)","COS-0248",{"$f":"IF(ISBLANK('Assortiment Hoortoestellen'!$B$26),1,IF(ISERROR(SEARCH(PROPER('Assortiment Hoortoestellen'!$B$26),PROPER('Dataset hoortoestellen'!D658))),0,1))","v":1}]
["Audibene",2,"Coselgi","U6-FS (S-tel)","COS-0249",{"$f":"IF(ISBLANK('Assortiment Hoortoestellen'!$B$26),1,IF(ISERROR(SEARCH(PROPER('Assortiment Hoortoestellen'!$B$26),PROPER('Dataset hoortoestellen'!D659))),0,1))","v":1}]
["Audibene",2,"Coselgi","U6-PA (M-tel)","COS-0250",{"$f":"IF(ISBLANK('Assortiment Hoortoestellen'!$B$26),1,IF(ISERROR(SEARCH(PROPER('Assortiment Hoortoestellen'!$B$26),PROPER('Dataset hoortoestellen'!D660))),0,1))","v":1}]
["Audibene",2,"Coselgi","U6-PA (S-tel)","COS-0251",{"$f":"IF(ISBLANK('Assortiment Hoortoestellen'!$B$26),1,IF(ISERROR(SEARCH(PROPER('Assortiment Hoortoestellen'!$B$26),PROPER('Dataset hoortoestellen'!D661))),0,1))","v":1}]
["Audibene",2,"Coselgi","U6-XP","COS-0252",{"$f":"IF(ISBLANK('Assortiment Hoortoestellen'!$B$26),1,IF(ISERROR(SEARCH(PROPER('Assortiment Hoortoestellen'!$B$26),PROPER('Dataset hoortoestellen'!D662))),0,1))","v":1}]
["Audibene",3,"Coselgi","U6E-FA","COS-0255",{"$f":"IF(ISBLANK('Assortiment Hoortoestellen'!$B$26),1,IF(ISERROR(SEARCH(PROPER('Assortiment Hoortoestellen'!$B$26),PROPER('Dataset hoortoestellen'!D663))),0,1))","v":1}]
["Audibene",3,"Coselgi","U6E-FM","COS-0256",{"$f":"IF(ISBLANK('Assortiment Hoortoestellen'!$B$26),1,IF(ISERROR(SEARCH(PROPER('Assortiment Hoortoestellen'!$B$26),PROPER('Dataset hoortoestellen'!D664))),0,1))","v":1}]
["Audibene",3,"Coselgi","U6E-FP","COS-0257",{"$f":"IF(ISBLANK('Assortiment Hoortoestellen'!$B$26),1,IF(ISERROR(SEARCH(PROPER('Assortiment Hoortoestellen'!$B$26),PROPER('Dataset hoortoestellen'!D665))),0,1))","v":1}]
["Audibene",3,"Coselgi","U6E-FS (HP-tel)","COS-0258",{"$f":"IF(ISBLANK('Assortiment Hoortoestellen'!$B$26),1,IF(ISERROR(SEARCH(PROPER('Assortiment Hoortoestellen'!$B$26),PROPER('Dataset hoortoestellen'!D666))),0,1))","v":1}]
["Audibene",3,"Coselgi","U6E-FS (M-tel)","COS-0259",{"$f":"IF(ISBLANK('Assortiment Hoortoestellen'!$B$26),1,IF(ISERROR(SEARCH(PROPER('Assortiment Hoortoestellen'!$B$26),PROPER('Dataset hoortoestellen'!D667))),0,1))","v":1}]
["Audibene",3,"Coselgi","U6E-FS (P-tel)","COS-0260",{"$f":"IF(ISBLANK('Assortiment Hoortoestellen'!$B$26),1,IF(ISERROR(SEARCH(PROPER('Assortiment Hoortoestellen'!$B$26),PROPER('Dataset hoortoestellen'!D668))),0,1))","v":1}]
["Audibene",3,"Coselgi","U6E-FS (S-tel)","COS-0261",{"$f":"IF(ISBLANK('Assortiment Hoortoestellen'!$B$26),1,IF(ISERROR(SEARCH(PROPER('Assortiment Hoortoestellen'!$B$26),PROPER('Dataset hoortoestellen'!D669))),0,1))","v":1}]
["Audibene",3,"Coselgi","U6E-PA (M-tel)","COS-0262",{"$f":"IF(ISBLANK('Assortiment Hoortoestellen'!$B$26),1,IF(ISERROR(SEARCH(PROPER('Assortiment Hoortoestellen'!$B$26),PROPER('Dataset hoortoestellen'!D670))),0,1))","v":1}]
["Audibene",3,"Coselgi","U6E-PA (S-tel)","COS-0263",{"$f":"IF(ISBLANK('Assortiment Hoortoestellen'!$B$26),1,IF(ISERROR(SEARCH(PROPER('Assortiment Hoortoestellen'!$B$26),PROPER('Dataset hoortoestellen'!D671))),0,1))","v":1}]
["Audibene",3,"Coselgi","U6E-XP","COS-0264",{"$f":"IF(ISBLANK('Assortiment Hoortoestellen'!$B$26),1,IF(ISERROR(SEARCH(PROPER('Assortiment Hoortoestellen'!$B$26),PROPER('Dataset hoortoestellen'!D672))),0,1))","v":1}]
["Audibene",3,"Coselgi","U6-CIC (rechts)","COS-0271",{"$f":"IF(ISBLANK('Assortiment Hoortoestellen'!$B$26),1,IF(ISERROR(SEARCH(PROPER('Assortiment Hoortoestellen'!$B$26),PROPER('Dataset hoortoestellen'!D673))),0,1))","v":1}]
["Audibene",3,"Coselgi","U6-CIC TR (rechts)","COS-0272",{"$f":"IF(ISBLANK('Assortiment Hoortoestellen'!$B$26),1,IF(ISERROR(SEARCH(PROPER('Assortiment Hoortoestellen'!$B$26),PROPER('Dataset hoortoestellen'!D674))),0,1))","v":1}]
["Audibene",1,"ReSound","Vea 180 VI","RES-0009",{"$f":"IF(ISBLANK('Assortiment Hoortoestellen'!$B$26),1,IF(ISERROR(SEARCH(PROPER('Assortiment Hoortoestellen'!$B$26),PROPER('Dataset hoortoestellen'!D675))),0,1))","v":1}]
["Audibene",1,"ReSound","Vea 170 VI","RES-0010",{"$f":"IF(ISBLANK('Assortiment Hoortoestellen'!$B$26),1,IF(ISERROR(SEARCH(PROPER('Assortiment Hoortoestellen'!$B$26),PROPER('Dataset hoortoestellen'!D676))),0,1))","v":1}]
["Audibene",1,"ReSound","Vea 130 -/P","RES-0011",{"$f":"IF(ISBLANK('Assortiment Hoortoestellen'!$B$26),1,IF(ISERROR(SEARCH(PROPER('Assortiment Hoortoestellen'!$B$26),PROPER('Dataset hoortoestellen'!D677))),0,1))","v":1}]
["Audibene",2,"ReSound","Enya 3 ITC","RES-0212",{"$f":"IF(ISBLANK('Assortiment Hoortoestellen'!$B$26),1,IF(ISERROR(SEARCH(PROPER('Assortiment Hoortoestellen'!$B$26),PROPER('Dataset hoortoestellen'!D678))),0,1))","v":1}]
["Audibene",2,"ReSound","Enya 362-DRW","RES-0213",{"$f":"IF(ISBLANK('Assortiment Hoortoestellen'!$B$26),1,IF(ISERROR(SEARCH(PROPER('Assortiment Hoortoestellen'!$B$26),PROPER('Dataset hoortoestellen'!D679))),0,1))","v":1}]
["Audibene",2,"ReSound","Enya 367-DW","RES-0214",{"$f":"IF(ISBLANK('Assortiment Hoortoestellen'!$B$26),1,IF(ISERROR(SEARCH(PROPER('Assortiment Hoortoestellen'!$B$26),PROPER('Dataset hoortoestellen'!D680))),0,1))","v":1}]
["Audibene",2,"ReSound","Enya 377-DW","RES-0215",{"$f":"IF(ISBLANK('Assortiment Hoortoestellen'!$B$26),1,IF(ISERROR(SEARCH(PROPER('Assortiment Hoortoestellen'!$B$26),PROPER('Dataset hoortoestellen'!D681))),0,1))","v":1}]
["Audibene",2,"ReSound","Enya 388-DW","RES-0216",{"$f":"IF(ISBLANK('Assortiment Hoortoestellen'!$B$26),1,IF(ISERROR(SEARCH(PROPER('Assortiment Hoortoestellen'!$B$26),PROPER('Dataset hoortoestellen'!D682))),0,1))","v":1}]
["Audibene",2,"ReSound","MagnaSP 490 DVI","RES-0227",{"$f":"IF(ISBLANK('Assortiment Hoortoestellen'!$B$26),1,IF(ISERROR(SEARCH(PROPER('Assortiment Hoortoestellen'!$B$26),PROPER('Dataset hoortoestellen'!D683))),0,1))","v":1}]
["Audibene",3,"ReSound","Ligo 4 CIC","RES-0262",{"$f":"IF(ISBLANK('Assortiment Hoortoestellen'!$B$26),1,IF(ISERROR(SEARCH(PROPER('Assortiment Hoortoestellen'!$B$26),PROPER('Dataset hoortoestellen'!D684))),0,1))","v":1}]
["Audibene",3,"ReSound","Ligo 4 ITC-DW","RES-0263",{"$f":"IF(ISBLANK('Assortiment Hoortoestellen'!$B$26),1,IF(ISERROR(SEARCH(PROPER('Assortiment Hoortoestellen'!$B$26),PROPER('Dataset hoortoestellen'!D685))),0,1))","v":1}]
["Audibene",3,"ReSound","Ligo 461-DRW","RES-0264",{"$f":"IF(ISBLANK('Assortiment Hoortoestellen'!$B$26),1,IF(ISERROR(SEARCH(PROPER('Assortiment Hoortoestellen'!$B$26),PROPER('Dataset hoortoestellen'!D686))),0,1))","v":1}]
["Audibene",3,"ReSound","Ligo 462-DRW","RES-0265",{"$f":"IF(ISBLANK('Assortiment Hoortoestellen'!$B$26),1,IF(ISERROR(SEARCH(PROPER('Assortiment Hoortoestellen'!$B$26),PROPER('Dataset hoortoestellen'!D687))),0,1))","v":1}]
["Audibene",3,"ReSound","Ligo 477-DW","RES-0267",{"$f":"IF(ISBLANK('Assortiment Hoortoestellen'!$B$26),1,IF(ISERROR(SEARCH(PROPER('Assortiment Hoortoestellen'!$B$26),PROPER('Dataset hoortoestellen'!D688))),0,1))","v":1}]
["Audibene",3,"ReSound","Ligo 488-DW","RES-0268",{"$f":"IF(ISBLANK('Assortiment Hoortoestellen'!$B$26),1,IF(ISERROR(SEARCH(PROPER('Assortiment Hoortoestellen'!$B$26),PROPER('Dataset hoortoestellen'!D689))),0,1))","v":1}]
["Audibene",3,"ReSound","Ligo 498-DW","RES-0269",{"$f":"IF(ISBLANK('Assortiment Hoortoestellen'!$B$26),1,IF(ISERROR(SEARCH(PROPER('Assortiment Hoortoestellen'!$B$26),PROPER('Dataset hoortoestellen'!D690))),0,1))","v":1}]
["Audibene",4,"ReSound","Ligo 5 CIC","RES-0270",{"$f":"IF(ISBLANK('Assortiment Hoortoestellen'!$B$26),1,IF(ISERROR(SEARCH(PROPER('Assortiment Hoortoestellen'!$B$26),PROPER('Dataset hoortoestellen'!D691))),0,1))","v":1}]
["Audibene",4,"ReSound","Ligo 5 ITC-DW","RES-0271",{"$f":"IF(ISBLANK('Assortiment Hoortoestellen'!$B$26),1,IF(ISERROR(SEARCH(PROPER('Assortiment Hoortoestellen'!$B$26),PROPER('Dataset hoortoestellen'!D692))),0,1))","v":1}]
["Audibene",4,"ReSound","Ligo 561-DRW","RES-0272",{"$f":"IF(ISBLANK('Assortiment Hoortoestellen'!$B$26),1,IF(ISERROR(SEARCH(PROPER('Assortiment Hoortoestellen'!$B$26),PROPER('Dataset hoortoestellen'!D693))),0,1))","v":1}]
["Audibene",4,"ReSound","Ligo 562-DRW","RES-0273",{"$f":"IF(ISBLANK('Assortiment Hoortoestellen'!$B$26),1,IF(ISERROR(SEARCH(PROPER('Assortiment Hoortoestellen'!$B$26),PROPER('Dataset hoortoestellen'!D694))),0,1))","v":1}]
["Audibene",4,"ReSound","Ligo 567-DW","RES-0274",{"$f":"IF(ISBLANK('Assortiment Hoortoestellen'!$B$26),1,IF(ISERROR(SEARCH(PROPER('Assortiment Hoortoestellen'!$B$26),PROPER('Dataset hoortoestellen'!D695))),0,1))","v":1}]
["Audibene",4,"ReSound","Ligo 577-DW","RES-0275",{"$f":"IF(ISBLANK('Assortiment Hoortoestellen'!$B$26),1,IF(ISERROR(SEARCH(PROPER('Assortiment Hoortoestellen'!$B$26),PROPER('Dataset hoortoestellen'!D696))),0,1))","v":1}]
["Audibene",4,"ReSound","Ligo 588-DW","RES-0276",{"$f":"IF(ISBLANK('Assortiment Hoortoestellen'!$B$26),1,IF(ISERROR(SEARCH(PROPER('Assortiment Hoortoestellen'!$B$26),PROPER('Dataset hoortoestellen'!D697))),0,1))","v":1}]
["Audibene",4,"ReSound","Ligo 598-DW","RES-0277",{"$f":"IF(ISBLANK('Assortiment Hoortoestellen'!$B$26),1,IF(ISERROR(SEARCH(PROPER('Assortiment Hoortoestellen'!$B$26),PROPER('Dataset hoortoestellen'!D698))),0,1))","v":1}]
["Audibene",5,"ReSound","Ligo 7 CIC","RES-0278",{"$f":"IF(ISBLANK('Assortiment Hoortoestellen'!$B$26),1,IF(ISERROR(SEARCH(PROPER('Assortiment Hoortoestellen'!$B$26),PROPER('Dataset hoortoestellen'!D699))),0,1))","v":1}]
["Audibene",5,"ReSound","Ligo 7 ITC-DW","RES-0279",{"$f":"IF(ISBLANK('Assortiment Hoortoestellen'!$B$26),1,IF(ISERROR(SEARCH(PROPER('Assortiment Hoortoestellen'!$B$26),PROPER('Dataset hoortoestellen'!D700))),0,1))","v":1}]
["Audibene",5,"ReSound","Ligo 761-DRW","RES-0280",{"$f":"IF(ISBLANK('Assortiment Hoortoestellen'!$B$26),1,IF(ISERROR(SEARCH(PROPER('Assortiment Hoortoestellen'!$B$26),PROPER('Dataset hoortoestellen'!D701))),0,1))","v":1}]
["Audibene",5,"ReSound","Ligo 762-DRW","RES-0281",{"$f":"IF(ISBLANK('Assortiment Hoortoestellen'!$B$26),1,IF(ISERROR(SEARCH(PROPER('Assortiment Hoortoestellen'!$B$26),PROPER('Dataset hoortoestellen'!D702))),0,1))","v":1}]
["Audibene",5,"ReSound","Ligo 767-DW","RES-0282",{"$f":"IF(ISBLANK('Assortiment Hoortoestellen'!$B$26),1,IF(ISERROR(SEARCH(PROPER('Assortiment Hoortoestellen'!$B$26),PROPER('Dataset hoortoestellen'!D703))),0,1))","v":1}]
["Audibene",5,"ReSound","Ligo 777-DW","RES-0283",{"$f":"IF(ISBLANK('Assortiment Hoortoestellen'!$B$26),1,IF(ISERROR(SEARCH(PROPER('Assortiment Hoortoestellen'!$B$26),PROPER('Dataset hoortoestellen'!D704))),0,1))","v":1}]
["Audibene",5,"ReSound","Ligo 788-DW","RES-0284",{"$f":"IF(ISBLANK('Assortiment Hoortoestellen'!$B$26),1,IF(ISERROR(SEARCH(PROPER('Assortiment Hoortoestellen'!$B$26),PROPER('Dataset hoortoestellen'!D705))),0,1))","v":1}]
["Audibene",5,"ReSound","Ligo 798-DW","RES-0285",{"$f":"IF(ISBLANK('Assortiment Hoortoestellen'!$B$26),1,IF(ISERROR(SEARCH(PROPER('Assortiment Hoortoestellen'!$B$26),PROPER('Dataset hoortoestellen'!D706))),0,1))","v":1}]
["Audibene",3,"Widex","U110-CIC","WID-0404",{"$f":"IF(ISBLANK('Assortiment Hoortoestellen'!$B$26),1,IF(ISERROR(SEARCH(PROPER('Assortiment Hoortoestellen'!$B$26),PROPER('Dataset hoortoestellen'!D707))),0,1))","v":1}]
["Audibene",3,"Widex","U110-CIC TR","WID-0405",{"$f":"IF(ISBLANK('Assortiment Hoortoestellen'!$B$26),1,IF(ISERROR(SEARCH(PROPER('Assortiment Hoortoestellen'!$B$26),PROPER('Dataset hoortoestellen'!D708))),0,1))","v":1}]
["Audibene",3,"Widex","U110-CIC-M","WID-0406",{"$f":"IF(ISBLANK('Assortiment Hoortoestellen'!$B$26),1,IF(ISERROR(SEARCH(PROPER('Assortiment Hoortoestellen'!$B$26),PROPER('Dataset hoortoestellen'!D709))),0,1))","v":1}]
["Audibene",3,"Widex","U110-CIC-M TR","WID-0407",{"$f":"IF(ISBLANK('Assortiment Hoortoestellen'!$B$26),1,IF(ISERROR(SEARCH(PROPER('Assortiment Hoortoestellen'!$B$26),PROPER('Dataset hoortoestellen'!D710))),0,1))","v":1}]
["Audibene",3,"Widex","U110-FA","WID-0408",{"$f":"IF(ISBLANK('Assortiment Hoortoestellen'!$B$26),1,IF(ISERROR(SEARCH(PROPER('Assortiment Hoortoestellen'!$B$26),PROPER('Dataset hoortoestellen'!D711))),0,1))","v":1}]
["Audibene",3,"Widex","U110-FM","WID-0409",{"$f":"IF(ISBLANK('Assortiment Hoortoestellen'!$B$26),1,IF(ISERROR(SEARCH(PROPER('Assortiment Hoortoestellen'!$B$26),PROPER('Dataset hoortoestellen'!D712))),0,1))","v":1}]
["Audibene",3,"Widex","U110-FP","WID-0410",{"$f":"IF(ISBLANK('Assortiment Hoortoestellen'!$B$26),1,IF(ISERROR(SEARCH(PROPER('Assortiment Hoortoestellen'!$B$26),PROPER('Dataset hoortoestellen'!D713))),0,1))","v":1}]
["Audibene",3,"Widex","U110-FS (HP-tel)","WID-0411",{"$f":"IF(ISBLANK('Assortiment Hoortoestellen'!$B$26),1,IF(ISERROR(SEARCH(PROPER('Assortiment Hoortoestellen'!$B$26),PROPER('Dataset hoortoestellen'!D714))),0,1))","v":1}]
["Audibene",3,"Widex","U110-FS (M-tel)","WID-0412",{"$f":"IF(ISBLANK('Assortiment Hoortoestellen'!$B$26),1,IF(ISERROR(SEARCH(PROPER('Assortiment Hoortoestellen'!$B$26),PROPER('Dataset hoortoestellen'!D715))),0,1))","v":1}]
["Audibene",3,"Widex","U110-FS (P-tel)","WID-0413",{"$f":"IF(ISBLANK('Assortiment Hoortoestellen'!$B$26),1,IF(ISERROR(SEARCH(PROPER('Assortiment Hoortoestellen'!$B$26),PROPER('Dataset hoortoestellen'!D716))),0,1))","v":1}]
["Audibene",3,"Widex","U110-FS (S-tel)","WID-0414",{"$f":"IF(ISBLANK('Assortiment Hoortoestellen'!$B$26),1,IF(ISERROR(SEARCH(PROPER('Assortiment Hoortoestellen'!$B$26),PROPER('Dataset hoortoestellen'!D717))),0,1))","v":1}]
["Audibene",3,"Widex","U110-PA (M-tel)","WID-0415",{"$f":"IF(ISBLANK('Assortiment Hoortoestellen'!$B$26),1,IF(ISERROR(SEARCH(PROPER('Assortiment Hoortoestellen'!$B$26),PROPER('Dataset hoortoestellen'!D718))),0,1))","v":1}]
["Audibene",3,"Widex","U110-PA (S-tel)","WID-0416",{"$f":"IF(ISBLANK('Assortiment Hoortoestellen'!$B$26),1,IF(ISERROR(SEARCH(PROPER('Assortiment Hoortoestellen'!$B$26),PROPER('Dataset hoortoestellen'!D719))),0,1))","v":1}]
["Audibene",3,"Widex","U110-XP","WID-0417",{"$f":"IF(ISBLANK('Assortiment Hoortoestellen'!$B$26),1,IF(ISERROR(SEARCH(PROPER('Assortiment Hoortoestellen'!$B$26),PROPER('Dataset hoortoestellen'!D720))),0,1))","v":1}]
["Audibene",3,"Widex","U220-CIC","WID-0418",{"$f":"IF(ISBLANK('Assortiment Hoortoestellen'!$B$26),1,IF(ISERROR(SEARCH(PROPER('Assortiment Hoortoestellen'!$B$26),PROPER('Dataset hoortoestellen'!D721))),0,1))","v":1}]
["Audibene",3,"Widex","U220-CIC TR","WID-0419",{"$f":"IF(ISBLANK('Assortiment Hoortoestellen'!$B$26),1,IF(ISERROR(SEARCH(PROPER('Assortiment Hoortoestellen'!$B$26),PROPER('Dataset hoortoestellen'!D722))),0,1))","v":1}]
["Audibene",3,"Widex","U220-CIC-M","WID-0420",{"$f":"IF(ISBLANK('Assortiment Hoortoestellen'!$B$26),1,IF(ISERROR(SEARCH(PROPER('Assortiment Hoortoestellen'!$B$26),PROPER('Dataset hoortoestellen'!D723))),0,1))","v":1}]
["Audibene",3,"Widex","U220-CIC-M TR","WID-0421",{"$f":"IF(ISBLANK('Assortiment Hoortoestellen'!$B$26),1,IF(ISERROR(SEARCH(PROPER('Assortiment Hoortoestellen'!$B$26),PROPER('Dataset hoortoestellen'!D724))),0,1))","v":1}]
["Audibene",3,"Widex","U220-FA","WID-0422",{"$f":"IF(ISBLANK('Assortiment Hoortoestellen'!$B$26),1,IF(ISERROR(SEARCH(PROPER('Assortiment Hoortoestellen'!$B$26),PROPER('Dataset hoortoestellen'!D725))),0,1))","v":1}]
["Audibene",3,"Widex","U220-FM","WID-0423",{"$f":"IF(ISBLANK('Assortiment Hoortoestellen'!$B$26),1,IF(ISERROR(SEARCH(PROPER('Assortiment Hoortoestellen'!$B$26),PROPER('Dataset hoortoestellen'!D726))),0,1))","v":1}]
["Audibene",3,"Widex","U220-FS (HP-tel)","WID-0424",{"$f":"IF(ISBLANK('Assortiment Hoortoestellen'!$B$26),1,IF(ISERROR(SEARCH(PROPER('Assortiment Hoortoestellen'!$B$26),PROPER('Dataset hoortoestellen'!D727))),0,1))","v":1}]
["Audibene",3,"Widex","U220-FS (M-tel)","WID-0425",{"$f":"IF(ISBLANK('Assortiment Hoortoestellen'!$B$26),1,IF(ISERROR(SEARCH(PROPER('Assortiment Hoortoestellen'!$B$26),PROPER('Dataset hoortoestellen'!D728))),0,1))","v":1}]
["Audibene",3,"Widex","U220-FS (P-tel)","WID-0426",{"$f":"IF(ISBLANK('Assortiment Hoortoestellen'!$B$26),1,IF(ISERROR(SEARCH(PROPER('Assortiment Hoortoestellen'!$B$26),PROPER('Dataset hoortoestellen'!D729))),0,1))","v":1}]
["Audibene",3,"Widex","U220-FS (S-tel)","WID-0427",{"$f":"IF(ISBLANK('Assortiment Hoortoestellen'!$B$26),1,IF(ISERROR(SEARCH(PROPER('Assortiment Hoortoestellen'!$B$26),PROPER('Dataset hoortoestellen'!D730))),0,1))","v":1}]
["Audibene",3,"Widex","U220-PA (M-tel)","WID-0428",{"$f":"IF(ISBLANK('Assortiment Hoortoestellen'!$B$26),1,IF(ISERROR(SEARCH(PROPER('Assortiment Hoortoestellen'!$B$26),PROPER('Dataset hoortoestellen'!D731))),0,1))","v":1}]
["Audibene",3,"Widex","U220-PA (S-tel)","WID-0429",{"$f":"IF(ISBLANK('Assortiment Hoortoestellen'!$B$26),1,IF(ISERROR(SEARCH(PROPER('Assortiment Hoortoestellen'!$B$26),PROPER('Dataset hoortoestellen'!D732))),0,1))","v":1}]
["Audibene",3,"Widex","U220-XP","WID-0430",{"$f":"IF(ISBLANK('Assortiment Hoortoestellen'!$B$26),1,IF(ISERROR(SEARCH(PROPER('Assortiment Hoortoestellen'!$B$26),PROPER('Dataset hoortoestellen'!D733))),0,1))","v":1}]
["Audibene",4,"Widex","U330-CIC","WID-0431",{"$f":"IF(ISBLANK('Assortiment Hoortoestellen'!$B$26),1,IF(ISERROR(SEARCH(PROPER('Assortiment Hoortoestellen'!$B$26),PROPER('Dataset hoortoestellen'!D734))),0,1))","v":1}]
["Audibene",4,"Widex","U330-CIC TR","WID-0432",{"$f":"IF(ISBLANK('Assortiment Hoortoestellen'!$B$26),1,IF(ISERROR(SEARCH(PROPER('Assortiment Hoortoestellen'!$B$26),PROPER('Dataset hoortoestellen'!D735))),0,1))","v":1}]
["Audibene",4,"Widex","U330-CIC-M","WID-0433",{"$f":"IF(ISBLANK('Assortiment Hoortoestellen'!$B$26),1,IF(ISERROR(SEARCH(PROPER('Assortiment Hoortoestellen'!$B$26),PROPER('Dataset hoortoestellen'!D736))),0,1))","v":1}]
["Audibene",4,"Widex","U330-CIC-M TR","WID-0434",{"$f":"IF(ISBLANK('Assortiment Hoortoestellen'!$B$26),1,IF(ISERROR(SEARCH(PROPER('Assortiment Hoortoestellen'!$B$26),PROPER('Dataset hoortoestellen'!D737))),0,1))","v":1}]
["Audibene",4,"Widex","U330-FA","WID-0435",{"$f":"IF(ISBLANK('Assortiment Hoortoestellen'!$B$26),1,IF(ISERROR(SEARCH(PROPER('Assortiment Hoortoestellen'!$B$26),PROPER('Dataset hoortoestellen'!D738))),0,1))","v":1}]
["Audibene",4,"Widex","U330-FM","WID-0436",{"$f":"IF(ISBLANK('Assortiment Hoortoestellen'!$B$26),1,IF(ISERROR(SEARCH(PROPER('Assortiment Hoortoestellen'!$B$26),PROPER('Dataset hoortoestellen'!D739))),0,1))","v":1}]
["Audibene",4,"Widex","U330-FS (HP-tel)","WID-0437",{"$f":"IF(ISBLANK('Assortiment Hoortoestellen'!$B$26),1,IF(ISERROR(SEARCH(PROPER('Assortiment Hoortoestellen'!$B$26),PROPER('Dataset hoortoestellen'!D740))),0,1))","v":1}]
["Audibene",4,"Widex","U330-FS (M-tel)","WID-0438",{"$f":"IF(ISBLANK('Assortiment Hoortoestellen'!$B$26),1,IF(ISERROR(SEARCH(PROPER('Assortiment Hoortoestellen'!$B$26),PROPER('Dataset hoortoestellen'!D741))),0,1))","v":1}]
["Audibene",4,"Widex","U330-FS (P-tel)","WID-0439",{"$f":"IF(ISBLANK('Assortiment Hoortoestellen'!$B$26),1,IF(ISERROR(SEARCH(PROPER('Assortiment Hoortoestellen'!$B$26),PROPER('Dataset hoortoestellen'!D742))),0,1))","v":1}]
["Audibene",4,"Widex","U330-FS (S-tel)","WID-0440",{"$f":"IF(ISBLANK('Assortiment Hoortoestellen'!$B$26),1,IF(ISERROR(SEARCH(PROPER('Assortiment Hoortoestellen'!$B$26),PROPER('Dataset hoortoestellen'!D743))),0,1))","v":1}]
["Audibene",4,"Widex","U330-PA (M-tel)","WID-0441",{"$f":"IF(ISBLANK('Assortiment Hoortoestellen'!$B$26),1,IF(ISERROR(SEARCH(PROPER('Assortiment Hoortoestellen'!$B$26),PROPER('Dataset hoortoestellen'!D744))),0,1))","v":1}]
["Audibene",4,"Widex","U330-PA (S-tel)","WID-0442",{"$f":"IF(ISBLANK('Assortiment Hoortoestellen'!$B$26),1,IF(ISERROR(SEARCH(PROPER('Assortiment Hoortoestellen'!$B$26),PROPER('Dataset hoortoestellen'!D745))),0,1))","v":1}]
["Audibene",4,"Widex","U330-XP","WID-0443",{"$f":"IF(ISBLANK('Assortiment Hoortoestellen'!$B$26),1,IF(ISERROR(SEARCH(PROPER('Assortiment Hoortoestellen'!$B$26),PROPER('Dataset hoortoestellen'!D746))),0,1))","v":1}]
["Audibene",5,"Widex","U440-CIC","WID-0444",{"$f":"IF(ISBLANK('Assortiment Hoortoestellen'!$B$26),1,IF(ISERROR(SEARCH(PROPER('Assortiment Hoortoestellen'!$B$26),PROPER('Dataset hoortoestellen'!D747))),0,1))","v":1}]
["Audibene",5,"Widex","U440-CIC TR","WID-0445",{"$f":"IF(ISBLANK('Assortiment Hoortoestellen'!$B$26),1,IF(ISERROR(SEARCH(PROPER('Assortiment Hoortoestellen'!$B$26),PROPER('Dataset hoortoestellen'!D748))),0,1))","v":1}]
["Audibene",5,"Widex","U440-CIC-M","WID-0446",{"$f":"IF(ISBLANK('Assortiment Hoortoestellen'!$B$26),1,IF(ISERROR(SEARCH(PROPER('Assortiment Hoortoestellen'!$B$26),PROPER('Dataset hoortoestellen'!D749))),0,1))","v":1}]
["Audibene",5,"Widex","U440-CIC-M TR","WID-0447",{"$f":"IF(ISBLANK('Assortiment Hoortoestellen'!$B$26),1,IF(ISERROR(SEARCH(PROPER('Assortiment Hoortoestellen'!$B$26),PROPER('Dataset hoortoestellen'!D750))),0,1))","v":1}]
["Audibene",5,"Widex","U440-FA","WID-0448",{"$f":"IF(ISBLANK('Assortiment Hoortoestellen'!$B$26),1,IF(ISERROR(SEARCH(PROPER('Assortiment Hoortoestellen'!$B$26),PROPER('Dataset hoortoestellen'!D751))),0,1))","v":1}]
["Audibene",5,"Widex","U440-FM","WID-0449",{"$f":"IF(ISBLANK('Assortiment Hoortoestellen'!$B$26),1,IF(ISERROR(SEARCH(PROPER('Assortiment Hoortoestellen'!$B$26),PROPER('Dataset hoortoestellen'!D752))),0,1))","v":1}]
["Audibene",5,"Widex","U440-FS (HP-tel)","WID-0450",{"$f":"IF(ISBLANK('Assortiment Hoortoestellen'!$B$26),1,IF(ISERROR(SEARCH(PROPER('Assortiment Hoortoestellen'!$B$26),PROPER('Dataset hoortoestellen'!D753))),0,1))","v":1}]
["Audibene",5,"Widex","U440-FS (M-tel)","WID-0451",{"$f":"IF(ISBLANK('Assortiment Hoortoestellen'!$B$26),1,IF(ISERROR(SEARCH(PROPER('Assortiment Hoortoestellen'!$B$26),PROPER('Dataset hoortoestellen'!D754))),0,1))","v":1}]
["Audibene",5,"Widex","U440-FS (P-tel)","WID-0452",{"$f":"IF(ISBLANK('Assortiment Hoortoestellen'!$B$26),1,IF(ISERROR(SEARCH(PROPER('Assortiment Hoortoestellen'!$B$26),PROPER('Dataset hoortoestellen'!D755))),0,1))","v":1}]
["Audibene",5,"Widex","U440-FS (S-tel)","WID-0453",{"$f":"IF(ISBLANK('Assortiment Hoortoestellen'!$B$26),1,IF(ISERROR(SEARCH(PROPER('Assortiment Hoortoestellen'!$B$26),PROPER('Dataset hoortoestellen'!D756))),0,1))","v":1}]
["Audibene",5,"Widex","U440-PA (M-tel)","WID-0454",{"$f":"IF(ISBLANK('Assortiment Hoortoestellen'!$B$26),1,IF(ISERROR(SEARCH(PROPER('Assortiment Hoortoestellen'!$B$26),PROPER('Dataset hoortoestellen'!D757))),0,1))","v":1}]
["Audibene",5,"Widex","U440-PA (S-tel)","WID-0455",{"$f":"IF(ISBLANK('Assortiment Hoortoestellen'!$B$26),1,IF(ISERROR(SEARCH(PROPER('Assortiment Hoortoestellen'!$B$26),PROPER('Dataset hoortoestellen'!D758))),0,1))","v":1}]
["Audibene",5,"Widex","U440-XP","WID-0456",{"$f":"IF(ISBLANK('Assortiment Hoortoestellen'!$B$26),1,IF(ISERROR(SEARCH(PROPER('Assortiment Hoortoestellen'!$B$26),PROPER('Dataset hoortoestellen'!D759))),0,1))","v":1}]
["Audibene",3,"Widex","U220-FP","WID-0457",{"$f":"IF(ISBLANK('Assortiment Hoortoestellen'!$B$26),1,IF(ISERROR(SEARCH(PROPER('Assortiment Hoortoestellen'!$B$26),PROPER('Dataset hoortoestellen'!D760))),0,1))","v":1}]
["Audibene",4,"Widex","U330-FP","WID-0458",{"$f":"IF(ISBLANK('Assortiment Hoortoestellen'!$B$26),1,IF(ISERROR(SEARCH(PROPER('Assortiment Hoortoestellen'!$B$26),PROPER('Dataset hoortoestellen'!D761))),0,1))","v":1}]
["Audibene",5,"Widex","U440-FP","WID-0459",{"$f":"IF(ISBLANK('Assortiment Hoortoestellen'!$B$26),1,IF(ISERROR(SEARCH(PROPER('Assortiment Hoortoestellen'!$B$26),PROPER('Dataset hoortoestellen'!D762))),0,1))","v":1}]
["Audibene",3,"Widex","Enjoy E-BTE 13D 110","WID-0545",{"$f":"IF(ISBLANK('Assortiment Hoortoestellen'!$B$26),1,IF(ISERROR(SEARCH(PROPER('Assortiment Hoortoestellen'!$B$26),PROPER('Dataset hoortoestellen'!D763))),0,1))","v":1}]
["Audibene",4,"Widex","Enjoy E-BTE 13D 220","WID-0546",{"$f":"IF(ISBLANK('Assortiment Hoortoestellen'!$B$26),1,IF(ISERROR(SEARCH(PROPER('Assortiment Hoortoestellen'!$B$26),PROPER('Dataset hoortoestellen'!D764))),0,1))","v":1}]
["Audibene",5,"Widex","Enjoy E-BTE 13D 330","WID-0547",{"$f":"IF(ISBLANK('Assortiment Hoortoestellen'!$B$26),1,IF(ISERROR(SEARCH(PROPER('Assortiment Hoortoestellen'!$B$26),PROPER('Dataset hoortoestellen'!D765))),0,1))","v":1}]
["Audibene",2,"Widex","Enjoy E-BTE 13D 50","WID-0549",{"$f":"IF(ISBLANK('Assortiment Hoortoestellen'!$B$26),1,IF(ISERROR(SEARCH(PROPER('Assortiment Hoortoestellen'!$B$26),PROPER('Dataset hoortoestellen'!D766))),0,1))","v":1}]
["Audibene",3,"Widex","Enjoy E-CIC 110 Links","WID-0551",{"$f":"IF(ISBLANK('Assortiment Hoortoestellen'!$B$26),1,IF(ISERROR(SEARCH(PROPER('Assortiment Hoortoestellen'!$B$26),PROPER('Dataset hoortoestellen'!D767))),0,1))","v":1}]
["Audibene",4,"Widex","Enjoy E-CIC 220 Links","WID-0552",{"$f":"IF(ISBLANK('Assortiment Hoortoestellen'!$B$26),1,IF(ISERROR(SEARCH(PROPER('Assortiment Hoortoestellen'!$B$26),PROPER('Dataset hoortoestellen'!D768))),0,1))","v":1}]
["Audibene",5,"Widex","Enjoy E-CIC 330 Links","WID-0553",{"$f":"IF(ISBLANK('Assortiment Hoortoestellen'!$B$26),1,IF(ISERROR(SEARCH(PROPER('Assortiment Hoortoestellen'!$B$26),PROPER('Dataset hoortoestellen'!D769))),0,1))","v":1}]
["Audibene",3,"Widex","Enjoy E-CIC M 110","WID-0557",{"$f":"IF(ISBLANK('Assortiment Hoortoestellen'!$B$26),1,IF(ISERROR(SEARCH(PROPER('Assortiment Hoortoestellen'!$B$26),PROPER('Dataset hoortoestellen'!D770))),0,1))","v":1}]
["Audibene",4,"Widex","Enjoy E-CIC M 220","WID-0558",{"$f":"IF(ISBLANK('Assortiment Hoortoestellen'!$B$26),1,IF(ISERROR(SEARCH(PROPER('Assortiment Hoortoestellen'!$B$26),PROPER('Dataset hoortoestellen'!D771))),0,1))","v":1}]
["Audibene",5,"Widex","Enjoy E-CIC M 330","WID-0559",{"$f":"IF(ISBLANK('Assortiment Hoortoestellen'!$B$26),1,IF(ISERROR(SEARCH(PROPER('Assortiment Hoortoestellen'!$B$26),PROPER('Dataset hoortoestellen'!D772))),0,1))","v":1}]
["Audibene",3,"Widex","Enjoy E-CIC M TR 110","WID-0563",{"$f":"IF(ISBLANK('Assortiment Hoortoestellen'!$B$26),1,IF(ISERROR(SEARCH(PROPER('Assortiment Hoortoestellen'!$B$26),PROPER('Dataset hoortoestellen'!D773))),0,1))","v":1}]
["Audibene",3,"Widex","Enjoy E-CIC TR 110 Links","WID-0569",{"$f":"IF(ISBLANK('Assortiment Hoortoestellen'!$B$26),1,IF(ISERROR(SEARCH(PROPER('Assortiment Hoortoestellen'!$B$26),PROPER('Dataset hoortoestellen'!D774))),0,1))","v":1}]
["Audibene",4,"Widex","Enjoy E-CIC TR 220 Links","WID-0570",{"$f":"IF(ISBLANK('Assortiment Hoortoestellen'!$B$26),1,IF(ISERROR(SEARCH(PROPER('Assortiment Hoortoestellen'!$B$26),PROPER('Dataset hoortoestellen'!D775))),0,1))","v":1}]
["Audibene",5,"Widex","Enjoy E-CIC TR 330 Links","WID-0571",{"$f":"IF(ISBLANK('Assortiment Hoortoestellen'!$B$26),1,IF(ISERROR(SEARCH(PROPER('Assortiment Hoortoestellen'!$B$26),PROPER('Dataset hoortoestellen'!D776))),0,1))","v":1}]
["Audibene",3,"Widex","Enjoy E-F2 110 (HP-tel)","WID-0578",{"$f":"IF(ISBLANK('Assortiment Hoortoestellen'!$B$26),1,IF(ISERROR(SEARCH(PROPER('Assortiment Hoortoestellen'!$B$26),PROPER('Dataset hoortoestellen'!D777))),0,1))","v":1}]
["Audibene",3,"Widex","Enjoy E-F2 110 (M-tel)","WID-0579",{"$f":"IF(ISBLANK('Assortiment Hoortoestellen'!$B$26),1,IF(ISERROR(SEARCH(PROPER('Assortiment Hoortoestellen'!$B$26),PROPER('Dataset hoortoestellen'!D778))),0,1))","v":1}]
["Audibene",3,"Widex","Enjoy E-F2 110 (P-tel)","WID-0580",{"$f":"IF(ISBLANK('Assortiment Hoortoestellen'!$B$26),1,IF(ISERROR(SEARCH(PROPER('Assortiment Hoortoestellen'!$B$26),PROPER('Dataset hoortoestellen'!D779))),0,1))","v":1}]
["Audibene",3,"Widex","Enjoy E-F2 110 (S-tel)","WID-0581",{"$f":"IF(ISBLANK('Assortiment Hoortoestellen'!$B$26),1,IF(ISERROR(SEARCH(PROPER('Assortiment Hoortoestellen'!$B$26),PROPER('Dataset hoortoestellen'!D780))),0,1))","v":1}]
["Audibene",4,"Widex","Enjoy E-F2 220 (HP-tel)","WID-0582",{"$f":"IF(ISBLANK('Assortiment Hoortoestellen'!$B$26),1,IF(ISERROR(SEARCH(PROPER('Assortiment Hoortoestellen'!$B$26),PROPER('Dataset hoortoestellen'!D781))),0,1))","v":1}]
["Audibene",4,"Widex","Enjoy E-F2 220 (M-tel)","WID-0583",{"$f":"IF(ISBLANK('Assortiment Hoortoestellen'!$B$26),1,IF(ISERROR(SEARCH(PROPER('Assortiment Hoortoestellen'!$B$26),PROPER('Dataset hoortoestellen'!D782))),0,1))","v":1}]
["Audibene",4,"Widex","Enjoy E-F2 220 (P-tel)","WID-0584",{"$f":"IF(ISBLANK('Assortiment Hoortoestellen'!$B$26),1,IF(ISERROR(SEARCH(PROPER('Assortiment Hoortoestellen'!$B$26),PROPER('Dataset hoortoestellen'!D783))),0,1))","v":1}]
["Audibene",4,"Widex","Enjoy E-F2 220 (S-tel)","WID-0585",{"$f":"IF(ISBLANK('Assortiment Hoortoestellen'!$B$26),1,IF(ISERROR(SEARCH(PROPER('Assortiment Hoortoestellen'!$B$26),PROPER('Dataset hoortoestellen'!D784))),0,1))","v":1}]
["Audibene",5,"Widex","Enjoy E-F2 330 (HP-tel)","WID-0586",{"$f":"IF(ISBLANK('Assortiment Hoortoestellen'!$B$26),1,IF(ISERROR(SEARCH(PROPER('Assortiment Hoortoestellen'!$B$26),PROPER('Dataset hoortoestellen'!D785))),0,1))","v":1}]
["Audibene",5,"Widex","Enjoy E-F2 330 (M-tel)","WID-0587",{"$f":"IF(ISBLANK('Assortiment Hoortoestellen'!$B$26),1,IF(ISERROR(SEARCH(PROPER('Assortiment Hoortoestellen'!$B$26),PROPER('Dataset hoortoestellen'!D786))),0,1))","v":1}]
["Audibene",5,"Widex","Enjoy E-F2 330 (P-tel)","WID-0588",{"$f":"IF(ISBLANK('Assortiment Hoortoestellen'!$B$26),1,IF(ISERROR(SEARCH(PROPER('Assortiment Hoortoestellen'!$B$26),PROPER('Dataset hoortoestellen'!D787))),0,1))","v":1}]
["Audibene",5,"Widex","Enjoy E-F2 330 (S-tel)","WID-0589",{"$f":"IF(ISBLANK('Assortiment Hoortoestellen'!$B$26),1,IF(ISERROR(SEARCH(PROPER('Assortiment Hoortoestellen'!$B$26),PROPER('Dataset hoortoestellen'!D788))),0,1))","v":1}]
["Audibene",2,"Widex","Enjoy E-F2 50 (HP-tel)","WID-0594",{"$f":"IF(ISBLANK('Assortiment Hoortoestellen'!$B$26),1,IF(ISERROR(SEARCH(PROPER('Assortiment Hoortoestellen'!$B$26),PROPER('Dataset hoortoestellen'!D789))),0,1))","v":1}]
["Audibene",2,"Widex","Enjoy E-F2 50 (M-tel)","WID-0595",{"$f":"IF(ISBLANK('Assortiment Hoortoestellen'!$B$26),1,IF(ISERROR(SEARCH(PROPER('Assortiment Hoortoestellen'!$B$26),PROPER('Dataset hoortoestellen'!D790))),0,1))","v":1}]
["Audibene",2,"Widex","Enjoy E-F2 50 (P-tel)","WID-0596",{"$f":"IF(ISBLANK('Assortiment Hoortoestellen'!$B$26),1,IF(ISERROR(SEARCH(PROPER('Assortiment Hoortoestellen'!$B$26),PROPER('Dataset hoortoestellen'!D791))),0,1))","v":1}]
["Audibene",2,"Widex","Enjoy E-F2 50 (S-tel)","WID-0597",{"$f":"IF(ISBLANK('Assortiment Hoortoestellen'!$B$26),1,IF(ISERROR(SEARCH(PROPER('Assortiment Hoortoestellen'!$B$26),PROPER('Dataset hoortoestellen'!D792))),0,1))","v":1}]
["Audibene",3,"Widex","Enjoy E-FA 110","WID-0599",{"$f":"IF(ISBLANK('Assortiment Hoortoestellen'!$B$26),1,IF(ISERROR(SEARCH(PROPER('Assortiment Hoortoestellen'!$B$26),PROPER('Dataset hoortoestellen'!D793))),0,1))","v":1}]
["Audibene",4,"Widex","Enjoy E-FA 220","WID-0600",{"$f":"IF(ISBLANK('Assortiment Hoortoestellen'!$B$26),1,IF(ISERROR(SEARCH(PROPER('Assortiment Hoortoestellen'!$B$26),PROPER('Dataset hoortoestellen'!D794))),0,1))","v":1}]
["Audibene",5,"Widex","Enjoy E-FA 330","WID-0601",{"$f":"IF(ISBLANK('Assortiment Hoortoestellen'!$B$26),1,IF(ISERROR(SEARCH(PROPER('Assortiment Hoortoestellen'!$B$26),PROPER('Dataset hoortoestellen'!D795))),0,1))","v":1}]
["Audibene",2,"Widex","Enjoy E-FA 50","WID-0603",{"$f":"IF(ISBLANK('Assortiment Hoortoestellen'!$B$26),1,IF(ISERROR(SEARCH(PROPER('Assortiment Hoortoestellen'!$B$26),PROPER('Dataset hoortoestellen'!D796))),0,1))","v":1}]
["Audibene",3,"Widex","Enjoy E-FM 110","WID-0605",{"$f":"IF(ISBLANK('Assortiment Hoortoestellen'!$B$26),1,IF(ISERROR(SEARCH(PROPER('Assortiment Hoortoestellen'!$B$26),PROPER('Dataset hoortoestellen'!D797))),0,1))","v":1}]
["Audibene",4,"Widex","Enjoy E-FM 220","WID-0606",{"$f":"IF(ISBLANK('Assortiment Hoortoestellen'!$B$26),1,IF(ISERROR(SEARCH(PROPER('Assortiment Hoortoestellen'!$B$26),PROPER('Dataset hoortoestellen'!D798))),0,1))","v":1}]
["Audibene",5,"Widex","Enjoy E-FM 330","WID-0607",{"$f":"IF(ISBLANK('Assortiment Hoortoestellen'!$B$26),1,IF(ISERROR(SEARCH(PROPER('Assortiment Hoortoestellen'!$B$26),PROPER('Dataset hoortoestellen'!D799))),0,1))","v":1}]
["Audibene",2,"Widex","Enjoy E-FM 50","WID-0609",{"$f":"IF(ISBLANK('Assortiment Hoortoestellen'!$B$26),1,IF(ISERROR(SEARCH(PROPER('Assortiment Hoortoestellen'!$B$26),PROPER('Dataset hoortoestellen'!D800))),0,1))","v":1}]
["Audibene",3,"Widex","Enjoy E-FP 110","WID-0611",{"$f":"IF(ISBLANK('Assortiment Hoortoestellen'!$B$26),1,IF(ISERROR(SEARCH(PROPER('Assortiment Hoortoestellen'!$B$26),PROPER('Dataset hoortoestellen'!D801))),0,1))","v":1}]
["Audibene",4,"Widex","Enjoy E-FP 220","WID-0612",{"$f":"IF(ISBLANK('Assortiment Hoortoestellen'!$B$26),1,IF(ISERROR(SEARCH(PROPER('Assortiment Hoortoestellen'!$B$26),PROPER('Dataset hoortoestellen'!D802))),0,1))","v":1}]
["Audibene",5,"Widex","Enjoy E-FP 330","WID-0613",{"$f":"IF(ISBLANK('Assortiment Hoortoestellen'!$B$26),1,IF(ISERROR(SEARCH(PROPER('Assortiment Hoortoestellen'!$B$26),PROPER('Dataset hoortoestellen'!D803))),0,1))","v":1}]
["Audibene",2,"Widex","Enjoy E-FP 50","WID-0615",{"$f":"IF(ISBLANK('Assortiment Hoortoestellen'!$B$26),1,IF(ISERROR(SEARCH(PROPER('Assortiment Hoortoestellen'!$B$26),PROPER('Dataset hoortoestellen'!D804))),0,1))","v":1}]
["Audibene",3,"Widex","Enjoy E-FS 110 (HP-tel)","WID-0620",{"$f":"IF(ISBLANK('Assortiment Hoortoestellen'!$B$26),1,IF(ISERROR(SEARCH(PROPER('Assortiment Hoortoestellen'!$B$26),PROPER('Dataset hoortoestellen'!D805))),0,1))","v":1}]
["Audibene",3,"Widex","Enjoy E-FS 110 (M-tel)","WID-0621",{"$f":"IF(ISBLANK('Assortiment Hoortoestellen'!$B$26),1,IF(ISERROR(SEARCH(PROPER('Assortiment Hoortoestellen'!$B$26),PROPER('Dataset hoortoestellen'!D806))),0,1))","v":1}]
["Audibene",3,"Widex","Enjoy E-FS 110 (P-tel)","WID-0622",{"$f":"IF(ISBLANK('Assortiment Hoortoestellen'!$B$26),1,IF(ISERROR(SEARCH(PROPER('Assortiment Hoortoestellen'!$B$26),PROPER('Dataset hoortoestellen'!D807))),0,1))","v":1}]
["Audibene",3,"Widex","Enjoy E-FS 110 (S-tel)","WID-0623",{"$f":"IF(ISBLANK('Assortiment Hoortoestellen'!$B$26),1,IF(ISERROR(SEARCH(PROPER('Assortiment Hoortoestellen'!$B$26),PROPER('Dataset hoortoestellen'!D808))),0,1))","v":1}]
["Audibene",4,"Widex","Enjoy E-FS 220 (HP-tel)","WID-0624",{"$f":"IF(ISBLANK('Assortiment Hoortoestellen'!$B$26),1,IF(ISERROR(SEARCH(PROPER('Assortiment Hoortoestellen'!$B$26),PROPER('Dataset hoortoestellen'!D809))),0,1))","v":1}]
["Audibene",4,"Widex","Enjoy E-FS 220 (M-tel)","WID-0625",{"$f":"IF(ISBLANK('Assortiment Hoortoestellen'!$B$26),1,IF(ISERROR(SEARCH(PROPER('Assortiment Hoortoestellen'!$B$26),PROPER('Dataset hoortoestellen'!D810))),0,1))","v":1}]
["Audibene",4,"Widex","Enjoy E-FS 220 (P-tel)","WID-0626",{"$f":"IF(ISBLANK('Assortiment Hoortoestellen'!$B$26),1,IF(ISERROR(SEARCH(PROPER('Assortiment Hoortoestellen'!$B$26),PROPER('Dataset hoortoestellen'!D811))),0,1))","v":1}]
["Audibene",4,"Widex","Enjoy E-FS 220 (S-tel)","WID-0627",{"$f":"IF(ISBLANK('Assortiment Hoortoestellen'!$B$26),1,IF(ISERROR(SEARCH(PROPER('Assortiment Hoortoestellen'!$B$26),PROPER('Dataset hoortoestellen'!D812))),0,1))","v":1}]
["Audibene",5,"Widex","Enjoy E-FS 330 (HP-tel)","WID-0628",{"$f":"IF(ISBLANK('Assortiment Hoortoestellen'!$B$26),1,IF(ISERROR(SEARCH(PROPER('Assortiment Hoortoestellen'!$B$26),PROPER('Dataset hoortoestellen'!D813))),0,1))","v":1}]
["Audibene",5,"Widex","Enjoy E-FS 330 (M-tel)","WID-0629",{"$f":"IF(ISBLANK('Assortiment Hoortoestellen'!$B$26),1,IF(ISERROR(SEARCH(PROPER('Assortiment Hoortoestellen'!$B$26),PROPER('Dataset hoortoestellen'!D814))),0,1))","v":1}]
["Audibene",5,"Widex","Enjoy E-FS 330 (P-tel)","WID-0630",{"$f":"IF(ISBLANK('Assortiment Hoortoestellen'!$B$26),1,IF(ISERROR(SEARCH(PROPER('Assortiment Hoortoestellen'!$B$26),PROPER('Dataset hoortoestellen'!D815))),0,1))","v":1}]
["Audibene",5,"Widex","Enjoy E-FS 330 (S-tel)","WID-0631",{"$f":"IF(ISBLANK('Assortiment Hoortoestellen'!$B$26),1,IF(ISERROR(SEARCH(PROPER('Assortiment Hoortoestellen'!$B$26),PROPER('Dataset hoortoestellen'!D816))),0,1))","v":1}]
["Audibene",2,"Widex","Enjoy E-FS 50 (HP-tel)","WID-0636",{"$f":"IF(ISBLANK('Assortiment Hoortoestellen'!$B$26),1,IF(ISERROR(SEARCH(PROPER('Assortiment Hoortoestellen'!$B$26),PROPER('Dataset hoortoestellen'!D817))),0,1))","v":1}]
["Audibene",2,"Widex","Enjoy E-FS 50 (M-tel)","WID-0637",{"$f":"IF(ISBLANK('Assortiment Hoortoestellen'!$B$26),1,IF(ISERROR(SEARCH(PROPER('Assortiment Hoortoestellen'!$B$26),PROPER('Dataset hoortoestellen'!D818))),0,1))","v":1}]
["Audibene",2,"Widex","Enjoy E-FS 50 (P-tel)","WID-0638",{"$f":"IF(ISBLANK('Assortiment Hoortoestellen'!$B$26),1,IF(ISERROR(SEARCH(PROPER('Assortiment Hoortoestellen'!$B$26),PROPER('Dataset hoortoestellen'!D819))),0,1))","v":1}]
["Audibene",2,"Widex","Enjoy E-FS 50 (S-tel)","WID-0639",{"$f":"IF(ISBLANK('Assortiment Hoortoestellen'!$B$26),1,IF(ISERROR(SEARCH(PROPER('Assortiment Hoortoestellen'!$B$26),PROPER('Dataset hoortoestellen'!D820))),0,1))","v":1}]
["Audibene",3,"Widex","Enjoy E-PA 110 (M-tel)","WID-0642",{"$f":"IF(ISBLANK('Assortiment Hoortoestellen'!$B$26),1,IF(ISERROR(SEARCH(PROPER('Assortiment Hoortoestellen'!$B$26),PROPER('Dataset hoortoestellen'!D821))),0,1))","v":1}]
["Audibene",3,"Widex","Enjoy E-PA 110 (S-tel)","WID-0643",{"$f":"IF(ISBLANK('Assortiment Hoortoestellen'!$B$26),1,IF(ISERROR(SEARCH(PROPER('Assortiment Hoortoestellen'!$B$26),PROPER('Dataset hoortoestellen'!D822))),0,1))","v":1}]
["Audibene",4,"Widex","Enjoy E-PA 220 (M-tel)","WID-0644",{"$f":"IF(ISBLANK('Assortiment Hoortoestellen'!$B$26),1,IF(ISERROR(SEARCH(PROPER('Assortiment Hoortoestellen'!$B$26),PROPER('Dataset hoortoestellen'!D823))),0,1))","v":1}]
["Audibene",4,"Widex","Enjoy E-PA 220 (S-tel)","WID-0645",{"$f":"IF(ISBLANK('Assortiment Hoortoestellen'!$B$26),1,IF(ISERROR(SEARCH(PROPER('Assortiment Hoortoestellen'!$B$26),PROPER('Dataset hoortoestellen'!D824))),0,1))","v":1}]
["Audibene",5,"Widex","Enjoy E-PA 330 (M-tel)","WID-0646",{"$f":"IF(ISBLANK('Assortiment Hoortoestellen'!$B$26),1,IF(ISERROR(SEARCH(PROPER('Assortiment Hoortoestellen'!$B$26),PROPER('Dataset hoortoestellen'!D825))),0,1))","v":1}]
["Audibene",5,"Widex","Enjoy E-PA 330 (S-tel)","WID-0647",{"$f":"IF(ISBLANK('Assortiment Hoortoestellen'!$B$26),1,IF(ISERROR(SEARCH(PROPER('Assortiment Hoortoestellen'!$B$26),PROPER('Dataset hoortoestellen'!D826))),0,1))","v":1}]
["Audibene",3,"Widex","Enjoy E-XP 110","WID-0651",{"$f":"IF(ISBLANK('Assortiment Hoortoestellen'!$B$26),1,IF(ISERROR(SEARCH(PROPER('Assortiment Hoortoestellen'!$B$26),PROPER('Dataset hoortoestellen'!D827))),0,1))","v":1}]
["Audibene",4,"Widex","Enjoy E-XP 220","WID-0652",{"$f":"IF(ISBLANK('Assortiment Hoortoestellen'!$B$26),1,IF(ISERROR(SEARCH(PROPER('Assortiment Hoortoestellen'!$B$26),PROPER('Dataset hoortoestellen'!D828))),0,1))","v":1}]
["Audibene",5,"Widex","Enjoy E-XP 330","WID-0653",{"$f":"IF(ISBLANK('Assortiment Hoortoestellen'!$B$26),1,IF(ISERROR(SEARCH(PROPER('Assortiment Hoortoestellen'!$B$26),PROPER('Dataset hoortoestellen'!D829))),0,1))","v":1}]
["Audibene",3,"Widex","Enjoy E-CIC 110 Rechts","WID-0656",{"$f":"IF(ISBLANK('Assortiment Hoortoestellen'!$B$26),1,IF(ISERROR(SEARCH(PROPER('Assortiment Hoortoestellen'!$B$26),PROPER('Dataset hoortoestellen'!D830))),0,1))","v":1}]
["Audibene",4,"Widex","Enjoy E-CIC 220 Rechts","WID-0657",{"$f":"IF(ISBLANK('Assortiment Hoortoestellen'!$B$26),1,IF(ISERROR(SEARCH(PROPER('Assortiment Hoortoestellen'!$B$26),PROPER('Dataset hoortoestellen'!D831))),0,1))","v":1}]
["Audibene",5,"Widex","Enjoy E-CIC 330 Rechts","WID-0658",{"$f":"IF(ISBLANK('Assortiment Hoortoestellen'!$B$26),1,IF(ISERROR(SEARCH(PROPER('Assortiment Hoortoestellen'!$B$26),PROPER('Dataset hoortoestellen'!D832))),0,1))","v":1}]
["Audibene",4,"Widex","Enjoy E-CIC TR 220 Rechts","WID-0662",{"$f":"IF(ISBLANK('Assortiment Hoortoestellen'!$B$26),1,IF(ISERROR(SEARCH(PROPER('Assortiment Hoortoestellen'!$B$26),PROPER('Dataset hoortoestellen'!D833))),0,1))","v":1}]
["Audibene",5,"Widex","Enjoy E-CIC TR 330 Rechts","WID-0663",{"$f":"IF(ISBLANK('Assortiment Hoortoestellen'!$B$26),1,IF(ISERROR(SEARCH(PROPER('Assortiment Hoortoestellen'!$B$26),PROPER('Dataset hoortoestellen'!D834))),0,1))","v":1}]
["Audicienspraktijk Oordelman",2,"Coselgi","Effect EF2-F2 (HP-tel)","COS-0276",{"$f":"IF(ISBLANK('Assortiment Hoortoestellen'!$B$26),1,IF(ISERROR(SEARCH(PROPER('Assortiment Hoortoestellen'!$B$26),PROPER('Dataset hoortoestellen'!D835))),0,1))","v":1}]
["Audicienspraktijk Oordelman",2,"Coselgi","Effect EF2-F2 (M-tel)","COS-0277",{"$f":"IF(ISBLANK('Assortiment Hoortoestellen'!$B$26),1,IF(ISERROR(SEARCH(PROPER('Assortiment Hoortoestellen'!$B$26),PROPER('Dataset hoortoestellen'!D836))),0,1))","v":1}]
["Audicienspraktijk Oordelman",2,"Coselgi","Effect EF2-F2 (P-tel)","COS-0278",{"$f":"IF(ISBLANK('Assortiment Hoortoestellen'!$B$26),1,IF(ISERROR(SEARCH(PROPER('Assortiment Hoortoestellen'!$B$26),PROPER('Dataset hoortoestellen'!D837))),0,1))","v":1}]
["Audicienspraktijk Oordelman",2,"Coselgi","Effect EF2-F2 (S-tel)","COS-0279",{"$f":"IF(ISBLANK('Assortiment Hoortoestellen'!$B$26),1,IF(ISERROR(SEARCH(PROPER('Assortiment Hoortoestellen'!$B$26),PROPER('Dataset hoortoestellen'!D838))),0,1))","v":1}]
["Audicienspraktijk Oordelman",2,"Coselgi","Effect EF2-FS (M-tel)","COS-0281",{"$f":"IF(ISBLANK('Assortiment Hoortoestellen'!$B$26),1,IF(ISERROR(SEARCH(PROPER('Assortiment Hoortoestellen'!$B$26),PROPER('Dataset hoortoestellen'!D839))),0,1))","v":1}]
["Audicienspraktijk Oordelman",2,"Coselgi","Effect EF2-FS (P-tel)","COS-0282",{"$f":"IF(ISBLANK('Assortiment Hoortoestellen'!$B$26),1,IF(ISERROR(SEARCH(PROPER('Assortiment Hoortoestellen'!$B$26),PROPER('Dataset hoortoestellen'!D840))),0,1))","v":1}]
["Audicienspraktijk Oordelman",2,"Coselgi","Effect EF2-FS (S-tel)","COS-0283",{"$f":"IF(ISBLANK('Assortiment Hoortoestellen'!$B$26),1,IF(ISERROR(SEARCH(PROPER('Assortiment Hoortoestellen'!$B$26),PROPER('Dataset hoortoestellen'!D841))),0,1))","v":1}]
["Audicienspraktijk Oordelman",2,"Coselgi","Effect EF2-CIC Links","COS-0284",{"$f":"IF(ISBLANK('Assortiment Hoortoestellen'!$B$26),1,IF(ISERROR(SEARCH(PROPER('Assortiment Hoortoestellen'!$B$26),PROPER('Dataset hoortoestellen'!D842))),0,1))","v":1}]
["Audicienspraktijk Oordelman",2,"Coselgi","Effect EF2-CIC M","COS-0285",{"$f":"IF(ISBLANK('Assortiment Hoortoestellen'!$B$26),1,IF(ISERROR(SEARCH(PROPER('Assortiment Hoortoestellen'!$B$26),PROPER('Dataset hoortoestellen'!D843))),0,1))","v":1}]
["Audicienspraktijk Oordelman",2,"Coselgi","Effect EF2-CIC Rechts","COS-0287",{"$f":"IF(ISBLANK('Assortiment Hoortoestellen'!$B$26),1,IF(ISERROR(SEARCH(PROPER('Assortiment Hoortoestellen'!$B$26),PROPER('Dataset hoortoestellen'!D844))),0,1))","v":1}]
["Audicienspraktijk Oordelman",2,"Coselgi","Effect EF2-CIC TR Links","COS-0288",{"$f":"IF(ISBLANK('Assortiment Hoortoestellen'!$B$26),1,IF(ISERROR(SEARCH(PROPER('Assortiment Hoortoestellen'!$B$26),PROPER('Dataset hoortoestellen'!D845))),0,1))","v":1}]
["Audicienspraktijk Oordelman",2,"Coselgi","Effect EF2-CIC TR Rechts","COS-0289",{"$f":"IF(ISBLANK('Assortiment Hoortoestellen'!$B$26),1,IF(ISERROR(SEARCH(PROPER('Assortiment Hoortoestellen'!$B$26),PROPER('Dataset hoortoestellen'!D846))),0,1))","v":1}]
["Audicienspraktijk Oordelman",2,"Coselgi","Effect EF2-FA","COS-0290",{"$f":"IF(ISBLANK('Assortiment Hoortoestellen'!$B$26),1,IF(ISERROR(SEARCH(PROPER('Assortiment Hoortoestellen'!$B$26),PROPER('Dataset hoortoestellen'!D847))),0,1))","v":1}]
["Audicienspraktijk Oordelman",2,"Coselgi","Effect EF2-FM","COS-0291",{"$f":"IF(ISBLANK('Assortiment Hoortoestellen'!$B$26),1,IF(ISERROR(SEARCH(PROPER('Assortiment Hoortoestellen'!$B$26),PROPER('Dataset hoortoestellen'!D848))),0,1))","v":1}]
["Audicienspraktijk Oordelman",2,"Coselgi","Effect EF2-FP","COS-0292",{"$f":"IF(ISBLANK('Assortiment Hoortoestellen'!$B$26),1,IF(ISERROR(SEARCH(PROPER('Assortiment Hoortoestellen'!$B$26),PROPER('Dataset hoortoestellen'!D849))),0,1))","v":1}]
["Audicienspraktijk Oordelman",2,"Coselgi","Effect EF2-XP","COS-0293",{"$f":"IF(ISBLANK('Assortiment Hoortoestellen'!$B$26),1,IF(ISERROR(SEARCH(PROPER('Assortiment Hoortoestellen'!$B$26),PROPER('Dataset hoortoestellen'!D850))),0,1))","v":1}]
["Audicienspraktijk Oordelman",3,"Coselgi","Effect EF4-F2 (M-tel)","COS-0295",{"$f":"IF(ISBLANK('Assortiment Hoortoestellen'!$B$26),1,IF(ISERROR(SEARCH(PROPER('Assortiment Hoortoestellen'!$B$26),PROPER('Dataset hoortoestellen'!D851))),0,1))","v":1}]
["Audicienspraktijk Oordelman",3,"Coselgi","Effect EF4-F2 (P-tel)","COS-0296",{"$f":"IF(ISBLANK('Assortiment Hoortoestellen'!$B$26),1,IF(ISERROR(SEARCH(PROPER('Assortiment Hoortoestellen'!$B$26),PROPER('Dataset hoortoestellen'!D852))),0,1))","v":1}]
["Audicienspraktijk Oordelman",3,"Coselgi","Effect EF4-F2 (S-tel)","COS-0297",{"$f":"IF(ISBLANK('Assortiment Hoortoestellen'!$B$26),1,IF(ISERROR(SEARCH(PROPER('Assortiment Hoortoestellen'!$B$26),PROPER('Dataset hoortoestellen'!D853))),0,1))","v":1}]
["Audicienspraktijk Oordelman",3,"Coselgi","Effect EF4 F2(HP-tel)","COS-0298",{"$f":"IF(ISBLANK('Assortiment Hoortoestellen'!$B$26),1,IF(ISERROR(SEARCH(PROPER('Assortiment Hoortoestellen'!$B$26),PROPER('Dataset hoortoestellen'!D854))),0,1))","v":1}]
["Audicienspraktijk Oordelman",3,"Coselgi","Effect EF4-FS (HP-tel)","COS-0299",{"$f":"IF(ISBLANK('Assortiment Hoortoestellen'!$B$26),1,IF(ISERROR(SEARCH(PROPER('Assortiment Hoortoestellen'!$B$26),PROPER('Dataset hoortoestellen'!D855))),0,1))","v":1}]
["Audicienspraktijk Oordelman",3,"Coselgi","Effect EF4-FS (M-tel)","COS-0300",{"$f":"IF(ISBLANK('Assortiment Hoortoestellen'!$B$26),1,IF(ISERROR(SEARCH(PROPER('Assortiment Hoortoestellen'!$B$26),PROPER('Dataset hoortoestellen'!D856))),0,1))","v":1}]
["Audicienspraktijk Oordelman",3,"Coselgi","Effect EF4-FS (P-tel)","COS-0301",{"$f":"IF(ISBLANK('Assortiment Hoortoestellen'!$B$26),1,IF(ISERROR(SEARCH(PROPER('Assortiment Hoortoestellen'!$B$26),PROPER('Dataset hoortoestellen'!D857))),0,1))","v":1}]
["Audicienspraktijk Oordelman",3,"Coselgi","Effect EF4-RIC 10 (M-tel)","COS-0303",{"$f":"IF(ISBLANK('Assortiment Hoortoestellen'!$B$26),1,IF(ISERROR(SEARCH(PROPER('Assortiment Hoortoestellen'!$B$26),PROPER('Dataset hoortoestellen'!D858))),0,1))","v":1}]
["Audicienspraktijk Oordelman",3,"Coselgi","Effect EF4-RIC 10 (S-tel)","COS-0304",{"$f":"IF(ISBLANK('Assortiment Hoortoestellen'!$B$26),1,IF(ISERROR(SEARCH(PROPER('Assortiment Hoortoestellen'!$B$26),PROPER('Dataset hoortoestellen'!D859))),0,1))","v":1}]
["Audicienspraktijk Oordelman",3,"Coselgi","Effect EF4-CIC Links","COS-0305",{"$f":"IF(ISBLANK('Assortiment Hoortoestellen'!$B$26),1,IF(ISERROR(SEARCH(PROPER('Assortiment Hoortoestellen'!$B$26),PROPER('Dataset hoortoestellen'!D860))),0,1))","v":1}]
["Audicienspraktijk Oordelman",3,"Coselgi","Effect EF4-CIC M","COS-0306",{"$f":"IF(ISBLANK('Assortiment Hoortoestellen'!$B$26),1,IF(ISERROR(SEARCH(PROPER('Assortiment Hoortoestellen'!$B$26),PROPER('Dataset hoortoestellen'!D861))),0,1))","v":1}]
["Audicienspraktijk Oordelman",3,"Coselgi","Effect EF4-CIC Rechts","COS-0308",{"$f":"IF(ISBLANK('Assortiment Hoortoestellen'!$B$26),1,IF(ISERROR(SEARCH(PROPER('Assortiment Hoortoestellen'!$B$26),PROPER('Dataset hoortoestellen'!D862))),0,1))","v":1}]
["Audicienspraktijk Oordelman",3,"Coselgi","Effect EF4-CIC TR Links","COS-0309",{"$f":"IF(ISBLANK('Assortiment Hoortoestellen'!$B$26),1,IF(ISERROR(SEARCH(PROPER('Assortiment Hoortoestellen'!$B$26),PROPER('Dataset hoortoestellen'!D863))),0,1))","v":1}]
["Audicienspraktijk Oordelman",3,"Coselgi","Effect EF4-CIC TR Rechts","COS-0310",{"$f":"IF(ISBLANK('Assortiment Hoortoestellen'!$B$26),1,IF(ISERROR(SEARCH(PROPER('Assortiment Hoortoestellen'!$B$26),PROPER('Dataset hoortoestellen'!D864))),0,1))","v":1}]
["Audicienspraktijk Oordelman",3,"Coselgi","Effect EF4-FA","COS-0311",{"$f":"IF(ISBLANK('Assortiment Hoortoestellen'!$B$26),1,IF(ISERROR(SEARCH(PROPER('Assortiment Hoortoestellen'!$B$26),PROPER('Dataset hoortoestellen'!D865))),0,1))","v":1}]
["Audicienspraktijk Oordelman",3,"Coselgi","Effect EF4-FM","COS-0312",{"$f":"IF(ISBLANK('Assortiment Hoortoestellen'!$B$26),1,IF(ISERROR(SEARCH(PROPER('Assortiment Hoortoestellen'!$B$26),PROPER('Dataset hoortoestellen'!D866))),0,1))","v":1}]
["Audicienspraktijk Oordelman",3,"Coselgi","Effect EF4-FP","COS-0313",{"$f":"IF(ISBLANK('Assortiment Hoortoestellen'!$B$26),1,IF(ISERROR(SEARCH(PROPER('Assortiment Hoortoestellen'!$B$26),PROPER('Dataset hoortoestellen'!D867))),0,1))","v":1}]
["Audicienspraktijk Oordelman",3,"Coselgi","Effect EF4-XP","COS-0314",{"$f":"IF(ISBLANK('Assortiment Hoortoestellen'!$B$26),1,IF(ISERROR(SEARCH(PROPER('Assortiment Hoortoestellen'!$B$26),PROPER('Dataset hoortoestellen'!D868))),0,1))","v":1}]
["Audicienspraktijk Oordelman",4,"Coselgi","Effect EF5-F2 (HP-tel)","COS-0316",{"$f":"IF(ISBLANK('Assortiment Hoortoestellen'!$B$26),1,IF(ISERROR(SEARCH(PROPER('Assortiment Hoortoestellen'!$B$26),PROPER('Dataset hoortoestellen'!D869))),0,1))","v":1}]
["Audicienspraktijk Oordelman",4,"Coselgi","Effect EF5-F2 (M-tel)","COS-0317",{"$f":"IF(ISBLANK('Assortiment Hoortoestellen'!$B$26),1,IF(ISERROR(SEARCH(PROPER('Assortiment Hoortoestellen'!$B$26),PROPER('Dataset hoortoestellen'!D870))),0,1))","v":1}]
["Audicienspraktijk Oordelman",4,"Coselgi","Effect EF5-F2 (P-tel)","COS-0318",{"$f":"IF(ISBLANK('Assortiment Hoortoestellen'!$B$26),1,IF(ISERROR(SEARCH(PROPER('Assortiment Hoortoestellen'!$B$26),PROPER('Dataset hoortoestellen'!D871))),0,1))","v":1}]
["Audicienspraktijk Oordelman",4,"Coselgi","Effect EF5-FS (HP-tel)","COS-0320",{"$f":"IF(ISBLANK('Assortiment Hoortoestellen'!$B$26),1,IF(ISERROR(SEARCH(PROPER('Assortiment Hoortoestellen'!$B$26),PROPER('Dataset hoortoestellen'!D872))),0,1))","v":1}]
["Audicienspraktijk Oordelman",4,"Coselgi","Effect EF5-FS (M-tel)","COS-0321",{"$f":"IF(ISBLANK('Assortiment Hoortoestellen'!$B$26),1,IF(ISERROR(SEARCH(PROPER('Assortiment Hoortoestellen'!$B$26),PROPER('Dataset hoortoestellen'!D873))),0,1))","v":1}]
["Audicienspraktijk Oordelman",4,"Coselgi","Effect EF5-FS (P-tel)","COS-0322",{"$f":"IF(ISBLANK('Assortiment Hoortoestellen'!$B$26),1,IF(ISERROR(SEARCH(PROPER('Assortiment Hoortoestellen'!$B$26),PROPER('Dataset hoortoestellen'!D874))),0,1))","v":1}]
["Audicienspraktijk Oordelman",4,"Coselgi","Effect EF5-FS (S-tel)","COS-0323",{"$f":"IF(ISBLANK('Assortiment Hoortoestellen'!$B$26),1,IF(ISERROR(SEARCH(PROPER('Assortiment Hoortoestellen'!$B$26),PROPER('Dataset hoortoestellen'!D875))),0,1))","v":1}]
["Audicienspraktijk Oordelman",4,"Coselgi","Effect EF5-RIC 10 (M-tel)","COS-0324",{"$f":"IF(ISBLANK('Assortiment Hoortoestellen'!$B$26),1,IF(ISERROR(SEARCH(PROPER('Assortiment Hoortoestellen'!$B$26),PROPER('Dataset hoortoestellen'!D876))),0,1))","v":1}]
["Audicienspraktijk Oordelman",4,"Coselgi","Effect EF5-RIC 10 (S-tel)","COS-0325",{"$f":"IF(ISBLANK('Assortiment Hoortoestellen'!$B$26),1,IF(ISERROR(SEARCH(PROPER('Assortiment Hoortoestellen'!$B$26),PROPER('Dataset hoortoestellen'!D877))),0,1))","v":1}]
["Audicienspraktijk Oordelman",4,"Coselgi","Effect EF5-CIC Links","COS-0326",{"$f":"IF(ISBLANK('Assortiment Hoortoestellen'!$B$26),1,IF(ISERROR(SEARCH(PROPER('Assortiment Hoortoestellen'!$B$26),PROPER('Dataset hoortoestellen'!D878))),0,1))","v":1}]
["Audicienspraktijk Oordelman",4,"Coselgi","Effect EF5-CIC M","COS-0327",{"$f":"IF(ISBLANK('Assortiment Hoortoestellen'!$B$26),1,IF(ISERROR(SEARCH(PROPER('Assortiment Hoortoestellen'!$B$26),PROPER('Dataset hoortoestellen'!D879))),0,1))","v":1}]
["Audicienspraktijk Oordelman",4,"Coselgi","Effect EF5-CIC Rechts","COS-0329",{"$f":"IF(ISBLANK('Assortiment Hoortoestellen'!$B$26),1,IF(ISERROR(SEARCH(PROPER('Assortiment Hoortoestellen'!$B$26),PROPER('Dataset hoortoestellen'!D880))),0,1))","v":1}]
["Audicienspraktijk Oordelman",4,"Coselgi","Effect EF5-CIC TR Links","COS-0330",{"$f":"IF(ISBLANK('Assortiment Hoortoestellen'!$B$26),1,IF(ISERROR(SEARCH(PROPER('Assortiment Hoortoestellen'!$B$26),PROPER('Dataset hoortoestellen'!D881))),0,1))","v":1}]
["Audicienspraktijk Oordelman",4,"Coselgi","Effect EF5-CIC TR Rechts","COS-0331",{"$f":"IF(ISBLANK('Assortiment Hoortoestellen'!$B$26),1,IF(ISERROR(SEARCH(PROPER('Assortiment Hoortoestellen'!$B$26),PROPER('Dataset hoortoestellen'!D882))),0,1))","v":1}]
["Audicienspraktijk Oordelman",4,"Coselgi","Effect EF5-FA","COS-0332",{"$f":"IF(ISBLANK('Assortiment Hoortoestellen'!$B$26),1,IF(ISERROR(SEARCH(PROPER('Assortiment Hoortoestellen'!$B$26),PROPER('Dataset hoortoestellen'!D883))),0,1))","v":1}]
["Audicienspraktijk Oordelman",4,"Coselgi","Effect EF5-FM","COS-0333",{"$f":"IF(ISBLANK('Assortiment Hoortoestellen'!$B$26),1,IF(ISERROR(SEARCH(PROPER('Assortiment Hoortoestellen'!$B$26),PROPER('Dataset hoortoestellen'!D884))),0,1))","v":1}]
["Audicienspraktijk Oordelman",4,"Coselgi","Effect EF5-FP","COS-0334",{"$f":"IF(ISBLANK('Assortiment Hoortoestellen'!$B$26),1,IF(ISERROR(SEARCH(PROPER('Assortiment Hoortoestellen'!$B$26),PROPER('Dataset hoortoestellen'!D885))),0,1))","v":1}]
["Audicienspraktijk Oordelman",4,"Coselgi","Effect EF5-XP","COS-0335",{"$f":"IF(ISBLANK('Assortiment Hoortoestellen'!$B$26),1,IF(ISERROR(SEARCH(PROPER('Assortiment Hoortoestellen'!$B$26),PROPER('Dataset hoortoestellen'!D886))),0,1))","v":1}]
["Audicienspraktijk Oordelman",5,"Coselgi","Effect EF6-F2 (HP-tel)","COS-0337",{"$f":"IF(ISBLANK('Assortiment Hoortoestellen'!$B$26),1,IF(ISERROR(SEARCH(PROPER('Assortiment Hoortoestellen'!$B$26),PROPER('Dataset hoortoestellen'!D887))),0,1))","v":1}]
["Audicienspraktijk Oordelman",5,"Coselgi","Effect EF6-F2 (M-tel)","COS-0338",{"$f":"IF(ISBLANK('Assortiment Hoortoestellen'!$B$26),1,IF(ISERROR(SEARCH(PROPER('Assortiment Hoortoestellen'!$B$26),PROPER('Dataset hoortoestellen'!D888))),0,1))","v":1}]
["Audicienspraktijk Oordelman",5,"Coselgi","Effect EF6-F2 (P-tel)","COS-0339",{"$f":"IF(ISBLANK('Assortiment Hoortoestellen'!$B$26),1,IF(ISERROR(SEARCH(PROPER('Assortiment Hoortoestellen'!$B$26),PROPER('Dataset hoortoestellen'!D889))),0,1))","v":1}]
["Audicienspraktijk Oordelman",5,"Coselgi","Effect EF6-F2 (S-tel)","COS-0340",{"$f":"IF(ISBLANK('Assortiment Hoortoestellen'!$B$26),1,IF(ISERROR(SEARCH(PROPER('Assortiment Hoortoestellen'!$B$26),PROPER('Dataset hoortoestellen'!D890))),0,1))","v":1}]
["Audicienspraktijk Oordelman",5,"Coselgi","Effect EF6-FS (HP-tel)","COS-0341",{"$f":"IF(ISBLANK('Assortiment Hoortoestellen'!$B$26),1,IF(ISERROR(SEARCH(PROPER('Assortiment Hoortoestellen'!$B$26),PROPER('Dataset hoortoestellen'!D891))),0,1))","v":1}]
["Audicienspraktijk Oordelman",5,"Coselgi","Effect EF6-FS (M-tel)","COS-0342",{"$f":"IF(ISBLANK('Assortiment Hoortoestellen'!$B$26),1,IF(ISERROR(SEARCH(PROPER('Assortiment Hoortoestellen'!$B$26),PROPER('Dataset hoortoestellen'!D892))),0,1))","v":1}]
["Audicienspraktijk Oordelman",5,"Coselgi","Effect EF6-FS (P-tel)","COS-0343",{"$f":"IF(ISBLANK('Assortiment Hoortoestellen'!$B$26),1,IF(ISERROR(SEARCH(PROPER('Assortiment Hoortoestellen'!$B$26),PROPER('Dataset hoortoestellen'!D893))),0,1))","v":1}]
["Audicienspraktijk Oordelman",5,"Coselgi","Effect EF6-FS (S-tel)","COS-0344",{"$f":"IF(ISBLANK('Assortiment Hoortoestellen'!$B$26),1,IF(ISERROR(SEARCH(PROPER('Assortiment Hoortoestellen'!$B$26),PROPER('Dataset hoortoestellen'!D894))),0,1))","v":1}]
["Audicienspraktijk Oordelman",5,"Coselgi","Effect EF6-RIC 10 (M-tel)","COS-0345",{"$f":"IF(ISBLANK('Assortiment Hoortoestellen'!$B$26),1,IF(ISERROR(SEARCH(PROPER('Assortiment Hoortoestellen'!$B$26),PROPER('Dataset hoortoestellen'!D895))),0,1))","v":1}]
["Audicienspraktijk Oordelman",5,"Coselgi","Effect EF6-CIC Links","COS-0347",{"$f":"IF(ISBLANK('Assortiment Hoortoestellen'!$B$26),1,IF(ISERROR(SEARCH(PROPER('Assortiment Hoortoestellen'!$B$26),PROPER('Dataset hoortoestellen'!D896))),0,1))","v":1}]
["Audicienspraktijk Oordelman",5,"Coselgi","Effect EF6-CIC M","COS-0348",{"$f":"IF(ISBLANK('Assortiment Hoortoestellen'!$B$26),1,IF(ISERROR(SEARCH(PROPER('Assortiment Hoortoestellen'!$B$26),PROPER('Dataset hoortoestellen'!D897))),0,1))","v":1}]
["Audicienspraktijk Oordelman",5,"Coselgi","Effect EF6-CIC Rechts","COS-0350",{"$f":"IF(ISBLANK('Assortiment Hoortoestellen'!$B$26),1,IF(ISERROR(SEARCH(PROPER('Assortiment Hoortoestellen'!$B$26),PROPER('Dataset hoortoestellen'!D898))),0,1))","v":1}]
["Audicienspraktijk Oordelman",5,"Coselgi","Effect EF6-CIC TR Links","COS-0351",{"$f":"IF(ISBLANK('Assortiment Hoortoestellen'!$B$26),1,IF(ISERROR(SEARCH(PROPER('Assortiment Hoortoestellen'!$B$26),PROPER('Dataset hoortoestellen'!D899))),0,1))","v":1}]
["Audicienspraktijk Oordelman",5,"Coselgi","Effect EF6-CIC TR Rechts","COS-0352",{"$f":"IF(ISBLANK('Assortiment Hoortoestellen'!$B$26),1,IF(ISERROR(SEARCH(PROPER('Assortiment Hoortoestellen'!$B$26),PROPER('Dataset hoortoestellen'!D900))),0,1))","v":1}]
["Audicienspraktijk Oordelman",5,"Coselgi","Effect EF6-FA","COS-0353",{"$f":"IF(ISBLANK('Assortiment Hoortoestellen'!$B$26),1,IF(ISERROR(SEARCH(PROPER('Assortiment Hoortoestellen'!$B$26),PROPER('Dataset hoortoestellen'!D901))),0,1))","v":1}]
["Audicienspraktijk Oordelman",5,"Coselgi","Effect EF6-FM","COS-0354",{"$f":"IF(ISBLANK('Assortiment Hoortoestellen'!$B$26),1,IF(ISERROR(SEARCH(PROPER('Assortiment Hoortoestellen'!$B$26),PROPER('Dataset hoortoestellen'!D902))),0,1))","v":1}]
["Audicienspraktijk Oordelman",5,"Coselgi","Effect EF6-FP","COS-0355",{"$f":"IF(ISBLANK('Assortiment Hoortoestellen'!$B$26),1,IF(ISERROR(SEARCH(PROPER('Assortiment Hoortoestellen'!$B$26),PROPER('Dataset hoortoestellen'!D903))),0,1))","v":1}]
["Audicienspraktijk Oordelman",5,"Coselgi","Effect EF6-XP","COS-0356",{"$f":"IF(ISBLANK('Assortiment Hoortoestellen'!$B$26),1,IF(ISERROR(SEARCH(PROPER('Assortiment Hoortoestellen'!$B$26),PROPER('Dataset hoortoestellen'!D904))),0,1))","v":1}]
["Audicienspraktijk Oordelman",1,"Starkey","Muse i1000 CIC","STA-0277",{"$f":"IF(ISBLANK('Assortiment Hoortoestellen'!$B$26),1,IF(ISERROR(SEARCH(PROPER('Assortiment Hoortoestellen'!$B$26),PROPER('Dataset hoortoestellen'!D905))),0,1))","v":1}]
["Audicienspraktijk Oordelman",1,"Starkey","Muse i1000 BTE312","STA-0278",{"$f":"IF(ISBLANK('Assortiment Hoortoestellen'!$B$26),1,IF(ISERROR(SEARCH(PROPER('Assortiment Hoortoestellen'!$B$26),PROPER('Dataset hoortoestellen'!D906))),0,1))","v":1}]
["Audicienspraktijk Oordelman",1,"Starkey","Muse i1000 ITC","STA-0279",{"$f":"IF(ISBLANK('Assortiment Hoortoestellen'!$B$26),1,IF(ISERROR(SEARCH(PROPER('Assortiment Hoortoestellen'!$B$26),PROPER('Dataset hoortoestellen'!D907))),0,1))","v":1}]
["Audicienspraktijk Oordelman",1,"Starkey","Muse i1000 mRIC 312","STA-0280",{"$f":"IF(ISBLANK('Assortiment Hoortoestellen'!$B$26),1,IF(ISERROR(SEARCH(PROPER('Assortiment Hoortoestellen'!$B$26),PROPER('Dataset hoortoestellen'!D908))),0,1))","v":1}]
["Audicienspraktijk Oordelman",1,"Starkey","Muse i1000 BTE 13","STA-0308",{"$f":"IF(ISBLANK('Assortiment Hoortoestellen'!$B$26),1,IF(ISERROR(SEARCH(PROPER('Assortiment Hoortoestellen'!$B$26),PROPER('Dataset hoortoestellen'!D909))),0,1))","v":1}]
["Audicienspraktijk Oordelman",1,"Starkey","Muse i1000 RIC 312","STA-0309",{"$f":"IF(ISBLANK('Assortiment Hoortoestellen'!$B$26),1,IF(ISERROR(SEARCH(PROPER('Assortiment Hoortoestellen'!$B$26),PROPER('Dataset hoortoestellen'!D910))),0,1))","v":1}]
["Audicienspraktijk Oordelman",5,"Starkey","Muse i1600  CIC","STA-0330",{"$f":"IF(ISBLANK('Assortiment Hoortoestellen'!$B$26),1,IF(ISERROR(SEARCH(PROPER('Assortiment Hoortoestellen'!$B$26),PROPER('Dataset hoortoestellen'!D911))),0,1))","v":1}]
["Audicienspraktijk Oordelman",1,"Starkey","Muse i1000 BTE 13 PP","STA-0331",{"$f":"IF(ISBLANK('Assortiment Hoortoestellen'!$B$26),1,IF(ISERROR(SEARCH(PROPER('Assortiment Hoortoestellen'!$B$26),PROPER('Dataset hoortoestellen'!D912))),0,1))","v":1}]
["Audicienspraktijk Oordelman",2,"Starkey","Muse iQ i1000 RIC Li-Ion","STA-0334",{"$f":"IF(ISBLANK('Assortiment Hoortoestellen'!$B$26),1,IF(ISERROR(SEARCH(PROPER('Assortiment Hoortoestellen'!$B$26),PROPER('Dataset hoortoestellen'!D913))),0,1))","v":1}]
["Audicienspraktijk Oordelman",3,"Starkey","Muse iQ 1000 CIC","STA-0340",{"$f":"IF(ISBLANK('Assortiment Hoortoestellen'!$B$26),1,IF(ISERROR(SEARCH(PROPER('Assortiment Hoortoestellen'!$B$26),PROPER('Dataset hoortoestellen'!D914))),0,1))","v":1}]
["Audicienspraktijk Oordelman",4,"Starkey","Muse iQ 1200 CIC","STA-0343",{"$f":"IF(ISBLANK('Assortiment Hoortoestellen'!$B$26),1,IF(ISERROR(SEARCH(PROPER('Assortiment Hoortoestellen'!$B$26),PROPER('Dataset hoortoestellen'!D915))),0,1))","v":1}]
["Audicienspraktijk Oordelman",2,"Starkey","Muse iQ i1000 BTE 13","STA-0349",{"$f":"IF(ISBLANK('Assortiment Hoortoestellen'!$B$26),1,IF(ISERROR(SEARCH(PROPER('Assortiment Hoortoestellen'!$B$26),PROPER('Dataset hoortoestellen'!D916))),0,1))","v":1}]
["Audicienspraktijk Oordelman",2,"Starkey","Muse iQ i1000 BTE 13 PP","STA-0350",{"$f":"IF(ISBLANK('Assortiment Hoortoestellen'!$B$26),1,IF(ISERROR(SEARCH(PROPER('Assortiment Hoortoestellen'!$B$26),PROPER('Dataset hoortoestellen'!D917))),0,1))","v":1}]
["Audicienspraktijk Oordelman",2,"Starkey","Muse iQ i1000 BTE 312","STA-0351",{"$f":"IF(ISBLANK('Assortiment Hoortoestellen'!$B$26),1,IF(ISERROR(SEARCH(PROPER('Assortiment Hoortoestellen'!$B$26),PROPER('Dataset hoortoestellen'!D918))),0,1))","v":1}]
["Audicienspraktijk Oordelman",3,"Starkey","Muse iQ i1000 CIC","STA-0352",{"$f":"IF(ISBLANK('Assortiment Hoortoestellen'!$B$26),1,IF(ISERROR(SEARCH(PROPER('Assortiment Hoortoestellen'!$B$26),PROPER('Dataset hoortoestellen'!D919))),0,1))","v":1}]
["Audicienspraktijk Oordelman",2,"Starkey","Muse iQ i1000 ITC","STA-0353",{"$f":"IF(ISBLANK('Assortiment Hoortoestellen'!$B$26),1,IF(ISERROR(SEARCH(PROPER('Assortiment Hoortoestellen'!$B$26),PROPER('Dataset hoortoestellen'!D920))),0,1))","v":1}]
["Audicienspraktijk Oordelman",3,"Starkey","Muse iQ i1000 ITC","STA-0353",{"$f":"IF(ISBLANK('Assortiment Hoortoestellen'!$B$26),1,IF(ISERROR(SEARCH(PROPER('Assortiment Hoortoestellen'!$B$26),PROPER('Dataset hoortoestellen'!D921))),0,1))","v":1}]
["Audicienspraktijk Oordelman",2,"Starkey","Muse iQ i1000 ITE","STA-0354",{"$f":"IF(ISBLANK('Assortiment Hoortoestellen'!$B$26),1,IF(ISERROR(SEARCH(PROPER('Assortiment Hoortoestellen'!$B$26),PROPER('Dataset hoortoestellen'!D922))),0,1))","v":1}]
["Audicienspraktijk Oordelman",3,"Starkey","Muse iQ i1000 ITE","STA-0354",{"$f":"IF(ISBLANK('Assortiment Hoortoestellen'!$B$26),1,IF(ISERROR(SEARCH(PROPER('Assortiment Hoortoestellen'!$B$26),PROPER('Dataset hoortoestellen'!D923))),0,1))","v":1}]
["Audicienspraktijk Oordelman",2,"Starkey","Muse iQ i1000 mRIC","STA-0355",{"$f":"IF(ISBLANK('Assortiment Hoortoestellen'!$B$26),1,IF(ISERROR(SEARCH(PROPER('Assortiment Hoortoestellen'!$B$26),PROPER('Dataset hoortoestellen'!D924))),0,1))","v":1}]
["Audicienspraktijk Oordelman",2,"Starkey","Muse iQ i1000 RIC 312","STA-0357",{"$f":"IF(ISBLANK('Assortiment Hoortoestellen'!$B$26),1,IF(ISERROR(SEARCH(PROPER('Assortiment Hoortoestellen'!$B$26),PROPER('Dataset hoortoestellen'!D925))),0,1))","v":1}]
["Audicienspraktijk Oordelman",4,"Starkey","Muse iQ i1200 CIC","STA-0362",{"$f":"IF(ISBLANK('Assortiment Hoortoestellen'!$B$26),1,IF(ISERROR(SEARCH(PROPER('Assortiment Hoortoestellen'!$B$26),PROPER('Dataset hoortoestellen'!D926))),0,1))","v":1}]
["Audicienspraktijk Oordelman",4,"Starkey","Muse iQ i1200 ITC","STA-0363",{"$f":"IF(ISBLANK('Assortiment Hoortoestellen'!$B$26),1,IF(ISERROR(SEARCH(PROPER('Assortiment Hoortoestellen'!$B$26),PROPER('Dataset hoortoestellen'!D927))),0,1))","v":1}]
["Audicienspraktijk Oordelman",4,"Starkey","Muse iQ i1200 ITE","STA-0364",{"$f":"IF(ISBLANK('Assortiment Hoortoestellen'!$B$26),1,IF(ISERROR(SEARCH(PROPER('Assortiment Hoortoestellen'!$B$26),PROPER('Dataset hoortoestellen'!D928))),0,1))","v":1}]
["Audicienspraktijk Oordelman",5,"Starkey","Muse iQ i1600 CIC","STA-0372",{"$f":"IF(ISBLANK('Assortiment Hoortoestellen'!$B$26),1,IF(ISERROR(SEARCH(PROPER('Assortiment Hoortoestellen'!$B$26),PROPER('Dataset hoortoestellen'!D929))),0,1))","v":1}]
["Audicienspraktijk Oordelman",5,"Starkey","Muse iQ i1600 ITC","STA-0373",{"$f":"IF(ISBLANK('Assortiment Hoortoestellen'!$B$26),1,IF(ISERROR(SEARCH(PROPER('Assortiment Hoortoestellen'!$B$26),PROPER('Dataset hoortoestellen'!D930))),0,1))","v":1}]
["Audicienspraktijk Oordelman",5,"Starkey","Muse iQ i1600 ITE","STA-0374",{"$f":"IF(ISBLANK('Assortiment Hoortoestellen'!$B$26),1,IF(ISERROR(SEARCH(PROPER('Assortiment Hoortoestellen'!$B$26),PROPER('Dataset hoortoestellen'!D931))),0,1))","v":1}]
["Audicienspraktijk Oordelman",3,"Starkey","Livio 1000 BTE 13","STA-0380",{"$f":"IF(ISBLANK('Assortiment Hoortoestellen'!$B$26),1,IF(ISERROR(SEARCH(PROPER('Assortiment Hoortoestellen'!$B$26),PROPER('Dataset hoortoestellen'!D932))),0,1))","v":1}]
["Audicienspraktijk Oordelman",3,"Starkey","Livio 1000 mRIC 312","STA-0381",{"$f":"IF(ISBLANK('Assortiment Hoortoestellen'!$B$26),1,IF(ISERROR(SEARCH(PROPER('Assortiment Hoortoestellen'!$B$26),PROPER('Dataset hoortoestellen'!D933))),0,1))","v":1}]
["Audicienspraktijk Oordelman",3,"Starkey","Livio 1000 RIC R","STA-0383",{"$f":"IF(ISBLANK('Assortiment Hoortoestellen'!$B$26),1,IF(ISERROR(SEARCH(PROPER('Assortiment Hoortoestellen'!$B$26),PROPER('Dataset hoortoestellen'!D934))),0,1))","v":1}]
["Audicienspraktijk Oordelman",4,"Starkey","Livio 1200 BTE 13","STA-0384",{"$f":"IF(ISBLANK('Assortiment Hoortoestellen'!$B$26),1,IF(ISERROR(SEARCH(PROPER('Assortiment Hoortoestellen'!$B$26),PROPER('Dataset hoortoestellen'!D935))),0,1))","v":1}]
["Audicienspraktijk Oordelman",4,"Starkey","Livio 1200 mRIC 312","STA-0385",{"$f":"IF(ISBLANK('Assortiment Hoortoestellen'!$B$26),1,IF(ISERROR(SEARCH(PROPER('Assortiment Hoortoestellen'!$B$26),PROPER('Dataset hoortoestellen'!D936))),0,1))","v":1}]
["Audicienspraktijk Oordelman",4,"Starkey","Livio 1200 RIC R","STA-0387",{"$f":"IF(ISBLANK('Assortiment Hoortoestellen'!$B$26),1,IF(ISERROR(SEARCH(PROPER('Assortiment Hoortoestellen'!$B$26),PROPER('Dataset hoortoestellen'!D937))),0,1))","v":1}]
["Audicienspraktijk Oordelman",5,"Starkey","Livio 1600 BTE 13","STA-0388",{"$f":"IF(ISBLANK('Assortiment Hoortoestellen'!$B$26),1,IF(ISERROR(SEARCH(PROPER('Assortiment Hoortoestellen'!$B$26),PROPER('Dataset hoortoestellen'!D938))),0,1))","v":1}]
["Audicienspraktijk Oordelman",5,"Starkey","Livio 1600 mRIC 312","STA-0389",{"$f":"IF(ISBLANK('Assortiment Hoortoestellen'!$B$26),1,IF(ISERROR(SEARCH(PROPER('Assortiment Hoortoestellen'!$B$26),PROPER('Dataset hoortoestellen'!D939))),0,1))","v":1}]
["Audicienspraktijk Oordelman",5,"Starkey","Livio 1600 RIC R","STA-0391",{"$f":"IF(ISBLANK('Assortiment Hoortoestellen'!$B$26),1,IF(ISERROR(SEARCH(PROPER('Assortiment Hoortoestellen'!$B$26),PROPER('Dataset hoortoestellen'!D940))),0,1))","v":1}]
["Auditiek Lammers",5,"Audio Service","HP 12 G4","AUS-0131",{"$f":"IF(ISBLANK('Assortiment Hoortoestellen'!$B$26),1,IF(ISERROR(SEARCH(PROPER('Assortiment Hoortoestellen'!$B$26),PROPER('Dataset hoortoestellen'!D941))),0,1))","v":1}]
["Auditiek Lammers",4,"Audio Service","HP 8 G4","AUS-0132",{"$f":"IF(ISBLANK('Assortiment Hoortoestellen'!$B$26),1,IF(ISERROR(SEARCH(PROPER('Assortiment Hoortoestellen'!$B$26),PROPER('Dataset hoortoestellen'!D942))),0,1))","v":1}]
["Auditiek Lammers",2,"Audio Service","HP 4 G4","AUS-0153",{"$f":"IF(ISBLANK('Assortiment Hoortoestellen'!$B$26),1,IF(ISERROR(SEARCH(PROPER('Assortiment Hoortoestellen'!$B$26),PROPER('Dataset hoortoestellen'!D943))),0,1))","v":1}]
["Auditiek Lammers",3,"Audio Service","HP 6 G4","AUS-0154",{"$f":"IF(ISBLANK('Assortiment Hoortoestellen'!$B$26),1,IF(ISERROR(SEARCH(PROPER('Assortiment Hoortoestellen'!$B$26),PROPER('Dataset hoortoestellen'!D944))),0,1))","v":1}]
["Auditiek Lammers",3,"Audio Service","quix 6 G4 links","AUS-0169",{"$f":"IF(ISBLANK('Assortiment Hoortoestellen'!$B$26),1,IF(ISERROR(SEARCH(PROPER('Assortiment Hoortoestellen'!$B$26),PROPER('Dataset hoortoestellen'!D945))),0,1))","v":1}]
["Auditiek Lammers",5,"Audio Service","Duo 12 G5","AUS-0177",{"$f":"IF(ISBLANK('Assortiment Hoortoestellen'!$B$26),1,IF(ISERROR(SEARCH(PROPER('Assortiment Hoortoestellen'!$B$26),PROPER('Dataset hoortoestellen'!D946))),0,1))","v":1}]
["Auditiek Lammers",4,"Audio Service","Duo 8 G5","AUS-0178",{"$f":"IF(ISBLANK('Assortiment Hoortoestellen'!$B$26),1,IF(ISERROR(SEARCH(PROPER('Assortiment Hoortoestellen'!$B$26),PROPER('Dataset hoortoestellen'!D947))),0,1))","v":1}]
["Auditiek Lammers",5,"Audio Service","IHO 12 G5","AUS-0182",{"$f":"IF(ISBLANK('Assortiment Hoortoestellen'!$B$26),1,IF(ISERROR(SEARCH(PROPER('Assortiment Hoortoestellen'!$B$26),PROPER('Dataset hoortoestellen'!D948))),0,1))","v":1}]
["Auditiek Lammers",4,"Audio Service","IHO 8 G5","AUS-0183",{"$f":"IF(ISBLANK('Assortiment Hoortoestellen'!$B$26),1,IF(ISERROR(SEARCH(PROPER('Assortiment Hoortoestellen'!$B$26),PROPER('Dataset hoortoestellen'!D949))),0,1))","v":1}]
["Auditiek Lammers",5,"Audio Service","Mood 12 G5","AUS-0184",{"$f":"IF(ISBLANK('Assortiment Hoortoestellen'!$B$26),1,IF(ISERROR(SEARCH(PROPER('Assortiment Hoortoestellen'!$B$26),PROPER('Dataset hoortoestellen'!D950))),0,1))","v":1}]
["Auditiek Lammers",4,"Audio Service","Mood 8 G5","AUS-0185",{"$f":"IF(ISBLANK('Assortiment Hoortoestellen'!$B$26),1,IF(ISERROR(SEARCH(PROPER('Assortiment Hoortoestellen'!$B$26),PROPER('Dataset hoortoestellen'!D951))),0,1))","v":1}]
["Auditiek Lammers",5,"Audio Service","P 12 G5","AUS-0189",{"$f":"IF(ISBLANK('Assortiment Hoortoestellen'!$B$26),1,IF(ISERROR(SEARCH(PROPER('Assortiment Hoortoestellen'!$B$26),PROPER('Dataset hoortoestellen'!D952))),0,1))","v":1}]
["Auditiek Lammers",4,"Audio Service","P 8 G5","AUS-0190",{"$f":"IF(ISBLANK('Assortiment Hoortoestellen'!$B$26),1,IF(ISERROR(SEARCH(PROPER('Assortiment Hoortoestellen'!$B$26),PROPER('Dataset hoortoestellen'!D953))),0,1))","v":1}]
["Auditiek Lammers",5,"Audio Service","quiX 12 G5 Links","AUS-0191",{"$f":"IF(ISBLANK('Assortiment Hoortoestellen'!$B$26),1,IF(ISERROR(SEARCH(PROPER('Assortiment Hoortoestellen'!$B$26),PROPER('Dataset hoortoestellen'!D954))),0,1))","v":1}]
["Auditiek Lammers",5,"Audio Service","quiX 12 G5 Rechts","AUS-0192",{"$f":"IF(ISBLANK('Assortiment Hoortoestellen'!$B$26),1,IF(ISERROR(SEARCH(PROPER('Assortiment Hoortoestellen'!$B$26),PROPER('Dataset hoortoestellen'!D955))),0,1))","v":1}]
["Auditiek Lammers",4,"Audio Service","quiX 8 G5 Links","AUS-0193",{"$f":"IF(ISBLANK('Assortiment Hoortoestellen'!$B$26),1,IF(ISERROR(SEARCH(PROPER('Assortiment Hoortoestellen'!$B$26),PROPER('Dataset hoortoestellen'!D956))),0,1))","v":1}]
["Auditiek Lammers",4,"Audio Service","quiX 8 G5 Rechts","AUS-0194",{"$f":"IF(ISBLANK('Assortiment Hoortoestellen'!$B$26),1,IF(ISERROR(SEARCH(PROPER('Assortiment Hoortoestellen'!$B$26),PROPER('Dataset hoortoestellen'!D957))),0,1))","v":1}]
["Auditiek Lammers",5,"Audio Service","Rixx 12 G5","AUS-0195",{"$f":"IF(ISBLANK('Assortiment Hoortoestellen'!$B$26),1,IF(ISERROR(SEARCH(PROPER('Assortiment Hoortoestellen'!$B$26),PROPER('Dataset hoortoestellen'!D958))),0,1))","v":1}]
["Auditiek Lammers",4,"Audio Service","Rixx 8 G5","AUS-0196",{"$f":"IF(ISBLANK('Assortiment Hoortoestellen'!$B$26),1,IF(ISERROR(SEARCH(PROPER('Assortiment Hoortoestellen'!$B$26),PROPER('Dataset hoortoestellen'!D959))),0,1))","v":1}]
["Auditiek Lammers",5,"Audio Service","Sun 12 G5","AUS-0197",{"$f":"IF(ISBLANK('Assortiment Hoortoestellen'!$B$26),1,IF(ISERROR(SEARCH(PROPER('Assortiment Hoortoestellen'!$B$26),PROPER('Dataset hoortoestellen'!D960))),0,1))","v":1}]
["Auditiek Lammers",4,"Audio Service","Sun 8 G5","AUS-0198",{"$f":"IF(ISBLANK('Assortiment Hoortoestellen'!$B$26),1,IF(ISERROR(SEARCH(PROPER('Assortiment Hoortoestellen'!$B$26),PROPER('Dataset hoortoestellen'!D961))),0,1))","v":1}]
["Auditiek Lammers",2,"Audio Service","Duo 4 G5","AUS-0205",{"$f":"IF(ISBLANK('Assortiment Hoortoestellen'!$B$26),1,IF(ISERROR(SEARCH(PROPER('Assortiment Hoortoestellen'!$B$26),PROPER('Dataset hoortoestellen'!D962))),0,1))","v":1}]
["Auditiek Lammers",3,"Audio Service","Duo 6 G5","AUS-0206",{"$f":"IF(ISBLANK('Assortiment Hoortoestellen'!$B$26),1,IF(ISERROR(SEARCH(PROPER('Assortiment Hoortoestellen'!$B$26),PROPER('Dataset hoortoestellen'!D963))),0,1))","v":1}]
["Auditiek Lammers",2,"Audio Service","Mood 4 G5","AUS-0207",{"$f":"IF(ISBLANK('Assortiment Hoortoestellen'!$B$26),1,IF(ISERROR(SEARCH(PROPER('Assortiment Hoortoestellen'!$B$26),PROPER('Dataset hoortoestellen'!D964))),0,1))","v":1}]
["Auditiek Lammers",3,"Audio Service","Mood 6 G5","AUS-0208",{"$f":"IF(ISBLANK('Assortiment Hoortoestellen'!$B$26),1,IF(ISERROR(SEARCH(PROPER('Assortiment Hoortoestellen'!$B$26),PROPER('Dataset hoortoestellen'!D965))),0,1))","v":1}]
["Auditiek Lammers",2,"Audio Service","P 4 G5","AUS-0209",{"$f":"IF(ISBLANK('Assortiment Hoortoestellen'!$B$26),1,IF(ISERROR(SEARCH(PROPER('Assortiment Hoortoestellen'!$B$26),PROPER('Dataset hoortoestellen'!D966))),0,1))","v":1}]
["Auditiek Lammers",3,"Audio Service","P 6 G5","AUS-0210",{"$f":"IF(ISBLANK('Assortiment Hoortoestellen'!$B$26),1,IF(ISERROR(SEARCH(PROPER('Assortiment Hoortoestellen'!$B$26),PROPER('Dataset hoortoestellen'!D967))),0,1))","v":1}]
["Auditiek Lammers",2,"Audio Service","quiX 4 G5 Links","AUS-0211",{"$f":"IF(ISBLANK('Assortiment Hoortoestellen'!$B$26),1,IF(ISERROR(SEARCH(PROPER('Assortiment Hoortoestellen'!$B$26),PROPER('Dataset hoortoestellen'!D968))),0,1))","v":1}]
["Auditiek Lammers",2,"Audio Service","quiX 4 G5 Rechts","AUS-0212",{"$f":"IF(ISBLANK('Assortiment Hoortoestellen'!$B$26),1,IF(ISERROR(SEARCH(PROPER('Assortiment Hoortoestellen'!$B$26),PROPER('Dataset hoortoestellen'!D969))),0,1))","v":1}]
["Auditiek Lammers",3,"Audio Service","quiX 6  G5 Rechts","AUS-0213",{"$f":"IF(ISBLANK('Assortiment Hoortoestellen'!$B$26),1,IF(ISERROR(SEARCH(PROPER('Assortiment Hoortoestellen'!$B$26),PROPER('Dataset hoortoestellen'!D970))),0,1))","v":1}]
["Auditiek Lammers",2,"Audio Service","Rixx 4  G5","AUS-0215",{"$f":"IF(ISBLANK('Assortiment Hoortoestellen'!$B$26),1,IF(ISERROR(SEARCH(PROPER('Assortiment Hoortoestellen'!$B$26),PROPER('Dataset hoortoestellen'!D971))),0,1))","v":1}]
["Auditiek Lammers",3,"Audio Service","Rixx 6 G5","AUS-0216",{"$f":"IF(ISBLANK('Assortiment Hoortoestellen'!$B$26),1,IF(ISERROR(SEARCH(PROPER('Assortiment Hoortoestellen'!$B$26),PROPER('Dataset hoortoestellen'!D972))),0,1))","v":1}]
["Auditiek Lammers",2,"Audio Service","Sun 4 G5","AUS-0217",{"$f":"IF(ISBLANK('Assortiment Hoortoestellen'!$B$26),1,IF(ISERROR(SEARCH(PROPER('Assortiment Hoortoestellen'!$B$26),PROPER('Dataset hoortoestellen'!D973))),0,1))","v":1}]
["Auditiek Lammers",3,"Audio Service","Sun 6 G5","AUS-0218",{"$f":"IF(ISBLANK('Assortiment Hoortoestellen'!$B$26),1,IF(ISERROR(SEARCH(PROPER('Assortiment Hoortoestellen'!$B$26),PROPER('Dataset hoortoestellen'!D974))),0,1))","v":1}]
["Auditiek Lammers",3,"Coselgi","U10-CIC (links)","COS-0137",{"$f":"IF(ISBLANK('Assortiment Hoortoestellen'!$B$26),1,IF(ISERROR(SEARCH(PROPER('Assortiment Hoortoestellen'!$B$26),PROPER('Dataset hoortoestellen'!D975))),0,1))","v":1}]
["Auditiek Lammers",3,"Coselgi","U10-CIC TR (links)","COS-0138",{"$f":"IF(ISBLANK('Assortiment Hoortoestellen'!$B$26),1,IF(ISERROR(SEARCH(PROPER('Assortiment Hoortoestellen'!$B$26),PROPER('Dataset hoortoestellen'!D976))),0,1))","v":1}]
["Auditiek Lammers",3,"Coselgi","U10-FA","COS-0139",{"$f":"IF(ISBLANK('Assortiment Hoortoestellen'!$B$26),1,IF(ISERROR(SEARCH(PROPER('Assortiment Hoortoestellen'!$B$26),PROPER('Dataset hoortoestellen'!D977))),0,1))","v":1}]
["Auditiek Lammers",3,"Coselgi","U10-FM","COS-0140",{"$f":"IF(ISBLANK('Assortiment Hoortoestellen'!$B$26),1,IF(ISERROR(SEARCH(PROPER('Assortiment Hoortoestellen'!$B$26),PROPER('Dataset hoortoestellen'!D978))),0,1))","v":1}]
["Auditiek Lammers",3,"Coselgi","U10-FP","COS-0141",{"$f":"IF(ISBLANK('Assortiment Hoortoestellen'!$B$26),1,IF(ISERROR(SEARCH(PROPER('Assortiment Hoortoestellen'!$B$26),PROPER('Dataset hoortoestellen'!D979))),0,1))","v":1}]
["Auditiek Lammers",3,"Coselgi","U10-FS (HP-tel)","COS-0142",{"$f":"IF(ISBLANK('Assortiment Hoortoestellen'!$B$26),1,IF(ISERROR(SEARCH(PROPER('Assortiment Hoortoestellen'!$B$26),PROPER('Dataset hoortoestellen'!D980))),0,1))","v":1}]
["Auditiek Lammers",3,"Coselgi","U10-FS (M-tel)","COS-0143",{"$f":"IF(ISBLANK('Assortiment Hoortoestellen'!$B$26),1,IF(ISERROR(SEARCH(PROPER('Assortiment Hoortoestellen'!$B$26),PROPER('Dataset hoortoestellen'!D981))),0,1))","v":1}]
["Auditiek Lammers",3,"Coselgi","U10-FS (P-tel)","COS-0144",{"$f":"IF(ISBLANK('Assortiment Hoortoestellen'!$B$26),1,IF(ISERROR(SEARCH(PROPER('Assortiment Hoortoestellen'!$B$26),PROPER('Dataset hoortoestellen'!D982))),0,1))","v":1}]
["Auditiek Lammers",3,"Coselgi","U10-FS (S-tel)","COS-0145",{"$f":"IF(ISBLANK('Assortiment Hoortoestellen'!$B$26),1,IF(ISERROR(SEARCH(PROPER('Assortiment Hoortoestellen'!$B$26),PROPER('Dataset hoortoestellen'!D983))),0,1))","v":1}]
["Auditiek Lammers",3,"Coselgi","U10-PA (M-tel)","COS-0146",{"$f":"IF(ISBLANK('Assortiment Hoortoestellen'!$B$26),1,IF(ISERROR(SEARCH(PROPER('Assortiment Hoortoestellen'!$B$26),PROPER('Dataset hoortoestellen'!D984))),0,1))","v":1}]
["Auditiek Lammers",3,"Coselgi","U10-PA (S-tel)","COS-0147",{"$f":"IF(ISBLANK('Assortiment Hoortoestellen'!$B$26),1,IF(ISERROR(SEARCH(PROPER('Assortiment Hoortoestellen'!$B$26),PROPER('Dataset hoortoestellen'!D985))),0,1))","v":1}]
["Auditiek Lammers",3,"Coselgi","U10-XP","COS-0148",{"$f":"IF(ISBLANK('Assortiment Hoortoestellen'!$B$26),1,IF(ISERROR(SEARCH(PROPER('Assortiment Hoortoestellen'!$B$26),PROPER('Dataset hoortoestellen'!D986))),0,1))","v":1}]
["Auditiek Lammers",4,"Coselgi","U10E-CIC (links)","COS-0149",{"$f":"IF(ISBLANK('Assortiment Hoortoestellen'!$B$26),1,IF(ISERROR(SEARCH(PROPER('Assortiment Hoortoestellen'!$B$26),PROPER('Dataset hoortoestellen'!D987))),0,1))","v":1}]
["Auditiek Lammers",4,"Coselgi","U10E-CIC TR (links)","COS-0150",{"$f":"IF(ISBLANK('Assortiment Hoortoestellen'!$B$26),1,IF(ISERROR(SEARCH(PROPER('Assortiment Hoortoestellen'!$B$26),PROPER('Dataset hoortoestellen'!D988))),0,1))","v":1}]
["Auditiek Lammers",4,"Coselgi","U10E-FA","COS-0151",{"$f":"IF(ISBLANK('Assortiment Hoortoestellen'!$B$26),1,IF(ISERROR(SEARCH(PROPER('Assortiment Hoortoestellen'!$B$26),PROPER('Dataset hoortoestellen'!D989))),0,1))","v":1}]
["Auditiek Lammers",4,"Coselgi","U10E-FM","COS-0152",{"$f":"IF(ISBLANK('Assortiment Hoortoestellen'!$B$26),1,IF(ISERROR(SEARCH(PROPER('Assortiment Hoortoestellen'!$B$26),PROPER('Dataset hoortoestellen'!D990))),0,1))","v":1}]
["Auditiek Lammers",4,"Coselgi","U10E-FP","COS-0153",{"$f":"IF(ISBLANK('Assortiment Hoortoestellen'!$B$26),1,IF(ISERROR(SEARCH(PROPER('Assortiment Hoortoestellen'!$B$26),PROPER('Dataset hoortoestellen'!D991))),0,1))","v":1}]
["Auditiek Lammers",4,"Coselgi","U10E-FS (HP-tel)","COS-0154",{"$f":"IF(ISBLANK('Assortiment Hoortoestellen'!$B$26),1,IF(ISERROR(SEARCH(PROPER('Assortiment Hoortoestellen'!$B$26),PROPER('Dataset hoortoestellen'!D992))),0,1))","v":1}]
["Auditiek Lammers",4,"Coselgi","U10E-FS (M-tel)","COS-0155",{"$f":"IF(ISBLANK('Assortiment Hoortoestellen'!$B$26),1,IF(ISERROR(SEARCH(PROPER('Assortiment Hoortoestellen'!$B$26),PROPER('Dataset hoortoestellen'!D993))),0,1))","v":1}]
["Auditiek Lammers",4,"Coselgi","U10E-FS (P-tel)","COS-0156",{"$f":"IF(ISBLANK('Assortiment Hoortoestellen'!$B$26),1,IF(ISERROR(SEARCH(PROPER('Assortiment Hoortoestellen'!$B$26),PROPER('Dataset hoortoestellen'!D994))),0,1))","v":1}]
["Auditiek Lammers",4,"Coselgi","U10E-FS (S-tel)","COS-0157",{"$f":"IF(ISBLANK('Assortiment Hoortoestellen'!$B$26),1,IF(ISERROR(SEARCH(PROPER('Assortiment Hoortoestellen'!$B$26),PROPER('Dataset hoortoestellen'!D995))),0,1))","v":1}]
["Auditiek Lammers",4,"Coselgi","U10E-PA (M-tel)","COS-0158",{"$f":"IF(ISBLANK('Assortiment Hoortoestellen'!$B$26),1,IF(ISERROR(SEARCH(PROPER('Assortiment Hoortoestellen'!$B$26),PROPER('Dataset hoortoestellen'!D996))),0,1))","v":1}]
["Auditiek Lammers",4,"Coselgi","U10E-PA (S-tel)","COS-0159",{"$f":"IF(ISBLANK('Assortiment Hoortoestellen'!$B$26),1,IF(ISERROR(SEARCH(PROPER('Assortiment Hoortoestellen'!$B$26),PROPER('Dataset hoortoestellen'!D997))),0,1))","v":1}]
["Auditiek Lammers",4,"Coselgi","U10E-XP","COS-0160",{"$f":"IF(ISBLANK('Assortiment Hoortoestellen'!$B$26),1,IF(ISERROR(SEARCH(PROPER('Assortiment Hoortoestellen'!$B$26),PROPER('Dataset hoortoestellen'!D998))),0,1))","v":1}]
["Auditiek Lammers",5,"Coselgi","U15-CIC (links)","COS-0161",{"$f":"IF(ISBLANK('Assortiment Hoortoestellen'!$B$26),1,IF(ISERROR(SEARCH(PROPER('Assortiment Hoortoestellen'!$B$26),PROPER('Dataset hoortoestellen'!D999))),0,1))","v":1}]
["Auditiek Lammers",5,"Coselgi","U15-CIC TR (links)","COS-0162",{"$f":"IF(ISBLANK('Assortiment Hoortoestellen'!$B$26),1,IF(ISERROR(SEARCH(PROPER('Assortiment Hoortoestellen'!$B$26),PROPER('Dataset hoortoestellen'!D1000))),0,1))","v":1}]
["Auditiek Lammers",5,"Coselgi","U15-FA","COS-0163",{"$f":"IF(ISBLANK('Assortiment Hoortoestellen'!$B$26),1,IF(ISERROR(SEARCH(PROPER('Assortiment Hoortoestellen'!$B$26),PROPER('Dataset hoortoestellen'!D1001))),0,1))","v":1}]
["Auditiek Lammers",5,"Coselgi","U15-FM","COS-0164",{"$f":"IF(ISBLANK('Assortiment Hoortoestellen'!$B$26),1,IF(ISERROR(SEARCH(PROPER('Assortiment Hoortoestellen'!$B$26),PROPER('Dataset hoortoestellen'!D1002))),0,1))","v":1}]
["Auditiek Lammers",5,"Coselgi","U15-FP","COS-0165",{"$f":"IF(ISBLANK('Assortiment Hoortoestellen'!$B$26),1,IF(ISERROR(SEARCH(PROPER('Assortiment Hoortoestellen'!$B$26),PROPER('Dataset hoortoestellen'!D1003))),0,1))","v":1}]
["Auditiek Lammers",5,"Coselgi","U15-FS (HP-tel)","COS-0166",{"$f":"IF(ISBLANK('Assortiment Hoortoestellen'!$B$26),1,IF(ISERROR(SEARCH(PROPER('Assortiment Hoortoestellen'!$B$26),PROPER('Dataset hoortoestellen'!D1004))),0,1))","v":1}]
["Auditiek Lammers",5,"Coselgi","U15-FS (M-tel)","COS-0167",{"$f":"IF(ISBLANK('Assortiment Hoortoestellen'!$B$26),1,IF(ISERROR(SEARCH(PROPER('Assortiment Hoortoestellen'!$B$26),PROPER('Dataset hoortoestellen'!D1005))),0,1))","v":1}]
["Auditiek Lammers",5,"Coselgi","U15-FS (P-tel)","COS-0168",{"$f":"IF(ISBLANK('Assortiment Hoortoestellen'!$B$26),1,IF(ISERROR(SEARCH(PROPER('Assortiment Hoortoestellen'!$B$26),PROPER('Dataset hoortoestellen'!D1006))),0,1))","v":1}]
["Auditiek Lammers",5,"Coselgi","U15-FS (S-tel)","COS-0169",{"$f":"IF(ISBLANK('Assortiment Hoortoestellen'!$B$26),1,IF(ISERROR(SEARCH(PROPER('Assortiment Hoortoestellen'!$B$26),PROPER('Dataset hoortoestellen'!D1007))),0,1))","v":1}]
["Auditiek Lammers",5,"Coselgi","U15-PA (M-tel)","COS-0170",{"$f":"IF(ISBLANK('Assortiment Hoortoestellen'!$B$26),1,IF(ISERROR(SEARCH(PROPER('Assortiment Hoortoestellen'!$B$26),PROPER('Dataset hoortoestellen'!D1008))),0,1))","v":1}]
["Auditiek Lammers",5,"Coselgi","U15-XP","COS-0172",{"$f":"IF(ISBLANK('Assortiment Hoortoestellen'!$B$26),1,IF(ISERROR(SEARCH(PROPER('Assortiment Hoortoestellen'!$B$26),PROPER('Dataset hoortoestellen'!D1009))),0,1))","v":1}]
["Auditiek Lammers",2,"Coselgi","U6-CIC (links)","COS-0241",{"$f":"IF(ISBLANK('Assortiment Hoortoestellen'!$B$26),1,IF(ISERROR(SEARCH(PROPER('Assortiment Hoortoestellen'!$B$26),PROPER('Dataset hoortoestellen'!D1010))),0,1))","v":1}]
["Auditiek Lammers",2,"Coselgi","U6-CIC TR (links)","COS-0242",{"$f":"IF(ISBLANK('Assortiment Hoortoestellen'!$B$26),1,IF(ISERROR(SEARCH(PROPER('Assortiment Hoortoestellen'!$B$26),PROPER('Dataset hoortoestellen'!D1011))),0,1))","v":1}]
["Auditiek Lammers",2,"Coselgi","U6-FA","COS-0243",{"$f":"IF(ISBLANK('Assortiment Hoortoestellen'!$B$26),1,IF(ISERROR(SEARCH(PROPER('Assortiment Hoortoestellen'!$B$26),PROPER('Dataset hoortoestellen'!D1012))),0,1))","v":1}]
["Auditiek Lammers",2,"Coselgi","U6-FM","COS-0244",{"$f":"IF(ISBLANK('Assortiment Hoortoestellen'!$B$26),1,IF(ISERROR(SEARCH(PROPER('Assortiment Hoortoestellen'!$B$26),PROPER('Dataset hoortoestellen'!D1013))),0,1))","v":1}]
["Auditiek Lammers",2,"Coselgi","U6-FP","COS-0245",{"$f":"IF(ISBLANK('Assortiment Hoortoestellen'!$B$26),1,IF(ISERROR(SEARCH(PROPER('Assortiment Hoortoestellen'!$B$26),PROPER('Dataset hoortoestellen'!D1014))),0,1))","v":1}]
["Auditiek Lammers",2,"Coselgi","U6-FS (HP-tel)","COS-0246",{"$f":"IF(ISBLANK('Assortiment Hoortoestellen'!$B$26),1,IF(ISERROR(SEARCH(PROPER('Assortiment Hoortoestellen'!$B$26),PROPER('Dataset hoortoestellen'!D1015))),0,1))","v":1}]
["Auditiek Lammers",2,"Coselgi","U6-FS (M-tel)","COS-0247",{"$f":"IF(ISBLANK('Assortiment Hoortoestellen'!$B$26),1,IF(ISERROR(SEARCH(PROPER('Assortiment Hoortoestellen'!$B$26),PROPER('Dataset hoortoestellen'!D1016))),0,1))","v":1}]
["Auditiek Lammers",2,"Coselgi","U6-FS (P-tel)","COS-0248",{"$f":"IF(ISBLANK('Assortiment Hoortoestellen'!$B$26),1,IF(ISERROR(SEARCH(PROPER('Assortiment Hoortoestellen'!$B$26),PROPER('Dataset hoortoestellen'!D1017))),0,1))","v":1}]
["Auditiek Lammers",2,"Coselgi","U6-FS (S-tel)","COS-0249",{"$f":"IF(ISBLANK('Assortiment Hoortoestellen'!$B$26),1,IF(ISERROR(SEARCH(PROPER('Assortiment Hoortoestellen'!$B$26),PROPER('Dataset hoortoestellen'!D1018))),0,1))","v":1}]
["Auditiek Lammers",2,"Coselgi","U6-PA (M-tel)","COS-0250",{"$f":"IF(ISBLANK('Assortiment Hoortoestellen'!$B$26),1,IF(ISERROR(SEARCH(PROPER('Assortiment Hoortoestellen'!$B$26),PROPER('Dataset hoortoestellen'!D1019))),0,1))","v":1}]
["Auditiek Lammers",2,"Coselgi","U6-PA (S-tel)","COS-0251",{"$f":"IF(ISBLANK('Assortiment Hoortoestellen'!$B$26),1,IF(ISERROR(SEARCH(PROPER('Assortiment Hoortoestellen'!$B$26),PROPER('Dataset hoortoestellen'!D1020))),0,1))","v":1}]
["Auditiek Lammers",2,"Coselgi","U6-XP","COS-0252",{"$f":"IF(ISBLANK('Assortiment Hoortoestellen'!$B$26),1,IF(ISERROR(SEARCH(PROPER('Assortiment Hoortoestellen'!$B$26),PROPER('Dataset hoortoestellen'!D1021))),0,1))","v":1}]
["Auditiek Lammers",3,"Coselgi","U6E-FA","COS-0255",{"$f":"IF(ISBLANK('Assortiment Hoortoestellen'!$B$26),1,IF(ISERROR(SEARCH(PROPER('Assortiment Hoortoestellen'!$B$26),PROPER('Dataset hoortoestellen'!D1022))),0,1))","v":1}]
["Auditiek Lammers",3,"Coselgi","U6E-FM","COS-0256",{"$f":"IF(ISBLANK('Assortiment Hoortoestellen'!$B$26),1,IF(ISERROR(SEARCH(PROPER('Assortiment Hoortoestellen'!$B$26),PROPER('Dataset hoortoestellen'!D1023))),0,1))","v":1}]
["Auditiek Lammers",3,"Coselgi","U6E-FP","COS-0257",{"$f":"IF(ISBLANK('Assortiment Hoortoestellen'!$B$26),1,IF(ISERROR(SEARCH(PROPER('Assortiment Hoortoestellen'!$B$26),PROPER('Dataset hoortoestellen'!D1024))),0,1))","v":1}]
["Auditiek Lammers",3,"Coselgi","U6E-FS (HP-tel)","COS-0258",{"$f":"IF(ISBLANK('Assortiment Hoortoestellen'!$B$26),1,IF(ISERROR(SEARCH(PROPER('Assortiment Hoortoestellen'!$B$26),PROPER('Dataset hoortoestellen'!D1025))),0,1))","v":1}]
["Auditiek Lammers",3,"Coselgi","U6E-FS (M-tel)","COS-0259",{"$f":"IF(ISBLANK('Assortiment Hoortoestellen'!$B$26),1,IF(ISERROR(SEARCH(PROPER('Assortiment Hoortoestellen'!$B$26),PROPER('Dataset hoortoestellen'!D1026))),0,1))","v":1}]
["Auditiek Lammers",3,"Coselgi","U6E-FS (P-tel)","COS-0260",{"$f":"IF(ISBLANK('Assortiment Hoortoestellen'!$B$26),1,IF(ISERROR(SEARCH(PROPER('Assortiment Hoortoestellen'!$B$26),PROPER('Dataset hoortoestellen'!D1027))),0,1))","v":1}]
["Auditiek Lammers",3,"Coselgi","U6E-FS (S-tel)","COS-0261",{"$f":"IF(ISBLANK('Assortiment Hoortoestellen'!$B$26),1,IF(ISERROR(SEARCH(PROPER('Assortiment Hoortoestellen'!$B$26),PROPER('Dataset hoortoestellen'!D1028))),0,1))","v":1}]
["Auditiek Lammers",3,"Coselgi","U6E-PA (M-tel)","COS-0262",{"$f":"IF(ISBLANK('Assortiment Hoortoestellen'!$B$26),1,IF(ISERROR(SEARCH(PROPER('Assortiment Hoortoestellen'!$B$26),PROPER('Dataset hoortoestellen'!D1029))),0,1))","v":1}]
["Auditiek Lammers",3,"Coselgi","U6E-PA (S-tel)","COS-0263",{"$f":"IF(ISBLANK('Assortiment Hoortoestellen'!$B$26),1,IF(ISERROR(SEARCH(PROPER('Assortiment Hoortoestellen'!$B$26),PROPER('Dataset hoortoestellen'!D1030))),0,1))","v":1}]
["Auditiek Lammers",3,"Coselgi","U6E-XP","COS-0264",{"$f":"IF(ISBLANK('Assortiment Hoortoestellen'!$B$26),1,IF(ISERROR(SEARCH(PROPER('Assortiment Hoortoestellen'!$B$26),PROPER('Dataset hoortoestellen'!D1031))),0,1))","v":1}]
["Auditiek Lammers",3,"Coselgi","U6-CIC (rechts)","COS-0271",{"$f":"IF(ISBLANK('Assortiment Hoortoestellen'!$B$26),1,IF(ISERROR(SEARCH(PROPER('Assortiment Hoortoestellen'!$B$26),PROPER('Dataset hoortoestellen'!D1032))),0,1))","v":1}]
["Auditiek Lammers",3,"Coselgi","U6-CIC TR (rechts)","COS-0272",{"$f":"IF(ISBLANK('Assortiment Hoortoestellen'!$B$26),1,IF(ISERROR(SEARCH(PROPER('Assortiment Hoortoestellen'!$B$26),PROPER('Dataset hoortoestellen'!D1033))),0,1))","v":1}]
["Auditiek Lammers",2,"Coselgi","Effect EF2-F2 (HP-tel)","COS-0276",{"$f":"IF(ISBLANK('Assortiment Hoortoestellen'!$B$26),1,IF(ISERROR(SEARCH(PROPER('Assortiment Hoortoestellen'!$B$26),PROPER('Dataset hoortoestellen'!D1034))),0,1))","v":1}]
["Auditiek Lammers",2,"Coselgi","Effect EF2-F2 (M-tel)","COS-0277",{"$f":"IF(ISBLANK('Assortiment Hoortoestellen'!$B$26),1,IF(ISERROR(SEARCH(PROPER('Assortiment Hoortoestellen'!$B$26),PROPER('Dataset hoortoestellen'!D1035))),0,1))","v":1}]
["Auditiek Lammers",2,"Coselgi","Effect EF2-F2 (P-tel)","COS-0278",{"$f":"IF(ISBLANK('Assortiment Hoortoestellen'!$B$26),1,IF(ISERROR(SEARCH(PROPER('Assortiment Hoortoestellen'!$B$26),PROPER('Dataset hoortoestellen'!D1036))),0,1))","v":1}]
["Auditiek Lammers",2,"Coselgi","Effect EF2-F2 (S-tel)","COS-0279",{"$f":"IF(ISBLANK('Assortiment Hoortoestellen'!$B$26),1,IF(ISERROR(SEARCH(PROPER('Assortiment Hoortoestellen'!$B$26),PROPER('Dataset hoortoestellen'!D1037))),0,1))","v":1}]
["Auditiek Lammers",2,"Coselgi","Effect EF2-FS (M-tel)","COS-0281",{"$f":"IF(ISBLANK('Assortiment Hoortoestellen'!$B$26),1,IF(ISERROR(SEARCH(PROPER('Assortiment Hoortoestellen'!$B$26),PROPER('Dataset hoortoestellen'!D1038))),0,1))","v":1}]
["Auditiek Lammers",2,"Coselgi","Effect EF2-FS (P-tel)","COS-0282",{"$f":"IF(ISBLANK('Assortiment Hoortoestellen'!$B$26),1,IF(ISERROR(SEARCH(PROPER('Assortiment Hoortoestellen'!$B$26),PROPER('Dataset hoortoestellen'!D1039))),0,1))","v":1}]
["Auditiek Lammers",2,"Coselgi","Effect EF2-FS (S-tel)","COS-0283",{"$f":"IF(ISBLANK('Assortiment Hoortoestellen'!$B$26),1,IF(ISERROR(SEARCH(PROPER('Assortiment Hoortoestellen'!$B$26),PROPER('Dataset hoortoestellen'!D1040))),0,1))","v":1}]
["Auditiek Lammers",2,"Coselgi","Effect EF2-CIC Links","COS-0284",{"$f":"IF(ISBLANK('Assortiment Hoortoestellen'!$B$26),1,IF(ISERROR(SEARCH(PROPER('Assortiment Hoortoestellen'!$B$26),PROPER('Dataset hoortoestellen'!D1041))),0,1))","v":1}]
["Auditiek Lammers",2,"Coselgi","Effect EF2-CIC M","COS-0285",{"$f":"IF(ISBLANK('Assortiment Hoortoestellen'!$B$26),1,IF(ISERROR(SEARCH(PROPER('Assortiment Hoortoestellen'!$B$26),PROPER('Dataset hoortoestellen'!D1042))),0,1))","v":1}]
["Auditiek Lammers",2,"Coselgi","Effect EF2-CIC Rechts","COS-0287",{"$f":"IF(ISBLANK('Assortiment Hoortoestellen'!$B$26),1,IF(ISERROR(SEARCH(PROPER('Assortiment Hoortoestellen'!$B$26),PROPER('Dataset hoortoestellen'!D1043))),0,1))","v":1}]
["Auditiek Lammers",2,"Coselgi","Effect EF2-CIC TR Links","COS-0288",{"$f":"IF(ISBLANK('Assortiment Hoortoestellen'!$B$26),1,IF(ISERROR(SEARCH(PROPER('Assortiment Hoortoestellen'!$B$26),PROPER('Dataset hoortoestellen'!D1044))),0,1))","v":1}]
["Auditiek Lammers",2,"Coselgi","Effect EF2-CIC TR Rechts","COS-0289",{"$f":"IF(ISBLANK('Assortiment Hoortoestellen'!$B$26),1,IF(ISERROR(SEARCH(PROPER('Assortiment Hoortoestellen'!$B$26),PROPER('Dataset hoortoestellen'!D1045))),0,1))","v":1}]
["Auditiek Lammers",2,"Coselgi","Effect EF2-FA","COS-0290",{"$f":"IF(ISBLANK('Assortiment Hoortoestellen'!$B$26),1,IF(ISERROR(SEARCH(PROPER('Assortiment Hoortoestellen'!$B$26),PROPER('Dataset hoortoestellen'!D1046))),0,1))","v":1}]
["Auditiek Lammers",2,"Coselgi","Effect EF2-FM","COS-0291",{"$f":"IF(ISBLANK('Assortiment Hoortoestellen'!$B$26),1,IF(ISERROR(SEARCH(PROPER('Assortiment Hoortoestellen'!$B$26),PROPER('Dataset hoortoestellen'!D1047))),0,1))","v":1}]
["Auditiek Lammers",2,"Coselgi","Effect EF2-FP","COS-0292",{"$f":"IF(ISBLANK('Assortiment Hoortoestellen'!$B$26),1,IF(ISERROR(SEARCH(PROPER('Assortiment Hoortoestellen'!$B$26),PROPER('Dataset hoortoestellen'!D1048))),0,1))","v":1}]
["Auditiek Lammers",2,"Coselgi","Effect EF2-XP","COS-0293",{"$f":"IF(ISBLANK('Assortiment Hoortoestellen'!$B$26),1,IF(ISERROR(SEARCH(PROPER('Assortiment Hoortoestellen'!$B$26),PROPER('Dataset hoortoestellen'!D1049))),0,1))","v":1}]
["Auditiek Lammers",3,"Coselgi","Effect EF4-F2 (M-tel)","COS-0295",{"$f":"IF(ISBLANK('Assortiment Hoortoestellen'!$B$26),1,IF(ISERROR(SEARCH(PROPER('Assortiment Hoortoestellen'!$B$26),PROPER('Dataset hoortoestellen'!D1050))),0,1))","v":1}]
["Auditiek Lammers",3,"Coselgi","Effect EF4-F2 (P-tel)","COS-0296",{"$f":"IF(ISBLANK('Assortiment Hoortoestellen'!$B$26),1,IF(ISERROR(SEARCH(PROPER('Assortiment Hoortoestellen'!$B$26),PROPER('Dataset hoortoestellen'!D1051))),0,1))","v":1}]
["Auditiek Lammers",3,"Coselgi","Effect EF4-F2 (S-tel)","COS-0297",{"$f":"IF(ISBLANK('Assortiment Hoortoestellen'!$B$26),1,IF(ISERROR(SEARCH(PROPER('Assortiment Hoortoestellen'!$B$26),PROPER('Dataset hoortoestellen'!D1052))),0,1))","v":1}]
["Auditiek Lammers",3,"Coselgi","Effect EF4 F2(HP-tel)","COS-0298",{"$f":"IF(ISBLANK('Assortiment Hoortoestellen'!$B$26),1,IF(ISERROR(SEARCH(PROPER('Assortiment Hoortoestellen'!$B$26),PROPER('Dataset hoortoestellen'!D1053))),0,1))","v":1}]
["Auditiek Lammers",3,"Coselgi","Effect EF4-FS (HP-tel)","COS-0299",{"$f":"IF(ISBLANK('Assortiment Hoortoestellen'!$B$26),1,IF(ISERROR(SEARCH(PROPER('Assortiment Hoortoestellen'!$B$26),PROPER('Dataset hoortoestellen'!D1054))),0,1))","v":1}]
["Auditiek Lammers",3,"Coselgi","Effect EF4-FS (M-tel)","COS-0300",{"$f":"IF(ISBLANK('Assortiment Hoortoestellen'!$B$26),1,IF(ISERROR(SEARCH(PROPER('Assortiment Hoortoestellen'!$B$26),PROPER('Dataset hoortoestellen'!D1055))),0,1))","v":1}]
["Auditiek Lammers",3,"Coselgi","Effect EF4-FS (P-tel)","COS-0301",{"$f":"IF(ISBLANK('Assortiment Hoortoestellen'!$B$26),1,IF(ISERROR(SEARCH(PROPER('Assortiment Hoortoestellen'!$B$26),PROPER('Dataset hoortoestellen'!D1056))),0,1))","v":1}]
["Auditiek Lammers",3,"Coselgi","Effect EF4-RIC 10 (M-tel)","COS-0303",{"$f":"IF(ISBLANK('Assortiment Hoortoestellen'!$B$26),1,IF(ISERROR(SEARCH(PROPER('Assortiment Hoortoestellen'!$B$26),PROPER('Dataset hoortoestellen'!D1057))),0,1))","v":1}]
["Auditiek Lammers",3,"Coselgi","Effect EF4-RIC 10 (S-tel)","COS-0304",{"$f":"IF(ISBLANK('Assortiment Hoortoestellen'!$B$26),1,IF(ISERROR(SEARCH(PROPER('Assortiment Hoortoestellen'!$B$26),PROPER('Dataset hoortoestellen'!D1058))),0,1))","v":1}]
["Auditiek Lammers",3,"Coselgi","Effect EF4-CIC Links","COS-0305",{"$f":"IF(ISBLANK('Assortiment Hoortoestellen'!$B$26),1,IF(ISERROR(SEARCH(PROPER('Assortiment Hoortoestellen'!$B$26),PROPER('Dataset hoortoestellen'!D1059))),0,1))","v":1}]
["Auditiek Lammers",3,"Coselgi","Effect EF4-CIC M","COS-0306",{"$f":"IF(ISBLANK('Assortiment Hoortoestellen'!$B$26),1,IF(ISERROR(SEARCH(PROPER('Assortiment Hoortoestellen'!$B$26),PROPER('Dataset hoortoestellen'!D1060))),0,1))","v":1}]
["Auditiek Lammers",3,"Coselgi","Effect EF4-CIC Rechts","COS-0308",{"$f":"IF(ISBLANK('Assortiment Hoortoestellen'!$B$26),1,IF(ISERROR(SEARCH(PROPER('Assortiment Hoortoestellen'!$B$26),PROPER('Dataset hoortoestellen'!D1061))),0,1))","v":1}]
["Auditiek Lammers",3,"Coselgi","Effect EF4-CIC TR Links","COS-0309",{"$f":"IF(ISBLANK('Assortiment Hoortoestellen'!$B$26),1,IF(ISERROR(SEARCH(PROPER('Assortiment Hoortoestellen'!$B$26),PROPER('Dataset hoortoestellen'!D1062))),0,1))","v":1}]
["Auditiek Lammers",3,"Coselgi","Effect EF4-CIC TR Rechts","COS-0310",{"$f":"IF(ISBLANK('Assortiment Hoortoestellen'!$B$26),1,IF(ISERROR(SEARCH(PROPER('Assortiment Hoortoestellen'!$B$26),PROPER('Dataset hoortoestellen'!D1063))),0,1))","v":1}]
["Auditiek Lammers",3,"Coselgi","Effect EF4-FA","COS-0311",{"$f":"IF(ISBLANK('Assortiment Hoortoestellen'!$B$26),1,IF(ISERROR(SEARCH(PROPER('Assortiment Hoortoestellen'!$B$26),PROPER('Dataset hoortoestellen'!D1064))),0,1))","v":1}]
["Auditiek Lammers",3,"Coselgi","Effect EF4-FM","COS-0312",{"$f":"IF(ISBLANK('Assortiment Hoortoestellen'!$B$26),1,IF(ISERROR(SEARCH(PROPER('Assortiment Hoortoestellen'!$B$26),PROPER('Dataset hoortoestellen'!D1065))),0,1))","v":1}]
["Auditiek Lammers",3,"Coselgi","Effect EF4-FP","COS-0313",{"$f":"IF(ISBLANK('Assortiment Hoortoestellen'!$B$26),1,IF(ISERROR(SEARCH(PROPER('Assortiment Hoortoestellen'!$B$26),PROPER('Dataset hoortoestellen'!D1066))),0,1))","v":1}]
["Auditiek Lammers",3,"Coselgi","Effect EF4-XP","COS-0314",{"$f":"IF(ISBLANK('Assortiment Hoortoestellen'!$B$26),1,IF(ISERROR(SEARCH(PROPER('Assortiment Hoortoestellen'!$B$26),PROPER('Dataset hoortoestellen'!D1067))),0,1))","v":1}]
["Auditiek Lammers",4,"Coselgi","Effect EF5-F2 (HP-tel)","COS-0316",{"$f":"IF(ISBLANK('Assortiment Hoortoestellen'!$B$26),1,IF(ISERROR(SEARCH(PROPER('Assortiment Hoortoestellen'!$B$26),PROPER('Dataset hoortoestellen'!D1068))),0,1))","v":1}]
["Auditiek Lammers",4,"Coselgi","Effect EF5-F2 (M-tel)","COS-0317",{"$f":"IF(ISBLANK('Assortiment Hoortoestellen'!$B$26),1,IF(ISERROR(SEARCH(PROPER('Assortiment Hoortoestellen'!$B$26),PROPER('Dataset hoortoestellen'!D1069))),0,1))","v":1}]
["Auditiek Lammers",4,"Coselgi","Effect EF5-F2 (P-tel)","COS-0318",{"$f":"IF(ISBLANK('Assortiment Hoortoestellen'!$B$26),1,IF(ISERROR(SEARCH(PROPER('Assortiment Hoortoestellen'!$B$26),PROPER('Dataset hoortoestellen'!D1070))),0,1))","v":1}]
["Auditiek Lammers",4,"Coselgi","Effect EF5-FS (HP-tel)","COS-0320",{"$f":"IF(ISBLANK('Assortiment Hoortoestellen'!$B$26),1,IF(ISERROR(SEARCH(PROPER('Assortiment Hoortoestellen'!$B$26),PROPER('Dataset hoortoestellen'!D1071))),0,1))","v":1}]
["Auditiek Lammers",4,"Coselgi","Effect EF5-FS (M-tel)","COS-0321",{"$f":"IF(ISBLANK('Assortiment Hoortoestellen'!$B$26),1,IF(ISERROR(SEARCH(PROPER('Assortiment Hoortoestellen'!$B$26),PROPER('Dataset hoortoestellen'!D1072))),0,1))","v":1}]
["Auditiek Lammers",4,"Coselgi","Effect EF5-FS (P-tel)","COS-0322",{"$f":"IF(ISBLANK('Assortiment Hoortoestellen'!$B$26),1,IF(ISERROR(SEARCH(PROPER('Assortiment Hoortoestellen'!$B$26),PROPER('Dataset hoortoestellen'!D1073))),0,1))","v":1}]
["Auditiek Lammers",4,"Coselgi","Effect EF5-FS (S-tel)","COS-0323",{"$f":"IF(ISBLANK('Assortiment Hoortoestellen'!$B$26),1,IF(ISERROR(SEARCH(PROPER('Assortiment Hoortoestellen'!$B$26),PROPER('Dataset hoortoestellen'!D1074))),0,1))","v":1}]
["Auditiek Lammers",4,"Coselgi","Effect EF5-RIC 10 (M-tel)","COS-0324",{"$f":"IF(ISBLANK('Assortiment Hoortoestellen'!$B$26),1,IF(ISERROR(SEARCH(PROPER('Assortiment Hoortoestellen'!$B$26),PROPER('Dataset hoortoestellen'!D1075))),0,1))","v":1}]
["Auditiek Lammers",4,"Coselgi","Effect EF5-RIC 10 (S-tel)","COS-0325",{"$f":"IF(ISBLANK('Assortiment Hoortoestellen'!$B$26),1,IF(ISERROR(SEARCH(PROPER('Assortiment Hoortoestellen'!$B$26),PROPER('Dataset hoortoestellen'!D1076))),0,1))","v":1}]
["Auditiek Lammers",4,"Coselgi","Effect EF5-CIC Links","COS-0326",{"$f":"IF(ISBLANK('Assortiment Hoortoestellen'!$B$26),1,IF(ISERROR(SEARCH(PROPER('Assortiment Hoortoestellen'!$B$26),PROPER('Dataset hoortoestellen'!D1077))),0,1))","v":1}]
["Auditiek Lammers",4,"Coselgi","Effect EF5-CIC M","COS-0327",{"$f":"IF(ISBLANK('Assortiment Hoortoestellen'!$B$26),1,IF(ISERROR(SEARCH(PROPER('Assortiment Hoortoestellen'!$B$26),PROPER('Dataset hoortoestellen'!D1078))),0,1))","v":1}]
["Auditiek Lammers",4,"Coselgi","Effect EF5-CIC Rechts","COS-0329",{"$f":"IF(ISBLANK('Assortiment Hoortoestellen'!$B$26),1,IF(ISERROR(SEARCH(PROPER('Assortiment Hoortoestellen'!$B$26),PROPER('Dataset hoortoestellen'!D1079))),0,1))","v":1}]
["Auditiek Lammers",4,"Coselgi","Effect EF5-CIC TR Links","COS-0330",{"$f":"IF(ISBLANK('Assortiment Hoortoestellen'!$B$26),1,IF(ISERROR(SEARCH(PROPER('Assortiment Hoortoestellen'!$B$26),PROPER('Dataset hoortoestellen'!D1080))),0,1))","v":1}]
["Auditiek Lammers",4,"Coselgi","Effect EF5-CIC TR Rechts","COS-0331",{"$f":"IF(ISBLANK('Assortiment Hoortoestellen'!$B$26),1,IF(ISERROR(SEARCH(PROPER('Assortiment Hoortoestellen'!$B$26),PROPER('Dataset hoortoestellen'!D1081))),0,1))","v":1}]
["Auditiek Lammers",4,"Coselgi","Effect EF5-FA","COS-0332",{"$f":"IF(ISBLANK('Assortiment Hoortoestellen'!$B$26),1,IF(ISERROR(SEARCH(PROPER('Assortiment Hoortoestellen'!$B$26),PROPER('Dataset hoortoestellen'!D1082))),0,1))","v":1}]
["Auditiek Lammers",4,"Coselgi","Effect EF5-FM","COS-0333",{"$f":"IF(ISBLANK('Assortiment Hoortoestellen'!$B$26),1,IF(ISERROR(SEARCH(PROPER('Assortiment Hoortoestellen'!$B$26),PROPER('Dataset hoortoestellen'!D1083))),0,1))","v":1}]
["Auditiek Lammers",4,"Coselgi","Effect EF5-FP","COS-0334",{"$f":"IF(ISBLANK('Assortiment Hoortoestellen'!$B$26),1,IF(ISERROR(SEARCH(PROPER('Assortiment Hoortoestellen'!$B$26),PROPER('Dataset hoortoestellen'!D1084))),0,1))","v":1}]
["Auditiek Lammers",4,"Coselgi","Effect EF5-XP","COS-0335",{"$f":"IF(ISBLANK('Assortiment Hoortoestellen'!$B$26),1,IF(ISERROR(SEARCH(PROPER('Assortiment Hoortoestellen'!$B$26),PROPER('Dataset hoortoestellen'!D1085))),0,1))","v":1}]
["Auditiek Lammers",5,"Coselgi","Effect EF6-F2 (HP-tel)","COS-0337",{"$f":"IF(ISBLANK('Assortiment Hoortoestellen'!$B$26),1,IF(ISERROR(SEARCH(PROPER('Assortiment Hoortoestellen'!$B$26),PROPER('Dataset hoortoestellen'!D1086))),0,1))","v":1}]
["Auditiek Lammers",5,"Coselgi","Effect EF6-F2 (M-tel)","COS-0338",{"$f":"IF(ISBLANK('Assortiment Hoortoestellen'!$B$26),1,IF(ISERROR(SEARCH(PROPER('Assortiment Hoortoestellen'!$B$26),PROPER('Dataset hoortoestellen'!D1087))),0,1))","v":1}]
["Auditiek Lammers",5,"Coselgi","Effect EF6-F2 (P-tel)","COS-0339",{"$f":"IF(ISBLANK('Assortiment Hoortoestellen'!$B$26),1,IF(ISERROR(SEARCH(PROPER('Assortiment Hoortoestellen'!$B$26),PROPER('Dataset hoortoestellen'!D1088))),0,1))","v":1}]
["Auditiek Lammers",5,"Coselgi","Effect EF6-F2 (S-tel)","COS-0340",{"$f":"IF(ISBLANK('Assortiment Hoortoestellen'!$B$26),1,IF(ISERROR(SEARCH(PROPER('Assortiment Hoortoestellen'!$B$26),PROPER('Dataset hoortoestellen'!D1089))),0,1))","v":1}]
["Auditiek Lammers",5,"Coselgi","Effect EF6-FS (HP-tel)","COS-0341",{"$f":"IF(ISBLANK('Assortiment Hoortoestellen'!$B$26),1,IF(ISERROR(SEARCH(PROPER('Assortiment Hoortoestellen'!$B$26),PROPER('Dataset hoortoestellen'!D1090))),0,1))","v":1}]
["Auditiek Lammers",5,"Coselgi","Effect EF6-FS (M-tel)","COS-0342",{"$f":"IF(ISBLANK('Assortiment Hoortoestellen'!$B$26),1,IF(ISERROR(SEARCH(PROPER('Assortiment Hoortoestellen'!$B$26),PROPER('Dataset hoortoestellen'!D1091))),0,1))","v":1}]
["Auditiek Lammers",5,"Coselgi","Effect EF6-FS (P-tel)","COS-0343",{"$f":"IF(ISBLANK('Assortiment Hoortoestellen'!$B$26),1,IF(ISERROR(SEARCH(PROPER('Assortiment Hoortoestellen'!$B$26),PROPER('Dataset hoortoestellen'!D1092))),0,1))","v":1}]
["Auditiek Lammers",5,"Coselgi","Effect EF6-FS (S-tel)","COS-0344",{"$f":"IF(ISBLANK('Assortiment Hoortoestellen'!$B$26),1,IF(ISERROR(SEARCH(PROPER('Assortiment Hoortoestellen'!$B$26),PROPER('Dataset hoortoestellen'!D1093))),0,1))","v":1}]
["Auditiek Lammers",5,"Coselgi","Effect EF6-RIC 10 (M-tel)","COS-0345",{"$f":"IF(ISBLANK('Assortiment Hoortoestellen'!$B$26),1,IF(ISERROR(SEARCH(PROPER('Assortiment Hoortoestellen'!$B$26),PROPER('Dataset hoortoestellen'!D1094))),0,1))","v":1}]
["Auditiek Lammers",5,"Coselgi","Effect EF6-CIC Links","COS-0347",{"$f":"IF(ISBLANK('Assortiment Hoortoestellen'!$B$26),1,IF(ISERROR(SEARCH(PROPER('Assortiment Hoortoestellen'!$B$26),PROPER('Dataset hoortoestellen'!D1095))),0,1))","v":1}]
["Auditiek Lammers",5,"Coselgi","Effect EF6-CIC M","COS-0348",{"$f":"IF(ISBLANK('Assortiment Hoortoestellen'!$B$26),1,IF(ISERROR(SEARCH(PROPER('Assortiment Hoortoestellen'!$B$26),PROPER('Dataset hoortoestellen'!D1096))),0,1))","v":1}]
["Auditiek Lammers",5,"Coselgi","Effect EF6-CIC Rechts","COS-0350",{"$f":"IF(ISBLANK('Assortiment Hoortoestellen'!$B$26),1,IF(ISERROR(SEARCH(PROPER('Assortiment Hoortoestellen'!$B$26),PROPER('Dataset hoortoestellen'!D1097))),0,1))","v":1}]
["Auditiek Lammers",5,"Coselgi","Effect EF6-CIC TR Links","COS-0351",{"$f":"IF(ISBLANK('Assortiment Hoortoestellen'!$B$26),1,IF(ISERROR(SEARCH(PROPER('Assortiment Hoortoestellen'!$B$26),PROPER('Dataset hoortoestellen'!D1098))),0,1))","v":1}]
["Auditiek Lammers",5,"Coselgi","Effect EF6-CIC TR Rechts","COS-0352",{"$f":"IF(ISBLANK('Assortiment Hoortoestellen'!$B$26),1,IF(ISERROR(SEARCH(PROPER('Assortiment Hoortoestellen'!$B$26),PROPER('Dataset hoortoestellen'!D1099))),0,1))","v":1}]
["Auditiek Lammers",5,"Coselgi","Effect EF6-FA","COS-0353",{"$f":"IF(ISBLANK('Assortiment Hoortoestellen'!$B$26),1,IF(ISERROR(SEARCH(PROPER('Assortiment Hoortoestellen'!$B$26),PROPER('Dataset hoortoestellen'!D1100))),0,1))","v":1}]
["Auditiek Lammers",5,"Coselgi","Effect EF6-FM","COS-0354",{"$f":"IF(ISBLANK('Assortiment Hoortoestellen'!$B$26),1,IF(ISERROR(SEARCH(PROPER('Assortiment Hoortoestellen'!$B$26),PROPER('Dataset hoortoestellen'!D1101))),0,1))","v":1}]
["Auditiek Lammers",5,"Coselgi","Effect EF6-FP","COS-0355",{"$f":"IF(ISBLANK('Assortiment Hoortoestellen'!$B$26),1,IF(ISERROR(SEARCH(PROPER('Assortiment Hoortoestellen'!$B$26),PROPER('Dataset hoortoestellen'!D1102))),0,1))","v":1}]
["Auditiek Lammers",5,"Coselgi","Effect EF6-XP","COS-0356",{"$f":"IF(ISBLANK('Assortiment Hoortoestellen'!$B$26),1,IF(ISERROR(SEARCH(PROPER('Assortiment Hoortoestellen'!$B$26),PROPER('Dataset hoortoestellen'!D1103))),0,1))","v":1}]
["Auditiek Lammers",2,"Interton","RD261-DRW","INT-0026",{"$f":"IF(ISBLANK('Assortiment Hoortoestellen'!$B$26),1,IF(ISERROR(SEARCH(PROPER('Assortiment Hoortoestellen'!$B$26),PROPER('Dataset hoortoestellen'!D1104))),0,1))","v":1}]
["Auditiek Lammers",2,"Interton","RD262-DRW","INT-0027",{"$f":"IF(ISBLANK('Assortiment Hoortoestellen'!$B$26),1,IF(ISERROR(SEARCH(PROPER('Assortiment Hoortoestellen'!$B$26),PROPER('Dataset hoortoestellen'!D1105))),0,1))","v":1}]
["Auditiek Lammers",1,"Interton","RD270-DW","INT-0028",{"$f":"IF(ISBLANK('Assortiment Hoortoestellen'!$B$26),1,IF(ISERROR(SEARCH(PROPER('Assortiment Hoortoestellen'!$B$26),PROPER('Dataset hoortoestellen'!D1106))),0,1))","v":1}]
["Auditiek Lammers",1,"Interton","RD280-DW","INT-0029",{"$f":"IF(ISBLANK('Assortiment Hoortoestellen'!$B$26),1,IF(ISERROR(SEARCH(PROPER('Assortiment Hoortoestellen'!$B$26),PROPER('Dataset hoortoestellen'!D1107))),0,1))","v":1}]
["Auditiek Lammers",2,"Interton","RD361-DRW","INT-0032",{"$f":"IF(ISBLANK('Assortiment Hoortoestellen'!$B$26),1,IF(ISERROR(SEARCH(PROPER('Assortiment Hoortoestellen'!$B$26),PROPER('Dataset hoortoestellen'!D1108))),0,1))","v":1}]
["Auditiek Lammers",2,"Interton","RD362-DRW","INT-0033",{"$f":"IF(ISBLANK('Assortiment Hoortoestellen'!$B$26),1,IF(ISERROR(SEARCH(PROPER('Assortiment Hoortoestellen'!$B$26),PROPER('Dataset hoortoestellen'!D1109))),0,1))","v":1}]
["Auditiek Lammers",2,"Interton","RD370-DW","INT-0034",{"$f":"IF(ISBLANK('Assortiment Hoortoestellen'!$B$26),1,IF(ISERROR(SEARCH(PROPER('Assortiment Hoortoestellen'!$B$26),PROPER('Dataset hoortoestellen'!D1110))),0,1))","v":1}]
["Auditiek Lammers",2,"Interton","RD380-DW","INT-0035",{"$f":"IF(ISBLANK('Assortiment Hoortoestellen'!$B$26),1,IF(ISERROR(SEARCH(PROPER('Assortiment Hoortoestellen'!$B$26),PROPER('Dataset hoortoestellen'!D1111))),0,1))","v":1}]
["Auditiek Lammers",3,"Interton","RD3CIC","INT-0036",{"$f":"IF(ISBLANK('Assortiment Hoortoestellen'!$B$26),1,IF(ISERROR(SEARCH(PROPER('Assortiment Hoortoestellen'!$B$26),PROPER('Dataset hoortoestellen'!D1112))),0,1))","v":1}]
["Auditiek Lammers",3,"Interton","RD3ITC-DW","INT-0037",{"$f":"IF(ISBLANK('Assortiment Hoortoestellen'!$B$26),1,IF(ISERROR(SEARCH(PROPER('Assortiment Hoortoestellen'!$B$26),PROPER('Dataset hoortoestellen'!D1113))),0,1))","v":1}]
["Auditiek Lammers",3,"Interton","RD461-DRW","INT-0038",{"$f":"IF(ISBLANK('Assortiment Hoortoestellen'!$B$26),1,IF(ISERROR(SEARCH(PROPER('Assortiment Hoortoestellen'!$B$26),PROPER('Dataset hoortoestellen'!D1114))),0,1))","v":1}]
["Auditiek Lammers",3,"Interton","RD462-DRW","INT-0039",{"$f":"IF(ISBLANK('Assortiment Hoortoestellen'!$B$26),1,IF(ISERROR(SEARCH(PROPER('Assortiment Hoortoestellen'!$B$26),PROPER('Dataset hoortoestellen'!D1115))),0,1))","v":1}]
["Auditiek Lammers",3,"Interton","RD470-DW","INT-0040",{"$f":"IF(ISBLANK('Assortiment Hoortoestellen'!$B$26),1,IF(ISERROR(SEARCH(PROPER('Assortiment Hoortoestellen'!$B$26),PROPER('Dataset hoortoestellen'!D1116))),0,1))","v":1}]
["Auditiek Lammers",3,"Interton","RD480-DW","INT-0041",{"$f":"IF(ISBLANK('Assortiment Hoortoestellen'!$B$26),1,IF(ISERROR(SEARCH(PROPER('Assortiment Hoortoestellen'!$B$26),PROPER('Dataset hoortoestellen'!D1117))),0,1))","v":1}]
["Auditiek Lammers",3,"Interton","RD4CIC","INT-0042",{"$f":"IF(ISBLANK('Assortiment Hoortoestellen'!$B$26),1,IF(ISERROR(SEARCH(PROPER('Assortiment Hoortoestellen'!$B$26),PROPER('Dataset hoortoestellen'!D1118))),0,1))","v":1}]
["Auditiek Lammers",3,"Interton","RD4ITC-DW","INT-0043",{"$f":"IF(ISBLANK('Assortiment Hoortoestellen'!$B$26),1,IF(ISERROR(SEARCH(PROPER('Assortiment Hoortoestellen'!$B$26),PROPER('Dataset hoortoestellen'!D1119))),0,1))","v":1}]
["Auditiek Lammers",4,"Interton","RD661-DRW","INT-0044",{"$f":"IF(ISBLANK('Assortiment Hoortoestellen'!$B$26),1,IF(ISERROR(SEARCH(PROPER('Assortiment Hoortoestellen'!$B$26),PROPER('Dataset hoortoestellen'!D1120))),0,1))","v":1}]
["Auditiek Lammers",4,"Interton","RD662-DRW","INT-0045",{"$f":"IF(ISBLANK('Assortiment Hoortoestellen'!$B$26),1,IF(ISERROR(SEARCH(PROPER('Assortiment Hoortoestellen'!$B$26),PROPER('Dataset hoortoestellen'!D1121))),0,1))","v":1}]
["Auditiek Lammers",5,"Interton","RD670-DW","INT-0046",{"$f":"IF(ISBLANK('Assortiment Hoortoestellen'!$B$26),1,IF(ISERROR(SEARCH(PROPER('Assortiment Hoortoestellen'!$B$26),PROPER('Dataset hoortoestellen'!D1122))),0,1))","v":1}]
["Auditiek Lammers",4,"Interton","RD680-DW","INT-0047",{"$f":"IF(ISBLANK('Assortiment Hoortoestellen'!$B$26),1,IF(ISERROR(SEARCH(PROPER('Assortiment Hoortoestellen'!$B$26),PROPER('Dataset hoortoestellen'!D1123))),0,1))","v":1}]
["Auditiek Lammers",5,"Interton","RD6CIC","INT-0048",{"$f":"IF(ISBLANK('Assortiment Hoortoestellen'!$B$26),1,IF(ISERROR(SEARCH(PROPER('Assortiment Hoortoestellen'!$B$26),PROPER('Dataset hoortoestellen'!D1124))),0,1))","v":1}]
["Auditiek Lammers",5,"Interton","RD6ITC-DW","INT-0049",{"$f":"IF(ISBLANK('Assortiment Hoortoestellen'!$B$26),1,IF(ISERROR(SEARCH(PROPER('Assortiment Hoortoestellen'!$B$26),PROPER('Dataset hoortoestellen'!D1125))),0,1))","v":1}]
["Auditiek Lammers",1,"Oticon","Get","OTI-0064",{"$f":"IF(ISBLANK('Assortiment Hoortoestellen'!$B$26),1,IF(ISERROR(SEARCH(PROPER('Assortiment Hoortoestellen'!$B$26),PROPER('Dataset hoortoestellen'!D1126))),0,1))","v":1}]
["Auditiek Lammers",1,"Oticon","Get","OTI-0065",{"$f":"IF(ISBLANK('Assortiment Hoortoestellen'!$B$26),1,IF(ISERROR(SEARCH(PROPER('Assortiment Hoortoestellen'!$B$26),PROPER('Dataset hoortoestellen'!D1127))),0,1))","v":1}]
["Auditiek Lammers",1,"Oticon","Get","OTI-0066",{"$f":"IF(ISBLANK('Assortiment Hoortoestellen'!$B$26),1,IF(ISERROR(SEARCH(PROPER('Assortiment Hoortoestellen'!$B$26),PROPER('Dataset hoortoestellen'!D1128))),0,1))","v":1}]
["Auditiek Lammers",1,"Oticon","Get","OTI-0068",{"$f":"IF(ISBLANK('Assortiment Hoortoestellen'!$B$26),1,IF(ISERROR(SEARCH(PROPER('Assortiment Hoortoestellen'!$B$26),PROPER('Dataset hoortoestellen'!D1129))),0,1))","v":1}]
["Auditiek Lammers",4,"Oticon","Siya 1 CIC 75 - 85","OTI-0340",{"$f":"IF(ISBLANK('Assortiment Hoortoestellen'!$B$26),1,IF(ISERROR(SEARCH(PROPER('Assortiment Hoortoestellen'!$B$26),PROPER('Dataset hoortoestellen'!D1130))),0,1))","v":1}]
["Auditiek Lammers",4,"Oticon","Siya 1 ITE 75 - 100","OTI-0342",{"$f":"IF(ISBLANK('Assortiment Hoortoestellen'!$B$26),1,IF(ISERROR(SEARCH(PROPER('Assortiment Hoortoestellen'!$B$26),PROPER('Dataset hoortoestellen'!D1131))),0,1))","v":1}]
["Auditiek Lammers",4,"Oticon","Siya 1 miniRITE T 60 - 105","OTI-0344",{"$f":"IF(ISBLANK('Assortiment Hoortoestellen'!$B$26),1,IF(ISERROR(SEARCH(PROPER('Assortiment Hoortoestellen'!$B$26),PROPER('Dataset hoortoestellen'!D1132))),0,1))","v":1}]
["Auditiek Lammers",3,"Oticon","Siya 2 ITE 75 - 100","OTI-0349",{"$f":"IF(ISBLANK('Assortiment Hoortoestellen'!$B$26),1,IF(ISERROR(SEARCH(PROPER('Assortiment Hoortoestellen'!$B$26),PROPER('Dataset hoortoestellen'!D1133))),0,1))","v":1}]
["Auditiek Lammers",3,"Oticon","Siya 2 miniRITE T 60 - 105","OTI-0351",{"$f":"IF(ISBLANK('Assortiment Hoortoestellen'!$B$26),1,IF(ISERROR(SEARCH(PROPER('Assortiment Hoortoestellen'!$B$26),PROPER('Dataset hoortoestellen'!D1134))),0,1))","v":1}]
["Auditiek Lammers",5,"Oticon","Opn 3 CIC 75 - 85","OTI-0360",{"$f":"IF(ISBLANK('Assortiment Hoortoestellen'!$B$26),1,IF(ISERROR(SEARCH(PROPER('Assortiment Hoortoestellen'!$B$26),PROPER('Dataset hoortoestellen'!D1135))),0,1))","v":1}]
["Auditiek Lammers",5,"Oticon","Opn 3 ITE 75 - 100","OTI-0362",{"$f":"IF(ISBLANK('Assortiment Hoortoestellen'!$B$26),1,IF(ISERROR(SEARCH(PROPER('Assortiment Hoortoestellen'!$B$26),PROPER('Dataset hoortoestellen'!D1136))),0,1))","v":1}]
["Auditiek Lammers",5,"Oticon","Opn 3 miniRITE T 60 - 105","OTI-0364",{"$f":"IF(ISBLANK('Assortiment Hoortoestellen'!$B$26),1,IF(ISERROR(SEARCH(PROPER('Assortiment Hoortoestellen'!$B$26),PROPER('Dataset hoortoestellen'!D1137))),0,1))","v":1}]
["Auditiek Lammers",5,"Oticon","Ruby 1 miniRITE R 60 - 105","OTI-0368",{"$f":"IF(ISBLANK('Assortiment Hoortoestellen'!$B$26),1,IF(ISERROR(SEARCH(PROPER('Assortiment Hoortoestellen'!$B$26),PROPER('Dataset hoortoestellen'!D1138))),0,1))","v":1}]
["Auditiek Lammers",4,"Oticon","Ruby 2 miniRITE R 60 - 105","OTI-0373",{"$f":"IF(ISBLANK('Assortiment Hoortoestellen'!$B$26),1,IF(ISERROR(SEARCH(PROPER('Assortiment Hoortoestellen'!$B$26),PROPER('Dataset hoortoestellen'!D1139))),0,1))","v":1}]
["Auditiek Lammers",2,"Oticon","Geno 2 BTE 85","OTI-384",{"$f":"IF(ISBLANK('Assortiment Hoortoestellen'!$B$26),1,IF(ISERROR(SEARCH(PROPER('Assortiment Hoortoestellen'!$B$26),PROPER('Dataset hoortoestellen'!D1140))),0,1))","v":1}]
["Auditiek Lammers",1,"ReSound","Vea 180 VI","RES-0009",{"$f":"IF(ISBLANK('Assortiment Hoortoestellen'!$B$26),1,IF(ISERROR(SEARCH(PROPER('Assortiment Hoortoestellen'!$B$26),PROPER('Dataset hoortoestellen'!D1141))),0,1))","v":1}]
["Auditiek Lammers",1,"ReSound","Vea 170 VI","RES-0010",{"$f":"IF(ISBLANK('Assortiment Hoortoestellen'!$B$26),1,IF(ISERROR(SEARCH(PROPER('Assortiment Hoortoestellen'!$B$26),PROPER('Dataset hoortoestellen'!D1142))),0,1))","v":1}]
["Auditiek Lammers",1,"ReSound","Vea 130 -/P","RES-0011",{"$f":"IF(ISBLANK('Assortiment Hoortoestellen'!$B$26),1,IF(ISERROR(SEARCH(PROPER('Assortiment Hoortoestellen'!$B$26),PROPER('Dataset hoortoestellen'!D1143))),0,1))","v":1}]
["Auditiek Lammers",2,"ReSound","Enya 3 ITC","RES-0212",{"$f":"IF(ISBLANK('Assortiment Hoortoestellen'!$B$26),1,IF(ISERROR(SEARCH(PROPER('Assortiment Hoortoestellen'!$B$26),PROPER('Dataset hoortoestellen'!D1144))),0,1))","v":1}]
["Auditiek Lammers",2,"ReSound","Enya 362-DRW","RES-0213",{"$f":"IF(ISBLANK('Assortiment Hoortoestellen'!$B$26),1,IF(ISERROR(SEARCH(PROPER('Assortiment Hoortoestellen'!$B$26),PROPER('Dataset hoortoestellen'!D1145))),0,1))","v":1}]
["Auditiek Lammers",2,"ReSound","Enya 367-DW","RES-0214",{"$f":"IF(ISBLANK('Assortiment Hoortoestellen'!$B$26),1,IF(ISERROR(SEARCH(PROPER('Assortiment Hoortoestellen'!$B$26),PROPER('Dataset hoortoestellen'!D1146))),0,1))","v":1}]
["Auditiek Lammers",2,"ReSound","Enya 377-DW","RES-0215",{"$f":"IF(ISBLANK('Assortiment Hoortoestellen'!$B$26),1,IF(ISERROR(SEARCH(PROPER('Assortiment Hoortoestellen'!$B$26),PROPER('Dataset hoortoestellen'!D1147))),0,1))","v":1}]
["Auditiek Lammers",2,"ReSound","Enya 388-DW","RES-0216",{"$f":"IF(ISBLANK('Assortiment Hoortoestellen'!$B$26),1,IF(ISERROR(SEARCH(PROPER('Assortiment Hoortoestellen'!$B$26),PROPER('Dataset hoortoestellen'!D1148))),0,1))","v":1}]
["Auditiek Lammers",2,"ReSound","MagnaSP 490 DVI","RES-0227",{"$f":"IF(ISBLANK('Assortiment Hoortoestellen'!$B$26),1,IF(ISERROR(SEARCH(PROPER('Assortiment Hoortoestellen'!$B$26),PROPER('Dataset hoortoestellen'!D1149))),0,1))","v":1}]
["Auditiek Lammers",3,"ReSound","Ligo 4 CIC","RES-0262",{"$f":"IF(ISBLANK('Assortiment Hoortoestellen'!$B$26),1,IF(ISERROR(SEARCH(PROPER('Assortiment Hoortoestellen'!$B$26),PROPER('Dataset hoortoestellen'!D1150))),0,1))","v":1}]
["Auditiek Lammers",3,"ReSound","Ligo 4 ITC-DW","RES-0263",{"$f":"IF(ISBLANK('Assortiment Hoortoestellen'!$B$26),1,IF(ISERROR(SEARCH(PROPER('Assortiment Hoortoestellen'!$B$26),PROPER('Dataset hoortoestellen'!D1151))),0,1))","v":1}]
["Auditiek Lammers",3,"ReSound","Ligo 461-DRW","RES-0264",{"$f":"IF(ISBLANK('Assortiment Hoortoestellen'!$B$26),1,IF(ISERROR(SEARCH(PROPER('Assortiment Hoortoestellen'!$B$26),PROPER('Dataset hoortoestellen'!D1152))),0,1))","v":1}]
["Auditiek Lammers",3,"ReSound","Ligo 462-DRW","RES-0265",{"$f":"IF(ISBLANK('Assortiment Hoortoestellen'!$B$26),1,IF(ISERROR(SEARCH(PROPER('Assortiment Hoortoestellen'!$B$26),PROPER('Dataset hoortoestellen'!D1153))),0,1))","v":1}]
["Auditiek Lammers",3,"ReSound","Ligo 467-DW","RES-0266",{"$f":"IF(ISBLANK('Assortiment Hoortoestellen'!$B$26),1,IF(ISERROR(SEARCH(PROPER('Assortiment Hoortoestellen'!$B$26),PROPER('Dataset hoortoestellen'!D1154))),0,1))","v":1}]
["Auditiek Lammers",3,"ReSound","Ligo 477-DW","RES-0267",{"$f":"IF(ISBLANK('Assortiment Hoortoestellen'!$B$26),1,IF(ISERROR(SEARCH(PROPER('Assortiment Hoortoestellen'!$B$26),PROPER('Dataset hoortoestellen'!D1155))),0,1))","v":1}]
["Auditiek Lammers",3,"ReSound","Ligo 488-DW","RES-0268",{"$f":"IF(ISBLANK('Assortiment Hoortoestellen'!$B$26),1,IF(ISERROR(SEARCH(PROPER('Assortiment Hoortoestellen'!$B$26),PROPER('Dataset hoortoestellen'!D1156))),0,1))","v":1}]
["Auditiek Lammers",3,"ReSound","Ligo 498-DW","RES-0269",{"$f":"IF(ISBLANK('Assortiment Hoortoestellen'!$B$26),1,IF(ISERROR(SEARCH(PROPER('Assortiment Hoortoestellen'!$B$26),PROPER('Dataset hoortoestellen'!D1157))),0,1))","v":1}]
["Auditiek Lammers",4,"ReSound","Ligo 5 CIC","RES-0270",{"$f":"IF(ISBLANK('Assortiment Hoortoestellen'!$B$26),1,IF(ISERROR(SEARCH(PROPER('Assortiment Hoortoestellen'!$B$26),PROPER('Dataset hoortoestellen'!D1158))),0,1))","v":1}]
["Auditiek Lammers",4,"ReSound","Ligo 5 ITC-DW","RES-0271",{"$f":"IF(ISBLANK('Assortiment Hoortoestellen'!$B$26),1,IF(ISERROR(SEARCH(PROPER('Assortiment Hoortoestellen'!$B$26),PROPER('Dataset hoortoestellen'!D1159))),0,1))","v":1}]
["Auditiek Lammers",4,"ReSound","Ligo 561-DRW","RES-0272",{"$f":"IF(ISBLANK('Assortiment Hoortoestellen'!$B$26),1,IF(ISERROR(SEARCH(PROPER('Assortiment Hoortoestellen'!$B$26),PROPER('Dataset hoortoestellen'!D1160))),0,1))","v":1}]
["Auditiek Lammers",4,"ReSound","Ligo 562-DRW","RES-0273",{"$f":"IF(ISBLANK('Assortiment Hoortoestellen'!$B$26),1,IF(ISERROR(SEARCH(PROPER('Assortiment Hoortoestellen'!$B$26),PROPER('Dataset hoortoestellen'!D1161))),0,1))","v":1}]
["Auditiek Lammers",4,"ReSound","Ligo 567-DW","RES-0274",{"$f":"IF(ISBLANK('Assortiment Hoortoestellen'!$B$26),1,IF(ISERROR(SEARCH(PROPER('Assortiment Hoortoestellen'!$B$26),PROPER('Dataset hoortoestellen'!D1162))),0,1))","v":1}]
["Auditiek Lammers",4,"ReSound","Ligo 577-DW","RES-0275",{"$f":"IF(ISBLANK('Assortiment Hoortoestellen'!$B$26),1,IF(ISERROR(SEARCH(PROPER('Assortiment Hoortoestellen'!$B$26),PROPER('Dataset hoortoestellen'!D1163))),0,1))","v":1}]
["Auditiek Lammers",4,"ReSound","Ligo 588-DW","RES-0276",{"$f":"IF(ISBLANK('Assortiment Hoortoestellen'!$B$26),1,IF(ISERROR(SEARCH(PROPER('Assortiment Hoortoestellen'!$B$26),PROPER('Dataset hoortoestellen'!D1164))),0,1))","v":1}]
["Auditiek Lammers",4,"ReSound","Ligo 598-DW","RES-0277",{"$f":"IF(ISBLANK('Assortiment Hoortoestellen'!$B$26),1,IF(ISERROR(SEARCH(PROPER('Assortiment Hoortoestellen'!$B$26),PROPER('Dataset hoortoestellen'!D1165))),0,1))","v":1}]
["Auditiek Lammers",5,"ReSound","Ligo 7 CIC","RES-0278",{"$f":"IF(ISBLANK('Assortiment Hoortoestellen'!$B$26),1,IF(ISERROR(SEARCH(PROPER('Assortiment Hoortoestellen'!$B$26),PROPER('Dataset hoortoestellen'!D1166))),0,1))","v":1}]
["Auditiek Lammers",5,"ReSound","Ligo 7 ITC-DW","RES-0279",{"$f":"IF(ISBLANK('Assortiment Hoortoestellen'!$B$26),1,IF(ISERROR(SEARCH(PROPER('Assortiment Hoortoestellen'!$B$26),PROPER('Dataset hoortoestellen'!D1167))),0,1))","v":1}]
["Auditiek Lammers",5,"ReSound","Ligo 761-DRW","RES-0280",{"$f":"IF(ISBLANK('Assortiment Hoortoestellen'!$B$26),1,IF(ISERROR(SEARCH(PROPER('Assortiment Hoortoestellen'!$B$26),PROPER('Dataset hoortoestellen'!D1168))),0,1))","v":1}]
["Auditiek Lammers",5,"ReSound","Ligo 762-DRW","RES-0281",{"$f":"IF(ISBLANK('Assortiment Hoortoestellen'!$B$26),1,IF(ISERROR(SEARCH(PROPER('Assortiment Hoortoestellen'!$B$26),PROPER('Dataset hoortoestellen'!D1169))),0,1))","v":1}]
["Auditiek Lammers",5,"ReSound","Ligo 767-DW","RES-0282",{"$f":"IF(ISBLANK('Assortiment Hoortoestellen'!$B$26),1,IF(ISERROR(SEARCH(PROPER('Assortiment Hoortoestellen'!$B$26),PROPER('Dataset hoortoestellen'!D1170))),0,1))","v":1}]
["Auditiek Lammers",5,"ReSound","Ligo 777-DW","RES-0283",{"$f":"IF(ISBLANK('Assortiment Hoortoestellen'!$B$26),1,IF(ISERROR(SEARCH(PROPER('Assortiment Hoortoestellen'!$B$26),PROPER('Dataset hoortoestellen'!D1171))),0,1))","v":1}]
["Auditiek Lammers",5,"ReSound","Ligo 788-DW","RES-0284",{"$f":"IF(ISBLANK('Assortiment Hoortoestellen'!$B$26),1,IF(ISERROR(SEARCH(PROPER('Assortiment Hoortoestellen'!$B$26),PROPER('Dataset hoortoestellen'!D1172))),0,1))","v":1}]
["Auditiek Lammers",5,"ReSound","Ligo 798-DW","RES-0285",{"$f":"IF(ISBLANK('Assortiment Hoortoestellen'!$B$26),1,IF(ISERROR(SEARCH(PROPER('Assortiment Hoortoestellen'!$B$26),PROPER('Dataset hoortoestellen'!D1173))),0,1))","v":1}]
["Auditiek Lammers",1,"Starkey","Muse i1000 CIC","STA-0277",{"$f":"IF(ISBLANK('Assortiment Hoortoestellen'!$B$26),1,IF(ISERROR(SEARCH(PROPER('Assortiment Hoortoestellen'!$B$26),PROPER('Dataset hoortoestellen'!D1174))),0,1))","v":1}]
["Auditiek Lammers",1,"Starkey","Muse i1000 BTE312","STA-0278",{"$f":"IF(ISBLANK('Assortiment Hoortoestellen'!$B$26),1,IF(ISERROR(SEARCH(PROPER('Assortiment Hoortoestellen'!$B$26),PROPER('Dataset hoortoestellen'!D1175))),0,1))","v":1}]
["Auditiek Lammers",1,"Starkey","Muse i1000 ITC","STA-0279",{"$f":"IF(ISBLANK('Assortiment Hoortoestellen'!$B$26),1,IF(ISERROR(SEARCH(PROPER('Assortiment Hoortoestellen'!$B$26),PROPER('Dataset hoortoestellen'!D1176))),0,1))","v":1}]
["Auditiek Lammers",1,"Starkey","Muse i1000 mRIC 312","STA-0280",{"$f":"IF(ISBLANK('Assortiment Hoortoestellen'!$B$26),1,IF(ISERROR(SEARCH(PROPER('Assortiment Hoortoestellen'!$B$26),PROPER('Dataset hoortoestellen'!D1177))),0,1))","v":1}]
["Auditiek Lammers",1,"Starkey","Muse i1000 BTE 13","STA-0308",{"$f":"IF(ISBLANK('Assortiment Hoortoestellen'!$B$26),1,IF(ISERROR(SEARCH(PROPER('Assortiment Hoortoestellen'!$B$26),PROPER('Dataset hoortoestellen'!D1178))),0,1))","v":1}]
["Auditiek Lammers",1,"Starkey","Muse i1000 RIC 312","STA-0309",{"$f":"IF(ISBLANK('Assortiment Hoortoestellen'!$B$26),1,IF(ISERROR(SEARCH(PROPER('Assortiment Hoortoestellen'!$B$26),PROPER('Dataset hoortoestellen'!D1179))),0,1))","v":1}]
["Auditiek Lammers",5,"Starkey","Muse i1600  CIC","STA-0330",{"$f":"IF(ISBLANK('Assortiment Hoortoestellen'!$B$26),1,IF(ISERROR(SEARCH(PROPER('Assortiment Hoortoestellen'!$B$26),PROPER('Dataset hoortoestellen'!D1180))),0,1))","v":1}]
["Auditiek Lammers",1,"Starkey","Muse i1000 BTE 13 PP","STA-0331",{"$f":"IF(ISBLANK('Assortiment Hoortoestellen'!$B$26),1,IF(ISERROR(SEARCH(PROPER('Assortiment Hoortoestellen'!$B$26),PROPER('Dataset hoortoestellen'!D1181))),0,1))","v":1}]
["Auditiek Lammers",2,"Starkey","Muse iQ i1000 RIC Li-Ion","STA-0334",{"$f":"IF(ISBLANK('Assortiment Hoortoestellen'!$B$26),1,IF(ISERROR(SEARCH(PROPER('Assortiment Hoortoestellen'!$B$26),PROPER('Dataset hoortoestellen'!D1182))),0,1))","v":1}]
["Auditiek Lammers",3,"Starkey","Muse iQ 1000 CIC","STA-0340",{"$f":"IF(ISBLANK('Assortiment Hoortoestellen'!$B$26),1,IF(ISERROR(SEARCH(PROPER('Assortiment Hoortoestellen'!$B$26),PROPER('Dataset hoortoestellen'!D1183))),0,1))","v":1}]
["Auditiek Lammers",4,"Starkey","Muse iQ 1200 CIC","STA-0343",{"$f":"IF(ISBLANK('Assortiment Hoortoestellen'!$B$26),1,IF(ISERROR(SEARCH(PROPER('Assortiment Hoortoestellen'!$B$26),PROPER('Dataset hoortoestellen'!D1184))),0,1))","v":1}]
["Auditiek Lammers",2,"Starkey","Muse iQ i1000 BTE 13","STA-0349",{"$f":"IF(ISBLANK('Assortiment Hoortoestellen'!$B$26),1,IF(ISERROR(SEARCH(PROPER('Assortiment Hoortoestellen'!$B$26),PROPER('Dataset hoortoestellen'!D1185))),0,1))","v":1}]
["Auditiek Lammers",2,"Starkey","Muse iQ i1000 BTE 13 PP","STA-0350",{"$f":"IF(ISBLANK('Assortiment Hoortoestellen'!$B$26),1,IF(ISERROR(SEARCH(PROPER('Assortiment Hoortoestellen'!$B$26),PROPER('Dataset hoortoestellen'!D1186))),0,1))","v":1}]
["Auditiek Lammers",2,"Starkey","Muse iQ i1000 BTE 312","STA-0351",{"$f":"IF(ISBLANK('Assortiment Hoortoestellen'!$B$26),1,IF(ISERROR(SEARCH(PROPER('Assortiment Hoortoestellen'!$B$26),PROPER('Dataset hoortoestellen'!D1187))),0,1))","v":1}]
["Auditiek Lammers",3,"Starkey","Muse iQ i1000 CIC","STA-0352",{"$f":"IF(ISBLANK('Assortiment Hoortoestellen'!$B$26),1,IF(ISERROR(SEARCH(PROPER('Assortiment Hoortoestellen'!$B$26),PROPER('Dataset hoortoestellen'!D1188))),0,1))","v":1}]
["Auditiek Lammers",2,"Starkey","Muse iQ i1000 ITC","STA-0353",{"$f":"IF(ISBLANK('Assortiment Hoortoestellen'!$B$26),1,IF(ISERROR(SEARCH(PROPER('Assortiment Hoortoestellen'!$B$26),PROPER('Dataset hoortoestellen'!D1189))),0,1))","v":1}]
["Auditiek Lammers",3,"Starkey","Muse iQ i1000 ITC","STA-0353",{"$f":"IF(ISBLANK('Assortiment Hoortoestellen'!$B$26),1,IF(ISERROR(SEARCH(PROPER('Assortiment Hoortoestellen'!$B$26),PROPER('Dataset hoortoestellen'!D1190))),0,1))","v":1}]
["Auditiek Lammers",2,"Starkey","Muse iQ i1000 ITE","STA-0354",{"$f":"IF(ISBLANK('Assortiment Hoortoestellen'!$B$26),1,IF(ISERROR(SEARCH(PROPER('Assortiment Hoortoestellen'!$B$26),PROPER('Dataset hoortoestellen'!D1191))),0,1))","v":1}]
["Auditiek Lammers",3,"Starkey","Muse iQ i1000 ITE","STA-0354",{"$f":"IF(ISBLANK('Assortiment Hoortoestellen'!$B$26),1,IF(ISERROR(SEARCH(PROPER('Assortiment Hoortoestellen'!$B$26),PROPER('Dataset hoortoestellen'!D1192))),0,1))","v":1}]
["Auditiek Lammers",2,"Starkey","Muse iQ i1000 mRIC","STA-0355",{"$f":"IF(ISBLANK('Assortiment Hoortoestellen'!$B$26),1,IF(ISERROR(SEARCH(PROPER('Assortiment Hoortoestellen'!$B$26),PROPER('Dataset hoortoestellen'!D1193))),0,1))","v":1}]
["Auditiek Lammers",2,"Starkey","Muse iQ i1000 RIC 312","STA-0357",{"$f":"IF(ISBLANK('Assortiment Hoortoestellen'!$B$26),1,IF(ISERROR(SEARCH(PROPER('Assortiment Hoortoestellen'!$B$26),PROPER('Dataset hoortoestellen'!D1194))),0,1))","v":1}]
["Auditiek Lammers",4,"Starkey","Muse iQ i1200 CIC","STA-0362",{"$f":"IF(ISBLANK('Assortiment Hoortoestellen'!$B$26),1,IF(ISERROR(SEARCH(PROPER('Assortiment Hoortoestellen'!$B$26),PROPER('Dataset hoortoestellen'!D1195))),0,1))","v":1}]
["Auditiek Lammers",4,"Starkey","Muse iQ i1200 ITC","STA-0363",{"$f":"IF(ISBLANK('Assortiment Hoortoestellen'!$B$26),1,IF(ISERROR(SEARCH(PROPER('Assortiment Hoortoestellen'!$B$26),PROPER('Dataset hoortoestellen'!D1196))),0,1))","v":1}]
["Auditiek Lammers",4,"Starkey","Muse iQ i1200 ITE","STA-0364",{"$f":"IF(ISBLANK('Assortiment Hoortoestellen'!$B$26),1,IF(ISERROR(SEARCH(PROPER('Assortiment Hoortoestellen'!$B$26),PROPER('Dataset hoortoestellen'!D1197))),0,1))","v":1}]
["Auditiek Lammers",5,"Starkey","Muse iQ i1600 CIC","STA-0372",{"$f":"IF(ISBLANK('Assortiment Hoortoestellen'!$B$26),1,IF(ISERROR(SEARCH(PROPER('Assortiment Hoortoestellen'!$B$26),PROPER('Dataset hoortoestellen'!D1198))),0,1))","v":1}]
["Auditiek Lammers",5,"Starkey","Muse iQ i1600 ITC","STA-0373",{"$f":"IF(ISBLANK('Assortiment Hoortoestellen'!$B$26),1,IF(ISERROR(SEARCH(PROPER('Assortiment Hoortoestellen'!$B$26),PROPER('Dataset hoortoestellen'!D1199))),0,1))","v":1}]
["Auditiek Lammers",5,"Starkey","Muse iQ i1600 ITE","STA-0374",{"$f":"IF(ISBLANK('Assortiment Hoortoestellen'!$B$26),1,IF(ISERROR(SEARCH(PROPER('Assortiment Hoortoestellen'!$B$26),PROPER('Dataset hoortoestellen'!D1200))),0,1))","v":1}]
["Auditiek Lammers",3,"Starkey","Livio 1000 BTE 13","STA-0380",{"$f":"IF(ISBLANK('Assortiment Hoortoestellen'!$B$26),1,IF(ISERROR(SEARCH(PROPER('Assortiment Hoortoestellen'!$B$26),PROPER('Dataset hoortoestellen'!D1201))),0,1))","v":1}]
["Auditiek Lammers",3,"Starkey","Livio 1000 mRIC 312","STA-0381",{"$f":"IF(ISBLANK('Assortiment Hoortoestellen'!$B$26),1,IF(ISERROR(SEARCH(PROPER('Assortiment Hoortoestellen'!$B$26),PROPER('Dataset hoortoestellen'!D1202))),0,1))","v":1}]
["Auditiek Lammers",3,"Starkey","Livio 1000 RIC R","STA-0383",{"$f":"IF(ISBLANK('Assortiment Hoortoestellen'!$B$26),1,IF(ISERROR(SEARCH(PROPER('Assortiment Hoortoestellen'!$B$26),PROPER('Dataset hoortoestellen'!D1203))),0,1))","v":1}]
["Auditiek Lammers",4,"Starkey","Livio 1200 BTE 13","STA-0384",{"$f":"IF(ISBLANK('Assortiment Hoortoestellen'!$B$26),1,IF(ISERROR(SEARCH(PROPER('Assortiment Hoortoestellen'!$B$26),PROPER('Dataset hoortoestellen'!D1204))),0,1))","v":1}]
["Auditiek Lammers",4,"Starkey","Livio 1200 mRIC 312","STA-0385",{"$f":"IF(ISBLANK('Assortiment Hoortoestellen'!$B$26),1,IF(ISERROR(SEARCH(PROPER('Assortiment Hoortoestellen'!$B$26),PROPER('Dataset hoortoestellen'!D1205))),0,1))","v":1}]
["Auditiek Lammers",4,"Starkey","Livio 1200 RIC R","STA-0387",{"$f":"IF(ISBLANK('Assortiment Hoortoestellen'!$B$26),1,IF(ISERROR(SEARCH(PROPER('Assortiment Hoortoestellen'!$B$26),PROPER('Dataset hoortoestellen'!D1206))),0,1))","v":1}]
["Auditiek Lammers",5,"Starkey","Livio 1600 BTE 13","STA-0388",{"$f":"IF(ISBLANK('Assortiment Hoortoestellen'!$B$26),1,IF(ISERROR(SEARCH(PROPER('Assortiment Hoortoestellen'!$B$26),PROPER('Dataset hoortoestellen'!D1207))),0,1))","v":1}]
["Auditiek Lammers",5,"Starkey","Livio 1600 mRIC 312","STA-0389",{"$f":"IF(ISBLANK('Assortiment Hoortoestellen'!$B$26),1,IF(ISERROR(SEARCH(PROPER('Assortiment Hoortoestellen'!$B$26),PROPER('Dataset hoortoestellen'!D1208))),0,1))","v":1}]
["Auditiek Lammers",5,"Starkey","Livio 1600 RIC R","STA-0391",{"$f":"IF(ISBLANK('Assortiment Hoortoestellen'!$B$26),1,IF(ISERROR(SEARCH(PROPER('Assortiment Hoortoestellen'!$B$26),PROPER('Dataset hoortoestellen'!D1209))),0,1))","v":1}]
["Auditiek Lammers",3,"Widex","U110-CIC","WID-0404",{"$f":"IF(ISBLANK('Assortiment Hoortoestellen'!$B$26),1,IF(ISERROR(SEARCH(PROPER('Assortiment Hoortoestellen'!$B$26),PROPER('Dataset hoortoestellen'!D1210))),0,1))","v":1}]
["Auditiek Lammers",3,"Widex","U110-CIC TR","WID-0405",{"$f":"IF(ISBLANK('Assortiment Hoortoestellen'!$B$26),1,IF(ISERROR(SEARCH(PROPER('Assortiment Hoortoestellen'!$B$26),PROPER('Dataset hoortoestellen'!D1211))),0,1))","v":1}]
["Auditiek Lammers",3,"Widex","U110-CIC-M","WID-0406",{"$f":"IF(ISBLANK('Assortiment Hoortoestellen'!$B$26),1,IF(ISERROR(SEARCH(PROPER('Assortiment Hoortoestellen'!$B$26),PROPER('Dataset hoortoestellen'!D1212))),0,1))","v":1}]
["Auditiek Lammers",3,"Widex","U110-CIC-M TR","WID-0407",{"$f":"IF(ISBLANK('Assortiment Hoortoestellen'!$B$26),1,IF(ISERROR(SEARCH(PROPER('Assortiment Hoortoestellen'!$B$26),PROPER('Dataset hoortoestellen'!D1213))),0,1))","v":1}]
["Auditiek Lammers",3,"Widex","U110-FA","WID-0408",{"$f":"IF(ISBLANK('Assortiment Hoortoestellen'!$B$26),1,IF(ISERROR(SEARCH(PROPER('Assortiment Hoortoestellen'!$B$26),PROPER('Dataset hoortoestellen'!D1214))),0,1))","v":1}]
["Auditiek Lammers",3,"Widex","U110-FM","WID-0409",{"$f":"IF(ISBLANK('Assortiment Hoortoestellen'!$B$26),1,IF(ISERROR(SEARCH(PROPER('Assortiment Hoortoestellen'!$B$26),PROPER('Dataset hoortoestellen'!D1215))),0,1))","v":1}]
["Auditiek Lammers",3,"Widex","U110-FP","WID-0410",{"$f":"IF(ISBLANK('Assortiment Hoortoestellen'!$B$26),1,IF(ISERROR(SEARCH(PROPER('Assortiment Hoortoestellen'!$B$26),PROPER('Dataset hoortoestellen'!D1216))),0,1))","v":1}]
["Auditiek Lammers",3,"Widex","U110-FS (HP-tel)","WID-0411",{"$f":"IF(ISBLANK('Assortiment Hoortoestellen'!$B$26),1,IF(ISERROR(SEARCH(PROPER('Assortiment Hoortoestellen'!$B$26),PROPER('Dataset hoortoestellen'!D1217))),0,1))","v":1}]
["Auditiek Lammers",3,"Widex","U110-FS (M-tel)","WID-0412",{"$f":"IF(ISBLANK('Assortiment Hoortoestellen'!$B$26),1,IF(ISERROR(SEARCH(PROPER('Assortiment Hoortoestellen'!$B$26),PROPER('Dataset hoortoestellen'!D1218))),0,1))","v":1}]
["Auditiek Lammers",3,"Widex","U110-FS (P-tel)","WID-0413",{"$f":"IF(ISBLANK('Assortiment Hoortoestellen'!$B$26),1,IF(ISERROR(SEARCH(PROPER('Assortiment Hoortoestellen'!$B$26),PROPER('Dataset hoortoestellen'!D1219))),0,1))","v":1}]
["Auditiek Lammers",3,"Widex","U110-FS (S-tel)","WID-0414",{"$f":"IF(ISBLANK('Assortiment Hoortoestellen'!$B$26),1,IF(ISERROR(SEARCH(PROPER('Assortiment Hoortoestellen'!$B$26),PROPER('Dataset hoortoestellen'!D1220))),0,1))","v":1}]
["Auditiek Lammers",3,"Widex","U110-PA (M-tel)","WID-0415",{"$f":"IF(ISBLANK('Assortiment Hoortoestellen'!$B$26),1,IF(ISERROR(SEARCH(PROPER('Assortiment Hoortoestellen'!$B$26),PROPER('Dataset hoortoestellen'!D1221))),0,1))","v":1}]
["Auditiek Lammers",3,"Widex","U110-PA (S-tel)","WID-0416",{"$f":"IF(ISBLANK('Assortiment Hoortoestellen'!$B$26),1,IF(ISERROR(SEARCH(PROPER('Assortiment Hoortoestellen'!$B$26),PROPER('Dataset hoortoestellen'!D1222))),0,1))","v":1}]
["Auditiek Lammers",3,"Widex","U110-XP","WID-0417",{"$f":"IF(ISBLANK('Assortiment Hoortoestellen'!$B$26),1,IF(ISERROR(SEARCH(PROPER('Assortiment Hoortoestellen'!$B$26),PROPER('Dataset hoortoestellen'!D1223))),0,1))","v":1}]
["Auditiek Lammers",3,"Widex","U220-CIC","WID-0418",{"$f":"IF(ISBLANK('Assortiment Hoortoestellen'!$B$26),1,IF(ISERROR(SEARCH(PROPER('Assortiment Hoortoestellen'!$B$26),PROPER('Dataset hoortoestellen'!D1224))),0,1))","v":1}]
["Auditiek Lammers",3,"Widex","U220-CIC TR","WID-0419",{"$f":"IF(ISBLANK('Assortiment Hoortoestellen'!$B$26),1,IF(ISERROR(SEARCH(PROPER('Assortiment Hoortoestellen'!$B$26),PROPER('Dataset hoortoestellen'!D1225))),0,1))","v":1}]
["Auditiek Lammers",3,"Widex","U220-CIC-M","WID-0420",{"$f":"IF(ISBLANK('Assortiment Hoortoestellen'!$B$26),1,IF(ISERROR(SEARCH(PROPER('Assortiment Hoortoestellen'!$B$26),PROPER('Dataset hoortoestellen'!D1226))),0,1))","v":1}]
["Auditiek Lammers",3,"Widex","U220-CIC-M TR","WID-0421",{"$f":"IF(ISBLANK('Assortiment Hoortoestellen'!$B$26),1,IF(ISERROR(SEARCH(PROPER('Assortiment Hoortoestellen'!$B$26),PROPER('Dataset hoortoestellen'!D1227))),0,1))","v":1}]
["Auditiek Lammers",3,"Widex","U220-FA","WID-0422",{"$f":"IF(ISBLANK('Assortiment Hoortoestellen'!$B$26),1,IF(ISERROR(SEARCH(PROPER('Assortiment Hoortoestellen'!$B$26),PROPER('Dataset hoortoestellen'!D1228))),0,1))","v":1}]
["Auditiek Lammers",3,"Widex","U220-FM","WID-0423",{"$f":"IF(ISBLANK('Assortiment Hoortoestellen'!$B$26),1,IF(ISERROR(SEARCH(PROPER('Assortiment Hoortoestellen'!$B$26),PROPER('Dataset hoortoestellen'!D1229))),0,1))","v":1}]
["Auditiek Lammers",3,"Widex","U220-FS (HP-tel)","WID-0424",{"$f":"IF(ISBLANK('Assortiment Hoortoestellen'!$B$26),1,IF(ISERROR(SEARCH(PROPER('Assortiment Hoortoestellen'!$B$26),PROPER('Dataset hoortoestellen'!D1230))),0,1))","v":1}]
["Auditiek Lammers",3,"Widex","U220-FS (M-tel)","WID-0425",{"$f":"IF(ISBLANK('Assortiment Hoortoestellen'!$B$26),1,IF(ISERROR(SEARCH(PROPER('Assortiment Hoortoestellen'!$B$26),PROPER('Dataset hoortoestellen'!D1231))),0,1))","v":1}]
["Auditiek Lammers",3,"Widex","U220-FS (P-tel)","WID-0426",{"$f":"IF(ISBLANK('Assortiment Hoortoestellen'!$B$26),1,IF(ISERROR(SEARCH(PROPER('Assortiment Hoortoestellen'!$B$26),PROPER('Dataset hoortoestellen'!D1232))),0,1))","v":1}]
["Auditiek Lammers",3,"Widex","U220-FS (S-tel)","WID-0427",{"$f":"IF(ISBLANK('Assortiment Hoortoestellen'!$B$26),1,IF(ISERROR(SEARCH(PROPER('Assortiment Hoortoestellen'!$B$26),PROPER('Dataset hoortoestellen'!D1233))),0,1))","v":1}]
["Auditiek Lammers",3,"Widex","U220-PA (M-tel)","WID-0428",{"$f":"IF(ISBLANK('Assortiment Hoortoestellen'!$B$26),1,IF(ISERROR(SEARCH(PROPER('Assortiment Hoortoestellen'!$B$26),PROPER('Dataset hoortoestellen'!D1234))),0,1))","v":1}]
["Auditiek Lammers",3,"Widex","U220-PA (S-tel)","WID-0429",{"$f":"IF(ISBLANK('Assortiment Hoortoestellen'!$B$26),1,IF(ISERROR(SEARCH(PROPER('Assortiment Hoortoestellen'!$B$26),PROPER('Dataset hoortoestellen'!D1235))),0,1))","v":1}]
["Auditiek Lammers",3,"Widex","U220-XP","WID-0430",{"$f":"IF(ISBLANK('Assortiment Hoortoestellen'!$B$26),1,IF(ISERROR(SEARCH(PROPER('Assortiment Hoortoestellen'!$B$26),PROPER('Dataset hoortoestellen'!D1236))),0,1))","v":1}]
["Auditiek Lammers",4,"Widex","U330-CIC","WID-0431",{"$f":"IF(ISBLANK('Assortiment Hoortoestellen'!$B$26),1,IF(ISERROR(SEARCH(PROPER('Assortiment Hoortoestellen'!$B$26),PROPER('Dataset hoortoestellen'!D1237))),0,1))","v":1}]
["Auditiek Lammers",4,"Widex","U330-CIC TR","WID-0432",{"$f":"IF(ISBLANK('Assortiment Hoortoestellen'!$B$26),1,IF(ISERROR(SEARCH(PROPER('Assortiment Hoortoestellen'!$B$26),PROPER('Dataset hoortoestellen'!D1238))),0,1))","v":1}]
["Auditiek Lammers",4,"Widex","U330-CIC-M","WID-0433",{"$f":"IF(ISBLANK('Assortiment Hoortoestellen'!$B$26),1,IF(ISERROR(SEARCH(PROPER('Assortiment Hoortoestellen'!$B$26),PROPER('Dataset hoortoestellen'!D1239))),0,1))","v":1}]
["Auditiek Lammers",4,"Widex","U330-CIC-M TR","WID-0434",{"$f":"IF(ISBLANK('Assortiment Hoortoestellen'!$B$26),1,IF(ISERROR(SEARCH(PROPER('Assortiment Hoortoestellen'!$B$26),PROPER('Dataset hoortoestellen'!D1240))),0,1))","v":1}]
["Auditiek Lammers",4,"Widex","U330-FA","WID-0435",{"$f":"IF(ISBLANK('Assortiment Hoortoestellen'!$B$26),1,IF(ISERROR(SEARCH(PROPER('Assortiment Hoortoestellen'!$B$26),PROPER('Dataset hoortoestellen'!D1241))),0,1))","v":1}]
["Auditiek Lammers",4,"Widex","U330-FM","WID-0436",{"$f":"IF(ISBLANK('Assortiment Hoortoestellen'!$B$26),1,IF(ISERROR(SEARCH(PROPER('Assortiment Hoortoestellen'!$B$26),PROPER('Dataset hoortoestellen'!D1242))),0,1))","v":1}]
["Auditiek Lammers",4,"Widex","U330-FS (HP-tel)","WID-0437",{"$f":"IF(ISBLANK('Assortiment Hoortoestellen'!$B$26),1,IF(ISERROR(SEARCH(PROPER('Assortiment Hoortoestellen'!$B$26),PROPER('Dataset hoortoestellen'!D1243))),0,1))","v":1}]
["Auditiek Lammers",4,"Widex","U330-FS (M-tel)","WID-0438",{"$f":"IF(ISBLANK('Assortiment Hoortoestellen'!$B$26),1,IF(ISERROR(SEARCH(PROPER('Assortiment Hoortoestellen'!$B$26),PROPER('Dataset hoortoestellen'!D1244))),0,1))","v":1}]
["Auditiek Lammers",4,"Widex","U330-FS (P-tel)","WID-0439",{"$f":"IF(ISBLANK('Assortiment Hoortoestellen'!$B$26),1,IF(ISERROR(SEARCH(PROPER('Assortiment Hoortoestellen'!$B$26),PROPER('Dataset hoortoestellen'!D1245))),0,1))","v":1}]
["Auditiek Lammers",4,"Widex","U330-FS (S-tel)","WID-0440",{"$f":"IF(ISBLANK('Assortiment Hoortoestellen'!$B$26),1,IF(ISERROR(SEARCH(PROPER('Assortiment Hoortoestellen'!$B$26),PROPER('Dataset hoortoestellen'!D1246))),0,1))","v":1}]
["Auditiek Lammers",4,"Widex","U330-PA (M-tel)","WID-0441",{"$f":"IF(ISBLANK('Assortiment Hoortoestellen'!$B$26),1,IF(ISERROR(SEARCH(PROPER('Assortiment Hoortoestellen'!$B$26),PROPER('Dataset hoortoestellen'!D1247))),0,1))","v":1}]
["Auditiek Lammers",4,"Widex","U330-PA (S-tel)","WID-0442",{"$f":"IF(ISBLANK('Assortiment Hoortoestellen'!$B$26),1,IF(ISERROR(SEARCH(PROPER('Assortiment Hoortoestellen'!$B$26),PROPER('Dataset hoortoestellen'!D1248))),0,1))","v":1}]
["Auditiek Lammers",4,"Widex","U330-XP","WID-0443",{"$f":"IF(ISBLANK('Assortiment Hoortoestellen'!$B$26),1,IF(ISERROR(SEARCH(PROPER('Assortiment Hoortoestellen'!$B$26),PROPER('Dataset hoortoestellen'!D1249))),0,1))","v":1}]
["Auditiek Lammers",5,"Widex","U440-CIC","WID-0444",{"$f":"IF(ISBLANK('Assortiment Hoortoestellen'!$B$26),1,IF(ISERROR(SEARCH(PROPER('Assortiment Hoortoestellen'!$B$26),PROPER('Dataset hoortoestellen'!D1250))),0,1))","v":1}]
["Auditiek Lammers",5,"Widex","U440-CIC TR","WID-0445",{"$f":"IF(ISBLANK('Assortiment Hoortoestellen'!$B$26),1,IF(ISERROR(SEARCH(PROPER('Assortiment Hoortoestellen'!$B$26),PROPER('Dataset hoortoestellen'!D1251))),0,1))","v":1}]
["Auditiek Lammers",5,"Widex","U440-CIC-M","WID-0446",{"$f":"IF(ISBLANK('Assortiment Hoortoestellen'!$B$26),1,IF(ISERROR(SEARCH(PROPER('Assortiment Hoortoestellen'!$B$26),PROPER('Dataset hoortoestellen'!D1252))),0,1))","v":1}]
["Auditiek Lammers",5,"Widex","U440-CIC-M TR","WID-0447",{"$f":"IF(ISBLANK('Assortiment Hoortoestellen'!$B$26),1,IF(ISERROR(SEARCH(PROPER('Assortiment Hoortoestellen'!$B$26),PROPER('Dataset hoortoestellen'!D1253))),0,1))","v":1}]
["Auditiek Lammers",5,"Widex","U440-FA","WID-0448",{"$f":"IF(ISBLANK('Assortiment Hoortoestellen'!$B$26),1,IF(ISERROR(SEARCH(PROPER('Assortiment Hoortoestellen'!$B$26),PROPER('Dataset hoortoestellen'!D1254))),0,1))","v":1}]
["Auditiek Lammers",5,"Widex","U440-FM","WID-0449",{"$f":"IF(ISBLANK('Assortiment Hoortoestellen'!$B$26),1,IF(ISERROR(SEARCH(PROPER('Assortiment Hoortoestellen'!$B$26),PROPER('Dataset hoortoestellen'!D1255))),0,1))","v":1}]
["Auditiek Lammers",5,"Widex","U440-FS (HP-tel)","WID-0450",{"$f":"IF(ISBLANK('Assortiment Hoortoestellen'!$B$26),1,IF(ISERROR(SEARCH(PROPER('Assortiment Hoortoestellen'!$B$26),PROPER('Dataset hoortoestellen'!D1256))),0,1))","v":1}]
["Auditiek Lammers",5,"Widex","U440-FS (M-tel)","WID-0451",{"$f":"IF(ISBLANK('Assortiment Hoortoestellen'!$B$26),1,IF(ISERROR(SEARCH(PROPER('Assortiment Hoortoestellen'!$B$26),PROPER('Dataset hoortoestellen'!D1257))),0,1))","v":1}]
["Auditiek Lammers",5,"Widex","U440-FS (P-tel)","WID-0452",{"$f":"IF(ISBLANK('Assortiment Hoortoestellen'!$B$26),1,IF(ISERROR(SEARCH(PROPER('Assortiment Hoortoestellen'!$B$26),PROPER('Dataset hoortoestellen'!D1258))),0,1))","v":1}]
["Auditiek Lammers",5,"Widex","U440-FS (S-tel)","WID-0453",{"$f":"IF(ISBLANK('Assortiment Hoortoestellen'!$B$26),1,IF(ISERROR(SEARCH(PROPER('Assortiment Hoortoestellen'!$B$26),PROPER('Dataset hoortoestellen'!D1259))),0,1))","v":1}]
["Auditiek Lammers",5,"Widex","U440-PA (M-tel)","WID-0454",{"$f":"IF(ISBLANK('Assortiment Hoortoestellen'!$B$26),1,IF(ISERROR(SEARCH(PROPER('Assortiment Hoortoestellen'!$B$26),PROPER('Dataset hoortoestellen'!D1260))),0,1))","v":1}]
["Auditiek Lammers",5,"Widex","U440-PA (S-tel)","WID-0455",{"$f":"IF(ISBLANK('Assortiment Hoortoestellen'!$B$26),1,IF(ISERROR(SEARCH(PROPER('Assortiment Hoortoestellen'!$B$26),PROPER('Dataset hoortoestellen'!D1261))),0,1))","v":1}]
["Auditiek Lammers",5,"Widex","U440-XP","WID-0456",{"$f":"IF(ISBLANK('Assortiment Hoortoestellen'!$B$26),1,IF(ISERROR(SEARCH(PROPER('Assortiment Hoortoestellen'!$B$26),PROPER('Dataset hoortoestellen'!D1262))),0,1))","v":1}]
["Auditiek Lammers",3,"Widex","U220-FP","WID-0457",{"$f":"IF(ISBLANK('Assortiment Hoortoestellen'!$B$26),1,IF(ISERROR(SEARCH(PROPER('Assortiment Hoortoestellen'!$B$26),PROPER('Dataset hoortoestellen'!D1263))),0,1))","v":1}]
["Auditiek Lammers",4,"Widex","U330-FP","WID-0458",{"$f":"IF(ISBLANK('Assortiment Hoortoestellen'!$B$26),1,IF(ISERROR(SEARCH(PROPER('Assortiment Hoortoestellen'!$B$26),PROPER('Dataset hoortoestellen'!D1264))),0,1))","v":1}]
["Auditiek Lammers",5,"Widex","U440-FP","WID-0459",{"$f":"IF(ISBLANK('Assortiment Hoortoestellen'!$B$26),1,IF(ISERROR(SEARCH(PROPER('Assortiment Hoortoestellen'!$B$26),PROPER('Dataset hoortoestellen'!D1265))),0,1))","v":1}]
["Auditiek Lammers",3,"Widex","Enjoy E-BTE 13D 110","WID-0545",{"$f":"IF(ISBLANK('Assortiment Hoortoestellen'!$B$26),1,IF(ISERROR(SEARCH(PROPER('Assortiment Hoortoestellen'!$B$26),PROPER('Dataset hoortoestellen'!D1266))),0,1))","v":1}]
["Auditiek Lammers",4,"Widex","Enjoy E-BTE 13D 220","WID-0546",{"$f":"IF(ISBLANK('Assortiment Hoortoestellen'!$B$26),1,IF(ISERROR(SEARCH(PROPER('Assortiment Hoortoestellen'!$B$26),PROPER('Dataset hoortoestellen'!D1267))),0,1))","v":1}]
["Auditiek Lammers",5,"Widex","Enjoy E-BTE 13D 330","WID-0547",{"$f":"IF(ISBLANK('Assortiment Hoortoestellen'!$B$26),1,IF(ISERROR(SEARCH(PROPER('Assortiment Hoortoestellen'!$B$26),PROPER('Dataset hoortoestellen'!D1268))),0,1))","v":1}]
["Auditiek Lammers",2,"Widex","Enjoy E-BTE 13D 50","WID-0549",{"$f":"IF(ISBLANK('Assortiment Hoortoestellen'!$B$26),1,IF(ISERROR(SEARCH(PROPER('Assortiment Hoortoestellen'!$B$26),PROPER('Dataset hoortoestellen'!D1269))),0,1))","v":1}]
["Auditiek Lammers",3,"Widex","Enjoy E-CIC 110 Links","WID-0551",{"$f":"IF(ISBLANK('Assortiment Hoortoestellen'!$B$26),1,IF(ISERROR(SEARCH(PROPER('Assortiment Hoortoestellen'!$B$26),PROPER('Dataset hoortoestellen'!D1270))),0,1))","v":1}]
["Auditiek Lammers",4,"Widex","Enjoy E-CIC 220 Links","WID-0552",{"$f":"IF(ISBLANK('Assortiment Hoortoestellen'!$B$26),1,IF(ISERROR(SEARCH(PROPER('Assortiment Hoortoestellen'!$B$26),PROPER('Dataset hoortoestellen'!D1271))),0,1))","v":1}]
["Auditiek Lammers",5,"Widex","Enjoy E-CIC 330 Links","WID-0553",{"$f":"IF(ISBLANK('Assortiment Hoortoestellen'!$B$26),1,IF(ISERROR(SEARCH(PROPER('Assortiment Hoortoestellen'!$B$26),PROPER('Dataset hoortoestellen'!D1272))),0,1))","v":1}]
["Auditiek Lammers",3,"Widex","Enjoy E-CIC M 110","WID-0557",{"$f":"IF(ISBLANK('Assortiment Hoortoestellen'!$B$26),1,IF(ISERROR(SEARCH(PROPER('Assortiment Hoortoestellen'!$B$26),PROPER('Dataset hoortoestellen'!D1273))),0,1))","v":1}]
["Auditiek Lammers",4,"Widex","Enjoy E-CIC M 220","WID-0558",{"$f":"IF(ISBLANK('Assortiment Hoortoestellen'!$B$26),1,IF(ISERROR(SEARCH(PROPER('Assortiment Hoortoestellen'!$B$26),PROPER('Dataset hoortoestellen'!D1274))),0,1))","v":1}]
["Auditiek Lammers",5,"Widex","Enjoy E-CIC M 330","WID-0559",{"$f":"IF(ISBLANK('Assortiment Hoortoestellen'!$B$26),1,IF(ISERROR(SEARCH(PROPER('Assortiment Hoortoestellen'!$B$26),PROPER('Dataset hoortoestellen'!D1275))),0,1))","v":1}]
["Auditiek Lammers",3,"Widex","Enjoy E-CIC M TR 110","WID-0563",{"$f":"IF(ISBLANK('Assortiment Hoortoestellen'!$B$26),1,IF(ISERROR(SEARCH(PROPER('Assortiment Hoortoestellen'!$B$26),PROPER('Dataset hoortoestellen'!D1276))),0,1))","v":1}]
["Auditiek Lammers",3,"Widex","Enjoy E-CIC TR 110 Links","WID-0569",{"$f":"IF(ISBLANK('Assortiment Hoortoestellen'!$B$26),1,IF(ISERROR(SEARCH(PROPER('Assortiment Hoortoestellen'!$B$26),PROPER('Dataset hoortoestellen'!D1277))),0,1))","v":1}]
["Auditiek Lammers",4,"Widex","Enjoy E-CIC TR 220 Links","WID-0570",{"$f":"IF(ISBLANK('Assortiment Hoortoestellen'!$B$26),1,IF(ISERROR(SEARCH(PROPER('Assortiment Hoortoestellen'!$B$26),PROPER('Dataset hoortoestellen'!D1278))),0,1))","v":1}]
["Auditiek Lammers",5,"Widex","Enjoy E-CIC TR 330 Links","WID-0571",{"$f":"IF(ISBLANK('Assortiment Hoortoestellen'!$B$26),1,IF(ISERROR(SEARCH(PROPER('Assortiment Hoortoestellen'!$B$26),PROPER('Dataset hoortoestellen'!D1279))),0,1))","v":1}]
["Auditiek Lammers",3,"Widex","Enjoy E-F2 110 (HP-tel)","WID-0578",{"$f":"IF(ISBLANK('Assortiment Hoortoestellen'!$B$26),1,IF(ISERROR(SEARCH(PROPER('Assortiment Hoortoestellen'!$B$26),PROPER('Dataset hoortoestellen'!D1280))),0,1))","v":1}]
["Auditiek Lammers",3,"Widex","Enjoy E-F2 110 (M-tel)","WID-0579",{"$f":"IF(ISBLANK('Assortiment Hoortoestellen'!$B$26),1,IF(ISERROR(SEARCH(PROPER('Assortiment Hoortoestellen'!$B$26),PROPER('Dataset hoortoestellen'!D1281))),0,1))","v":1}]
["Auditiek Lammers",3,"Widex","Enjoy E-F2 110 (P-tel)","WID-0580",{"$f":"IF(ISBLANK('Assortiment Hoortoestellen'!$B$26),1,IF(ISERROR(SEARCH(PROPER('Assortiment Hoortoestellen'!$B$26),PROPER('Dataset hoortoestellen'!D1282))),0,1))","v":1}]
["Auditiek Lammers",3,"Widex","Enjoy E-F2 110 (S-tel)","WID-0581",{"$f":"IF(ISBLANK('Assortiment Hoortoestellen'!$B$26),1,IF(ISERROR(SEARCH(PROPER('Assortiment Hoortoestellen'!$B$26),PROPER('Dataset hoortoestellen'!D1283))),0,1))","v":1}]
["Auditiek Lammers",4,"Widex","Enjoy E-F2 220 (HP-tel)","WID-0582",{"$f":"IF(ISBLANK('Assortiment Hoortoestellen'!$B$26),1,IF(ISERROR(SEARCH(PROPER('Assortiment Hoortoestellen'!$B$26),PROPER('Dataset hoortoestellen'!D1284))),0,1))","v":1}]
["Auditiek Lammers",4,"Widex","Enjoy E-F2 220 (M-tel)","WID-0583",{"$f":"IF(ISBLANK('Assortiment Hoortoestellen'!$B$26),1,IF(ISERROR(SEARCH(PROPER('Assortiment Hoortoestellen'!$B$26),PROPER('Dataset hoortoestellen'!D1285))),0,1))","v":1}]
["Auditiek Lammers",4,"Widex","Enjoy E-F2 220 (P-tel)","WID-0584",{"$f":"IF(ISBLANK('Assortiment Hoortoestellen'!$B$26),1,IF(ISERROR(SEARCH(PROPER('Assortiment Hoortoestellen'!$B$26),PROPER('Dataset hoortoestellen'!D1286))),0,1))","v":1}]
["Auditiek Lammers",4,"Widex","Enjoy E-F2 220 (S-tel)","WID-0585",{"$f":"IF(ISBLANK('Assortiment Hoortoestellen'!$B$26),1,IF(ISERROR(SEARCH(PROPER('Assortiment Hoortoestellen'!$B$26),PROPER('Dataset hoortoestellen'!D1287))),0,1))","v":1}]
["Auditiek Lammers",5,"Widex","Enjoy E-F2 330 (HP-tel)","WID-0586",{"$f":"IF(ISBLANK('Assortiment Hoortoestellen'!$B$26),1,IF(ISERROR(SEARCH(PROPER('Assortiment Hoortoestellen'!$B$26),PROPER('Dataset hoortoestellen'!D1288))),0,1))","v":1}]
["Auditiek Lammers",5,"Widex","Enjoy E-F2 330 (M-tel)","WID-0587",{"$f":"IF(ISBLANK('Assortiment Hoortoestellen'!$B$26),1,IF(ISERROR(SEARCH(PROPER('Assortiment Hoortoestellen'!$B$26),PROPER('Dataset hoortoestellen'!D1289))),0,1))","v":1}]
["Auditiek Lammers",5,"Widex","Enjoy E-F2 330 (P-tel)","WID-0588",{"$f":"IF(ISBLANK('Assortiment Hoortoestellen'!$B$26),1,IF(ISERROR(SEARCH(PROPER('Assortiment Hoortoestellen'!$B$26),PROPER('Dataset hoortoestellen'!D1290))),0,1))","v":1}]
["Auditiek Lammers",5,"Widex","Enjoy E-F2 330 (S-tel)","WID-0589",{"$f":"IF(ISBLANK('Assortiment Hoortoestellen'!$B$26),1,IF(ISERROR(SEARCH(PROPER('Assortiment Hoortoestellen'!$B$26),PROPER('Dataset hoortoestellen'!D1291))),0,1))","v":1}]
["Auditiek Lammers",2,"Widex","Enjoy E-F2 50 (HP-tel)","WID-0594",{"$f":"IF(ISBLANK('Assortiment Hoortoestellen'!$B$26),1,IF(ISERROR(SEARCH(PROPER('Assortiment Hoortoestellen'!$B$26),PROPER('Dataset hoortoestellen'!D1292))),0,1))","v":1}]
["Auditiek Lammers",2,"Widex","Enjoy E-F2 50 (M-tel)","WID-0595",{"$f":"IF(ISBLANK('Assortiment Hoortoestellen'!$B$26),1,IF(ISERROR(SEARCH(PROPER('Assortiment Hoortoestellen'!$B$26),PROPER('Dataset hoortoestellen'!D1293))),0,1))","v":1}]
["Auditiek Lammers",2,"Widex","Enjoy E-F2 50 (P-tel)","WID-0596",{"$f":"IF(ISBLANK('Assortiment Hoortoestellen'!$B$26),1,IF(ISERROR(SEARCH(PROPER('Assortiment Hoortoestellen'!$B$26),PROPER('Dataset hoortoestellen'!D1294))),0,1))","v":1}]
["Auditiek Lammers",2,"Widex","Enjoy E-F2 50 (S-tel)","WID-0597",{"$f":"IF(ISBLANK('Assortiment Hoortoestellen'!$B$26),1,IF(ISERROR(SEARCH(PROPER('Assortiment Hoortoestellen'!$B$26),PROPER('Dataset hoortoestellen'!D1295))),0,1))","v":1}]
["Auditiek Lammers",3,"Widex","Enjoy E-FA 110","WID-0599",{"$f":"IF(ISBLANK('Assortiment Hoortoestellen'!$B$26),1,IF(ISERROR(SEARCH(PROPER('Assortiment Hoortoestellen'!$B$26),PROPER('Dataset hoortoestellen'!D1296))),0,1))","v":1}]
["Auditiek Lammers",4,"Widex","Enjoy E-FA 220","WID-0600",{"$f":"IF(ISBLANK('Assortiment Hoortoestellen'!$B$26),1,IF(ISERROR(SEARCH(PROPER('Assortiment Hoortoestellen'!$B$26),PROPER('Dataset hoortoestellen'!D1297))),0,1))","v":1}]
["Auditiek Lammers",5,"Widex","Enjoy E-FA 330","WID-0601",{"$f":"IF(ISBLANK('Assortiment Hoortoestellen'!$B$26),1,IF(ISERROR(SEARCH(PROPER('Assortiment Hoortoestellen'!$B$26),PROPER('Dataset hoortoestellen'!D1298))),0,1))","v":1}]
["Auditiek Lammers",2,"Widex","Enjoy E-FA 50","WID-0603",{"$f":"IF(ISBLANK('Assortiment Hoortoestellen'!$B$26),1,IF(ISERROR(SEARCH(PROPER('Assortiment Hoortoestellen'!$B$26),PROPER('Dataset hoortoestellen'!D1299))),0,1))","v":1}]
["Auditiek Lammers",3,"Widex","Enjoy E-FM 110","WID-0605",{"$f":"IF(ISBLANK('Assortiment Hoortoestellen'!$B$26),1,IF(ISERROR(SEARCH(PROPER('Assortiment Hoortoestellen'!$B$26),PROPER('Dataset hoortoestellen'!D1300))),0,1))","v":1}]
["Auditiek Lammers",4,"Widex","Enjoy E-FM 220","WID-0606",{"$f":"IF(ISBLANK('Assortiment Hoortoestellen'!$B$26),1,IF(ISERROR(SEARCH(PROPER('Assortiment Hoortoestellen'!$B$26),PROPER('Dataset hoortoestellen'!D1301))),0,1))","v":1}]
["Auditiek Lammers",5,"Widex","Enjoy E-FM 330","WID-0607",{"$f":"IF(ISBLANK('Assortiment Hoortoestellen'!$B$26),1,IF(ISERROR(SEARCH(PROPER('Assortiment Hoortoestellen'!$B$26),PROPER('Dataset hoortoestellen'!D1302))),0,1))","v":1}]
["Auditiek Lammers",2,"Widex","Enjoy E-FM 50","WID-0609",{"$f":"IF(ISBLANK('Assortiment Hoortoestellen'!$B$26),1,IF(ISERROR(SEARCH(PROPER('Assortiment Hoortoestellen'!$B$26),PROPER('Dataset hoortoestellen'!D1303))),0,1))","v":1}]
["Auditiek Lammers",3,"Widex","Enjoy E-FP 110","WID-0611",{"$f":"IF(ISBLANK('Assortiment Hoortoestellen'!$B$26),1,IF(ISERROR(SEARCH(PROPER('Assortiment Hoortoestellen'!$B$26),PROPER('Dataset hoortoestellen'!D1304))),0,1))","v":1}]
["Auditiek Lammers",4,"Widex","Enjoy E-FP 220","WID-0612",{"$f":"IF(ISBLANK('Assortiment Hoortoestellen'!$B$26),1,IF(ISERROR(SEARCH(PROPER('Assortiment Hoortoestellen'!$B$26),PROPER('Dataset hoortoestellen'!D1305))),0,1))","v":1}]
["Auditiek Lammers",5,"Widex","Enjoy E-FP 330","WID-0613",{"$f":"IF(ISBLANK('Assortiment Hoortoestellen'!$B$26),1,IF(ISERROR(SEARCH(PROPER('Assortiment Hoortoestellen'!$B$26),PROPER('Dataset hoortoestellen'!D1306))),0,1))","v":1}]
["Auditiek Lammers",2,"Widex","Enjoy E-FP 50","WID-0615",{"$f":"IF(ISBLANK('Assortiment Hoortoestellen'!$B$26),1,IF(ISERROR(SEARCH(PROPER('Assortiment Hoortoestellen'!$B$26),PROPER('Dataset hoortoestellen'!D1307))),0,1))","v":1}]
["Auditiek Lammers",3,"Widex","Enjoy E-FS 110 (HP-tel)","WID-0620",{"$f":"IF(ISBLANK('Assortiment Hoortoestellen'!$B$26),1,IF(ISERROR(SEARCH(PROPER('Assortiment Hoortoestellen'!$B$26),PROPER('Dataset hoortoestellen'!D1308))),0,1))","v":1}]
["Auditiek Lammers",3,"Widex","Enjoy E-FS 110 (M-tel)","WID-0621",{"$f":"IF(ISBLANK('Assortiment Hoortoestellen'!$B$26),1,IF(ISERROR(SEARCH(PROPER('Assortiment Hoortoestellen'!$B$26),PROPER('Dataset hoortoestellen'!D1309))),0,1))","v":1}]
["Auditiek Lammers",3,"Widex","Enjoy E-FS 110 (P-tel)","WID-0622",{"$f":"IF(ISBLANK('Assortiment Hoortoestellen'!$B$26),1,IF(ISERROR(SEARCH(PROPER('Assortiment Hoortoestellen'!$B$26),PROPER('Dataset hoortoestellen'!D1310))),0,1))","v":1}]
["Auditiek Lammers",3,"Widex","Enjoy E-FS 110 (S-tel)","WID-0623",{"$f":"IF(ISBLANK('Assortiment Hoortoestellen'!$B$26),1,IF(ISERROR(SEARCH(PROPER('Assortiment Hoortoestellen'!$B$26),PROPER('Dataset hoortoestellen'!D1311))),0,1))","v":1}]
["Auditiek Lammers",4,"Widex","Enjoy E-FS 220 (HP-tel)","WID-0624",{"$f":"IF(ISBLANK('Assortiment Hoortoestellen'!$B$26),1,IF(ISERROR(SEARCH(PROPER('Assortiment Hoortoestellen'!$B$26),PROPER('Dataset hoortoestellen'!D1312))),0,1))","v":1}]
["Auditiek Lammers",4,"Widex","Enjoy E-FS 220 (M-tel)","WID-0625",{"$f":"IF(ISBLANK('Assortiment Hoortoestellen'!$B$26),1,IF(ISERROR(SEARCH(PROPER('Assortiment Hoortoestellen'!$B$26),PROPER('Dataset hoortoestellen'!D1313))),0,1))","v":1}]
["Auditiek Lammers",4,"Widex","Enjoy E-FS 220 (P-tel)","WID-0626",{"$f":"IF(ISBLANK('Assortiment Hoortoestellen'!$B$26),1,IF(ISERROR(SEARCH(PROPER('Assortiment Hoortoestellen'!$B$26),PROPER('Dataset hoortoestellen'!D1314))),0,1))","v":1}]
["Auditiek Lammers",4,"Widex","Enjoy E-FS 220 (S-tel)","WID-0627",{"$f":"IF(ISBLANK('Assortiment Hoortoestellen'!$B$26),1,IF(ISERROR(SEARCH(PROPER('Assortiment Hoortoestellen'!$B$26),PROPER('Dataset hoortoestellen'!D1315))),0,1))","v":1}]
["Auditiek Lammers",5,"Widex","Enjoy E-FS 330 (HP-tel)","WID-0628",{"$f":"IF(ISBLANK('Assortiment Hoortoestellen'!$B$26),1,IF(ISERROR(SEARCH(PROPER('Assortiment Hoortoestellen'!$B$26),PROPER('Dataset hoortoestellen'!D1316))),0,1))","v":1}]
["Auditiek Lammers",5,"Widex","Enjoy E-FS 330 (M-tel)","WID-0629",{"$f":"IF(ISBLANK('Assortiment Hoortoestellen'!$B$26),1,IF(ISERROR(SEARCH(PROPER('Assortiment Hoortoestellen'!$B$26),PROPER('Dataset hoortoestellen'!D1317))),0,1))","v":1}]
["Auditiek Lammers",5,"Widex","Enjoy E-FS 330 (P-tel)","WID-0630",{"$f":"IF(ISBLANK('Assortiment Hoortoestellen'!$B$26),1,IF(ISERROR(SEARCH(PROPER('Assortiment Hoortoestellen'!$B$26),PROPER('Dataset hoortoestellen'!D1318))),0,1))","v":1}]
["Auditiek Lammers",5,"Widex","Enjoy E-FS 330 (S-tel)","WID-0631",{"$f":"IF(ISBLANK('Assortiment Hoortoestellen'!$B$26),1,IF(ISERROR(SEARCH(PROPER('Assortiment Hoortoestellen'!$B$26),PROPER('Dataset hoortoestellen'!D1319))),0,1))","v":1}]
["Auditiek Lammers",2,"Widex","Enjoy E-FS 50 (HP-tel)","WID-0636",{"$f":"IF(ISBLANK('Assortiment Hoortoestellen'!$B$26),1,IF(ISERROR(SEARCH(PROPER('Assortiment Hoortoestellen'!$B$26),PROPER('Dataset hoortoestellen'!D1320))),0,1))","v":1}]
["Auditiek Lammers",2,"Widex","Enjoy E-FS 50 (M-tel)","WID-0637",{"$f":"IF(ISBLANK('Assortiment Hoortoestellen'!$B$26),1,IF(ISERROR(SEARCH(PROPER('Assortiment Hoortoestellen'!$B$26),PROPER('Dataset hoortoestellen'!D1321))),0,1))","v":1}]
["Auditiek Lammers",2,"Widex","Enjoy E-FS 50 (P-tel)","WID-0638",{"$f":"IF(ISBLANK('Assortiment Hoortoestellen'!$B$26),1,IF(ISERROR(SEARCH(PROPER('Assortiment Hoortoestellen'!$B$26),PROPER('Dataset hoortoestellen'!D1322))),0,1))","v":1}]
["Auditiek Lammers",2,"Widex","Enjoy E-FS 50 (S-tel)","WID-0639",{"$f":"IF(ISBLANK('Assortiment Hoortoestellen'!$B$26),1,IF(ISERROR(SEARCH(PROPER('Assortiment Hoortoestellen'!$B$26),PROPER('Dataset hoortoestellen'!D1323))),0,1))","v":1}]
["Auditiek Lammers",3,"Widex","Enjoy E-PA 110 (M-tel)","WID-0642",{"$f":"IF(ISBLANK('Assortiment Hoortoestellen'!$B$26),1,IF(ISERROR(SEARCH(PROPER('Assortiment Hoortoestellen'!$B$26),PROPER('Dataset hoortoestellen'!D1324))),0,1))","v":1}]
["Auditiek Lammers",3,"Widex","Enjoy E-PA 110 (S-tel)","WID-0643",{"$f":"IF(ISBLANK('Assortiment Hoortoestellen'!$B$26),1,IF(ISERROR(SEARCH(PROPER('Assortiment Hoortoestellen'!$B$26),PROPER('Dataset hoortoestellen'!D1325))),0,1))","v":1}]
["Auditiek Lammers",4,"Widex","Enjoy E-PA 220 (M-tel)","WID-0644",{"$f":"IF(ISBLANK('Assortiment Hoortoestellen'!$B$26),1,IF(ISERROR(SEARCH(PROPER('Assortiment Hoortoestellen'!$B$26),PROPER('Dataset hoortoestellen'!D1326))),0,1))","v":1}]
["Auditiek Lammers",4,"Widex","Enjoy E-PA 220 (S-tel)","WID-0645",{"$f":"IF(ISBLANK('Assortiment Hoortoestellen'!$B$26),1,IF(ISERROR(SEARCH(PROPER('Assortiment Hoortoestellen'!$B$26),PROPER('Dataset hoortoestellen'!D1327))),0,1))","v":1}]
["Auditiek Lammers",5,"Widex","Enjoy E-PA 330 (M-tel)","WID-0646",{"$f":"IF(ISBLANK('Assortiment Hoortoestellen'!$B$26),1,IF(ISERROR(SEARCH(PROPER('Assortiment Hoortoestellen'!$B$26),PROPER('Dataset hoortoestellen'!D1328))),0,1))","v":1}]
["Auditiek Lammers",5,"Widex","Enjoy E-PA 330 (S-tel)","WID-0647",{"$f":"IF(ISBLANK('Assortiment Hoortoestellen'!$B$26),1,IF(ISERROR(SEARCH(PROPER('Assortiment Hoortoestellen'!$B$26),PROPER('Dataset hoortoestellen'!D1329))),0,1))","v":1}]
["Auditiek Lammers",3,"Widex","Enjoy E-XP 110","WID-0651",{"$f":"IF(ISBLANK('Assortiment Hoortoestellen'!$B$26),1,IF(ISERROR(SEARCH(PROPER('Assortiment Hoortoestellen'!$B$26),PROPER('Dataset hoortoestellen'!D1330))),0,1))","v":1}]
["Auditiek Lammers",4,"Widex","Enjoy E-XP 220","WID-0652",{"$f":"IF(ISBLANK('Assortiment Hoortoestellen'!$B$26),1,IF(ISERROR(SEARCH(PROPER('Assortiment Hoortoestellen'!$B$26),PROPER('Dataset hoortoestellen'!D1331))),0,1))","v":1}]
["Auditiek Lammers",5,"Widex","Enjoy E-XP 330","WID-0653",{"$f":"IF(ISBLANK('Assortiment Hoortoestellen'!$B$26),1,IF(ISERROR(SEARCH(PROPER('Assortiment Hoortoestellen'!$B$26),PROPER('Dataset hoortoestellen'!D1332))),0,1))","v":1}]
["Auditiek Lammers",3,"Widex","Enjoy E-CIC 110 Rechts","WID-0656",{"$f":"IF(ISBLANK('Assortiment Hoortoestellen'!$B$26),1,IF(ISERROR(SEARCH(PROPER('Assortiment Hoortoestellen'!$B$26),PROPER('Dataset hoortoestellen'!D1333))),0,1))","v":1}]
["Auditiek Lammers",4,"Widex","Enjoy E-CIC 220 Rechts","WID-0657",{"$f":"IF(ISBLANK('Assortiment Hoortoestellen'!$B$26),1,IF(ISERROR(SEARCH(PROPER('Assortiment Hoortoestellen'!$B$26),PROPER('Dataset hoortoestellen'!D1334))),0,1))","v":1}]
["Auditiek Lammers",5,"Widex","Enjoy E-CIC 330 Rechts","WID-0658",{"$f":"IF(ISBLANK('Assortiment Hoortoestellen'!$B$26),1,IF(ISERROR(SEARCH(PROPER('Assortiment Hoortoestellen'!$B$26),PROPER('Dataset hoortoestellen'!D1335))),0,1))","v":1}]
["Auditiek Lammers",4,"Widex","Enjoy E-CIC TR 220 Rechts","WID-0662",{"$f":"IF(ISBLANK('Assortiment Hoortoestellen'!$B$26),1,IF(ISERROR(SEARCH(PROPER('Assortiment Hoortoestellen'!$B$26),PROPER('Dataset hoortoestellen'!D1336))),0,1))","v":1}]
["Auditiek Lammers",5,"Widex","Enjoy E-CIC TR 330 Rechts","WID-0663",{"$f":"IF(ISBLANK('Assortiment Hoortoestellen'!$B$26),1,IF(ISERROR(SEARCH(PROPER('Assortiment Hoortoestellen'!$B$26),PROPER('Dataset hoortoestellen'!D1337))),0,1))","v":1}]
["Beeks Oog & Oor",1,"Widex- Coselgi","Dinamico 3 D-9","COS-0051",{"$f":"IF(ISBLANK('Assortiment Hoortoestellen'!$B$26),1,IF(ISERROR(SEARCH(PROPER('Assortiment Hoortoestellen'!$B$26),PROPER('Dataset hoortoestellen'!D1338))),0,1))","v":1}]
["Beeks Oog & Oor",1,"Widex- Coselgi","Dinamico 3 D-CIC","COS-0052",{"$f":"IF(ISBLANK('Assortiment Hoortoestellen'!$B$26),1,IF(ISERROR(SEARCH(PROPER('Assortiment Hoortoestellen'!$B$26),PROPER('Dataset hoortoestellen'!D1339))),0,1))","v":1}]
["Beeks Oog & Oor",4,"Widex- Coselgi","U10E-CIC (links)","COS-0149",{"$f":"IF(ISBLANK('Assortiment Hoortoestellen'!$B$26),1,IF(ISERROR(SEARCH(PROPER('Assortiment Hoortoestellen'!$B$26),PROPER('Dataset hoortoestellen'!D1340))),0,1))","v":1}]
["Beeks Oog & Oor",4,"Widex- Coselgi","U10E-FS (M-tel)","COS-0155",{"$f":"IF(ISBLANK('Assortiment Hoortoestellen'!$B$26),1,IF(ISERROR(SEARCH(PROPER('Assortiment Hoortoestellen'!$B$26),PROPER('Dataset hoortoestellen'!D1341))),0,1))","v":1}]
["Beeks Oog & Oor",5,"Widex- Coselgi","U15-CIC (links)","COS-0161",{"$f":"IF(ISBLANK('Assortiment Hoortoestellen'!$B$26),1,IF(ISERROR(SEARCH(PROPER('Assortiment Hoortoestellen'!$B$26),PROPER('Dataset hoortoestellen'!D1342))),0,1))","v":1}]
["Beeks Oog & Oor",5,"Widex- Coselgi","U15-FS (M-tel)","COS-0167",{"$f":"IF(ISBLANK('Assortiment Hoortoestellen'!$B$26),1,IF(ISERROR(SEARCH(PROPER('Assortiment Hoortoestellen'!$B$26),PROPER('Dataset hoortoestellen'!D1343))),0,1))","v":1}]
["Beeks Oog & Oor",2,"Widex- Coselgi","U6-CIC (links)","COS-0241",{"$f":"IF(ISBLANK('Assortiment Hoortoestellen'!$B$26),1,IF(ISERROR(SEARCH(PROPER('Assortiment Hoortoestellen'!$B$26),PROPER('Dataset hoortoestellen'!D1344))),0,1))","v":1}]
["Beeks Oog & Oor",2,"Widex- Coselgi","U6-FS (M-tel)","COS-0247",{"$f":"IF(ISBLANK('Assortiment Hoortoestellen'!$B$26),1,IF(ISERROR(SEARCH(PROPER('Assortiment Hoortoestellen'!$B$26),PROPER('Dataset hoortoestellen'!D1345))),0,1))","v":1}]
["Beeks Oog & Oor",3,"Widex- Coselgi","U6E-CIC (links)","COS-0253",{"$f":"IF(ISBLANK('Assortiment Hoortoestellen'!$B$26),1,IF(ISERROR(SEARCH(PROPER('Assortiment Hoortoestellen'!$B$26),PROPER('Dataset hoortoestellen'!D1346))),0,1))","v":1}]
["Beeks Oog & Oor",3,"Widex- Coselgi","U6E-FS (M-tel)","COS-0259",{"$f":"IF(ISBLANK('Assortiment Hoortoestellen'!$B$26),1,IF(ISERROR(SEARCH(PROPER('Assortiment Hoortoestellen'!$B$26),PROPER('Dataset hoortoestellen'!D1347))),0,1))","v":1}]
["Beeks Oog & Oor",1,"Resound","Vea 170 VI","RES-0010",{"$f":"IF(ISBLANK('Assortiment Hoortoestellen'!$B$26),1,IF(ISERROR(SEARCH(PROPER('Assortiment Hoortoestellen'!$B$26),PROPER('Dataset hoortoestellen'!D1348))),0,1))","v":1}]
["Beeks Oog & Oor",1,"Resound","Vea 130 -/P","RES-0011",{"$f":"IF(ISBLANK('Assortiment Hoortoestellen'!$B$26),1,IF(ISERROR(SEARCH(PROPER('Assortiment Hoortoestellen'!$B$26),PROPER('Dataset hoortoestellen'!D1349))),0,1))","v":1}]
["Beeks Oog & Oor",2,"Starkey","Muse i1000 CIC","STA-0277",{"$f":"IF(ISBLANK('Assortiment Hoortoestellen'!$B$26),1,IF(ISERROR(SEARCH(PROPER('Assortiment Hoortoestellen'!$B$26),PROPER('Dataset hoortoestellen'!D1350))),0,1))","v":1}]
["Beeks Oog & Oor",2,"Starkey","Muse i1000 mRIC 312","STA-0280",{"$f":"IF(ISBLANK('Assortiment Hoortoestellen'!$B$26),1,IF(ISERROR(SEARCH(PROPER('Assortiment Hoortoestellen'!$B$26),PROPER('Dataset hoortoestellen'!D1351))),0,1))","v":1}]
["Beeks Oog & Oor",3,"Starkey","Muse iQ i1000 CIC","STA-0352",{"$f":"IF(ISBLANK('Assortiment Hoortoestellen'!$B$26),1,IF(ISERROR(SEARCH(PROPER('Assortiment Hoortoestellen'!$B$26),PROPER('Dataset hoortoestellen'!D1352))),0,1))","v":1}]
["Beeks Oog & Oor",3,"Starkey","Muse iQ i1000 mRIC","STA-0355",{"$f":"IF(ISBLANK('Assortiment Hoortoestellen'!$B$26),1,IF(ISERROR(SEARCH(PROPER('Assortiment Hoortoestellen'!$B$26),PROPER('Dataset hoortoestellen'!D1353))),0,1))","v":1}]
["Beeks Oog & Oor",4,"Starkey","Muse iQ i1200 CIC","STA-0362",{"$f":"IF(ISBLANK('Assortiment Hoortoestellen'!$B$26),1,IF(ISERROR(SEARCH(PROPER('Assortiment Hoortoestellen'!$B$26),PROPER('Dataset hoortoestellen'!D1354))),0,1))","v":1}]
["Beeks Oog & Oor",4,"Starkey","Muse iQ i1200 mRIC","STA-0365",{"$f":"IF(ISBLANK('Assortiment Hoortoestellen'!$B$26),1,IF(ISERROR(SEARCH(PROPER('Assortiment Hoortoestellen'!$B$26),PROPER('Dataset hoortoestellen'!D1355))),0,1))","v":1}]
["Beeks Oog & Oor",5,"Starkey","Muse iQ i1600 CIC","STA-0372",{"$f":"IF(ISBLANK('Assortiment Hoortoestellen'!$B$26),1,IF(ISERROR(SEARCH(PROPER('Assortiment Hoortoestellen'!$B$26),PROPER('Dataset hoortoestellen'!D1356))),0,1))","v":1}]
["Beeks Oog & Oor",5,"Starkey","Muse iQ i1600 mRIC","STA-0376",{"$f":"IF(ISBLANK('Assortiment Hoortoestellen'!$B$26),1,IF(ISERROR(SEARCH(PROPER('Assortiment Hoortoestellen'!$B$26),PROPER('Dataset hoortoestellen'!D1357))),0,1))","v":1}]
["Beeks Oog & Oor",3,"Starkey","Livio 1000 RIC R","STA-0383",{"$f":"IF(ISBLANK('Assortiment Hoortoestellen'!$B$26),1,IF(ISERROR(SEARCH(PROPER('Assortiment Hoortoestellen'!$B$26),PROPER('Dataset hoortoestellen'!D1358))),0,1))","v":1}]
["Beeks Oog & Oor",4,"Starkey","Livio 1200 RIC R","STA-0387",{"$f":"IF(ISBLANK('Assortiment Hoortoestellen'!$B$26),1,IF(ISERROR(SEARCH(PROPER('Assortiment Hoortoestellen'!$B$26),PROPER('Dataset hoortoestellen'!D1359))),0,1))","v":1}]
["Beeks Oog & Oor",5,"Starkey","Livio 1600 RIC R","STA-0391",{"$f":"IF(ISBLANK('Assortiment Hoortoestellen'!$B$26),1,IF(ISERROR(SEARCH(PROPER('Assortiment Hoortoestellen'!$B$26),PROPER('Dataset hoortoestellen'!D1360))),0,1))","v":1}]
["Ben van der Heiden horen Halsteren ",3,"Audio Service","quiX 6  G5 Links","AUS-0214",{"$f":"IF(ISBLANK('Assortiment Hoortoestellen'!$B$26),1,IF(ISERROR(SEARCH(PROPER('Assortiment Hoortoestellen'!$B$26),PROPER('Dataset hoortoestellen'!D1361))),0,1))","v":1}]
["Ben van der Heiden horen Halsteren ",4,"Audio Service","quiX 8 G5 Links","AUS-0193",{"$f":"IF(ISBLANK('Assortiment Hoortoestellen'!$B$26),1,IF(ISERROR(SEARCH(PROPER('Assortiment Hoortoestellen'!$B$26),PROPER('Dataset hoortoestellen'!D1362))),0,1))","v":1}]
["Ben van der Heiden horen Halsteren ",5,"Audio Service","quiX 12 G5 Links","AUS-0191",{"$f":"IF(ISBLANK('Assortiment Hoortoestellen'!$B$26),1,IF(ISERROR(SEARCH(PROPER('Assortiment Hoortoestellen'!$B$26),PROPER('Dataset hoortoestellen'!D1363))),0,1))","v":1}]
["Ben van der Heiden horen Halsteren ",3,"Audio Service","quiX 6  G5 Rechts","AUS-0213",{"$f":"IF(ISBLANK('Assortiment Hoortoestellen'!$B$26),1,IF(ISERROR(SEARCH(PROPER('Assortiment Hoortoestellen'!$B$26),PROPER('Dataset hoortoestellen'!D1364))),0,1))","v":1}]
["Ben van der Heiden horen Halsteren ",4,"Audio Service","quiX 8 G5 Rechts","AUS-0194",{"$f":"IF(ISBLANK('Assortiment Hoortoestellen'!$B$26),1,IF(ISERROR(SEARCH(PROPER('Assortiment Hoortoestellen'!$B$26),PROPER('Dataset hoortoestellen'!D1365))),0,1))","v":1}]
["Ben van der Heiden horen Halsteren ",5,"Audio Service","quiX 12 G5 Rechts","AUS-0192",{"$f":"IF(ISBLANK('Assortiment Hoortoestellen'!$B$26),1,IF(ISERROR(SEARCH(PROPER('Assortiment Hoortoestellen'!$B$26),PROPER('Dataset hoortoestellen'!D1366))),0,1))","v":1}]
["Ben van der Heiden horen Halsteren ",4,"Audio Service","IHO 8 G5","AUS-0183",{"$f":"IF(ISBLANK('Assortiment Hoortoestellen'!$B$26),1,IF(ISERROR(SEARCH(PROPER('Assortiment Hoortoestellen'!$B$26),PROPER('Dataset hoortoestellen'!D1367))),0,1))","v":1}]
["Ben van der Heiden horen Halsteren ",5,"Audio Service","IHO 12 G5","AUS-0182",{"$f":"IF(ISBLANK('Assortiment Hoortoestellen'!$B$26),1,IF(ISERROR(SEARCH(PROPER('Assortiment Hoortoestellen'!$B$26),PROPER('Dataset hoortoestellen'!D1368))),0,1))","v":1}]
["Ben van der Heiden horen Halsteren ",3,"Audio Service","Mood 6 G5","AUS-0208",{"$f":"IF(ISBLANK('Assortiment Hoortoestellen'!$B$26),1,IF(ISERROR(SEARCH(PROPER('Assortiment Hoortoestellen'!$B$26),PROPER('Dataset hoortoestellen'!D1369))),0,1))","v":1}]
["Ben van der Heiden horen Halsteren ",4,"Audio Service","Mood 8 G5","AUS-0185",{"$f":"IF(ISBLANK('Assortiment Hoortoestellen'!$B$26),1,IF(ISERROR(SEARCH(PROPER('Assortiment Hoortoestellen'!$B$26),PROPER('Dataset hoortoestellen'!D1370))),0,1))","v":1}]
["Ben van der Heiden horen Halsteren ",5,"Audio Service","Mood 12 G5","AUS-0184",{"$f":"IF(ISBLANK('Assortiment Hoortoestellen'!$B$26),1,IF(ISERROR(SEARCH(PROPER('Assortiment Hoortoestellen'!$B$26),PROPER('Dataset hoortoestellen'!D1371))),0,1))","v":1}]
["Ben van der Heiden horen Halsteren ",2,"Audio Service","Mood 4 G5","AUS-0207",{"$f":"IF(ISBLANK('Assortiment Hoortoestellen'!$B$26),1,IF(ISERROR(SEARCH(PROPER('Assortiment Hoortoestellen'!$B$26),PROPER('Dataset hoortoestellen'!D1372))),0,1))","v":1}]
["Ben van der Heiden horen Halsteren ",3,"Audio Service","Rixx 6 G5","AUS-0216",{"$f":"IF(ISBLANK('Assortiment Hoortoestellen'!$B$26),1,IF(ISERROR(SEARCH(PROPER('Assortiment Hoortoestellen'!$B$26),PROPER('Dataset hoortoestellen'!D1373))),0,1))","v":1}]
["Ben van der Heiden horen Halsteren ",4,"Audio Service","Rixx 8 G5","AUS-0196",{"$f":"IF(ISBLANK('Assortiment Hoortoestellen'!$B$26),1,IF(ISERROR(SEARCH(PROPER('Assortiment Hoortoestellen'!$B$26),PROPER('Dataset hoortoestellen'!D1374))),0,1))","v":1}]
["Ben van der Heiden horen Halsteren ",5,"Audio Service","Rixx 12 G5","AUS-0195",{"$f":"IF(ISBLANK('Assortiment Hoortoestellen'!$B$26),1,IF(ISERROR(SEARCH(PROPER('Assortiment Hoortoestellen'!$B$26),PROPER('Dataset hoortoestellen'!D1375))),0,1))","v":1}]
["Ben van der Heiden horen Halsteren ",2,"Audio Service","Rixx 4  G5","AUS-0215",{"$f":"IF(ISBLANK('Assortiment Hoortoestellen'!$B$26),1,IF(ISERROR(SEARCH(PROPER('Assortiment Hoortoestellen'!$B$26),PROPER('Dataset hoortoestellen'!D1376))),0,1))","v":1}]
["Ben van der Heiden horen Halsteren ",3,"Audio Service","Sun 6 G5","AUS-0218",{"$f":"IF(ISBLANK('Assortiment Hoortoestellen'!$B$26),1,IF(ISERROR(SEARCH(PROPER('Assortiment Hoortoestellen'!$B$26),PROPER('Dataset hoortoestellen'!D1377))),0,1))","v":1}]
["Ben van der Heiden horen Halsteren ",4,"Audio Service","Sun 8 G5","AUS-0198",{"$f":"IF(ISBLANK('Assortiment Hoortoestellen'!$B$26),1,IF(ISERROR(SEARCH(PROPER('Assortiment Hoortoestellen'!$B$26),PROPER('Dataset hoortoestellen'!D1378))),0,1))","v":1}]
["Ben van der Heiden horen Halsteren ",5,"Audio Service","Sun 12 G5","AUS-0197",{"$f":"IF(ISBLANK('Assortiment Hoortoestellen'!$B$26),1,IF(ISERROR(SEARCH(PROPER('Assortiment Hoortoestellen'!$B$26),PROPER('Dataset hoortoestellen'!D1379))),0,1))","v":1}]
["Ben van der Heiden horen Halsteren ",2,"Audio Service","Sun 4 G5","AUS-0217",{"$f":"IF(ISBLANK('Assortiment Hoortoestellen'!$B$26),1,IF(ISERROR(SEARCH(PROPER('Assortiment Hoortoestellen'!$B$26),PROPER('Dataset hoortoestellen'!D1380))),0,1))","v":1}]
["Ben van der Heiden horen Halsteren ",3,"Audio Service","Duo 6 G5","AUS-0206",{"$f":"IF(ISBLANK('Assortiment Hoortoestellen'!$B$26),1,IF(ISERROR(SEARCH(PROPER('Assortiment Hoortoestellen'!$B$26),PROPER('Dataset hoortoestellen'!D1381))),0,1))","v":1}]
["Ben van der Heiden horen Halsteren ",4,"Audio Service","Duo 8 G5","AUS-0178",{"$f":"IF(ISBLANK('Assortiment Hoortoestellen'!$B$26),1,IF(ISERROR(SEARCH(PROPER('Assortiment Hoortoestellen'!$B$26),PROPER('Dataset hoortoestellen'!D1382))),0,1))","v":1}]
["Ben van der Heiden horen Halsteren ",5,"Audio Service","Duo 12 G5","AUS-0177",{"$f":"IF(ISBLANK('Assortiment Hoortoestellen'!$B$26),1,IF(ISERROR(SEARCH(PROPER('Assortiment Hoortoestellen'!$B$26),PROPER('Dataset hoortoestellen'!D1383))),0,1))","v":1}]
["Ben van der Heiden horen Halsteren ",2,"Audio Service","Duo 4 G5","AUS-0205",{"$f":"IF(ISBLANK('Assortiment Hoortoestellen'!$B$26),1,IF(ISERROR(SEARCH(PROPER('Assortiment Hoortoestellen'!$B$26),PROPER('Dataset hoortoestellen'!D1384))),0,1))","v":1}]
["Ben van der Heiden horen Halsteren ",3,"Audio Service","P 6 G5","AUS-0210",{"$f":"IF(ISBLANK('Assortiment Hoortoestellen'!$B$26),1,IF(ISERROR(SEARCH(PROPER('Assortiment Hoortoestellen'!$B$26),PROPER('Dataset hoortoestellen'!D1385))),0,1))","v":1}]
["Ben van der Heiden horen Halsteren ",4,"Audio Service","P 8 G5","AUS-0190",{"$f":"IF(ISBLANK('Assortiment Hoortoestellen'!$B$26),1,IF(ISERROR(SEARCH(PROPER('Assortiment Hoortoestellen'!$B$26),PROPER('Dataset hoortoestellen'!D1386))),0,1))","v":1}]
["Ben van der Heiden horen Halsteren ",5,"Audio Service","P 12 G5","AUS-0189",{"$f":"IF(ISBLANK('Assortiment Hoortoestellen'!$B$26),1,IF(ISERROR(SEARCH(PROPER('Assortiment Hoortoestellen'!$B$26),PROPER('Dataset hoortoestellen'!D1387))),0,1))","v":1}]
["Ben van der Heiden horen Halsteren ",2,"Audio Service","P 4 G5","AUS-0209",{"$f":"IF(ISBLANK('Assortiment Hoortoestellen'!$B$26),1,IF(ISERROR(SEARCH(PROPER('Assortiment Hoortoestellen'!$B$26),PROPER('Dataset hoortoestellen'!D1388))),0,1))","v":1}]
["Ben van der Heiden horen Halsteren ",3,"Audio Service","HP 6 G4","AUS-0154",{"$f":"IF(ISBLANK('Assortiment Hoortoestellen'!$B$26),1,IF(ISERROR(SEARCH(PROPER('Assortiment Hoortoestellen'!$B$26),PROPER('Dataset hoortoestellen'!D1389))),0,1))","v":1}]
["Ben van der Heiden horen Halsteren ",4,"Audio Service","HP 8 G4","AUS-0132",{"$f":"IF(ISBLANK('Assortiment Hoortoestellen'!$B$26),1,IF(ISERROR(SEARCH(PROPER('Assortiment Hoortoestellen'!$B$26),PROPER('Dataset hoortoestellen'!D1390))),0,1))","v":1}]
["Ben van der Heiden horen Halsteren ",5,"Audio Service","HP 12 G4","AUS-0131",{"$f":"IF(ISBLANK('Assortiment Hoortoestellen'!$B$26),1,IF(ISERROR(SEARCH(PROPER('Assortiment Hoortoestellen'!$B$26),PROPER('Dataset hoortoestellen'!D1391))),0,1))","v":1}]
["Ben van der Heiden horen Halsteren ",2,"Audio Service","HP 4 G4","AUS-0153",{"$f":"IF(ISBLANK('Assortiment Hoortoestellen'!$B$26),1,IF(ISERROR(SEARCH(PROPER('Assortiment Hoortoestellen'!$B$26),PROPER('Dataset hoortoestellen'!D1392))),0,1))","v":1}]
["Ben van der Heiden horen Halsteren ",4,"Audio Service","Duo 8 G4","AUS-0130",{"$f":"IF(ISBLANK('Assortiment Hoortoestellen'!$B$26),1,IF(ISERROR(SEARCH(PROPER('Assortiment Hoortoestellen'!$B$26),PROPER('Dataset hoortoestellen'!D1393))),0,1))","v":1}]
["Ben van der Heiden horen Halsteren ",5,"Audio Service","Duo 12 G4","AUS-0129",{"$f":"IF(ISBLANK('Assortiment Hoortoestellen'!$B$26),1,IF(ISERROR(SEARCH(PROPER('Assortiment Hoortoestellen'!$B$26),PROPER('Dataset hoortoestellen'!D1394))),0,1))","v":1}]
["Ben van der Heiden horen Halsteren ",4,"Audio Service","Mood Li-Ion 8 G5","AUS-0188",{"$f":"IF(ISBLANK('Assortiment Hoortoestellen'!$B$26),1,IF(ISERROR(SEARCH(PROPER('Assortiment Hoortoestellen'!$B$26),PROPER('Dataset hoortoestellen'!D1395))),0,1))","v":1}]
["Ben van der Heiden horen Halsteren ",5,"Audio Service","Mood Li-Ion 12 G5","AUS-0186",{"$f":"IF(ISBLANK('Assortiment Hoortoestellen'!$B$26),1,IF(ISERROR(SEARCH(PROPER('Assortiment Hoortoestellen'!$B$26),PROPER('Dataset hoortoestellen'!D1396))),0,1))","v":1}]
["Ben van der Heiden horen Halsteren ",4,"Audio Service","DUO Li-Ion 8 G5","AUS-0181",{"$f":"IF(ISBLANK('Assortiment Hoortoestellen'!$B$26),1,IF(ISERROR(SEARCH(PROPER('Assortiment Hoortoestellen'!$B$26),PROPER('Dataset hoortoestellen'!D1397))),0,1))","v":1}]
["Ben van der Heiden horen Halsteren ",5,"Audio Service","DUO Li-Ion 12 G5","AUS-0179",{"$f":"IF(ISBLANK('Assortiment Hoortoestellen'!$B$26),1,IF(ISERROR(SEARCH(PROPER('Assortiment Hoortoestellen'!$B$26),PROPER('Dataset hoortoestellen'!D1398))),0,1))","v":1}]
["Ben van der Heiden horen Halsteren ",1,"Audio Service ","Volta quiX C rechts","AUS-0222",{"$f":"IF(ISBLANK('Assortiment Hoortoestellen'!$B$26),1,IF(ISERROR(SEARCH(PROPER('Assortiment Hoortoestellen'!$B$26),PROPER('Dataset hoortoestellen'!D1399))),0,1))","v":1}]
["Ben van der Heiden horen Halsteren ",1,"Audio Service ","Volta XS C","AUS-0225",{"$f":"IF(ISBLANK('Assortiment Hoortoestellen'!$B$26),1,IF(ISERROR(SEARCH(PROPER('Assortiment Hoortoestellen'!$B$26),PROPER('Dataset hoortoestellen'!D1400))),0,1))","v":1}]
["Ben van der Heiden horen Halsteren ",1,"Audio Service ","Volta P C","AUS-0220",{"$f":"IF(ISBLANK('Assortiment Hoortoestellen'!$B$26),1,IF(ISERROR(SEARCH(PROPER('Assortiment Hoortoestellen'!$B$26),PROPER('Dataset hoortoestellen'!D1401))),0,1))","v":1}]
["Ben van der Heiden horen Halsteren ",1,"Audio Service ","Volta HP C","AUS-0219",{"$f":"IF(ISBLANK('Assortiment Hoortoestellen'!$B$26),1,IF(ISERROR(SEARCH(PROPER('Assortiment Hoortoestellen'!$B$26),PROPER('Dataset hoortoestellen'!D1402))),0,1))","v":1}]
["Ben van der Heiden horen Halsteren ",5,"Beltone","TST 9ITC-DW","BEL-0126",{"$f":"IF(ISBLANK('Assortiment Hoortoestellen'!$B$26),1,IF(ISERROR(SEARCH(PROPER('Assortiment Hoortoestellen'!$B$26),PROPER('Dataset hoortoestellen'!D1403))),0,1))","v":1}]
["Ben van der Heiden horen Halsteren ",5,"Beltone","TST 9CIC","BEL-0125",{"$f":"IF(ISBLANK('Assortiment Hoortoestellen'!$B$26),1,IF(ISERROR(SEARCH(PROPER('Assortiment Hoortoestellen'!$B$26),PROPER('Dataset hoortoestellen'!D1404))),0,1))","v":1}]
["Ben van der Heiden horen Halsteren ",5,"Beltone","TST 976-DW","BEL-0123",{"$f":"IF(ISBLANK('Assortiment Hoortoestellen'!$B$26),1,IF(ISERROR(SEARCH(PROPER('Assortiment Hoortoestellen'!$B$26),PROPER('Dataset hoortoestellen'!D1405))),0,1))","v":1}]
["Ben van der Heiden horen Halsteren ",5,"Beltone","TST 986-DW","BEL-0124",{"$f":"IF(ISBLANK('Assortiment Hoortoestellen'!$B$26),1,IF(ISERROR(SEARCH(PROPER('Assortiment Hoortoestellen'!$B$26),PROPER('Dataset hoortoestellen'!D1406))),0,1))","v":1}]
["Ben van der Heiden horen Halsteren ",5,"Beltone","TST 963-DRW","BEL-0120",{"$f":"IF(ISBLANK('Assortiment Hoortoestellen'!$B$26),1,IF(ISERROR(SEARCH(PROPER('Assortiment Hoortoestellen'!$B$26),PROPER('Dataset hoortoestellen'!D1407))),0,1))","v":1}]
["Ben van der Heiden horen Halsteren ",5,"Beltone","TST 964-DRW","BEL-0121",{"$f":"IF(ISBLANK('Assortiment Hoortoestellen'!$B$26),1,IF(ISERROR(SEARCH(PROPER('Assortiment Hoortoestellen'!$B$26),PROPER('Dataset hoortoestellen'!D1408))),0,1))","v":1}]
["Ben van der Heiden horen Halsteren ",5,"Beltone","TST 966-DW","BEL-0122",{"$f":"IF(ISBLANK('Assortiment Hoortoestellen'!$B$26),1,IF(ISERROR(SEARCH(PROPER('Assortiment Hoortoestellen'!$B$26),PROPER('Dataset hoortoestellen'!D1409))),0,1))","v":1}]
["Ben van der Heiden horen Halsteren ",2,"Bernafon","Zerena 1 CIC","BER-0616",{"$f":"IF(ISBLANK('Assortiment Hoortoestellen'!$B$26),1,IF(ISERROR(SEARCH(PROPER('Assortiment Hoortoestellen'!$B$26),PROPER('Dataset hoortoestellen'!D1410))),0,1))","v":1}]
["Ben van der Heiden horen Halsteren ",2,"Bernafon","Zerena 1 IIC","BER-0617",{"$f":"IF(ISBLANK('Assortiment Hoortoestellen'!$B$26),1,IF(ISERROR(SEARCH(PROPER('Assortiment Hoortoestellen'!$B$26),PROPER('Dataset hoortoestellen'!D1411))),0,1))","v":1}]
["Ben van der Heiden horen Halsteren ",5,"Bernafon","Zerena 7 CIC","BER-0640",{"$f":"IF(ISBLANK('Assortiment Hoortoestellen'!$B$26),1,IF(ISERROR(SEARCH(PROPER('Assortiment Hoortoestellen'!$B$26),PROPER('Dataset hoortoestellen'!D1412))),0,1))","v":1}]
["Ben van der Heiden horen Halsteren ",5,"Bernafon","Zerena 7 IIC","BER-0641",{"$f":"IF(ISBLANK('Assortiment Hoortoestellen'!$B$26),1,IF(ISERROR(SEARCH(PROPER('Assortiment Hoortoestellen'!$B$26),PROPER('Dataset hoortoestellen'!D1413))),0,1))","v":1}]
["Ben van der Heiden horen Halsteren ",4,"Bernafon","Zerena 5 CIC","BER-0632",{"$f":"IF(ISBLANK('Assortiment Hoortoestellen'!$B$26),1,IF(ISERROR(SEARCH(PROPER('Assortiment Hoortoestellen'!$B$26),PROPER('Dataset hoortoestellen'!D1414))),0,1))","v":1}]
["Ben van der Heiden horen Halsteren ",3,"Bernafon","Zerena 3 CIC","BER-0624",{"$f":"IF(ISBLANK('Assortiment Hoortoestellen'!$B$26),1,IF(ISERROR(SEARCH(PROPER('Assortiment Hoortoestellen'!$B$26),PROPER('Dataset hoortoestellen'!D1415))),0,1))","v":1}]
["Ben van der Heiden horen Halsteren ",4,"Bernafon","Zerena 5 IIC","BER-0633",{"$f":"IF(ISBLANK('Assortiment Hoortoestellen'!$B$26),1,IF(ISERROR(SEARCH(PROPER('Assortiment Hoortoestellen'!$B$26),PROPER('Dataset hoortoestellen'!D1416))),0,1))","v":1}]
["Ben van der Heiden horen Halsteren ",3,"Bernafon","Zerena 3 IIC","BER-0625",{"$f":"IF(ISBLANK('Assortiment Hoortoestellen'!$B$26),1,IF(ISERROR(SEARCH(PROPER('Assortiment Hoortoestellen'!$B$26),PROPER('Dataset hoortoestellen'!D1417))),0,1))","v":1}]
["Ben van der Heiden horen Halsteren ",1,"Bernafon","Nevara 1 PR","BER-0486",{"$f":"IF(ISBLANK('Assortiment Hoortoestellen'!$B$26),1,IF(ISERROR(SEARCH(PROPER('Assortiment Hoortoestellen'!$B$26),PROPER('Dataset hoortoestellen'!D1418))),0,1))","v":1}]
["Ben van der Heiden horen Halsteren ",1,"Bernafon","Nevara 1 P","BER-0460",{"$f":"IF(ISBLANK('Assortiment Hoortoestellen'!$B$26),1,IF(ISERROR(SEARCH(PROPER('Assortiment Hoortoestellen'!$B$26),PROPER('Dataset hoortoestellen'!D1419))),0,1))","v":1}]
["Ben van der Heiden horen Halsteren ",3,"Bernafon","Viron 3 MNR T R","BER-0666",{"$f":"IF(ISBLANK('Assortiment Hoortoestellen'!$B$26),1,IF(ISERROR(SEARCH(PROPER('Assortiment Hoortoestellen'!$B$26),PROPER('Dataset hoortoestellen'!D1420))),0,1))","v":1}]
["Ben van der Heiden horen Halsteren ",4,"Bernafon","Viron 5 MNR T R","BER-0670",{"$f":"IF(ISBLANK('Assortiment Hoortoestellen'!$B$26),1,IF(ISERROR(SEARCH(PROPER('Assortiment Hoortoestellen'!$B$26),PROPER('Dataset hoortoestellen'!D1421))),0,1))","v":1}]
["Ben van der Heiden horen Halsteren ",3,"Bernafon","Viron 3 BTE 105","BER-0663",{"$f":"IF(ISBLANK('Assortiment Hoortoestellen'!$B$26),1,IF(ISERROR(SEARCH(PROPER('Assortiment Hoortoestellen'!$B$26),PROPER('Dataset hoortoestellen'!D1422))),0,1))","v":1}]
["Ben van der Heiden horen Halsteren ",4,"Bernafon","Viron 5 BTE 105","BER-0667",{"$f":"IF(ISBLANK('Assortiment Hoortoestellen'!$B$26),1,IF(ISERROR(SEARCH(PROPER('Assortiment Hoortoestellen'!$B$26),PROPER('Dataset hoortoestellen'!D1423))),0,1))","v":1}]
["Ben van der Heiden horen Halsteren ",2,"Bernafon","Viron 1 MNR T R","BER-0662",{"$f":"IF(ISBLANK('Assortiment Hoortoestellen'!$B$26),1,IF(ISERROR(SEARCH(PROPER('Assortiment Hoortoestellen'!$B$26),PROPER('Dataset hoortoestellen'!D1424))),0,1))","v":1}]
["Ben van der Heiden horen Halsteren ",2,"Bernafon","Viron 1 BTE 105","BER-0659",{"$f":"IF(ISBLANK('Assortiment Hoortoestellen'!$B$26),1,IF(ISERROR(SEARCH(PROPER('Assortiment Hoortoestellen'!$B$26),PROPER('Dataset hoortoestellen'!D1425))),0,1))","v":1}]
["Ben van der Heiden horen Halsteren ",5,"Bernafon","Viron 7 MNR T R","BER-0674",{"$f":"IF(ISBLANK('Assortiment Hoortoestellen'!$B$26),1,IF(ISERROR(SEARCH(PROPER('Assortiment Hoortoestellen'!$B$26),PROPER('Dataset hoortoestellen'!D1426))),0,1))","v":1}]
["Ben van der Heiden horen Halsteren ",5,"Bernafon","Viron 7 BTE 105","BER-0671",{"$f":"IF(ISBLANK('Assortiment Hoortoestellen'!$B$26),1,IF(ISERROR(SEARCH(PROPER('Assortiment Hoortoestellen'!$B$26),PROPER('Dataset hoortoestellen'!D1427))),0,1))","v":1}]
["Ben van der Heiden horen Halsteren ",2,"Coselgi","Effect EF2-CIC Links","COS-0284",{"$f":"IF(ISBLANK('Assortiment Hoortoestellen'!$B$26),1,IF(ISERROR(SEARCH(PROPER('Assortiment Hoortoestellen'!$B$26),PROPER('Dataset hoortoestellen'!D1428))),0,1))","v":1}]
["Ben van der Heiden horen Halsteren ",2,"Coselgi","Effect EF2-CIC Rechts","COS-0287",{"$f":"IF(ISBLANK('Assortiment Hoortoestellen'!$B$26),1,IF(ISERROR(SEARCH(PROPER('Assortiment Hoortoestellen'!$B$26),PROPER('Dataset hoortoestellen'!D1429))),0,1))","v":1}]
["Ben van der Heiden horen Halsteren ",2,"Coselgi","Effect EF2-CIC M","COS-0285",{"$f":"IF(ISBLANK('Assortiment Hoortoestellen'!$B$26),1,IF(ISERROR(SEARCH(PROPER('Assortiment Hoortoestellen'!$B$26),PROPER('Dataset hoortoestellen'!D1430))),0,1))","v":1}]
["Ben van der Heiden horen Halsteren ",2,"Coselgi","Effect EF2-CIC TR Links","COS-0288",{"$f":"IF(ISBLANK('Assortiment Hoortoestellen'!$B$26),1,IF(ISERROR(SEARCH(PROPER('Assortiment Hoortoestellen'!$B$26),PROPER('Dataset hoortoestellen'!D1431))),0,1))","v":1}]
["Ben van der Heiden horen Halsteren ",2,"Coselgi","Effect EF2-CIC TR Rechts","COS-0289",{"$f":"IF(ISBLANK('Assortiment Hoortoestellen'!$B$26),1,IF(ISERROR(SEARCH(PROPER('Assortiment Hoortoestellen'!$B$26),PROPER('Dataset hoortoestellen'!D1432))),0,1))","v":1}]
["Ben van der Heiden horen Halsteren ",5,"Coselgi","Effect EF6-CIC Links","COS-0347",{"$f":"IF(ISBLANK('Assortiment Hoortoestellen'!$B$26),1,IF(ISERROR(SEARCH(PROPER('Assortiment Hoortoestellen'!$B$26),PROPER('Dataset hoortoestellen'!D1433))),0,1))","v":1}]
["Ben van der Heiden horen Halsteren ",2,"Coselgi","Effect EF2-XP","COS-0293",{"$f":"IF(ISBLANK('Assortiment Hoortoestellen'!$B$26),1,IF(ISERROR(SEARCH(PROPER('Assortiment Hoortoestellen'!$B$26),PROPER('Dataset hoortoestellen'!D1434))),0,1))","v":1}]
["Ben van der Heiden horen Halsteren ",3,"Coselgi","Effect EF4-CIC Links","COS-0305",{"$f":"IF(ISBLANK('Assortiment Hoortoestellen'!$B$26),1,IF(ISERROR(SEARCH(PROPER('Assortiment Hoortoestellen'!$B$26),PROPER('Dataset hoortoestellen'!D1435))),0,1))","v":1}]
["Ben van der Heiden horen Halsteren ",5,"Coselgi","Effect EF6-CIC Rechts","COS-0350",{"$f":"IF(ISBLANK('Assortiment Hoortoestellen'!$B$26),1,IF(ISERROR(SEARCH(PROPER('Assortiment Hoortoestellen'!$B$26),PROPER('Dataset hoortoestellen'!D1436))),0,1))","v":1}]
["Ben van der Heiden horen Halsteren ",2,"Coselgi","U6-CIC (links)","COS-0241",{"$f":"IF(ISBLANK('Assortiment Hoortoestellen'!$B$26),1,IF(ISERROR(SEARCH(PROPER('Assortiment Hoortoestellen'!$B$26),PROPER('Dataset hoortoestellen'!D1437))),0,1))","v":1}]
["Ben van der Heiden horen Halsteren ",3,"Coselgi","Effect EF4-CIC Rechts","COS-0308",{"$f":"IF(ISBLANK('Assortiment Hoortoestellen'!$B$26),1,IF(ISERROR(SEARCH(PROPER('Assortiment Hoortoestellen'!$B$26),PROPER('Dataset hoortoestellen'!D1438))),0,1))","v":1}]
["Ben van der Heiden horen Halsteren ",4,"Coselgi","Effect EF5-CIC Links","COS-0326",{"$f":"IF(ISBLANK('Assortiment Hoortoestellen'!$B$26),1,IF(ISERROR(SEARCH(PROPER('Assortiment Hoortoestellen'!$B$26),PROPER('Dataset hoortoestellen'!D1439))),0,1))","v":1}]
["Ben van der Heiden horen Halsteren ",5,"Coselgi","Effect EF6-CIC M","COS-0348",{"$f":"IF(ISBLANK('Assortiment Hoortoestellen'!$B$26),1,IF(ISERROR(SEARCH(PROPER('Assortiment Hoortoestellen'!$B$26),PROPER('Dataset hoortoestellen'!D1440))),0,1))","v":1}]
["Ben van der Heiden horen Halsteren ",2,"Coselgi","U6-CIC TR (links)","COS-0242",{"$f":"IF(ISBLANK('Assortiment Hoortoestellen'!$B$26),1,IF(ISERROR(SEARCH(PROPER('Assortiment Hoortoestellen'!$B$26),PROPER('Dataset hoortoestellen'!D1441))),0,1))","v":1}]
["Ben van der Heiden horen Halsteren ",3,"Coselgi","Effect EF4-CIC M","COS-0306",{"$f":"IF(ISBLANK('Assortiment Hoortoestellen'!$B$26),1,IF(ISERROR(SEARCH(PROPER('Assortiment Hoortoestellen'!$B$26),PROPER('Dataset hoortoestellen'!D1442))),0,1))","v":1}]
["Ben van der Heiden horen Halsteren ",4,"Coselgi","Effect EF5-CIC Rechts","COS-0329",{"$f":"IF(ISBLANK('Assortiment Hoortoestellen'!$B$26),1,IF(ISERROR(SEARCH(PROPER('Assortiment Hoortoestellen'!$B$26),PROPER('Dataset hoortoestellen'!D1443))),0,1))","v":1}]
["Ben van der Heiden horen Halsteren ",5,"Coselgi","Effect EF6-CIC TR Links","COS-0351",{"$f":"IF(ISBLANK('Assortiment Hoortoestellen'!$B$26),1,IF(ISERROR(SEARCH(PROPER('Assortiment Hoortoestellen'!$B$26),PROPER('Dataset hoortoestellen'!D1444))),0,1))","v":1}]
["Ben van der Heiden horen Halsteren ",2,"Coselgi","U6-FA","COS-0243",{"$f":"IF(ISBLANK('Assortiment Hoortoestellen'!$B$26),1,IF(ISERROR(SEARCH(PROPER('Assortiment Hoortoestellen'!$B$26),PROPER('Dataset hoortoestellen'!D1445))),0,1))","v":1}]
["Ben van der Heiden horen Halsteren ",3,"Coselgi","Effect EF4-CIC TR Links","COS-0309",{"$f":"IF(ISBLANK('Assortiment Hoortoestellen'!$B$26),1,IF(ISERROR(SEARCH(PROPER('Assortiment Hoortoestellen'!$B$26),PROPER('Dataset hoortoestellen'!D1446))),0,1))","v":1}]
["Ben van der Heiden horen Halsteren ",4,"Coselgi","Effect EF5-CIC M","COS-0327",{"$f":"IF(ISBLANK('Assortiment Hoortoestellen'!$B$26),1,IF(ISERROR(SEARCH(PROPER('Assortiment Hoortoestellen'!$B$26),PROPER('Dataset hoortoestellen'!D1447))),0,1))","v":1}]
["Ben van der Heiden horen Halsteren ",5,"Coselgi","Effect EF6-CIC TR Rechts","COS-0352",{"$f":"IF(ISBLANK('Assortiment Hoortoestellen'!$B$26),1,IF(ISERROR(SEARCH(PROPER('Assortiment Hoortoestellen'!$B$26),PROPER('Dataset hoortoestellen'!D1448))),0,1))","v":1}]
["Ben van der Heiden horen Halsteren ",3,"Coselgi","Effect EF4-CIC TR Rechts","COS-0310",{"$f":"IF(ISBLANK('Assortiment Hoortoestellen'!$B$26),1,IF(ISERROR(SEARCH(PROPER('Assortiment Hoortoestellen'!$B$26),PROPER('Dataset hoortoestellen'!D1449))),0,1))","v":1}]
["Ben van der Heiden horen Halsteren ",4,"Coselgi","Effect EF5-CIC TR Links","COS-0330",{"$f":"IF(ISBLANK('Assortiment Hoortoestellen'!$B$26),1,IF(ISERROR(SEARCH(PROPER('Assortiment Hoortoestellen'!$B$26),PROPER('Dataset hoortoestellen'!D1450))),0,1))","v":1}]
["Ben van der Heiden horen Halsteren ",5,"Coselgi","Effect EF6-XP","COS-0356",{"$f":"IF(ISBLANK('Assortiment Hoortoestellen'!$B$26),1,IF(ISERROR(SEARCH(PROPER('Assortiment Hoortoestellen'!$B$26),PROPER('Dataset hoortoestellen'!D1451))),0,1))","v":1}]
["Ben van der Heiden horen Halsteren ",3,"Coselgi","Effect EF4-XP","COS-0314",{"$f":"IF(ISBLANK('Assortiment Hoortoestellen'!$B$26),1,IF(ISERROR(SEARCH(PROPER('Assortiment Hoortoestellen'!$B$26),PROPER('Dataset hoortoestellen'!D1452))),0,1))","v":1}]
["Ben van der Heiden horen Halsteren ",4,"Coselgi","Effect EF5-CIC TR Rechts","COS-0331",{"$f":"IF(ISBLANK('Assortiment Hoortoestellen'!$B$26),1,IF(ISERROR(SEARCH(PROPER('Assortiment Hoortoestellen'!$B$26),PROPER('Dataset hoortoestellen'!D1453))),0,1))","v":1}]
["Ben van der Heiden horen Halsteren ",4,"Coselgi","Effect EF5-XP","COS-0335",{"$f":"IF(ISBLANK('Assortiment Hoortoestellen'!$B$26),1,IF(ISERROR(SEARCH(PROPER('Assortiment Hoortoestellen'!$B$26),PROPER('Dataset hoortoestellen'!D1454))),0,1))","v":1}]
["Ben van der Heiden horen Halsteren ",3,"Coselgi","Effect EF4 F2(HP-tel)","COS-0298",{"$f":"IF(ISBLANK('Assortiment Hoortoestellen'!$B$26),1,IF(ISERROR(SEARCH(PROPER('Assortiment Hoortoestellen'!$B$26),PROPER('Dataset hoortoestellen'!D1455))),0,1))","v":1}]
["Ben van der Heiden horen Halsteren ",2,"Coselgi","Effect EF2-F2 (HP-tel)","COS-0276",{"$f":"IF(ISBLANK('Assortiment Hoortoestellen'!$B$26),1,IF(ISERROR(SEARCH(PROPER('Assortiment Hoortoestellen'!$B$26),PROPER('Dataset hoortoestellen'!D1456))),0,1))","v":1}]
["Ben van der Heiden horen Halsteren ",3,"Coselgi","Effect EF4-F2 (M-tel)","COS-0295",{"$f":"IF(ISBLANK('Assortiment Hoortoestellen'!$B$26),1,IF(ISERROR(SEARCH(PROPER('Assortiment Hoortoestellen'!$B$26),PROPER('Dataset hoortoestellen'!D1457))),0,1))","v":1}]
["Ben van der Heiden horen Halsteren ",2,"Coselgi","Effect EF2-F2 (M-tel)","COS-0277",{"$f":"IF(ISBLANK('Assortiment Hoortoestellen'!$B$26),1,IF(ISERROR(SEARCH(PROPER('Assortiment Hoortoestellen'!$B$26),PROPER('Dataset hoortoestellen'!D1458))),0,1))","v":1}]
["Ben van der Heiden horen Halsteren ",3,"Coselgi","Effect EF4-F2 (P-tel)","COS-0296",{"$f":"IF(ISBLANK('Assortiment Hoortoestellen'!$B$26),1,IF(ISERROR(SEARCH(PROPER('Assortiment Hoortoestellen'!$B$26),PROPER('Dataset hoortoestellen'!D1459))),0,1))","v":1}]
["Ben van der Heiden horen Halsteren ",2,"Coselgi","Effect EF2-F2 (P-tel)","COS-0278",{"$f":"IF(ISBLANK('Assortiment Hoortoestellen'!$B$26),1,IF(ISERROR(SEARCH(PROPER('Assortiment Hoortoestellen'!$B$26),PROPER('Dataset hoortoestellen'!D1460))),0,1))","v":1}]
["Ben van der Heiden horen Halsteren ",3,"Coselgi","Effect EF4-F2 (S-tel)","COS-0297",{"$f":"IF(ISBLANK('Assortiment Hoortoestellen'!$B$26),1,IF(ISERROR(SEARCH(PROPER('Assortiment Hoortoestellen'!$B$26),PROPER('Dataset hoortoestellen'!D1461))),0,1))","v":1}]
["Ben van der Heiden horen Halsteren ",4,"Coselgi","Effect EF5-F2 (HP-tel)","COS-0316",{"$f":"IF(ISBLANK('Assortiment Hoortoestellen'!$B$26),1,IF(ISERROR(SEARCH(PROPER('Assortiment Hoortoestellen'!$B$26),PROPER('Dataset hoortoestellen'!D1462))),0,1))","v":1}]
["Ben van der Heiden horen Halsteren ",2,"Coselgi","Effect EF2-F2 (S-tel)","COS-0279",{"$f":"IF(ISBLANK('Assortiment Hoortoestellen'!$B$26),1,IF(ISERROR(SEARCH(PROPER('Assortiment Hoortoestellen'!$B$26),PROPER('Dataset hoortoestellen'!D1463))),0,1))","v":1}]
["Ben van der Heiden horen Halsteren ",3,"Coselgi","Effect EF4-FA","COS-0311",{"$f":"IF(ISBLANK('Assortiment Hoortoestellen'!$B$26),1,IF(ISERROR(SEARCH(PROPER('Assortiment Hoortoestellen'!$B$26),PROPER('Dataset hoortoestellen'!D1464))),0,1))","v":1}]
["Ben van der Heiden horen Halsteren ",4,"Coselgi","Effect EF5-F2 (M-tel)","COS-0317",{"$f":"IF(ISBLANK('Assortiment Hoortoestellen'!$B$26),1,IF(ISERROR(SEARCH(PROPER('Assortiment Hoortoestellen'!$B$26),PROPER('Dataset hoortoestellen'!D1465))),0,1))","v":1}]
["Ben van der Heiden horen Halsteren ",2,"Coselgi","Effect EF2-FA","COS-0290",{"$f":"IF(ISBLANK('Assortiment Hoortoestellen'!$B$26),1,IF(ISERROR(SEARCH(PROPER('Assortiment Hoortoestellen'!$B$26),PROPER('Dataset hoortoestellen'!D1466))),0,1))","v":1}]
["Ben van der Heiden horen Halsteren ",3,"Coselgi","Effect EF4-FM","COS-0312",{"$f":"IF(ISBLANK('Assortiment Hoortoestellen'!$B$26),1,IF(ISERROR(SEARCH(PROPER('Assortiment Hoortoestellen'!$B$26),PROPER('Dataset hoortoestellen'!D1467))),0,1))","v":1}]
["Ben van der Heiden horen Halsteren ",4,"Coselgi","Effect EF5-F2 (P-tel)","COS-0318",{"$f":"IF(ISBLANK('Assortiment Hoortoestellen'!$B$26),1,IF(ISERROR(SEARCH(PROPER('Assortiment Hoortoestellen'!$B$26),PROPER('Dataset hoortoestellen'!D1468))),0,1))","v":1}]
["Ben van der Heiden horen Halsteren ",2,"Coselgi","Effect EF2-FM","COS-0291",{"$f":"IF(ISBLANK('Assortiment Hoortoestellen'!$B$26),1,IF(ISERROR(SEARCH(PROPER('Assortiment Hoortoestellen'!$B$26),PROPER('Dataset hoortoestellen'!D1469))),0,1))","v":1}]
["Ben van der Heiden horen Halsteren ",3,"Coselgi","Effect EF4-FP","COS-0313",{"$f":"IF(ISBLANK('Assortiment Hoortoestellen'!$B$26),1,IF(ISERROR(SEARCH(PROPER('Assortiment Hoortoestellen'!$B$26),PROPER('Dataset hoortoestellen'!D1470))),0,1))","v":1}]
["Ben van der Heiden horen Halsteren ",4,"Coselgi","Effect EF5-F2 (S-tel)","COS-0319",{"$f":"IF(ISBLANK('Assortiment Hoortoestellen'!$B$26),1,IF(ISERROR(SEARCH(PROPER('Assortiment Hoortoestellen'!$B$26),PROPER('Dataset hoortoestellen'!D1471))),0,1))","v":1}]
["Ben van der Heiden horen Halsteren ",2,"Coselgi","Effect EF2-FP","COS-0292",{"$f":"IF(ISBLANK('Assortiment Hoortoestellen'!$B$26),1,IF(ISERROR(SEARCH(PROPER('Assortiment Hoortoestellen'!$B$26),PROPER('Dataset hoortoestellen'!D1472))),0,1))","v":1}]
["Ben van der Heiden horen Halsteren ",3,"Coselgi","Effect EF4-FS (HP-tel)","COS-0299",{"$f":"IF(ISBLANK('Assortiment Hoortoestellen'!$B$26),1,IF(ISERROR(SEARCH(PROPER('Assortiment Hoortoestellen'!$B$26),PROPER('Dataset hoortoestellen'!D1473))),0,1))","v":1}]
["Ben van der Heiden horen Halsteren ",4,"Coselgi","Effect EF5-FA","COS-0332",{"$f":"IF(ISBLANK('Assortiment Hoortoestellen'!$B$26),1,IF(ISERROR(SEARCH(PROPER('Assortiment Hoortoestellen'!$B$26),PROPER('Dataset hoortoestellen'!D1474))),0,1))","v":1}]
["Ben van der Heiden horen Halsteren ",2,"Coselgi","Effect EF2-FS (M-tel)","COS-0281",{"$f":"IF(ISBLANK('Assortiment Hoortoestellen'!$B$26),1,IF(ISERROR(SEARCH(PROPER('Assortiment Hoortoestellen'!$B$26),PROPER('Dataset hoortoestellen'!D1475))),0,1))","v":1}]
["Ben van der Heiden horen Halsteren ",3,"Coselgi","Effect EF4-FS (M-tel)","COS-0300",{"$f":"IF(ISBLANK('Assortiment Hoortoestellen'!$B$26),1,IF(ISERROR(SEARCH(PROPER('Assortiment Hoortoestellen'!$B$26),PROPER('Dataset hoortoestellen'!D1476))),0,1))","v":1}]
["Ben van der Heiden horen Halsteren ",4,"Coselgi","Effect EF5-FM","COS-0333",{"$f":"IF(ISBLANK('Assortiment Hoortoestellen'!$B$26),1,IF(ISERROR(SEARCH(PROPER('Assortiment Hoortoestellen'!$B$26),PROPER('Dataset hoortoestellen'!D1477))),0,1))","v":1}]
["Ben van der Heiden horen Halsteren ",2,"Coselgi","Effect EF2-FS (P-tel)","COS-0282",{"$f":"IF(ISBLANK('Assortiment Hoortoestellen'!$B$26),1,IF(ISERROR(SEARCH(PROPER('Assortiment Hoortoestellen'!$B$26),PROPER('Dataset hoortoestellen'!D1478))),0,1))","v":1}]
["Ben van der Heiden horen Halsteren ",3,"Coselgi","Effect EF4-FS (P-tel)","COS-0301",{"$f":"IF(ISBLANK('Assortiment Hoortoestellen'!$B$26),1,IF(ISERROR(SEARCH(PROPER('Assortiment Hoortoestellen'!$B$26),PROPER('Dataset hoortoestellen'!D1479))),0,1))","v":1}]
["Ben van der Heiden horen Halsteren ",4,"Coselgi","Effect EF5-FP","COS-0334",{"$f":"IF(ISBLANK('Assortiment Hoortoestellen'!$B$26),1,IF(ISERROR(SEARCH(PROPER('Assortiment Hoortoestellen'!$B$26),PROPER('Dataset hoortoestellen'!D1480))),0,1))","v":1}]
["Ben van der Heiden horen Halsteren ",5,"Coselgi","Effect EF6-F2 (HP-tel)","COS-0337",{"$f":"IF(ISBLANK('Assortiment Hoortoestellen'!$B$26),1,IF(ISERROR(SEARCH(PROPER('Assortiment Hoortoestellen'!$B$26),PROPER('Dataset hoortoestellen'!D1481))),0,1))","v":1}]
["Ben van der Heiden horen Halsteren ",2,"Coselgi","Effect EF2-FS (S-tel)","COS-0283",{"$f":"IF(ISBLANK('Assortiment Hoortoestellen'!$B$26),1,IF(ISERROR(SEARCH(PROPER('Assortiment Hoortoestellen'!$B$26),PROPER('Dataset hoortoestellen'!D1482))),0,1))","v":1}]
["Ben van der Heiden horen Halsteren ",3,"Coselgi","Effect EF4-RIC 10 (M-tel)","COS-0303",{"$f":"IF(ISBLANK('Assortiment Hoortoestellen'!$B$26),1,IF(ISERROR(SEARCH(PROPER('Assortiment Hoortoestellen'!$B$26),PROPER('Dataset hoortoestellen'!D1483))),0,1))","v":1}]
["Ben van der Heiden horen Halsteren ",4,"Coselgi","Effect EF5-FS (HP-tel)","COS-0320",{"$f":"IF(ISBLANK('Assortiment Hoortoestellen'!$B$26),1,IF(ISERROR(SEARCH(PROPER('Assortiment Hoortoestellen'!$B$26),PROPER('Dataset hoortoestellen'!D1484))),0,1))","v":1}]
["Ben van der Heiden horen Halsteren ",5,"Coselgi","Effect EF6-F2 (M-tel)","COS-0338",{"$f":"IF(ISBLANK('Assortiment Hoortoestellen'!$B$26),1,IF(ISERROR(SEARCH(PROPER('Assortiment Hoortoestellen'!$B$26),PROPER('Dataset hoortoestellen'!D1485))),0,1))","v":1}]
["Ben van der Heiden horen Halsteren ",2,"Coselgi","Effect EF2-CIC Links","COS-0284",{"$f":"IF(ISBLANK('Assortiment Hoortoestellen'!$B$26),1,IF(ISERROR(SEARCH(PROPER('Assortiment Hoortoestellen'!$B$26),PROPER('Dataset hoortoestellen'!D1486))),0,1))","v":1}]
["Ben van der Heiden horen Halsteren ",3,"Coselgi","Effect EF4-RIC 10 (S-tel)","COS-0304",{"$f":"IF(ISBLANK('Assortiment Hoortoestellen'!$B$26),1,IF(ISERROR(SEARCH(PROPER('Assortiment Hoortoestellen'!$B$26),PROPER('Dataset hoortoestellen'!D1487))),0,1))","v":1}]
["Ben van der Heiden horen Halsteren ",4,"Coselgi","Effect EF5-FS (M-tel)","COS-0321",{"$f":"IF(ISBLANK('Assortiment Hoortoestellen'!$B$26),1,IF(ISERROR(SEARCH(PROPER('Assortiment Hoortoestellen'!$B$26),PROPER('Dataset hoortoestellen'!D1488))),0,1))","v":1}]
["Ben van der Heiden horen Halsteren ",5,"Coselgi","Effect EF6-F2 (P-tel)","COS-0339",{"$f":"IF(ISBLANK('Assortiment Hoortoestellen'!$B$26),1,IF(ISERROR(SEARCH(PROPER('Assortiment Hoortoestellen'!$B$26),PROPER('Dataset hoortoestellen'!D1489))),0,1))","v":1}]
["Ben van der Heiden horen Halsteren ",3,"Coselgi","MOJO MRR2D M3 (m-tel)","COS-0357",{"$f":"IF(ISBLANK('Assortiment Hoortoestellen'!$B$26),1,IF(ISERROR(SEARCH(PROPER('Assortiment Hoortoestellen'!$B$26),PROPER('Dataset hoortoestellen'!D1490))),0,1))","v":1}]
["Ben van der Heiden horen Halsteren ",4,"Coselgi","Effect EF5-FS (P-tel)","COS-0322",{"$f":"IF(ISBLANK('Assortiment Hoortoestellen'!$B$26),1,IF(ISERROR(SEARCH(PROPER('Assortiment Hoortoestellen'!$B$26),PROPER('Dataset hoortoestellen'!D1491))),0,1))","v":1}]
["Ben van der Heiden horen Halsteren ",5,"Coselgi","Effect EF6-F2 (S-tel)","COS-0340",{"$f":"IF(ISBLANK('Assortiment Hoortoestellen'!$B$26),1,IF(ISERROR(SEARCH(PROPER('Assortiment Hoortoestellen'!$B$26),PROPER('Dataset hoortoestellen'!D1492))),0,1))","v":1}]
["Ben van der Heiden horen Halsteren ",3,"Coselgi","MOJO MRR2D M3 (p-tel)","COS-0358",{"$f":"IF(ISBLANK('Assortiment Hoortoestellen'!$B$26),1,IF(ISERROR(SEARCH(PROPER('Assortiment Hoortoestellen'!$B$26),PROPER('Dataset hoortoestellen'!D1493))),0,1))","v":1}]
["Ben van der Heiden horen Halsteren ",4,"Coselgi","Effect EF5-FS (S-tel)","COS-0323",{"$f":"IF(ISBLANK('Assortiment Hoortoestellen'!$B$26),1,IF(ISERROR(SEARCH(PROPER('Assortiment Hoortoestellen'!$B$26),PROPER('Dataset hoortoestellen'!D1494))),0,1))","v":1}]
["Ben van der Heiden horen Halsteren ",5,"Coselgi","Effect EF6-FA","COS-0353",{"$f":"IF(ISBLANK('Assortiment Hoortoestellen'!$B$26),1,IF(ISERROR(SEARCH(PROPER('Assortiment Hoortoestellen'!$B$26),PROPER('Dataset hoortoestellen'!D1495))),0,1))","v":1}]
["Ben van der Heiden horen Halsteren ",4,"Coselgi","Effect EF5-RIC 10 (M-tel)","COS-0324",{"$f":"IF(ISBLANK('Assortiment Hoortoestellen'!$B$26),1,IF(ISERROR(SEARCH(PROPER('Assortiment Hoortoestellen'!$B$26),PROPER('Dataset hoortoestellen'!D1496))),0,1))","v":1}]
["Ben van der Heiden horen Halsteren ",5,"Coselgi","Effect EF6-FM","COS-0354",{"$f":"IF(ISBLANK('Assortiment Hoortoestellen'!$B$26),1,IF(ISERROR(SEARCH(PROPER('Assortiment Hoortoestellen'!$B$26),PROPER('Dataset hoortoestellen'!D1497))),0,1))","v":1}]
["Ben van der Heiden horen Halsteren ",4,"Coselgi","Effect EF5-RIC 10 (S-tel)","COS-0325",{"$f":"IF(ISBLANK('Assortiment Hoortoestellen'!$B$26),1,IF(ISERROR(SEARCH(PROPER('Assortiment Hoortoestellen'!$B$26),PROPER('Dataset hoortoestellen'!D1498))),0,1))","v":1}]
["Ben van der Heiden horen Halsteren ",5,"Coselgi","Effect EF6-FP","COS-0355",{"$f":"IF(ISBLANK('Assortiment Hoortoestellen'!$B$26),1,IF(ISERROR(SEARCH(PROPER('Assortiment Hoortoestellen'!$B$26),PROPER('Dataset hoortoestellen'!D1499))),0,1))","v":1}]
["Ben van der Heiden horen Halsteren ",4,"Coselgi","MOJO MRR2D M4 (m-tel)","COS-0359",{"$f":"IF(ISBLANK('Assortiment Hoortoestellen'!$B$26),1,IF(ISERROR(SEARCH(PROPER('Assortiment Hoortoestellen'!$B$26),PROPER('Dataset hoortoestellen'!D1500))),0,1))","v":1}]
["Ben van der Heiden horen Halsteren ",5,"Coselgi","Effect EF6-FS (HP-tel)","COS-0341",{"$f":"IF(ISBLANK('Assortiment Hoortoestellen'!$B$26),1,IF(ISERROR(SEARCH(PROPER('Assortiment Hoortoestellen'!$B$26),PROPER('Dataset hoortoestellen'!D1501))),0,1))","v":1}]
["Ben van der Heiden horen Halsteren ",4,"Coselgi","MOJO MRR2D M4 (p-tel)","COS-0360",{"$f":"IF(ISBLANK('Assortiment Hoortoestellen'!$B$26),1,IF(ISERROR(SEARCH(PROPER('Assortiment Hoortoestellen'!$B$26),PROPER('Dataset hoortoestellen'!D1502))),0,1))","v":1}]
["Ben van der Heiden horen Halsteren ",5,"Coselgi","Effect EF6-FS (M-tel)","COS-0342",{"$f":"IF(ISBLANK('Assortiment Hoortoestellen'!$B$26),1,IF(ISERROR(SEARCH(PROPER('Assortiment Hoortoestellen'!$B$26),PROPER('Dataset hoortoestellen'!D1503))),0,1))","v":1}]
["Ben van der Heiden horen Halsteren ",5,"Coselgi","Effect EF6-FS (P-tel)","COS-0343",{"$f":"IF(ISBLANK('Assortiment Hoortoestellen'!$B$26),1,IF(ISERROR(SEARCH(PROPER('Assortiment Hoortoestellen'!$B$26),PROPER('Dataset hoortoestellen'!D1504))),0,1))","v":1}]
["Ben van der Heiden horen Halsteren ",5,"Coselgi","Effect EF6-FS (S-tel)","COS-0344",{"$f":"IF(ISBLANK('Assortiment Hoortoestellen'!$B$26),1,IF(ISERROR(SEARCH(PROPER('Assortiment Hoortoestellen'!$B$26),PROPER('Dataset hoortoestellen'!D1505))),0,1))","v":1}]
["Ben van der Heiden horen Halsteren ",5,"Coselgi","Effect EF6-RIC 10 (M-tel)","COS-0345",{"$f":"IF(ISBLANK('Assortiment Hoortoestellen'!$B$26),1,IF(ISERROR(SEARCH(PROPER('Assortiment Hoortoestellen'!$B$26),PROPER('Dataset hoortoestellen'!D1506))),0,1))","v":1}]
["Ben van der Heiden horen Halsteren ",5,"Coselgi","Effect EF6-RIC 10 (S-tel)","COS-0346",{"$f":"IF(ISBLANK('Assortiment Hoortoestellen'!$B$26),1,IF(ISERROR(SEARCH(PROPER('Assortiment Hoortoestellen'!$B$26),PROPER('Dataset hoortoestellen'!D1507))),0,1))","v":1}]
["Ben van der Heiden horen Halsteren ",5,"Coselgi","MOJO MRR2D M5 (m-tel)","COS-0361",{"$f":"IF(ISBLANK('Assortiment Hoortoestellen'!$B$26),1,IF(ISERROR(SEARCH(PROPER('Assortiment Hoortoestellen'!$B$26),PROPER('Dataset hoortoestellen'!D1508))),0,1))","v":1}]
["Ben van der Heiden horen Halsteren ",5,"Coselgi","MOJO MRR2D M5 (p-tel)","COS-0362",{"$f":"IF(ISBLANK('Assortiment Hoortoestellen'!$B$26),1,IF(ISERROR(SEARCH(PROPER('Assortiment Hoortoestellen'!$B$26),PROPER('Dataset hoortoestellen'!D1509))),0,1))","v":1}]
["Ben van der Heiden horen Halsteren ",5,"data","Amaze 663-DRWC","BEL-0127",{"$f":"IF(ISBLANK('Assortiment Hoortoestellen'!$B$26),1,IF(ISERROR(SEARCH(PROPER('Assortiment Hoortoestellen'!$B$26),PROPER('Dataset hoortoestellen'!D1510))),0,1))","v":1}]
["Ben van der Heiden horen Halsteren ",3,"Interton","MOVE 4ITC-DW","INT-0074",{"$f":"IF(ISBLANK('Assortiment Hoortoestellen'!$B$26),1,IF(ISERROR(SEARCH(PROPER('Assortiment Hoortoestellen'!$B$26),PROPER('Dataset hoortoestellen'!D1511))),0,1))","v":1}]
["Ben van der Heiden horen Halsteren ",3,"Interton","MOVE 4CIC-W","INT-0073",{"$f":"IF(ISBLANK('Assortiment Hoortoestellen'!$B$26),1,IF(ISERROR(SEARCH(PROPER('Assortiment Hoortoestellen'!$B$26),PROPER('Dataset hoortoestellen'!D1512))),0,1))","v":1}]
["Ben van der Heiden horen Halsteren ",4,"Interton","MOVE 6ITC-DW","INT-0083",{"$f":"IF(ISBLANK('Assortiment Hoortoestellen'!$B$26),1,IF(ISERROR(SEARCH(PROPER('Assortiment Hoortoestellen'!$B$26),PROPER('Dataset hoortoestellen'!D1513))),0,1))","v":1}]
["Ben van der Heiden horen Halsteren ",4,"Interton","MOVE 6CIC-W","INT-0082",{"$f":"IF(ISBLANK('Assortiment Hoortoestellen'!$B$26),1,IF(ISERROR(SEARCH(PROPER('Assortiment Hoortoestellen'!$B$26),PROPER('Dataset hoortoestellen'!D1514))),0,1))","v":1}]
["Ben van der Heiden horen Halsteren ",2,"Interton","RD3ITC-DW","INT-0037",{"$f":"IF(ISBLANK('Assortiment Hoortoestellen'!$B$26),1,IF(ISERROR(SEARCH(PROPER('Assortiment Hoortoestellen'!$B$26),PROPER('Dataset hoortoestellen'!D1515))),0,1))","v":1}]
["Ben van der Heiden horen Halsteren ",2,"Interton","RD3CIC","INT-0036",{"$f":"IF(ISBLANK('Assortiment Hoortoestellen'!$B$26),1,IF(ISERROR(SEARCH(PROPER('Assortiment Hoortoestellen'!$B$26),PROPER('Dataset hoortoestellen'!D1516))),0,1))","v":1}]
["Ben van der Heiden horen Halsteren ",1,"Interton","MOVE 270-DW","INT-0055",{"$f":"IF(ISBLANK('Assortiment Hoortoestellen'!$B$26),1,IF(ISERROR(SEARCH(PROPER('Assortiment Hoortoestellen'!$B$26),PROPER('Dataset hoortoestellen'!D1517))),0,1))","v":1}]
["Ben van der Heiden horen Halsteren ",1,"Interton","MOVE 290-DW","INT-0057",{"$f":"IF(ISBLANK('Assortiment Hoortoestellen'!$B$26),1,IF(ISERROR(SEARCH(PROPER('Assortiment Hoortoestellen'!$B$26),PROPER('Dataset hoortoestellen'!D1518))),0,1))","v":1}]
["Ben van der Heiden horen Halsteren ",3,"Interton","MOVE 470-DW","INT-0070",{"$f":"IF(ISBLANK('Assortiment Hoortoestellen'!$B$26),1,IF(ISERROR(SEARCH(PROPER('Assortiment Hoortoestellen'!$B$26),PROPER('Dataset hoortoestellen'!D1519))),0,1))","v":1}]
["Ben van der Heiden horen Halsteren ",4,"Interton","MOVE 670-DW","INT-0079",{"$f":"IF(ISBLANK('Assortiment Hoortoestellen'!$B$26),1,IF(ISERROR(SEARCH(PROPER('Assortiment Hoortoestellen'!$B$26),PROPER('Dataset hoortoestellen'!D1520))),0,1))","v":1}]
["Ben van der Heiden horen Halsteren ",3,"Interton","MOVE 480-DWH","INT-0071",{"$f":"IF(ISBLANK('Assortiment Hoortoestellen'!$B$26),1,IF(ISERROR(SEARCH(PROPER('Assortiment Hoortoestellen'!$B$26),PROPER('Dataset hoortoestellen'!D1521))),0,1))","v":1}]
["Ben van der Heiden horen Halsteren ",4,"Interton","MOVE 680-DWH","INT-0080",{"$f":"IF(ISBLANK('Assortiment Hoortoestellen'!$B$26),1,IF(ISERROR(SEARCH(PROPER('Assortiment Hoortoestellen'!$B$26),PROPER('Dataset hoortoestellen'!D1522))),0,1))","v":1}]
["Ben van der Heiden horen Halsteren ",3,"Interton","MOVE 461-DRW","INT-0066",{"$f":"IF(ISBLANK('Assortiment Hoortoestellen'!$B$26),1,IF(ISERROR(SEARCH(PROPER('Assortiment Hoortoestellen'!$B$26),PROPER('Dataset hoortoestellen'!D1523))),0,1))","v":1}]
["Ben van der Heiden horen Halsteren ",4,"Interton","MOVE 661-DRW","INT-0075",{"$f":"IF(ISBLANK('Assortiment Hoortoestellen'!$B$26),1,IF(ISERROR(SEARCH(PROPER('Assortiment Hoortoestellen'!$B$26),PROPER('Dataset hoortoestellen'!D1524))),0,1))","v":1}]
["Ben van der Heiden horen Halsteren ",3,"Interton","MOVE 462-DRW","INT-0068",{"$f":"IF(ISBLANK('Assortiment Hoortoestellen'!$B$26),1,IF(ISERROR(SEARCH(PROPER('Assortiment Hoortoestellen'!$B$26),PROPER('Dataset hoortoestellen'!D1525))),0,1))","v":1}]
["Ben van der Heiden horen Halsteren ",4,"Interton","MOVE 662-DRW","INT-0077",{"$f":"IF(ISBLANK('Assortiment Hoortoestellen'!$B$26),1,IF(ISERROR(SEARCH(PROPER('Assortiment Hoortoestellen'!$B$26),PROPER('Dataset hoortoestellen'!D1526))),0,1))","v":1}]
["Ben van der Heiden horen Halsteren ",3,"Interton","MOVE 465-DW","INT-0069",{"$f":"IF(ISBLANK('Assortiment Hoortoestellen'!$B$26),1,IF(ISERROR(SEARCH(PROPER('Assortiment Hoortoestellen'!$B$26),PROPER('Dataset hoortoestellen'!D1527))),0,1))","v":1}]
["Ben van der Heiden horen Halsteren ",4,"Interton","MOVE 665-DW","INT-0078",{"$f":"IF(ISBLANK('Assortiment Hoortoestellen'!$B$26),1,IF(ISERROR(SEARCH(PROPER('Assortiment Hoortoestellen'!$B$26),PROPER('Dataset hoortoestellen'!D1528))),0,1))","v":1}]
["Ben van der Heiden horen Halsteren ",3,"Interton","MOVE 490-DW","INT-0072",{"$f":"IF(ISBLANK('Assortiment Hoortoestellen'!$B$26),1,IF(ISERROR(SEARCH(PROPER('Assortiment Hoortoestellen'!$B$26),PROPER('Dataset hoortoestellen'!D1529))),0,1))","v":1}]
["Ben van der Heiden horen Halsteren ",4,"Interton","MOVE 690-DW","INT-0081",{"$f":"IF(ISBLANK('Assortiment Hoortoestellen'!$B$26),1,IF(ISERROR(SEARCH(PROPER('Assortiment Hoortoestellen'!$B$26),PROPER('Dataset hoortoestellen'!D1530))),0,1))","v":1}]
["Ben van der Heiden horen Halsteren ",3,"Interton","MOVE 461-DRWC","INT-0067",{"$f":"IF(ISBLANK('Assortiment Hoortoestellen'!$B$26),1,IF(ISERROR(SEARCH(PROPER('Assortiment Hoortoestellen'!$B$26),PROPER('Dataset hoortoestellen'!D1531))),0,1))","v":1}]
["Ben van der Heiden horen Halsteren ",4,"Interton","MOVE 661-DRWC","INT-0076",{"$f":"IF(ISBLANK('Assortiment Hoortoestellen'!$B$26),1,IF(ISERROR(SEARCH(PROPER('Assortiment Hoortoestellen'!$B$26),PROPER('Dataset hoortoestellen'!D1532))),0,1))","v":1}]
["Ben van der Heiden horen Halsteren ",2,"Interton","MOVE 370-DW","INT-0061",{"$f":"IF(ISBLANK('Assortiment Hoortoestellen'!$B$26),1,IF(ISERROR(SEARCH(PROPER('Assortiment Hoortoestellen'!$B$26),PROPER('Dataset hoortoestellen'!D1533))),0,1))","v":1}]
["Ben van der Heiden horen Halsteren ",2,"Interton","MOVE 380-DWH","INT-0062",{"$f":"IF(ISBLANK('Assortiment Hoortoestellen'!$B$26),1,IF(ISERROR(SEARCH(PROPER('Assortiment Hoortoestellen'!$B$26),PROPER('Dataset hoortoestellen'!D1534))),0,1))","v":1}]
["Ben van der Heiden horen Halsteren ",2,"Interton","MOVE 361-DRW","INT-0058",{"$f":"IF(ISBLANK('Assortiment Hoortoestellen'!$B$26),1,IF(ISERROR(SEARCH(PROPER('Assortiment Hoortoestellen'!$B$26),PROPER('Dataset hoortoestellen'!D1535))),0,1))","v":1}]
["Ben van der Heiden horen Halsteren ",2,"Interton","MOVE 362-DRW","INT-0059",{"$f":"IF(ISBLANK('Assortiment Hoortoestellen'!$B$26),1,IF(ISERROR(SEARCH(PROPER('Assortiment Hoortoestellen'!$B$26),PROPER('Dataset hoortoestellen'!D1536))),0,1))","v":1}]
["Ben van der Heiden horen Halsteren ",2,"Interton","MOVE 365-DW","INT-0060",{"$f":"IF(ISBLANK('Assortiment Hoortoestellen'!$B$26),1,IF(ISERROR(SEARCH(PROPER('Assortiment Hoortoestellen'!$B$26),PROPER('Dataset hoortoestellen'!D1537))),0,1))","v":1}]
["Ben van der Heiden horen Halsteren ",2,"Interton","MOVE 390-DW","INT-0063",{"$f":"IF(ISBLANK('Assortiment Hoortoestellen'!$B$26),1,IF(ISERROR(SEARCH(PROPER('Assortiment Hoortoestellen'!$B$26),PROPER('Dataset hoortoestellen'!D1538))),0,1))","v":1}]
["Ben van der Heiden horen Halsteren ",2,"Oticon","Geno 2 Custom 75 - 100","OTI-0385",{"$f":"IF(ISBLANK('Assortiment Hoortoestellen'!$B$26),1,IF(ISERROR(SEARCH(PROPER('Assortiment Hoortoestellen'!$B$26),PROPER('Dataset hoortoestellen'!D1539))),0,1))","v":1}]
["Ben van der Heiden horen Halsteren ",5,"Oticon","Opn 3 CIC 75 - 85","OTI-0360",{"$f":"IF(ISBLANK('Assortiment Hoortoestellen'!$B$26),1,IF(ISERROR(SEARCH(PROPER('Assortiment Hoortoestellen'!$B$26),PROPER('Dataset hoortoestellen'!D1540))),0,1))","v":1}]
["Ben van der Heiden horen Halsteren ",5,"Oticon","Opn 3 ITE 75 - 100","OTI-0362",{"$f":"IF(ISBLANK('Assortiment Hoortoestellen'!$B$26),1,IF(ISERROR(SEARCH(PROPER('Assortiment Hoortoestellen'!$B$26),PROPER('Dataset hoortoestellen'!D1541))),0,1))","v":1}]
["Ben van der Heiden horen Halsteren ",1,"Oticon","Get","OTI-0064",{"$f":"IF(ISBLANK('Assortiment Hoortoestellen'!$B$26),1,IF(ISERROR(SEARCH(PROPER('Assortiment Hoortoestellen'!$B$26),PROPER('Dataset hoortoestellen'!D1542))),0,1))","v":1}]
["Ben van der Heiden horen Halsteren ",1,"Oticon","Get","OTI-0065",{"$f":"IF(ISBLANK('Assortiment Hoortoestellen'!$B$26),1,IF(ISERROR(SEARCH(PROPER('Assortiment Hoortoestellen'!$B$26),PROPER('Dataset hoortoestellen'!D1543))),0,1))","v":1}]
["Ben van der Heiden horen Halsteren ",1,"ReSound","Vea 130 -/P","RES-0011",{"$f":"IF(ISBLANK('Assortiment Hoortoestellen'!$B$26),1,IF(ISERROR(SEARCH(PROPER('Assortiment Hoortoestellen'!$B$26),PROPER('Dataset hoortoestellen'!D1544))),0,1))","v":1}]
["Ben van der Heiden horen Halsteren ",2,"ReSound","KEY 2ITC-DW","RES-0316",{"$f":"IF(ISBLANK('Assortiment Hoortoestellen'!$B$26),1,IF(ISERROR(SEARCH(PROPER('Assortiment Hoortoestellen'!$B$26),PROPER('Dataset hoortoestellen'!D1545))),0,1))","v":1}]
["Ben van der Heiden horen Halsteren ",5,"ReSound","LiNX 3D 7 ITC-DW","RES-0300",{"$f":"IF(ISBLANK('Assortiment Hoortoestellen'!$B$26),1,IF(ISERROR(SEARCH(PROPER('Assortiment Hoortoestellen'!$B$26),PROPER('Dataset hoortoestellen'!D1546))),0,1))","v":1}]
["Ben van der Heiden horen Halsteren ",3,"ReSound","KEY 3ITC-DW","RES-0324",{"$f":"IF(ISBLANK('Assortiment Hoortoestellen'!$B$26),1,IF(ISERROR(SEARCH(PROPER('Assortiment Hoortoestellen'!$B$26),PROPER('Dataset hoortoestellen'!D1547))),0,1))","v":1}]
["Ben van der Heiden horen Halsteren ",5,"ReSound","LiNX 3D 7 CIC","RES-0299",{"$f":"IF(ISBLANK('Assortiment Hoortoestellen'!$B$26),1,IF(ISERROR(SEARCH(PROPER('Assortiment Hoortoestellen'!$B$26),PROPER('Dataset hoortoestellen'!D1548))),0,1))","v":1}]
["Ben van der Heiden horen Halsteren ",3,"ReSound","KEY 3CIC-W","RES-0323",{"$f":"IF(ISBLANK('Assortiment Hoortoestellen'!$B$26),1,IF(ISERROR(SEARCH(PROPER('Assortiment Hoortoestellen'!$B$26),PROPER('Dataset hoortoestellen'!D1549))),0,1))","v":1}]
["Ben van der Heiden horen Halsteren ",4,"ReSound","KEY 4ITC-DW","RES-0333",{"$f":"IF(ISBLANK('Assortiment Hoortoestellen'!$B$26),1,IF(ISERROR(SEARCH(PROPER('Assortiment Hoortoestellen'!$B$26),PROPER('Dataset hoortoestellen'!D1550))),0,1))","v":1}]
["Ben van der Heiden horen Halsteren ",4,"ReSound","KEY 4CIC-W","RES-0332",{"$f":"IF(ISBLANK('Assortiment Hoortoestellen'!$B$26),1,IF(ISERROR(SEARCH(PROPER('Assortiment Hoortoestellen'!$B$26),PROPER('Dataset hoortoestellen'!D1551))),0,1))","v":1}]
["Ben van der Heiden horen Halsteren ",5,"ReSound","LiNX 3D 767-DW","RES-0303",{"$f":"IF(ISBLANK('Assortiment Hoortoestellen'!$B$26),1,IF(ISERROR(SEARCH(PROPER('Assortiment Hoortoestellen'!$B$26),PROPER('Dataset hoortoestellen'!D1552))),0,1))","v":1}]
["Ben van der Heiden horen Halsteren ",5,"ReSound","LiNX 3D 777-DW","RES-0304",{"$f":"IF(ISBLANK('Assortiment Hoortoestellen'!$B$26),1,IF(ISERROR(SEARCH(PROPER('Assortiment Hoortoestellen'!$B$26),PROPER('Dataset hoortoestellen'!D1553))),0,1))","v":1}]
["Ben van der Heiden horen Halsteren ",5,"ReSound","LiNX 3D 788-DW","RES-0305",{"$f":"IF(ISBLANK('Assortiment Hoortoestellen'!$B$26),1,IF(ISERROR(SEARCH(PROPER('Assortiment Hoortoestellen'!$B$26),PROPER('Dataset hoortoestellen'!D1554))),0,1))","v":1}]
["Ben van der Heiden horen Halsteren ",5,"ReSound","LiNX 3D 761-DRW","RES-0301",{"$f":"IF(ISBLANK('Assortiment Hoortoestellen'!$B$26),1,IF(ISERROR(SEARCH(PROPER('Assortiment Hoortoestellen'!$B$26),PROPER('Dataset hoortoestellen'!D1555))),0,1))","v":1}]
["Ben van der Heiden horen Halsteren ",5,"ReSound","LiNX 3D 762-DRW","RES-0302",{"$f":"IF(ISBLANK('Assortiment Hoortoestellen'!$B$26),1,IF(ISERROR(SEARCH(PROPER('Assortiment Hoortoestellen'!$B$26),PROPER('Dataset hoortoestellen'!D1556))),0,1))","v":1}]
["Ben van der Heiden horen Halsteren ",5,"ReSound","LiNX Quattro 561-DRWC","RES-0306",{"$f":"IF(ISBLANK('Assortiment Hoortoestellen'!$B$26),1,IF(ISERROR(SEARCH(PROPER('Assortiment Hoortoestellen'!$B$26),PROPER('Dataset hoortoestellen'!D1557))),0,1))","v":1}]
["Ben van der Heiden horen Halsteren ",5,"ReSound","Enzo Q 588-DWHT","RES-0334",{"$f":"IF(ISBLANK('Assortiment Hoortoestellen'!$B$26),1,IF(ISERROR(SEARCH(PROPER('Assortiment Hoortoestellen'!$B$26),PROPER('Dataset hoortoestellen'!D1558))),0,1))","v":1}]
["Ben van der Heiden horen Halsteren ",5,"ReSound","Enzo Q 598-DWT","RES-0335",{"$f":"IF(ISBLANK('Assortiment Hoortoestellen'!$B$26),1,IF(ISERROR(SEARCH(PROPER('Assortiment Hoortoestellen'!$B$26),PROPER('Dataset hoortoestellen'!D1559))),0,1))","v":1}]
["Ben van der Heiden horen Halsteren ",4,"ReSound","KEY 467-DW","RES-0328",{"$f":"IF(ISBLANK('Assortiment Hoortoestellen'!$B$26),1,IF(ISERROR(SEARCH(PROPER('Assortiment Hoortoestellen'!$B$26),PROPER('Dataset hoortoestellen'!D1560))),0,1))","v":1}]
["Ben van der Heiden horen Halsteren ",4,"ReSound","KEY 477-DW","RES-0329",{"$f":"IF(ISBLANK('Assortiment Hoortoestellen'!$B$26),1,IF(ISERROR(SEARCH(PROPER('Assortiment Hoortoestellen'!$B$26),PROPER('Dataset hoortoestellen'!D1561))),0,1))","v":1}]
["Ben van der Heiden horen Halsteren ",4,"ReSound","KEY 488-DWH","RES-0330",{"$f":"IF(ISBLANK('Assortiment Hoortoestellen'!$B$26),1,IF(ISERROR(SEARCH(PROPER('Assortiment Hoortoestellen'!$B$26),PROPER('Dataset hoortoestellen'!D1562))),0,1))","v":1}]
["Ben van der Heiden horen Halsteren ",4,"ReSound","KEY 498-DW","RES-0331",{"$f":"IF(ISBLANK('Assortiment Hoortoestellen'!$B$26),1,IF(ISERROR(SEARCH(PROPER('Assortiment Hoortoestellen'!$B$26),PROPER('Dataset hoortoestellen'!D1563))),0,1))","v":1}]
["Ben van der Heiden horen Halsteren ",4,"ReSound","KEY 461-DRW","RES-0325",{"$f":"IF(ISBLANK('Assortiment Hoortoestellen'!$B$26),1,IF(ISERROR(SEARCH(PROPER('Assortiment Hoortoestellen'!$B$26),PROPER('Dataset hoortoestellen'!D1564))),0,1))","v":1}]
["Ben van der Heiden horen Halsteren ",4,"ReSound","KEY 462-DRW","RES-0327",{"$f":"IF(ISBLANK('Assortiment Hoortoestellen'!$B$26),1,IF(ISERROR(SEARCH(PROPER('Assortiment Hoortoestellen'!$B$26),PROPER('Dataset hoortoestellen'!D1565))),0,1))","v":1}]
["Ben van der Heiden horen Halsteren ",4,"ReSound","KEY 461-DRWC","RES-0326",{"$f":"IF(ISBLANK('Assortiment Hoortoestellen'!$B$26),1,IF(ISERROR(SEARCH(PROPER('Assortiment Hoortoestellen'!$B$26),PROPER('Dataset hoortoestellen'!D1566))),0,1))","v":1}]
["Ben van der Heiden horen Halsteren ",1,"Starkey","Muse i1000 CIC","STA-0277",{"$f":"IF(ISBLANK('Assortiment Hoortoestellen'!$B$26),1,IF(ISERROR(SEARCH(PROPER('Assortiment Hoortoestellen'!$B$26),PROPER('Dataset hoortoestellen'!D1567))),0,1))","v":1}]
["Ben van der Heiden horen Halsteren ",2,"Starkey","Muse iQ 1000 CIC","STA-0340",{"$f":"IF(ISBLANK('Assortiment Hoortoestellen'!$B$26),1,IF(ISERROR(SEARCH(PROPER('Assortiment Hoortoestellen'!$B$26),PROPER('Dataset hoortoestellen'!D1568))),0,1))","v":1}]
["Ben van der Heiden horen Halsteren ",3,"Starkey","Muse iQ i1000 CIC","STA-0352\n",{"$f":"IF(ISBLANK('Assortiment Hoortoestellen'!$B$26),1,IF(ISERROR(SEARCH(PROPER('Assortiment Hoortoestellen'!$B$26),PROPER('Dataset hoortoestellen'!D1569))),0,1))","v":1}]
["Ben van der Heiden horen Halsteren ",4,"Starkey","Muse iQ i1200 CIC","STA-0362",{"$f":"IF(ISBLANK('Assortiment Hoortoestellen'!$B$26),1,IF(ISERROR(SEARCH(PROPER('Assortiment Hoortoestellen'!$B$26),PROPER('Dataset hoortoestellen'!D1570))),0,1))","v":1}]
["Ben van der Heiden horen Halsteren ",5,"Starkey","Muse iQ i1600 CIC","STA-0372\n",{"$f":"IF(ISBLANK('Assortiment Hoortoestellen'!$B$26),1,IF(ISERROR(SEARCH(PROPER('Assortiment Hoortoestellen'!$B$26),PROPER('Dataset hoortoestellen'!D1571))),0,1))","v":1}]
["Ben van der Heiden horen Halsteren ",1,"Starkey","Muse i1000 ITC","STA-0279",{"$f":"IF(ISBLANK('Assortiment Hoortoestellen'!$B$26),1,IF(ISERROR(SEARCH(PROPER('Assortiment Hoortoestellen'!$B$26),PROPER('Dataset hoortoestellen'!D1572))),0,1))","v":1}]
["Ben van der Heiden horen Halsteren ",2,"Starkey","Muse iQ 1000 ITC","STA-0341",{"$f":"IF(ISBLANK('Assortiment Hoortoestellen'!$B$26),1,IF(ISERROR(SEARCH(PROPER('Assortiment Hoortoestellen'!$B$26),PROPER('Dataset hoortoestellen'!D1573))),0,1))","v":1}]
["Ben van der Heiden horen Halsteren ",3,"Starkey","Muse iQ i1000 ITC","STA-0353",{"$f":"IF(ISBLANK('Assortiment Hoortoestellen'!$B$26),1,IF(ISERROR(SEARCH(PROPER('Assortiment Hoortoestellen'!$B$26),PROPER('Dataset hoortoestellen'!D1574))),0,1))","v":1}]
["Ben van der Heiden horen Halsteren ",4,"Starkey","Muse iQ i1200 ITC","STA-0363",{"$f":"IF(ISBLANK('Assortiment Hoortoestellen'!$B$26),1,IF(ISERROR(SEARCH(PROPER('Assortiment Hoortoestellen'!$B$26),PROPER('Dataset hoortoestellen'!D1575))),0,1))","v":1}]
["Ben van der Heiden horen Halsteren ",5,"Starkey","Muse iQ i1600 ITC","STA-0373",{"$f":"IF(ISBLANK('Assortiment Hoortoestellen'!$B$26),1,IF(ISERROR(SEARCH(PROPER('Assortiment Hoortoestellen'!$B$26),PROPER('Dataset hoortoestellen'!D1576))),0,1))","v":1}]
["Ben van der Heiden horen Halsteren ",2,"Starkey","Muse iQ 1000 ITE","STA-0342",{"$f":"IF(ISBLANK('Assortiment Hoortoestellen'!$B$26),1,IF(ISERROR(SEARCH(PROPER('Assortiment Hoortoestellen'!$B$26),PROPER('Dataset hoortoestellen'!D1577))),0,1))","v":1}]
["Ben van der Heiden horen Halsteren ",3,"Starkey","Muse iQ i1000 ITE","STA-0354",{"$f":"IF(ISBLANK('Assortiment Hoortoestellen'!$B$26),1,IF(ISERROR(SEARCH(PROPER('Assortiment Hoortoestellen'!$B$26),PROPER('Dataset hoortoestellen'!D1578))),0,1))","v":1}]
["Ben van der Heiden horen Halsteren ",4,"Starkey","Muse iQ i1200 ITE","STA-0364",{"$f":"IF(ISBLANK('Assortiment Hoortoestellen'!$B$26),1,IF(ISERROR(SEARCH(PROPER('Assortiment Hoortoestellen'!$B$26),PROPER('Dataset hoortoestellen'!D1579))),0,1))","v":1}]
["Ben van der Heiden horen Halsteren ",5,"Starkey","Muse iQ i1600 ITE","STA-0374",{"$f":"IF(ISBLANK('Assortiment Hoortoestellen'!$B$26),1,IF(ISERROR(SEARCH(PROPER('Assortiment Hoortoestellen'!$B$26),PROPER('Dataset hoortoestellen'!D1580))),0,1))","v":1}]
["Ben van der Heiden horen Halsteren ",1,"Starkey","Livio S2 BTE 13","STA-0413",{"$f":"IF(ISBLANK('Assortiment Hoortoestellen'!$B$26),1,IF(ISERROR(SEARCH(PROPER('Assortiment Hoortoestellen'!$B$26),PROPER('Dataset hoortoestellen'!D1581))),0,1))","v":1}]
["Ben van der Heiden horen Halsteren ",2,"Starkey","Livio 1000 BTE 13","STA-0380",{"$f":"IF(ISBLANK('Assortiment Hoortoestellen'!$B$26),1,IF(ISERROR(SEARCH(PROPER('Assortiment Hoortoestellen'!$B$26),PROPER('Dataset hoortoestellen'!D1582))),0,1))","v":1}]
["Ben van der Heiden horen Halsteren ",3,"Starkey","Livio AI 1200 BTE 13","STA-0409",{"$f":"IF(ISBLANK('Assortiment Hoortoestellen'!$B$26),1,IF(ISERROR(SEARCH(PROPER('Assortiment Hoortoestellen'!$B$26),PROPER('Dataset hoortoestellen'!D1583))),0,1))","v":1}]
["Ben van der Heiden horen Halsteren ",4,"Starkey","Livio AI 1200 BTE 13","STA-0401",{"$f":"IF(ISBLANK('Assortiment Hoortoestellen'!$B$26),1,IF(ISERROR(SEARCH(PROPER('Assortiment Hoortoestellen'!$B$26),PROPER('Dataset hoortoestellen'!D1584))),0,1))","v":1}]
["Ben van der Heiden horen Halsteren ",5,"Starkey","Livio AI 1600 BTE 13","STA-0405",{"$f":"IF(ISBLANK('Assortiment Hoortoestellen'!$B$26),1,IF(ISERROR(SEARCH(PROPER('Assortiment Hoortoestellen'!$B$26),PROPER('Dataset hoortoestellen'!D1585))),0,1))","v":1}]
["Ben van der Heiden horen Halsteren ",1,"Starkey","Livio S2 RIC 312","STA-0414",{"$f":"IF(ISBLANK('Assortiment Hoortoestellen'!$B$26),1,IF(ISERROR(SEARCH(PROPER('Assortiment Hoortoestellen'!$B$26),PROPER('Dataset hoortoestellen'!D1586))),0,1))","v":1}]
["Ben van der Heiden horen Halsteren ",2,"Starkey","Livio 1000 BTE R","STA-0392",{"$f":"IF(ISBLANK('Assortiment Hoortoestellen'!$B$26),1,IF(ISERROR(SEARCH(PROPER('Assortiment Hoortoestellen'!$B$26),PROPER('Dataset hoortoestellen'!D1587))),0,1))","v":1}]
["Ben van der Heiden horen Halsteren ",3,"Starkey","Livio AI 1200 BTE R","STA-0412",{"$f":"IF(ISBLANK('Assortiment Hoortoestellen'!$B$26),1,IF(ISERROR(SEARCH(PROPER('Assortiment Hoortoestellen'!$B$26),PROPER('Dataset hoortoestellen'!D1588))),0,1))","v":1}]
["Ben van der Heiden horen Halsteren ",4,"Starkey","Livio AI 1200 BTE R","STA-0410",{"$f":"IF(ISBLANK('Assortiment Hoortoestellen'!$B$26),1,IF(ISERROR(SEARCH(PROPER('Assortiment Hoortoestellen'!$B$26),PROPER('Dataset hoortoestellen'!D1589))),0,1))","v":1}]
["Ben van der Heiden horen Halsteren ",5,"Starkey","Livio AI 1600 BTE R","STA-0411",{"$f":"IF(ISBLANK('Assortiment Hoortoestellen'!$B$26),1,IF(ISERROR(SEARCH(PROPER('Assortiment Hoortoestellen'!$B$26),PROPER('Dataset hoortoestellen'!D1590))),0,1))","v":1}]
["Ben van der Heiden horen Halsteren ",1,"Starkey","Muse i1000 BTE 13","STA-0308",{"$f":"IF(ISBLANK('Assortiment Hoortoestellen'!$B$26),1,IF(ISERROR(SEARCH(PROPER('Assortiment Hoortoestellen'!$B$26),PROPER('Dataset hoortoestellen'!D1591))),0,1))","v":1}]
["Ben van der Heiden horen Halsteren ",2,"Starkey","Livio 1000 mRIC 312","STA-0381",{"$f":"IF(ISBLANK('Assortiment Hoortoestellen'!$B$26),1,IF(ISERROR(SEARCH(PROPER('Assortiment Hoortoestellen'!$B$26),PROPER('Dataset hoortoestellen'!D1592))),0,1))","v":1}]
["Ben van der Heiden horen Halsteren ",3,"Starkey","Livio AI 1200 mRIC 312","STA-0398",{"$f":"IF(ISBLANK('Assortiment Hoortoestellen'!$B$26),1,IF(ISERROR(SEARCH(PROPER('Assortiment Hoortoestellen'!$B$26),PROPER('Dataset hoortoestellen'!D1593))),0,1))","v":1}]
["Ben van der Heiden horen Halsteren ",4,"Starkey","Livio AI 1200 mRIC 312","STA-0402",{"$f":"IF(ISBLANK('Assortiment Hoortoestellen'!$B$26),1,IF(ISERROR(SEARCH(PROPER('Assortiment Hoortoestellen'!$B$26),PROPER('Dataset hoortoestellen'!D1594))),0,1))","v":1}]
["Ben van der Heiden horen Halsteren ",5,"Starkey","Livio AI 1600 mRIC 312","STA-0406",{"$f":"IF(ISBLANK('Assortiment Hoortoestellen'!$B$26),1,IF(ISERROR(SEARCH(PROPER('Assortiment Hoortoestellen'!$B$26),PROPER('Dataset hoortoestellen'!D1595))),0,1))","v":1}]
["Ben van der Heiden horen Halsteren ",1,"Starkey","Muse i1000 BTE312","STA-0278",{"$f":"IF(ISBLANK('Assortiment Hoortoestellen'!$B$26),1,IF(ISERROR(SEARCH(PROPER('Assortiment Hoortoestellen'!$B$26),PROPER('Dataset hoortoestellen'!D1596))),0,1))","v":1}]
["Ben van der Heiden horen Halsteren ",2,"Starkey","Livio 1000 RIC 312","STA-0382",{"$f":"IF(ISBLANK('Assortiment Hoortoestellen'!$B$26),1,IF(ISERROR(SEARCH(PROPER('Assortiment Hoortoestellen'!$B$26),PROPER('Dataset hoortoestellen'!D1597))),0,1))","v":1}]
["Ben van der Heiden horen Halsteren ",3,"Starkey","Livio AI 1200 RIC 312","STA-0399",{"$f":"IF(ISBLANK('Assortiment Hoortoestellen'!$B$26),1,IF(ISERROR(SEARCH(PROPER('Assortiment Hoortoestellen'!$B$26),PROPER('Dataset hoortoestellen'!D1598))),0,1))","v":1}]
["Ben van der Heiden horen Halsteren ",4,"Starkey","Livio AI 1200 RIC 312","STA-0403",{"$f":"IF(ISBLANK('Assortiment Hoortoestellen'!$B$26),1,IF(ISERROR(SEARCH(PROPER('Assortiment Hoortoestellen'!$B$26),PROPER('Dataset hoortoestellen'!D1599))),0,1))","v":1}]
["Ben van der Heiden horen Halsteren ",5,"Starkey","Livio AI 1600 RIC 312","STA-0407",{"$f":"IF(ISBLANK('Assortiment Hoortoestellen'!$B$26),1,IF(ISERROR(SEARCH(PROPER('Assortiment Hoortoestellen'!$B$26),PROPER('Dataset hoortoestellen'!D1600))),0,1))","v":1}]
["Ben van der Heiden horen Halsteren ",1,"Starkey","Muse i1000 RIC 312","STA-0309",{"$f":"IF(ISBLANK('Assortiment Hoortoestellen'!$B$26),1,IF(ISERROR(SEARCH(PROPER('Assortiment Hoortoestellen'!$B$26),PROPER('Dataset hoortoestellen'!D1601))),0,1))","v":1}]
["Ben van der Heiden horen Halsteren ",2,"Starkey","Livio 1000 RIC R","STA-0383",{"$f":"IF(ISBLANK('Assortiment Hoortoestellen'!$B$26),1,IF(ISERROR(SEARCH(PROPER('Assortiment Hoortoestellen'!$B$26),PROPER('Dataset hoortoestellen'!D1602))),0,1))","v":1}]
["Ben van der Heiden horen Halsteren ",3,"Starkey","Livio AI 1200 RIC R","STA-0400",{"$f":"IF(ISBLANK('Assortiment Hoortoestellen'!$B$26),1,IF(ISERROR(SEARCH(PROPER('Assortiment Hoortoestellen'!$B$26),PROPER('Dataset hoortoestellen'!D1603))),0,1))","v":1}]
["Ben van der Heiden horen Halsteren ",4,"Starkey","Livio AI 1200 RIC R","STA-0404",{"$f":"IF(ISBLANK('Assortiment Hoortoestellen'!$B$26),1,IF(ISERROR(SEARCH(PROPER('Assortiment Hoortoestellen'!$B$26),PROPER('Dataset hoortoestellen'!D1604))),0,1))","v":1}]
["Ben van der Heiden horen Halsteren ",5,"Starkey","Livio AI 1600 RIC R","STA-0408",{"$f":"IF(ISBLANK('Assortiment Hoortoestellen'!$B$26),1,IF(ISERROR(SEARCH(PROPER('Assortiment Hoortoestellen'!$B$26),PROPER('Dataset hoortoestellen'!D1605))),0,1))","v":1}]
["Ben van der Heiden horen Halsteren ",2,"Starkey","Muse iQ i1000 BTE 13 PP","STA-0350",{"$f":"IF(ISBLANK('Assortiment Hoortoestellen'!$B$26),1,IF(ISERROR(SEARCH(PROPER('Assortiment Hoortoestellen'!$B$26),PROPER('Dataset hoortoestellen'!D1606))),0,1))","v":1}]
["Ben van der Heiden horen Halsteren ",5,"Starkey","Muse iQ i1600 BTE 13 PP","STA-0370",{"$f":"IF(ISBLANK('Assortiment Hoortoestellen'!$B$26),1,IF(ISERROR(SEARCH(PROPER('Assortiment Hoortoestellen'!$B$26),PROPER('Dataset hoortoestellen'!D1607))),0,1))","v":1}]
["Ben van der Heiden horen Halsteren ",4,"Unitron","DX Insera 5 10A Omni","UNI-0437",{"$f":"IF(ISBLANK('Assortiment Hoortoestellen'!$B$26),1,IF(ISERROR(SEARCH(PROPER('Assortiment Hoortoestellen'!$B$26),PROPER('Dataset hoortoestellen'!D1608))),0,1))","v":1}]
["Ben van der Heiden horen Halsteren ",5,"Unitron","T Insera 800 W 13 Dir","UNI-0340",{"$f":"IF(ISBLANK('Assortiment Hoortoestellen'!$B$26),1,IF(ISERROR(SEARCH(PROPER('Assortiment Hoortoestellen'!$B$26),PROPER('Dataset hoortoestellen'!D1609))),0,1))","v":1}]
["Ben van der Heiden horen Halsteren ",3,"Unitron","DX Insera 3 10A Omni","UNI-0434",{"$f":"IF(ISBLANK('Assortiment Hoortoestellen'!$B$26),1,IF(ISERROR(SEARCH(PROPER('Assortiment Hoortoestellen'!$B$26),PROPER('Dataset hoortoestellen'!D1610))),0,1))","v":1}]
["Ben van der Heiden horen Halsteren ",4,"Unitron","DX Insera 5 312 Omni","UNI-0438",{"$f":"IF(ISBLANK('Assortiment Hoortoestellen'!$B$26),1,IF(ISERROR(SEARCH(PROPER('Assortiment Hoortoestellen'!$B$26),PROPER('Dataset hoortoestellen'!D1611))),0,1))","v":1}]
["Ben van der Heiden horen Halsteren ",3,"Unitron","DX Insera 3 312 Omni","UNI-0435",{"$f":"IF(ISBLANK('Assortiment Hoortoestellen'!$B$26),1,IF(ISERROR(SEARCH(PROPER('Assortiment Hoortoestellen'!$B$26),PROPER('Dataset hoortoestellen'!D1612))),0,1))","v":1}]
["Ben van der Heiden horen Halsteren ",4,"Unitron","DX Insera 5 W 312 Dir","UNI-0439",{"$f":"IF(ISBLANK('Assortiment Hoortoestellen'!$B$26),1,IF(ISERROR(SEARCH(PROPER('Assortiment Hoortoestellen'!$B$26),PROPER('Dataset hoortoestellen'!D1613))),0,1))","v":1}]
["Ben van der Heiden horen Halsteren ",3,"Unitron","DX Insera 3 W 312 Dir","UNI-0436",{"$f":"IF(ISBLANK('Assortiment Hoortoestellen'!$B$26),1,IF(ISERROR(SEARCH(PROPER('Assortiment Hoortoestellen'!$B$26),PROPER('Dataset hoortoestellen'!D1614))),0,1))","v":1}]
["Ben van der Heiden horen Halsteren ",4,"Unitron","T Insera 600 W 10A Dir","UNI-0328",{"$f":"IF(ISBLANK('Assortiment Hoortoestellen'!$B$26),1,IF(ISERROR(SEARCH(PROPER('Assortiment Hoortoestellen'!$B$26),PROPER('Dataset hoortoestellen'!D1615))),0,1))","v":1}]
["Ben van der Heiden horen Halsteren ",3,"Unitron","T Insera 500 W 10A Dir","UNI-0323",{"$f":"IF(ISBLANK('Assortiment Hoortoestellen'!$B$26),1,IF(ISERROR(SEARCH(PROPER('Assortiment Hoortoestellen'!$B$26),PROPER('Dataset hoortoestellen'!D1616))),0,1))","v":1}]
["Ben van der Heiden horen Halsteren ",4,"Unitron","T Insera 600 W 312 Dir","UNI-0331",{"$f":"IF(ISBLANK('Assortiment Hoortoestellen'!$B$26),1,IF(ISERROR(SEARCH(PROPER('Assortiment Hoortoestellen'!$B$26),PROPER('Dataset hoortoestellen'!D1617))),0,1))","v":1}]
["Ben van der Heiden horen Halsteren ",3,"Unitron","T Insera 500 W 312 Dir","UNI-0326",{"$f":"IF(ISBLANK('Assortiment Hoortoestellen'!$B$26),1,IF(ISERROR(SEARCH(PROPER('Assortiment Hoortoestellen'!$B$26),PROPER('Dataset hoortoestellen'!D1618))),0,1))","v":1}]
["Ben van der Heiden horen Halsteren ",4,"Unitron","T Insera 600 W 13 Dir","UNI-0330",{"$f":"IF(ISBLANK('Assortiment Hoortoestellen'!$B$26),1,IF(ISERROR(SEARCH(PROPER('Assortiment Hoortoestellen'!$B$26),PROPER('Dataset hoortoestellen'!D1619))),0,1))","v":1}]
["Ben van der Heiden horen Halsteren ",3,"Unitron","T Insera 500 W 13 Dir","UNI-0325",{"$f":"IF(ISBLANK('Assortiment Hoortoestellen'!$B$26),1,IF(ISERROR(SEARCH(PROPER('Assortiment Hoortoestellen'!$B$26),PROPER('Dataset hoortoestellen'!D1620))),0,1))","v":1}]
["Ben van der Heiden horen Halsteren ",3,"Unitron","DX Moxi Fit 3","UNI-0443",{"$f":"IF(ISBLANK('Assortiment Hoortoestellen'!$B$26),1,IF(ISERROR(SEARCH(PROPER('Assortiment Hoortoestellen'!$B$26),PROPER('Dataset hoortoestellen'!D1621))),0,1))","v":1}]
["Ben van der Heiden horen Halsteren ",3,"Unitron","DX Stride M 3","UNI-0452",{"$f":"IF(ISBLANK('Assortiment Hoortoestellen'!$B$26),1,IF(ISERROR(SEARCH(PROPER('Assortiment Hoortoestellen'!$B$26),PROPER('Dataset hoortoestellen'!D1622))),0,1))","v":1}]
["Ben van der Heiden horen Halsteren ",3,"Unitron","T Stride 500 P","UNI-0305",{"$f":"IF(ISBLANK('Assortiment Hoortoestellen'!$B$26),1,IF(ISERROR(SEARCH(PROPER('Assortiment Hoortoestellen'!$B$26),PROPER('Dataset hoortoestellen'!D1623))),0,1))","v":1}]
["Ben van der Heiden horen Halsteren ",3,"Unitron","T Stride 500 M","UNI-0304",{"$f":"IF(ISBLANK('Assortiment Hoortoestellen'!$B$26),1,IF(ISERROR(SEARCH(PROPER('Assortiment Hoortoestellen'!$B$26),PROPER('Dataset hoortoestellen'!D1624))),0,1))","v":1}]
["Ben van der Heiden horen Halsteren ",3,"Unitron","T Max SP 500","UNI-0272",{"$f":"IF(ISBLANK('Assortiment Hoortoestellen'!$B$26),1,IF(ISERROR(SEARCH(PROPER('Assortiment Hoortoestellen'!$B$26),PROPER('Dataset hoortoestellen'!D1625))),0,1))","v":1}]
["Ben van der Heiden horen Halsteren ",4,"Unitron","T Max SP 600","UNI-0273",{"$f":"IF(ISBLANK('Assortiment Hoortoestellen'!$B$26),1,IF(ISERROR(SEARCH(PROPER('Assortiment Hoortoestellen'!$B$26),PROPER('Dataset hoortoestellen'!D1626))),0,1))","v":1}]
["Ben van der Heiden horen Halsteren ",3,"Unitron","T Max UP 500","UNI-0276",{"$f":"IF(ISBLANK('Assortiment Hoortoestellen'!$B$26),1,IF(ISERROR(SEARCH(PROPER('Assortiment Hoortoestellen'!$B$26),PROPER('Dataset hoortoestellen'!D1627))),0,1))","v":1}]
["Ben van der Heiden horen Halsteren ",4,"Unitron","T Max UP 600","UNI-0277",{"$f":"IF(ISBLANK('Assortiment Hoortoestellen'!$B$26),1,IF(ISERROR(SEARCH(PROPER('Assortiment Hoortoestellen'!$B$26),PROPER('Dataset hoortoestellen'!D1628))),0,1))","v":1}]
["Ben van der Heiden horen Halsteren ",2,"Unitron","Shine Rev+ RIC","UNI-0432",{"$f":"IF(ISBLANK('Assortiment Hoortoestellen'!$B$26),1,IF(ISERROR(SEARCH(PROPER('Assortiment Hoortoestellen'!$B$26),PROPER('Dataset hoortoestellen'!D1629))),0,1))","v":1}]
["Ben van der Heiden horen Halsteren ",2,"Unitron","Shine Rev+ M","UNI-0430",{"$f":"IF(ISBLANK('Assortiment Hoortoestellen'!$B$26),1,IF(ISERROR(SEARCH(PROPER('Assortiment Hoortoestellen'!$B$26),PROPER('Dataset hoortoestellen'!D1630))),0,1))","v":1}]
["Ben van der Heiden horen Halsteren ",2,"Unitron","Shine Rev+ P","UNI-0431",{"$f":"IF(ISBLANK('Assortiment Hoortoestellen'!$B$26),1,IF(ISERROR(SEARCH(PROPER('Assortiment Hoortoestellen'!$B$26),PROPER('Dataset hoortoestellen'!D1631))),0,1))","v":1}]
["Ben van der Heiden horen Halsteren ",5,"Unitron","DX Moxi Fit 7","UNI-0445",{"$f":"IF(ISBLANK('Assortiment Hoortoestellen'!$B$26),1,IF(ISERROR(SEARCH(PROPER('Assortiment Hoortoestellen'!$B$26),PROPER('Dataset hoortoestellen'!D1632))),0,1))","v":1}]
["Ben van der Heiden horen Halsteren ",5,"Unitron","DX Stride M 7","UNI-0454",{"$f":"IF(ISBLANK('Assortiment Hoortoestellen'!$B$26),1,IF(ISERROR(SEARCH(PROPER('Assortiment Hoortoestellen'!$B$26),PROPER('Dataset hoortoestellen'!D1633))),0,1))","v":1}]
["Ben van der Heiden horen Halsteren ",5,"Unitron","DX Stride P R 5","UNI-0456",{"$f":"IF(ISBLANK('Assortiment Hoortoestellen'!$B$26),1,IF(ISERROR(SEARCH(PROPER('Assortiment Hoortoestellen'!$B$26),PROPER('Dataset hoortoestellen'!D1634))),0,1))","v":1}]
["Ben van der Heiden horen Halsteren ",5,"Unitron","DX Moxi Jump R T 5","UNI-0447",{"$f":"IF(ISBLANK('Assortiment Hoortoestellen'!$B$26),1,IF(ISERROR(SEARCH(PROPER('Assortiment Hoortoestellen'!$B$26),PROPER('Dataset hoortoestellen'!D1635))),0,1))","v":1}]
["Ben van der Heiden horen Halsteren ",5,"Unitron","DX Moxi Move R 5","UNI-0450",{"$f":"IF(ISBLANK('Assortiment Hoortoestellen'!$B$26),1,IF(ISERROR(SEARCH(PROPER('Assortiment Hoortoestellen'!$B$26),PROPER('Dataset hoortoestellen'!D1636))),0,1))","v":1}]
["Ben van der Heiden horen Halsteren ",5,"Unitron","T Max UP 800","UNI-0279",{"$f":"IF(ISBLANK('Assortiment Hoortoestellen'!$B$26),1,IF(ISERROR(SEARCH(PROPER('Assortiment Hoortoestellen'!$B$26),PROPER('Dataset hoortoestellen'!D1637))),0,1))","v":1}]
["Ben van der Heiden horen Halsteren ",2,"Unitron ","Shine Rev+ UP","UNI-0433",{"$f":"IF(ISBLANK('Assortiment Hoortoestellen'!$B$26),1,IF(ISERROR(SEARCH(PROPER('Assortiment Hoortoestellen'!$B$26),PROPER('Dataset hoortoestellen'!D1638))),0,1))","v":1}]
["Ben van der Heiden horen Halsteren ",5,"Widex","Enjoy E-CIC 330 Links","WID-0553",{"$f":"IF(ISBLANK('Assortiment Hoortoestellen'!$B$26),1,IF(ISERROR(SEARCH(PROPER('Assortiment Hoortoestellen'!$B$26),PROPER('Dataset hoortoestellen'!D1639))),0,1))","v":1}]
["Ben van der Heiden horen Halsteren ",3,"Widex","Enjoy E-CIC 110 Links","WID-0551",{"$f":"IF(ISBLANK('Assortiment Hoortoestellen'!$B$26),1,IF(ISERROR(SEARCH(PROPER('Assortiment Hoortoestellen'!$B$26),PROPER('Dataset hoortoestellen'!D1640))),0,1))","v":1}]
["Ben van der Heiden horen Halsteren ",5,"Widex","Enjoy E-CIC 330 Rechts","WID-0658",{"$f":"IF(ISBLANK('Assortiment Hoortoestellen'!$B$26),1,IF(ISERROR(SEARCH(PROPER('Assortiment Hoortoestellen'!$B$26),PROPER('Dataset hoortoestellen'!D1641))),0,1))","v":1}]
["Ben van der Heiden horen Halsteren ",3,"Widex","Enjoy E-CIC 110 Rechts","WID-0656",{"$f":"IF(ISBLANK('Assortiment Hoortoestellen'!$B$26),1,IF(ISERROR(SEARCH(PROPER('Assortiment Hoortoestellen'!$B$26),PROPER('Dataset hoortoestellen'!D1642))),0,1))","v":1}]
["Ben van der Heiden horen Halsteren ",4,"Widex","Enjoy E-CIC 220 Links","WID-0552",{"$f":"IF(ISBLANK('Assortiment Hoortoestellen'!$B$26),1,IF(ISERROR(SEARCH(PROPER('Assortiment Hoortoestellen'!$B$26),PROPER('Dataset hoortoestellen'!D1643))),0,1))","v":1}]
["Ben van der Heiden horen Halsteren ",5,"Widex","Enjoy E-CIC M 330","WID-0559",{"$f":"IF(ISBLANK('Assortiment Hoortoestellen'!$B$26),1,IF(ISERROR(SEARCH(PROPER('Assortiment Hoortoestellen'!$B$26),PROPER('Dataset hoortoestellen'!D1644))),0,1))","v":1}]
["Ben van der Heiden horen Halsteren ",3,"Widex","Enjoy E-CIC M 110","WID-0557",{"$f":"IF(ISBLANK('Assortiment Hoortoestellen'!$B$26),1,IF(ISERROR(SEARCH(PROPER('Assortiment Hoortoestellen'!$B$26),PROPER('Dataset hoortoestellen'!D1645))),0,1))","v":1}]
["Ben van der Heiden horen Halsteren ",4,"Widex","Enjoy E-CIC 220 Rechts","WID-0657",{"$f":"IF(ISBLANK('Assortiment Hoortoestellen'!$B$26),1,IF(ISERROR(SEARCH(PROPER('Assortiment Hoortoestellen'!$B$26),PROPER('Dataset hoortoestellen'!D1646))),0,1))","v":1}]
["Ben van der Heiden horen Halsteren ",5,"Widex","Enjoy E-CIC TR 330 Links","WID-0571",{"$f":"IF(ISBLANK('Assortiment Hoortoestellen'!$B$26),1,IF(ISERROR(SEARCH(PROPER('Assortiment Hoortoestellen'!$B$26),PROPER('Dataset hoortoestellen'!D1647))),0,1))","v":1}]
["Ben van der Heiden horen Halsteren ",3,"Widex","Enjoy E-CIC M TR 110","WID-0563",{"$f":"IF(ISBLANK('Assortiment Hoortoestellen'!$B$26),1,IF(ISERROR(SEARCH(PROPER('Assortiment Hoortoestellen'!$B$26),PROPER('Dataset hoortoestellen'!D1648))),0,1))","v":1}]
["Ben van der Heiden horen Halsteren ",4,"Widex","Enjoy E-CIC M 220","WID-0558",{"$f":"IF(ISBLANK('Assortiment Hoortoestellen'!$B$26),1,IF(ISERROR(SEARCH(PROPER('Assortiment Hoortoestellen'!$B$26),PROPER('Dataset hoortoestellen'!D1649))),0,1))","v":1}]
["Ben van der Heiden horen Halsteren ",5,"Widex","Enjoy E-CIC TR 330 Rechts","WID-0663",{"$f":"IF(ISBLANK('Assortiment Hoortoestellen'!$B$26),1,IF(ISERROR(SEARCH(PROPER('Assortiment Hoortoestellen'!$B$26),PROPER('Dataset hoortoestellen'!D1650))),0,1))","v":1}]
["Ben van der Heiden horen Halsteren ",3,"Widex","Enjoy E-CIC TR 110 Links","WID-0569",{"$f":"IF(ISBLANK('Assortiment Hoortoestellen'!$B$26),1,IF(ISERROR(SEARCH(PROPER('Assortiment Hoortoestellen'!$B$26),PROPER('Dataset hoortoestellen'!D1651))),0,1))","v":1}]
["Bessems Hoortechniek",3,"Audio Service","quix 6 G4 links","AUS-0169",{"$f":"IF(ISBLANK('Assortiment Hoortoestellen'!$B$26),1,IF(ISERROR(SEARCH(PROPER('Assortiment Hoortoestellen'!$B$26),PROPER('Dataset hoortoestellen'!D1652))),0,1))","v":1}]
["Bessems Hoortechniek",5,"Audio Service","quiX 12 G5 Links","AUS-0191",{"$f":"IF(ISBLANK('Assortiment Hoortoestellen'!$B$26),1,IF(ISERROR(SEARCH(PROPER('Assortiment Hoortoestellen'!$B$26),PROPER('Dataset hoortoestellen'!D1653))),0,1))","v":1}]
["Bessems Hoortechniek",5,"Audio Service","quiX 12 G5 Rechts","AUS-0192",{"$f":"IF(ISBLANK('Assortiment Hoortoestellen'!$B$26),1,IF(ISERROR(SEARCH(PROPER('Assortiment Hoortoestellen'!$B$26),PROPER('Dataset hoortoestellen'!D1654))),0,1))","v":1}]
["Bessems Hoortechniek",4,"Audio Service","quiX 8 G5 Links","AUS-0193",{"$f":"IF(ISBLANK('Assortiment Hoortoestellen'!$B$26),1,IF(ISERROR(SEARCH(PROPER('Assortiment Hoortoestellen'!$B$26),PROPER('Dataset hoortoestellen'!D1655))),0,1))","v":1}]
["Bessems Hoortechniek",4,"Audio Service","quiX 8 G5 Rechts","AUS-0194",{"$f":"IF(ISBLANK('Assortiment Hoortoestellen'!$B$26),1,IF(ISERROR(SEARCH(PROPER('Assortiment Hoortoestellen'!$B$26),PROPER('Dataset hoortoestellen'!D1656))),0,1))","v":1}]
["Bessems Hoortechniek",2,"Audio Service","quiX 4 G5 Links","AUS-0211",{"$f":"IF(ISBLANK('Assortiment Hoortoestellen'!$B$26),1,IF(ISERROR(SEARCH(PROPER('Assortiment Hoortoestellen'!$B$26),PROPER('Dataset hoortoestellen'!D1657))),0,1))","v":1}]
["Bessems Hoortechniek",2,"Audio Service","quiX 4 G5 Rechts","AUS-0212",{"$f":"IF(ISBLANK('Assortiment Hoortoestellen'!$B$26),1,IF(ISERROR(SEARCH(PROPER('Assortiment Hoortoestellen'!$B$26),PROPER('Dataset hoortoestellen'!D1658))),0,1))","v":1}]
["Bessems Hoortechniek",3,"Audio Service","quiX 6  G5 Rechts","AUS-0213",{"$f":"IF(ISBLANK('Assortiment Hoortoestellen'!$B$26),1,IF(ISERROR(SEARCH(PROPER('Assortiment Hoortoestellen'!$B$26),PROPER('Dataset hoortoestellen'!D1659))),0,1))","v":1}]
["Bessems Hoortechniek",1,"Bernafon","Nevara 1 CICx","BER-0453",{"$f":"IF(ISBLANK('Assortiment Hoortoestellen'!$B$26),1,IF(ISERROR(SEARCH(PROPER('Assortiment Hoortoestellen'!$B$26),PROPER('Dataset hoortoestellen'!D1660))),0,1))","v":1}]
["Bessems Hoortechniek",1,"Bernafon","Nevara 1 ITC","BER-0455",{"$f":"IF(ISBLANK('Assortiment Hoortoestellen'!$B$26),1,IF(ISERROR(SEARCH(PROPER('Assortiment Hoortoestellen'!$B$26),PROPER('Dataset hoortoestellen'!D1661))),0,1))","v":1}]
["Bessems Hoortechniek",1,"Bernafon","Nevara 1 P","BER-0460",{"$f":"IF(ISBLANK('Assortiment Hoortoestellen'!$B$26),1,IF(ISERROR(SEARCH(PROPER('Assortiment Hoortoestellen'!$B$26),PROPER('Dataset hoortoestellen'!D1662))),0,1))","v":1}]
["Bessems Hoortechniek",1,"Bernafon","Nevara 1 PR","BER-0486",{"$f":"IF(ISBLANK('Assortiment Hoortoestellen'!$B$26),1,IF(ISERROR(SEARCH(PROPER('Assortiment Hoortoestellen'!$B$26),PROPER('Dataset hoortoestellen'!D1663))),0,1))","v":1}]
["Bessems Hoortechniek",2,"Bernafon","Zerena 1 BTE 105","BER-0615",{"$f":"IF(ISBLANK('Assortiment Hoortoestellen'!$B$26),1,IF(ISERROR(SEARCH(PROPER('Assortiment Hoortoestellen'!$B$26),PROPER('Dataset hoortoestellen'!D1664))),0,1))","v":1}]
["Bessems Hoortechniek",2,"Bernafon","Zerena 1 CIC","BER-0616",{"$f":"IF(ISBLANK('Assortiment Hoortoestellen'!$B$26),1,IF(ISERROR(SEARCH(PROPER('Assortiment Hoortoestellen'!$B$26),PROPER('Dataset hoortoestellen'!D1665))),0,1))","v":1}]
["Bessems Hoortechniek",2,"Bernafon","Zerena 1 IIC","BER-0617",{"$f":"IF(ISBLANK('Assortiment Hoortoestellen'!$B$26),1,IF(ISERROR(SEARCH(PROPER('Assortiment Hoortoestellen'!$B$26),PROPER('Dataset hoortoestellen'!D1666))),0,1))","v":1}]
["Bessems Hoortechniek",2,"Bernafon","Zerena 1 MNR","BER-0621",{"$f":"IF(ISBLANK('Assortiment Hoortoestellen'!$B$26),1,IF(ISERROR(SEARCH(PROPER('Assortiment Hoortoestellen'!$B$26),PROPER('Dataset hoortoestellen'!D1667))),0,1))","v":1}]
["Bessems Hoortechniek",3,"Bernafon","Zerena 3 CIC","BER-0624",{"$f":"IF(ISBLANK('Assortiment Hoortoestellen'!$B$26),1,IF(ISERROR(SEARCH(PROPER('Assortiment Hoortoestellen'!$B$26),PROPER('Dataset hoortoestellen'!D1668))),0,1))","v":1}]
["Bessems Hoortechniek",3,"Bernafon","Zerena 3 IIC","BER-0625",{"$f":"IF(ISBLANK('Assortiment Hoortoestellen'!$B$26),1,IF(ISERROR(SEARCH(PROPER('Assortiment Hoortoestellen'!$B$26),PROPER('Dataset hoortoestellen'!D1669))),0,1))","v":1}]
["Bessems Hoortechniek",3,"Bernafon","Zerena 3 MNR T","BER-0630",{"$f":"IF(ISBLANK('Assortiment Hoortoestellen'!$B$26),1,IF(ISERROR(SEARCH(PROPER('Assortiment Hoortoestellen'!$B$26),PROPER('Dataset hoortoestellen'!D1670))),0,1))","v":1}]
["Bessems Hoortechniek",4,"Bernafon","Zerena 5 BTE 105","BER-0631",{"$f":"IF(ISBLANK('Assortiment Hoortoestellen'!$B$26),1,IF(ISERROR(SEARCH(PROPER('Assortiment Hoortoestellen'!$B$26),PROPER('Dataset hoortoestellen'!D1671))),0,1))","v":1}]
["Bessems Hoortechniek",4,"Bernafon","Zerena 5 CIC","BER-0632",{"$f":"IF(ISBLANK('Assortiment Hoortoestellen'!$B$26),1,IF(ISERROR(SEARCH(PROPER('Assortiment Hoortoestellen'!$B$26),PROPER('Dataset hoortoestellen'!D1672))),0,1))","v":1}]
["Bessems Hoortechniek",4,"Bernafon","Zerena 5 IIC","BER-0633",{"$f":"IF(ISBLANK('Assortiment Hoortoestellen'!$B$26),1,IF(ISERROR(SEARCH(PROPER('Assortiment Hoortoestellen'!$B$26),PROPER('Dataset hoortoestellen'!D1673))),0,1))","v":1}]
["Bessems Hoortechniek",4,"Bernafon","Zerena 5 MNR","BER-0637",{"$f":"IF(ISBLANK('Assortiment Hoortoestellen'!$B$26),1,IF(ISERROR(SEARCH(PROPER('Assortiment Hoortoestellen'!$B$26),PROPER('Dataset hoortoestellen'!D1674))),0,1))","v":1}]
["Bessems Hoortechniek",5,"Bernafon","Zerena 7 BTE 105","BER-0639",{"$f":"IF(ISBLANK('Assortiment Hoortoestellen'!$B$26),1,IF(ISERROR(SEARCH(PROPER('Assortiment Hoortoestellen'!$B$26),PROPER('Dataset hoortoestellen'!D1675))),0,1))","v":1}]
["Bessems Hoortechniek",5,"Bernafon","Zerena 7 CIC","BER-0640",{"$f":"IF(ISBLANK('Assortiment Hoortoestellen'!$B$26),1,IF(ISERROR(SEARCH(PROPER('Assortiment Hoortoestellen'!$B$26),PROPER('Dataset hoortoestellen'!D1676))),0,1))","v":1}]
["Bessems Hoortechniek",5,"Bernafon","Zerena 7 IIC","BER-0641",{"$f":"IF(ISBLANK('Assortiment Hoortoestellen'!$B$26),1,IF(ISERROR(SEARCH(PROPER('Assortiment Hoortoestellen'!$B$26),PROPER('Dataset hoortoestellen'!D1677))),0,1))","v":1}]
["Bessems Hoortechniek",5,"Bernafon","Zerena 7 MNR","BER-0645",{"$f":"IF(ISBLANK('Assortiment Hoortoestellen'!$B$26),1,IF(ISERROR(SEARCH(PROPER('Assortiment Hoortoestellen'!$B$26),PROPER('Dataset hoortoestellen'!D1678))),0,1))","v":1}]
["Bessems Hoortechniek",2,"Interton","RD262-DRW","INT-0027",{"$f":"IF(ISBLANK('Assortiment Hoortoestellen'!$B$26),1,IF(ISERROR(SEARCH(PROPER('Assortiment Hoortoestellen'!$B$26),PROPER('Dataset hoortoestellen'!D1679))),0,1))","v":1}]
["Bessems Hoortechniek",1,"Interton","RD280-DW","INT-0029",{"$f":"IF(ISBLANK('Assortiment Hoortoestellen'!$B$26),1,IF(ISERROR(SEARCH(PROPER('Assortiment Hoortoestellen'!$B$26),PROPER('Dataset hoortoestellen'!D1680))),0,1))","v":1}]
["Bessems Hoortechniek",2,"Interton","RD362-DRW","INT-0033",{"$f":"IF(ISBLANK('Assortiment Hoortoestellen'!$B$26),1,IF(ISERROR(SEARCH(PROPER('Assortiment Hoortoestellen'!$B$26),PROPER('Dataset hoortoestellen'!D1681))),0,1))","v":1}]
["Bessems Hoortechniek",2,"Interton","RD380-DW","INT-0035",{"$f":"IF(ISBLANK('Assortiment Hoortoestellen'!$B$26),1,IF(ISERROR(SEARCH(PROPER('Assortiment Hoortoestellen'!$B$26),PROPER('Dataset hoortoestellen'!D1682))),0,1))","v":1}]
["Bessems Hoortechniek",3,"Interton","RD462-DRW","INT-0039",{"$f":"IF(ISBLANK('Assortiment Hoortoestellen'!$B$26),1,IF(ISERROR(SEARCH(PROPER('Assortiment Hoortoestellen'!$B$26),PROPER('Dataset hoortoestellen'!D1683))),0,1))","v":1}]
["Bessems Hoortechniek",3,"Interton","RD480-DW","INT-0041",{"$f":"IF(ISBLANK('Assortiment Hoortoestellen'!$B$26),1,IF(ISERROR(SEARCH(PROPER('Assortiment Hoortoestellen'!$B$26),PROPER('Dataset hoortoestellen'!D1684))),0,1))","v":1}]
["Bessems Hoortechniek",4,"Interton","RD662-DRW","INT-0045",{"$f":"IF(ISBLANK('Assortiment Hoortoestellen'!$B$26),1,IF(ISERROR(SEARCH(PROPER('Assortiment Hoortoestellen'!$B$26),PROPER('Dataset hoortoestellen'!D1685))),0,1))","v":1}]
["Bessems Hoortechniek",4,"Interton","RD680-DW","INT-0047",{"$f":"IF(ISBLANK('Assortiment Hoortoestellen'!$B$26),1,IF(ISERROR(SEARCH(PROPER('Assortiment Hoortoestellen'!$B$26),PROPER('Dataset hoortoestellen'!D1686))),0,1))","v":1}]
["Bessems Hoortechniek",1,"Oticon","Get","OTI-0064",{"$f":"IF(ISBLANK('Assortiment Hoortoestellen'!$B$26),1,IF(ISERROR(SEARCH(PROPER('Assortiment Hoortoestellen'!$B$26),PROPER('Dataset hoortoestellen'!D1687))),0,1))","v":1}]
["Bessems Hoortechniek",1,"Oticon","Get","OTI-0065",{"$f":"IF(ISBLANK('Assortiment Hoortoestellen'!$B$26),1,IF(ISERROR(SEARCH(PROPER('Assortiment Hoortoestellen'!$B$26),PROPER('Dataset hoortoestellen'!D1688))),0,1))","v":1}]
["Bessems Hoortechniek",1,"Oticon","Get","OTI-0066",{"$f":"IF(ISBLANK('Assortiment Hoortoestellen'!$B$26),1,IF(ISERROR(SEARCH(PROPER('Assortiment Hoortoestellen'!$B$26),PROPER('Dataset hoortoestellen'!D1689))),0,1))","v":1}]
["Bessems Hoortechniek",1,"Oticon","Get","OTI-0068",{"$f":"IF(ISBLANK('Assortiment Hoortoestellen'!$B$26),1,IF(ISERROR(SEARCH(PROPER('Assortiment Hoortoestellen'!$B$26),PROPER('Dataset hoortoestellen'!D1690))),0,1))","v":1}]
["Bessems Hoortechniek",4,"Oticon","Siya 1 CIC 75 - 85","OTI-0340",{"$f":"IF(ISBLANK('Assortiment Hoortoestellen'!$B$26),1,IF(ISERROR(SEARCH(PROPER('Assortiment Hoortoestellen'!$B$26),PROPER('Dataset hoortoestellen'!D1691))),0,1))","v":1}]
["Bessems Hoortechniek",4,"Oticon","Siya 1 ITE 75 - 100","OTI-0342",{"$f":"IF(ISBLANK('Assortiment Hoortoestellen'!$B$26),1,IF(ISERROR(SEARCH(PROPER('Assortiment Hoortoestellen'!$B$26),PROPER('Dataset hoortoestellen'!D1692))),0,1))","v":1}]
["Bessems Hoortechniek",4,"Oticon","Siya 1 miniRITE T 60 - 105","OTI-0344",{"$f":"IF(ISBLANK('Assortiment Hoortoestellen'!$B$26),1,IF(ISERROR(SEARCH(PROPER('Assortiment Hoortoestellen'!$B$26),PROPER('Dataset hoortoestellen'!D1693))),0,1))","v":1}]
["Bessems Hoortechniek",3,"Oticon","Siya 2 ITE 75 - 100","OTI-0349",{"$f":"IF(ISBLANK('Assortiment Hoortoestellen'!$B$26),1,IF(ISERROR(SEARCH(PROPER('Assortiment Hoortoestellen'!$B$26),PROPER('Dataset hoortoestellen'!D1694))),0,1))","v":1}]
["Bessems Hoortechniek",3,"Oticon","Siya 2 miniRITE T 60 - 105","OTI-0351",{"$f":"IF(ISBLANK('Assortiment Hoortoestellen'!$B$26),1,IF(ISERROR(SEARCH(PROPER('Assortiment Hoortoestellen'!$B$26),PROPER('Dataset hoortoestellen'!D1695))),0,1))","v":1}]
["Bessems Hoortechniek",5,"Oticon","Opn 3 CIC 75 - 85","OTI-0360",{"$f":"IF(ISBLANK('Assortiment Hoortoestellen'!$B$26),1,IF(ISERROR(SEARCH(PROPER('Assortiment Hoortoestellen'!$B$26),PROPER('Dataset hoortoestellen'!D1696))),0,1))","v":1}]
["Bessems Hoortechniek",5,"Oticon","Opn 3 ITE 75 - 100","OTI-0362",{"$f":"IF(ISBLANK('Assortiment Hoortoestellen'!$B$26),1,IF(ISERROR(SEARCH(PROPER('Assortiment Hoortoestellen'!$B$26),PROPER('Dataset hoortoestellen'!D1697))),0,1))","v":1}]
["Bessems Hoortechniek",5,"Oticon","Opn 3 miniRITE T 60 - 105","OTI-0364",{"$f":"IF(ISBLANK('Assortiment Hoortoestellen'!$B$26),1,IF(ISERROR(SEARCH(PROPER('Assortiment Hoortoestellen'!$B$26),PROPER('Dataset hoortoestellen'!D1698))),0,1))","v":1}]
["Bessems Hoortechniek",5,"Oticon","Ruby 1 miniRITE R 60 - 105","OTI-0368",{"$f":"IF(ISBLANK('Assortiment Hoortoestellen'!$B$26),1,IF(ISERROR(SEARCH(PROPER('Assortiment Hoortoestellen'!$B$26),PROPER('Dataset hoortoestellen'!D1699))),0,1))","v":1}]
["Bessems Hoortechniek",4,"Oticon","Ruby 2 miniRITE R 60 - 105","OTI-0373",{"$f":"IF(ISBLANK('Assortiment Hoortoestellen'!$B$26),1,IF(ISERROR(SEARCH(PROPER('Assortiment Hoortoestellen'!$B$26),PROPER('Dataset hoortoestellen'!D1700))),0,1))","v":1}]
["Bessems Hoortechniek",1,"Starkey","Muse i1000 BTE312","STA-0278",{"$f":"IF(ISBLANK('Assortiment Hoortoestellen'!$B$26),1,IF(ISERROR(SEARCH(PROPER('Assortiment Hoortoestellen'!$B$26),PROPER('Dataset hoortoestellen'!D1701))),0,1))","v":1}]
["Bessems Hoortechniek",1,"Starkey","Muse i1000 BTE 13","STA-0308",{"$f":"IF(ISBLANK('Assortiment Hoortoestellen'!$B$26),1,IF(ISERROR(SEARCH(PROPER('Assortiment Hoortoestellen'!$B$26),PROPER('Dataset hoortoestellen'!D1702))),0,1))","v":1}]
["Bessems Hoortechniek",1,"Starkey","Muse i1000 RIC 312","STA-0309",{"$f":"IF(ISBLANK('Assortiment Hoortoestellen'!$B$26),1,IF(ISERROR(SEARCH(PROPER('Assortiment Hoortoestellen'!$B$26),PROPER('Dataset hoortoestellen'!D1703))),0,1))","v":1}]
["Bessems Hoortechniek",1,"Starkey","Muse i1000 BTE 13 PP","STA-0331",{"$f":"IF(ISBLANK('Assortiment Hoortoestellen'!$B$26),1,IF(ISERROR(SEARCH(PROPER('Assortiment Hoortoestellen'!$B$26),PROPER('Dataset hoortoestellen'!D1704))),0,1))","v":1}]
["Bessems Hoortechniek",2,"Starkey","Muse iQ i1000 RIC Li-Ion","STA-0334",{"$f":"IF(ISBLANK('Assortiment Hoortoestellen'!$B$26),1,IF(ISERROR(SEARCH(PROPER('Assortiment Hoortoestellen'!$B$26),PROPER('Dataset hoortoestellen'!D1705))),0,1))","v":1}]
["Bessems Hoortechniek",2,"Starkey","Muse iQ i1000 BTE 13","STA-0349",{"$f":"IF(ISBLANK('Assortiment Hoortoestellen'!$B$26),1,IF(ISERROR(SEARCH(PROPER('Assortiment Hoortoestellen'!$B$26),PROPER('Dataset hoortoestellen'!D1706))),0,1))","v":1}]
["Bessems Hoortechniek",2,"Starkey","Muse iQ i1000 BTE 13 PP","STA-0350",{"$f":"IF(ISBLANK('Assortiment Hoortoestellen'!$B$26),1,IF(ISERROR(SEARCH(PROPER('Assortiment Hoortoestellen'!$B$26),PROPER('Dataset hoortoestellen'!D1707))),0,1))","v":1}]
["Bessems Hoortechniek",2,"Starkey","Muse iQ i1000 BTE 312","STA-0351",{"$f":"IF(ISBLANK('Assortiment Hoortoestellen'!$B$26),1,IF(ISERROR(SEARCH(PROPER('Assortiment Hoortoestellen'!$B$26),PROPER('Dataset hoortoestellen'!D1708))),0,1))","v":1}]
["Bessems Hoortechniek",2,"Starkey","Muse iQ i1000 RIC 312","STA-0357",{"$f":"IF(ISBLANK('Assortiment Hoortoestellen'!$B$26),1,IF(ISERROR(SEARCH(PROPER('Assortiment Hoortoestellen'!$B$26),PROPER('Dataset hoortoestellen'!D1709))),0,1))","v":1}]
["Bessems Hoortechniek",3,"Starkey","Livio 1000 BTE 13","STA-0380",{"$f":"IF(ISBLANK('Assortiment Hoortoestellen'!$B$26),1,IF(ISERROR(SEARCH(PROPER('Assortiment Hoortoestellen'!$B$26),PROPER('Dataset hoortoestellen'!D1710))),0,1))","v":1}]
["Bessems Hoortechniek",3,"Starkey","Livio 1000 RIC R","STA-0383",{"$f":"IF(ISBLANK('Assortiment Hoortoestellen'!$B$26),1,IF(ISERROR(SEARCH(PROPER('Assortiment Hoortoestellen'!$B$26),PROPER('Dataset hoortoestellen'!D1711))),0,1))","v":1}]
["Bessems Hoortechniek",4,"Starkey","Livio 1200 BTE 13","STA-0384",{"$f":"IF(ISBLANK('Assortiment Hoortoestellen'!$B$26),1,IF(ISERROR(SEARCH(PROPER('Assortiment Hoortoestellen'!$B$26),PROPER('Dataset hoortoestellen'!D1712))),0,1))","v":1}]
["Bessems Hoortechniek",4,"Starkey","Livio 1200 RIC R","STA-0387",{"$f":"IF(ISBLANK('Assortiment Hoortoestellen'!$B$26),1,IF(ISERROR(SEARCH(PROPER('Assortiment Hoortoestellen'!$B$26),PROPER('Dataset hoortoestellen'!D1713))),0,1))","v":1}]
["Bessems Hoortechniek",5,"Starkey","Livio 1600 BTE 13","STA-0388",{"$f":"IF(ISBLANK('Assortiment Hoortoestellen'!$B$26),1,IF(ISERROR(SEARCH(PROPER('Assortiment Hoortoestellen'!$B$26),PROPER('Dataset hoortoestellen'!D1714))),0,1))","v":1}]
["Bessems Hoortechniek",5,"Starkey","Livio 1600 RIC R","STA-0391",{"$f":"IF(ISBLANK('Assortiment Hoortoestellen'!$B$26),1,IF(ISERROR(SEARCH(PROPER('Assortiment Hoortoestellen'!$B$26),PROPER('Dataset hoortoestellen'!D1715))),0,1))","v":1}]
["Beter Horen",3,"Amplifon","Ampli-Energy B 28C","AMP-0006",{"$f":"IF(ISBLANK('Assortiment Hoortoestellen'!$B$26),1,IF(ISERROR(SEARCH(PROPER('Assortiment Hoortoestellen'!$B$26),PROPER('Dataset hoortoestellen'!D1716))),0,1))","v":1}]
["Beter Horen",5,"Amplifon","Ampli-Energy B 48C","AMP-0007",{"$f":"IF(ISBLANK('Assortiment Hoortoestellen'!$B$26),1,IF(ISERROR(SEARCH(PROPER('Assortiment Hoortoestellen'!$B$26),PROPER('Dataset hoortoestellen'!D1717))),0,1))","v":1}]
["Beter Horen",4,"Amplifon","Ampli-Energy B 38C","AMP-0008",{"$f":"IF(ISBLANK('Assortiment Hoortoestellen'!$B$26),1,IF(ISERROR(SEARCH(PROPER('Assortiment Hoortoestellen'!$B$26),PROPER('Dataset hoortoestellen'!D1718))),0,1))","v":1}]
["Beter Horen",4,"Amplifon","Ampli-Connect R3 X3 312","GNH-0032",{"$f":"IF(ISBLANK('Assortiment Hoortoestellen'!$B$26),1,IF(ISERROR(SEARCH(PROPER('Assortiment Hoortoestellen'!$B$26),PROPER('Dataset hoortoestellen'!D1719))),0,1))","v":1}]
["Beter Horen",4,"Amplifon","Ampli-Connect R3 XQ 13T","GNH-0033",{"$f":"IF(ISBLANK('Assortiment Hoortoestellen'!$B$26),1,IF(ISERROR(SEARCH(PROPER('Assortiment Hoortoestellen'!$B$26),PROPER('Dataset hoortoestellen'!D1720))),0,1))","v":1}]
["Beter Horen",5,"Amplifon","Ampli-Connect R4 X3 312","GNH-0034",{"$f":"IF(ISBLANK('Assortiment Hoortoestellen'!$B$26),1,IF(ISERROR(SEARCH(PROPER('Assortiment Hoortoestellen'!$B$26),PROPER('Dataset hoortoestellen'!D1721))),0,1))","v":1}]
["Beter Horen",5,"Amplifon","Ampli-Connect R4 XQ 13T","GNH-0035",{"$f":"IF(ISBLANK('Assortiment Hoortoestellen'!$B$26),1,IF(ISERROR(SEARCH(PROPER('Assortiment Hoortoestellen'!$B$26),PROPER('Dataset hoortoestellen'!D1722))),0,1))","v":1}]
["Beter Horen",3,"Amplifon","Ampli-Mini I2 X2 WLD","GNH-0036",{"$f":"IF(ISBLANK('Assortiment Hoortoestellen'!$B$26),1,IF(ISERROR(SEARCH(PROPER('Assortiment Hoortoestellen'!$B$26),PROPER('Dataset hoortoestellen'!D1723))),0,1))","v":1}]
["Beter Horen",3,"Amplifon","Ampli-Mini I2 X3 10","GNH-0037",{"$f":"IF(ISBLANK('Assortiment Hoortoestellen'!$B$26),1,IF(ISERROR(SEARCH(PROPER('Assortiment Hoortoestellen'!$B$26),PROPER('Dataset hoortoestellen'!D1724))),0,1))","v":1}]
["Beter Horen",4,"Amplifon","Ampli-Mini I3 X3 10","GNH-0038",{"$f":"IF(ISBLANK('Assortiment Hoortoestellen'!$B$26),1,IF(ISERROR(SEARCH(PROPER('Assortiment Hoortoestellen'!$B$26),PROPER('Dataset hoortoestellen'!D1725))),0,1))","v":1}]
["Beter Horen",4,"Amplifon","Ampli-Mini I3 X3 WLD","GNH-0039",{"$f":"IF(ISBLANK('Assortiment Hoortoestellen'!$B$26),1,IF(ISERROR(SEARCH(PROPER('Assortiment Hoortoestellen'!$B$26),PROPER('Dataset hoortoestellen'!D1726))),0,1))","v":1}]
["Beter Horen",5,"Amplifon","Ampli-Mini I4 X3 10","GNH-0040",{"$f":"IF(ISBLANK('Assortiment Hoortoestellen'!$B$26),1,IF(ISERROR(SEARCH(PROPER('Assortiment Hoortoestellen'!$B$26),PROPER('Dataset hoortoestellen'!D1727))),0,1))","v":1}]
["Beter Horen",5,"Amplifon","Ampli-Mini I4 X3 WLD","GNH-0041",{"$f":"IF(ISBLANK('Assortiment Hoortoestellen'!$B$26),1,IF(ISERROR(SEARCH(PROPER('Assortiment Hoortoestellen'!$B$26),PROPER('Dataset hoortoestellen'!D1728))),0,1))","v":1}]
["Beter Horen",3,"Amplifon","Ampli-Mini R2 KE 13","GNH-0042",{"$f":"IF(ISBLANK('Assortiment Hoortoestellen'!$B$26),1,IF(ISERROR(SEARCH(PROPER('Assortiment Hoortoestellen'!$B$26),PROPER('Dataset hoortoestellen'!D1729))),0,1))","v":1}]
["Beter Horen",3,"Amplifon","Ampli-Mini R2 KE 312","GNH-0043",{"$f":"IF(ISBLANK('Assortiment Hoortoestellen'!$B$26),1,IF(ISERROR(SEARCH(PROPER('Assortiment Hoortoestellen'!$B$26),PROPER('Dataset hoortoestellen'!D1730))),0,1))","v":1}]
["Beter Horen",4,"Amplifon","Ampli-Energy R3 XQ R","GNH-0044",{"$f":"IF(ISBLANK('Assortiment Hoortoestellen'!$B$26),1,IF(ISERROR(SEARCH(PROPER('Assortiment Hoortoestellen'!$B$26),PROPER('Dataset hoortoestellen'!D1731))),0,1))","v":1}]
["Beter Horen",5,"Amplifon","Ampli-Energy R4 XQ R","GNH-0045",{"$f":"IF(ISBLANK('Assortiment Hoortoestellen'!$B$26),1,IF(ISERROR(SEARCH(PROPER('Assortiment Hoortoestellen'!$B$26),PROPER('Dataset hoortoestellen'!D1732))),0,1))","v":1}]
["Beter Horen",3,"Amplifon","Ampli-Energy R2 KE R","GNH-0046",{"$f":"IF(ISBLANK('Assortiment Hoortoestellen'!$B$26),1,IF(ISERROR(SEARCH(PROPER('Assortiment Hoortoestellen'!$B$26),PROPER('Dataset hoortoestellen'!D1733))),0,1))","v":1}]
["Beter Horen",4,"Amplifon","Ampli-Connect B3 X3 13","GNH-0047",{"$f":"IF(ISBLANK('Assortiment Hoortoestellen'!$B$26),1,IF(ISERROR(SEARCH(PROPER('Assortiment Hoortoestellen'!$B$26),PROPER('Dataset hoortoestellen'!D1734))),0,1))","v":1}]
["Beter Horen",4,"Amplifon","Ampli-Connect B3 X3 13P","GNH-0048",{"$f":"IF(ISBLANK('Assortiment Hoortoestellen'!$B$26),1,IF(ISERROR(SEARCH(PROPER('Assortiment Hoortoestellen'!$B$26),PROPER('Dataset hoortoestellen'!D1735))),0,1))","v":1}]
["Beter Horen",4,"Amplifon","Ampli-Connect B3 X3 312","GNH-0049",{"$f":"IF(ISBLANK('Assortiment Hoortoestellen'!$B$26),1,IF(ISERROR(SEARCH(PROPER('Assortiment Hoortoestellen'!$B$26),PROPER('Dataset hoortoestellen'!D1736))),0,1))","v":1}]
["Beter Horen",4,"Amplifon","Ampli-Connect B3 XQ 675 ","GNH-0050",{"$f":"IF(ISBLANK('Assortiment Hoortoestellen'!$B$26),1,IF(ISERROR(SEARCH(PROPER('Assortiment Hoortoestellen'!$B$26),PROPER('Dataset hoortoestellen'!D1737))),0,1))","v":1}]
["Beter Horen",5,"Amplifon","Ampli-Connect B4 X3 13","GNH-0051",{"$f":"IF(ISBLANK('Assortiment Hoortoestellen'!$B$26),1,IF(ISERROR(SEARCH(PROPER('Assortiment Hoortoestellen'!$B$26),PROPER('Dataset hoortoestellen'!D1738))),0,1))","v":1}]
["Beter Horen",5,"Amplifon","Ampli-Connect B4 X3 13P","GNH-0052",{"$f":"IF(ISBLANK('Assortiment Hoortoestellen'!$B$26),1,IF(ISERROR(SEARCH(PROPER('Assortiment Hoortoestellen'!$B$26),PROPER('Dataset hoortoestellen'!D1739))),0,1))","v":1}]
["Beter Horen",5,"Amplifon","Ampli-Connect B4 X3 312","GNH-0053",{"$f":"IF(ISBLANK('Assortiment Hoortoestellen'!$B$26),1,IF(ISERROR(SEARCH(PROPER('Assortiment Hoortoestellen'!$B$26),PROPER('Dataset hoortoestellen'!D1740))),0,1))","v":1}]
["Beter Horen",5,"Amplifon","Ampli-Connect B4 XQ 675 ","GNH-0054",{"$f":"IF(ISBLANK('Assortiment Hoortoestellen'!$B$26),1,IF(ISERROR(SEARCH(PROPER('Assortiment Hoortoestellen'!$B$26),PROPER('Dataset hoortoestellen'!D1741))),0,1))","v":1}]
["Beter Horen",3,"Amplifon","Ampli-Easy B2 KE 13","GNH-0059",{"$f":"IF(ISBLANK('Assortiment Hoortoestellen'!$B$26),1,IF(ISERROR(SEARCH(PROPER('Assortiment Hoortoestellen'!$B$26),PROPER('Dataset hoortoestellen'!D1742))),0,1))","v":1}]
["Beter Horen",3,"Amplifon","Ampli-Easy B2 KE 312","GNH-0061",{"$f":"IF(ISBLANK('Assortiment Hoortoestellen'!$B$26),1,IF(ISERROR(SEARCH(PROPER('Assortiment Hoortoestellen'!$B$26),PROPER('Dataset hoortoestellen'!D1743))),0,1))","v":1}]
["Beter Horen",1,"Oticon","Get","OTI-0064",{"$f":"IF(ISBLANK('Assortiment Hoortoestellen'!$B$26),1,IF(ISERROR(SEARCH(PROPER('Assortiment Hoortoestellen'!$B$26),PROPER('Dataset hoortoestellen'!D1744))),0,1))","v":1}]
["Beter Horen",1,"Oticon","Get","OTI-0065",{"$f":"IF(ISBLANK('Assortiment Hoortoestellen'!$B$26),1,IF(ISERROR(SEARCH(PROPER('Assortiment Hoortoestellen'!$B$26),PROPER('Dataset hoortoestellen'!D1745))),0,1))","v":1}]
["Beter Horen",1,"Oticon","Get","OTI-0066",{"$f":"IF(ISBLANK('Assortiment Hoortoestellen'!$B$26),1,IF(ISERROR(SEARCH(PROPER('Assortiment Hoortoestellen'!$B$26),PROPER('Dataset hoortoestellen'!D1746))),0,1))","v":1}]
["Beter Horen",4,"Oticon","Siya 1 ITE 75 - 100","OTI-0342",{"$f":"IF(ISBLANK('Assortiment Hoortoestellen'!$B$26),1,IF(ISERROR(SEARCH(PROPER('Assortiment Hoortoestellen'!$B$26),PROPER('Dataset hoortoestellen'!D1747))),0,1))","v":1}]
["Beter Horen",3,"Oticon","Siya 2 ITE 75 - 100","OTI-0349",{"$f":"IF(ISBLANK('Assortiment Hoortoestellen'!$B$26),1,IF(ISERROR(SEARCH(PROPER('Assortiment Hoortoestellen'!$B$26),PROPER('Dataset hoortoestellen'!D1748))),0,1))","v":1}]
["Beter Horen",5,"Oticon","Opn 3 ITE 75 - 100","OTI-0362",{"$f":"IF(ISBLANK('Assortiment Hoortoestellen'!$B$26),1,IF(ISERROR(SEARCH(PROPER('Assortiment Hoortoestellen'!$B$26),PROPER('Dataset hoortoestellen'!D1749))),0,1))","v":1}]
["Beter Horen",2,"Oticon","Geno 2 BTE 100","OTI-0382",{"$f":"IF(ISBLANK('Assortiment Hoortoestellen'!$B$26),1,IF(ISERROR(SEARCH(PROPER('Assortiment Hoortoestellen'!$B$26),PROPER('Dataset hoortoestellen'!D1750))),0,1))","v":1}]
["Beter Horen",2,"Oticon","Geno 2 BTE 105 PP","OTI-0383",{"$f":"IF(ISBLANK('Assortiment Hoortoestellen'!$B$26),1,IF(ISERROR(SEARCH(PROPER('Assortiment Hoortoestellen'!$B$26),PROPER('Dataset hoortoestellen'!D1751))),0,1))","v":1}]
["Beter Horen",2,"Oticon","Geno 2 Custom 75 - 100","OTI-0385",{"$f":"IF(ISBLANK('Assortiment Hoortoestellen'!$B$26),1,IF(ISERROR(SEARCH(PROPER('Assortiment Hoortoestellen'!$B$26),PROPER('Dataset hoortoestellen'!D1752))),0,1))","v":1}]
["Beter Horen",1,"ReSound","Vea 130 -/P","RES-0011",{"$f":"IF(ISBLANK('Assortiment Hoortoestellen'!$B$26),1,IF(ISERROR(SEARCH(PROPER('Assortiment Hoortoestellen'!$B$26),PROPER('Dataset hoortoestellen'!D1753))),0,1))","v":1}]
["Beter Horen",3,"Amplifon","Verso 730 MW/MPW/MUW","RES-0060",{"$f":"IF(ISBLANK('Assortiment Hoortoestellen'!$B$26),1,IF(ISERROR(SEARCH(PROPER('Assortiment Hoortoestellen'!$B$26),PROPER('Dataset hoortoestellen'!D1754))),0,1))","v":1}]
["Beter Horen",3,"Amplifon","Verso 710 M/MP","RES-0062",{"$f":"IF(ISBLANK('Assortiment Hoortoestellen'!$B$26),1,IF(ISERROR(SEARCH(PROPER('Assortiment Hoortoestellen'!$B$26),PROPER('Dataset hoortoestellen'!D1755))),0,1))","v":1}]
["Beter Horen",2,"ReSound","Enya 3 ITC","RES-0212",{"$f":"IF(ISBLANK('Assortiment Hoortoestellen'!$B$26),1,IF(ISERROR(SEARCH(PROPER('Assortiment Hoortoestellen'!$B$26),PROPER('Dataset hoortoestellen'!D1756))),0,1))","v":1}]
["Beter Horen",2,"ReSound","Enya 362-DRW","RES-0213",{"$f":"IF(ISBLANK('Assortiment Hoortoestellen'!$B$26),1,IF(ISERROR(SEARCH(PROPER('Assortiment Hoortoestellen'!$B$26),PROPER('Dataset hoortoestellen'!D1757))),0,1))","v":1}]
["Beter Horen",2,"ReSound","Enya 367-DW","RES-0214",{"$f":"IF(ISBLANK('Assortiment Hoortoestellen'!$B$26),1,IF(ISERROR(SEARCH(PROPER('Assortiment Hoortoestellen'!$B$26),PROPER('Dataset hoortoestellen'!D1758))),0,1))","v":1}]
["Beter Horen",2,"ReSound","Enya 377-DW","RES-0215",{"$f":"IF(ISBLANK('Assortiment Hoortoestellen'!$B$26),1,IF(ISERROR(SEARCH(PROPER('Assortiment Hoortoestellen'!$B$26),PROPER('Dataset hoortoestellen'!D1759))),0,1))","v":1}]
["Beter Horen",2,"ReSound","Enya 388-DW","RES-0216",{"$f":"IF(ISBLANK('Assortiment Hoortoestellen'!$B$26),1,IF(ISERROR(SEARCH(PROPER('Assortiment Hoortoestellen'!$B$26),PROPER('Dataset hoortoestellen'!D1760))),0,1))","v":1}]
["Beter Horen",2,"ReSound","MagnaSP 490 DVI","RES-0227",{"$f":"IF(ISBLANK('Assortiment Hoortoestellen'!$B$26),1,IF(ISERROR(SEARCH(PROPER('Assortiment Hoortoestellen'!$B$26),PROPER('Dataset hoortoestellen'!D1761))),0,1))","v":1}]
["Beter Horen",1,"ReSound","KEY 177-DW","RES-0308",{"$f":"IF(ISBLANK('Assortiment Hoortoestellen'!$B$26),1,IF(ISERROR(SEARCH(PROPER('Assortiment Hoortoestellen'!$B$26),PROPER('Dataset hoortoestellen'!D1762))),0,1))","v":1}]
["Beter Horen",1,"ReSound","KEY 188-DWH","RES-0309",{"$f":"IF(ISBLANK('Assortiment Hoortoestellen'!$B$26),1,IF(ISERROR(SEARCH(PROPER('Assortiment Hoortoestellen'!$B$26),PROPER('Dataset hoortoestellen'!D1763))),0,1))","v":1}]
["Betzel Hooroplossingen",5,"Audio Service","Duo 12 G4","AUS-0129",{"$f":"IF(ISBLANK('Assortiment Hoortoestellen'!$B$26),1,IF(ISERROR(SEARCH(PROPER('Assortiment Hoortoestellen'!$B$26),PROPER('Dataset hoortoestellen'!D1764))),0,1))","v":1}]
["Betzel Hooroplossingen",4,"Audio Service","Duo 8 G4","AUS-0130",{"$f":"IF(ISBLANK('Assortiment Hoortoestellen'!$B$26),1,IF(ISERROR(SEARCH(PROPER('Assortiment Hoortoestellen'!$B$26),PROPER('Dataset hoortoestellen'!D1765))),0,1))","v":1}]
["Betzel Hooroplossingen",5,"Audio Service","HP 12 G4","AUS-0131",{"$f":"IF(ISBLANK('Assortiment Hoortoestellen'!$B$26),1,IF(ISERROR(SEARCH(PROPER('Assortiment Hoortoestellen'!$B$26),PROPER('Dataset hoortoestellen'!D1766))),0,1))","v":1}]
["Betzel Hooroplossingen",4,"Audio Service","HP 8 G4","AUS-0132",{"$f":"IF(ISBLANK('Assortiment Hoortoestellen'!$B$26),1,IF(ISERROR(SEARCH(PROPER('Assortiment Hoortoestellen'!$B$26),PROPER('Dataset hoortoestellen'!D1767))),0,1))","v":1}]
["Betzel Hooroplossingen",2,"Audio Service","HP 4 G4","AUS-0153",{"$f":"IF(ISBLANK('Assortiment Hoortoestellen'!$B$26),1,IF(ISERROR(SEARCH(PROPER('Assortiment Hoortoestellen'!$B$26),PROPER('Dataset hoortoestellen'!D1768))),0,1))","v":1}]
["Betzel Hooroplossingen",3,"Audio Service","HP 6 G4","AUS-0154",{"$f":"IF(ISBLANK('Assortiment Hoortoestellen'!$B$26),1,IF(ISERROR(SEARCH(PROPER('Assortiment Hoortoestellen'!$B$26),PROPER('Dataset hoortoestellen'!D1769))),0,1))","v":1}]
["Betzel Hooroplossingen",5,"Audio Service","Duo 12 G5","AUS-0177",{"$f":"IF(ISBLANK('Assortiment Hoortoestellen'!$B$26),1,IF(ISERROR(SEARCH(PROPER('Assortiment Hoortoestellen'!$B$26),PROPER('Dataset hoortoestellen'!D1770))),0,1))","v":1}]
["Betzel Hooroplossingen",4,"Audio Service","Duo 8 G5","AUS-0178",{"$f":"IF(ISBLANK('Assortiment Hoortoestellen'!$B$26),1,IF(ISERROR(SEARCH(PROPER('Assortiment Hoortoestellen'!$B$26),PROPER('Dataset hoortoestellen'!D1771))),0,1))","v":1}]
["Betzel Hooroplossingen",5,"Audio Service","DUO Li-Ion 12 G5","AUS-0179",{"$f":"IF(ISBLANK('Assortiment Hoortoestellen'!$B$26),1,IF(ISERROR(SEARCH(PROPER('Assortiment Hoortoestellen'!$B$26),PROPER('Dataset hoortoestellen'!D1772))),0,1))","v":1}]
["Betzel Hooroplossingen",3,"Audio Service","DUO Li-Ion 6 G5","AUS-0180",{"$f":"IF(ISBLANK('Assortiment Hoortoestellen'!$B$26),1,IF(ISERROR(SEARCH(PROPER('Assortiment Hoortoestellen'!$B$26),PROPER('Dataset hoortoestellen'!D1773))),0,1))","v":1}]
["Betzel Hooroplossingen",4,"Audio Service","DUO Li-Ion 8 G5","AUS-0181",{"$f":"IF(ISBLANK('Assortiment Hoortoestellen'!$B$26),1,IF(ISERROR(SEARCH(PROPER('Assortiment Hoortoestellen'!$B$26),PROPER('Dataset hoortoestellen'!D1774))),0,1))","v":1}]
["Betzel Hooroplossingen",5,"Audio Service","IHO 12 G5","AUS-0182",{"$f":"IF(ISBLANK('Assortiment Hoortoestellen'!$B$26),1,IF(ISERROR(SEARCH(PROPER('Assortiment Hoortoestellen'!$B$26),PROPER('Dataset hoortoestellen'!D1775))),0,1))","v":1}]
["Betzel Hooroplossingen",4,"Audio Service","IHO 8 G5","AUS-0183",{"$f":"IF(ISBLANK('Assortiment Hoortoestellen'!$B$26),1,IF(ISERROR(SEARCH(PROPER('Assortiment Hoortoestellen'!$B$26),PROPER('Dataset hoortoestellen'!D1776))),0,1))","v":1}]
["Betzel Hooroplossingen",5,"Audio Service","Mood 12 G5","AUS-0184",{"$f":"IF(ISBLANK('Assortiment Hoortoestellen'!$B$26),1,IF(ISERROR(SEARCH(PROPER('Assortiment Hoortoestellen'!$B$26),PROPER('Dataset hoortoestellen'!D1777))),0,1))","v":1}]
["Betzel Hooroplossingen",4,"Audio Service","Mood 8 G5","AUS-0185",{"$f":"IF(ISBLANK('Assortiment Hoortoestellen'!$B$26),1,IF(ISERROR(SEARCH(PROPER('Assortiment Hoortoestellen'!$B$26),PROPER('Dataset hoortoestellen'!D1778))),0,1))","v":1}]
["Betzel Hooroplossingen",5,"Audio Service","Mood Li-Ion 12 G5","AUS-0186",{"$f":"IF(ISBLANK('Assortiment Hoortoestellen'!$B$26),1,IF(ISERROR(SEARCH(PROPER('Assortiment Hoortoestellen'!$B$26),PROPER('Dataset hoortoestellen'!D1779))),0,1))","v":1}]
["Betzel Hooroplossingen",3,"Audio Service","Mood Li-Ion 6 G5","AUS-0187",{"$f":"IF(ISBLANK('Assortiment Hoortoestellen'!$B$26),1,IF(ISERROR(SEARCH(PROPER('Assortiment Hoortoestellen'!$B$26),PROPER('Dataset hoortoestellen'!D1780))),0,1))","v":1}]
["Betzel Hooroplossingen",4,"Audio Service","Mood Li-Ion 8 G5","AUS-0188",{"$f":"IF(ISBLANK('Assortiment Hoortoestellen'!$B$26),1,IF(ISERROR(SEARCH(PROPER('Assortiment Hoortoestellen'!$B$26),PROPER('Dataset hoortoestellen'!D1781))),0,1))","v":1}]
["Betzel Hooroplossingen",5,"Audio Service","P 12 G5","AUS-0189",{"$f":"IF(ISBLANK('Assortiment Hoortoestellen'!$B$26),1,IF(ISERROR(SEARCH(PROPER('Assortiment Hoortoestellen'!$B$26),PROPER('Dataset hoortoestellen'!D1782))),0,1))","v":1}]
["Betzel Hooroplossingen",4,"Audio Service","P 8 G5","AUS-0190",{"$f":"IF(ISBLANK('Assortiment Hoortoestellen'!$B$26),1,IF(ISERROR(SEARCH(PROPER('Assortiment Hoortoestellen'!$B$26),PROPER('Dataset hoortoestellen'!D1783))),0,1))","v":1}]
["Betzel Hooroplossingen",5,"Audio Service","quiX 12 G5 Links","AUS-0191",{"$f":"IF(ISBLANK('Assortiment Hoortoestellen'!$B$26),1,IF(ISERROR(SEARCH(PROPER('Assortiment Hoortoestellen'!$B$26),PROPER('Dataset hoortoestellen'!D1784))),0,1))","v":1}]
["Betzel Hooroplossingen",5,"Audio Service","quiX 12 G5 Rechts","AUS-0192",{"$f":"IF(ISBLANK('Assortiment Hoortoestellen'!$B$26),1,IF(ISERROR(SEARCH(PROPER('Assortiment Hoortoestellen'!$B$26),PROPER('Dataset hoortoestellen'!D1785))),0,1))","v":1}]
["Betzel Hooroplossingen",4,"Audio Service","quiX 8 G5 Links","AUS-0193",{"$f":"IF(ISBLANK('Assortiment Hoortoestellen'!$B$26),1,IF(ISERROR(SEARCH(PROPER('Assortiment Hoortoestellen'!$B$26),PROPER('Dataset hoortoestellen'!D1786))),0,1))","v":1}]
["Betzel Hooroplossingen",4,"Audio Service","quiX 8 G5 Rechts","AUS-0194",{"$f":"IF(ISBLANK('Assortiment Hoortoestellen'!$B$26),1,IF(ISERROR(SEARCH(PROPER('Assortiment Hoortoestellen'!$B$26),PROPER('Dataset hoortoestellen'!D1787))),0,1))","v":1}]
["Betzel Hooroplossingen",5,"Audio Service","Rixx 12 G5","AUS-0195",{"$f":"IF(ISBLANK('Assortiment Hoortoestellen'!$B$26),1,IF(ISERROR(SEARCH(PROPER('Assortiment Hoortoestellen'!$B$26),PROPER('Dataset hoortoestellen'!D1788))),0,1))","v":1}]
["Betzel Hooroplossingen",4,"Audio Service","Rixx 8 G5","AUS-0196",{"$f":"IF(ISBLANK('Assortiment Hoortoestellen'!$B$26),1,IF(ISERROR(SEARCH(PROPER('Assortiment Hoortoestellen'!$B$26),PROPER('Dataset hoortoestellen'!D1789))),0,1))","v":1}]
["Betzel Hooroplossingen",5,"Audio Service","Sun 12 G5","AUS-0197",{"$f":"IF(ISBLANK('Assortiment Hoortoestellen'!$B$26),1,IF(ISERROR(SEARCH(PROPER('Assortiment Hoortoestellen'!$B$26),PROPER('Dataset hoortoestellen'!D1790))),0,1))","v":1}]
["Betzel Hooroplossingen",4,"Audio Service","Sun 8 G5","AUS-0198",{"$f":"IF(ISBLANK('Assortiment Hoortoestellen'!$B$26),1,IF(ISERROR(SEARCH(PROPER('Assortiment Hoortoestellen'!$B$26),PROPER('Dataset hoortoestellen'!D1791))),0,1))","v":1}]
["Betzel Hooroplossingen",2,"Audio Service","Duo 4 G5","AUS-0205",{"$f":"IF(ISBLANK('Assortiment Hoortoestellen'!$B$26),1,IF(ISERROR(SEARCH(PROPER('Assortiment Hoortoestellen'!$B$26),PROPER('Dataset hoortoestellen'!D1792))),0,1))","v":1}]
["Betzel Hooroplossingen",3,"Audio Service","Duo 6 G5","AUS-0206",{"$f":"IF(ISBLANK('Assortiment Hoortoestellen'!$B$26),1,IF(ISERROR(SEARCH(PROPER('Assortiment Hoortoestellen'!$B$26),PROPER('Dataset hoortoestellen'!D1793))),0,1))","v":1}]
["Betzel Hooroplossingen",2,"Audio Service","Mood 4 G5","AUS-0207",{"$f":"IF(ISBLANK('Assortiment Hoortoestellen'!$B$26),1,IF(ISERROR(SEARCH(PROPER('Assortiment Hoortoestellen'!$B$26),PROPER('Dataset hoortoestellen'!D1794))),0,1))","v":1}]
["Betzel Hooroplossingen",3,"Audio Service","Mood 6 G5","AUS-0208",{"$f":"IF(ISBLANK('Assortiment Hoortoestellen'!$B$26),1,IF(ISERROR(SEARCH(PROPER('Assortiment Hoortoestellen'!$B$26),PROPER('Dataset hoortoestellen'!D1795))),0,1))","v":1}]
["Betzel Hooroplossingen",2,"Audio Service","P 4 G5","AUS-0209",{"$f":"IF(ISBLANK('Assortiment Hoortoestellen'!$B$26),1,IF(ISERROR(SEARCH(PROPER('Assortiment Hoortoestellen'!$B$26),PROPER('Dataset hoortoestellen'!D1796))),0,1))","v":1}]
["Betzel Hooroplossingen",3,"Audio Service","P 6 G5","AUS-0210",{"$f":"IF(ISBLANK('Assortiment Hoortoestellen'!$B$26),1,IF(ISERROR(SEARCH(PROPER('Assortiment Hoortoestellen'!$B$26),PROPER('Dataset hoortoestellen'!D1797))),0,1))","v":1}]
["Betzel Hooroplossingen",2,"Audio Service","quiX 4 G5 Links","AUS-0211",{"$f":"IF(ISBLANK('Assortiment Hoortoestellen'!$B$26),1,IF(ISERROR(SEARCH(PROPER('Assortiment Hoortoestellen'!$B$26),PROPER('Dataset hoortoestellen'!D1798))),0,1))","v":1}]
["Betzel Hooroplossingen",2,"Audio Service","quiX 4 G5 Rechts","AUS-0212",{"$f":"IF(ISBLANK('Assortiment Hoortoestellen'!$B$26),1,IF(ISERROR(SEARCH(PROPER('Assortiment Hoortoestellen'!$B$26),PROPER('Dataset hoortoestellen'!D1799))),0,1))","v":1}]
["Betzel Hooroplossingen",3,"Audio Service","quiX 6  G5 Rechts","AUS-0213",{"$f":"IF(ISBLANK('Assortiment Hoortoestellen'!$B$26),1,IF(ISERROR(SEARCH(PROPER('Assortiment Hoortoestellen'!$B$26),PROPER('Dataset hoortoestellen'!D1800))),0,1))","v":1}]
["Betzel Hooroplossingen",3,"Audio Service","quiX 6  G5 Links","AUS-0214",{"$f":"IF(ISBLANK('Assortiment Hoortoestellen'!$B$26),1,IF(ISERROR(SEARCH(PROPER('Assortiment Hoortoestellen'!$B$26),PROPER('Dataset hoortoestellen'!D1801))),0,1))","v":1}]
["Betzel Hooroplossingen",2,"Audio Service","Rixx 4  G5","AUS-0215",{"$f":"IF(ISBLANK('Assortiment Hoortoestellen'!$B$26),1,IF(ISERROR(SEARCH(PROPER('Assortiment Hoortoestellen'!$B$26),PROPER('Dataset hoortoestellen'!D1802))),0,1))","v":1}]
["Betzel Hooroplossingen",3,"Audio Service","Rixx 6 G5","AUS-0216",{"$f":"IF(ISBLANK('Assortiment Hoortoestellen'!$B$26),1,IF(ISERROR(SEARCH(PROPER('Assortiment Hoortoestellen'!$B$26),PROPER('Dataset hoortoestellen'!D1803))),0,1))","v":1}]
["Betzel Hooroplossingen",2,"Audio Service","Sun 4 G5","AUS-0217",{"$f":"IF(ISBLANK('Assortiment Hoortoestellen'!$B$26),1,IF(ISERROR(SEARCH(PROPER('Assortiment Hoortoestellen'!$B$26),PROPER('Dataset hoortoestellen'!D1804))),0,1))","v":1}]
["Betzel Hooroplossingen",3,"Audio Service","Sun 6 G5","AUS-0218",{"$f":"IF(ISBLANK('Assortiment Hoortoestellen'!$B$26),1,IF(ISERROR(SEARCH(PROPER('Assortiment Hoortoestellen'!$B$26),PROPER('Dataset hoortoestellen'!D1805))),0,1))","v":1}]
["Betzel Hooroplossingen",1,"Audio Service ","Volta HP C","AUS-0219",{"$f":"IF(ISBLANK('Assortiment Hoortoestellen'!$B$26),1,IF(ISERROR(SEARCH(PROPER('Assortiment Hoortoestellen'!$B$26),PROPER('Dataset hoortoestellen'!D1806))),0,1))","v":1}]
["Betzel Hooroplossingen",1,"Audio Service ","Volta P C","AUS-0220",{"$f":"IF(ISBLANK('Assortiment Hoortoestellen'!$B$26),1,IF(ISERROR(SEARCH(PROPER('Assortiment Hoortoestellen'!$B$26),PROPER('Dataset hoortoestellen'!D1807))),0,1))","v":1}]
["Betzel Hooroplossingen",1,"Audio Service ","Volta quiX C Links","AUS-0221",{"$f":"IF(ISBLANK('Assortiment Hoortoestellen'!$B$26),1,IF(ISERROR(SEARCH(PROPER('Assortiment Hoortoestellen'!$B$26),PROPER('Dataset hoortoestellen'!D1808))),0,1))","v":1}]
["Betzel Hooroplossingen",1,"Audio Service ","Volta quiX C rechts","AUS-0222",{"$f":"IF(ISBLANK('Assortiment Hoortoestellen'!$B$26),1,IF(ISERROR(SEARCH(PROPER('Assortiment Hoortoestellen'!$B$26),PROPER('Dataset hoortoestellen'!D1809))),0,1))","v":1}]
["Betzel Hooroplossingen",1,"Audio Service ","Volta XS C","AUS-0225",{"$f":"IF(ISBLANK('Assortiment Hoortoestellen'!$B$26),1,IF(ISERROR(SEARCH(PROPER('Assortiment Hoortoestellen'!$B$26),PROPER('Dataset hoortoestellen'!D1810))),0,1))","v":1}]
["Betzel Hooroplossingen",1,"Bernafon","Nevara 1 CICx","BER-0453",{"$f":"IF(ISBLANK('Assortiment Hoortoestellen'!$B$26),1,IF(ISERROR(SEARCH(PROPER('Assortiment Hoortoestellen'!$B$26),PROPER('Dataset hoortoestellen'!D1811))),0,1))","v":1}]
["Betzel Hooroplossingen",1,"Bernafon","Nevara 1 ITC","BER-0455",{"$f":"IF(ISBLANK('Assortiment Hoortoestellen'!$B$26),1,IF(ISERROR(SEARCH(PROPER('Assortiment Hoortoestellen'!$B$26),PROPER('Dataset hoortoestellen'!D1812))),0,1))","v":1}]
["Betzel Hooroplossingen",1,"Bernafon","Nevara 1 P","BER-0460",{"$f":"IF(ISBLANK('Assortiment Hoortoestellen'!$B$26),1,IF(ISERROR(SEARCH(PROPER('Assortiment Hoortoestellen'!$B$26),PROPER('Dataset hoortoestellen'!D1813))),0,1))","v":1}]
["Betzel Hooroplossingen",1,"Bernafon","Nevara 1 PR","BER-0486",{"$f":"IF(ISBLANK('Assortiment Hoortoestellen'!$B$26),1,IF(ISERROR(SEARCH(PROPER('Assortiment Hoortoestellen'!$B$26),PROPER('Dataset hoortoestellen'!D1814))),0,1))","v":1}]
["Betzel Hooroplossingen",2,"Bernafon","Zerena 1 BTE 105","BER-0615",{"$f":"IF(ISBLANK('Assortiment Hoortoestellen'!$B$26),1,IF(ISERROR(SEARCH(PROPER('Assortiment Hoortoestellen'!$B$26),PROPER('Dataset hoortoestellen'!D1815))),0,1))","v":1}]
["Betzel Hooroplossingen",2,"Bernafon","Zerena 1 CIC","BER-0616",{"$f":"IF(ISBLANK('Assortiment Hoortoestellen'!$B$26),1,IF(ISERROR(SEARCH(PROPER('Assortiment Hoortoestellen'!$B$26),PROPER('Dataset hoortoestellen'!D1816))),0,1))","v":1}]
["Betzel Hooroplossingen",2,"Bernafon","Zerena 1 IIC","BER-0617",{"$f":"IF(ISBLANK('Assortiment Hoortoestellen'!$B$26),1,IF(ISERROR(SEARCH(PROPER('Assortiment Hoortoestellen'!$B$26),PROPER('Dataset hoortoestellen'!D1817))),0,1))","v":1}]
["Betzel Hooroplossingen",2,"Bernafon","Zerena 1 MNR","BER-0621",{"$f":"IF(ISBLANK('Assortiment Hoortoestellen'!$B$26),1,IF(ISERROR(SEARCH(PROPER('Assortiment Hoortoestellen'!$B$26),PROPER('Dataset hoortoestellen'!D1818))),0,1))","v":1}]
["Betzel Hooroplossingen",3,"Bernafon","Zerena 3 BTE 105","BER-0623",{"$f":"IF(ISBLANK('Assortiment Hoortoestellen'!$B$26),1,IF(ISERROR(SEARCH(PROPER('Assortiment Hoortoestellen'!$B$26),PROPER('Dataset hoortoestellen'!D1819))),0,1))","v":1}]
["Betzel Hooroplossingen",3,"Bernafon","Zerena 3 MNR","BER-0629",{"$f":"IF(ISBLANK('Assortiment Hoortoestellen'!$B$26),1,IF(ISERROR(SEARCH(PROPER('Assortiment Hoortoestellen'!$B$26),PROPER('Dataset hoortoestellen'!D1820))),0,1))","v":1}]
["Betzel Hooroplossingen",4,"Bernafon","Zerena 5 BTE 105","BER-0631",{"$f":"IF(ISBLANK('Assortiment Hoortoestellen'!$B$26),1,IF(ISERROR(SEARCH(PROPER('Assortiment Hoortoestellen'!$B$26),PROPER('Dataset hoortoestellen'!D1821))),0,1))","v":1}]
["Betzel Hooroplossingen",4,"Bernafon","Zerena 5 CIC","BER-0632",{"$f":"IF(ISBLANK('Assortiment Hoortoestellen'!$B$26),1,IF(ISERROR(SEARCH(PROPER('Assortiment Hoortoestellen'!$B$26),PROPER('Dataset hoortoestellen'!D1822))),0,1))","v":1}]
["Betzel Hooroplossingen",4,"Bernafon","Zerena 5 IIC","BER-0633",{"$f":"IF(ISBLANK('Assortiment Hoortoestellen'!$B$26),1,IF(ISERROR(SEARCH(PROPER('Assortiment Hoortoestellen'!$B$26),PROPER('Dataset hoortoestellen'!D1823))),0,1))","v":1}]
["Betzel Hooroplossingen",4,"Bernafon","Zerena 5 MNR","BER-0637",{"$f":"IF(ISBLANK('Assortiment Hoortoestellen'!$B$26),1,IF(ISERROR(SEARCH(PROPER('Assortiment Hoortoestellen'!$B$26),PROPER('Dataset hoortoestellen'!D1824))),0,1))","v":1}]
["Betzel Hooroplossingen",5,"Bernafon","Zerena 7 BTE 105","BER-0639",{"$f":"IF(ISBLANK('Assortiment Hoortoestellen'!$B$26),1,IF(ISERROR(SEARCH(PROPER('Assortiment Hoortoestellen'!$B$26),PROPER('Dataset hoortoestellen'!D1825))),0,1))","v":1}]
["Betzel Hooroplossingen",5,"Bernafon","Zerena 7 CIC","BER-0640",{"$f":"IF(ISBLANK('Assortiment Hoortoestellen'!$B$26),1,IF(ISERROR(SEARCH(PROPER('Assortiment Hoortoestellen'!$B$26),PROPER('Dataset hoortoestellen'!D1826))),0,1))","v":1}]
["Betzel Hooroplossingen",5,"Bernafon","Zerena 7 IIC","BER-0641",{"$f":"IF(ISBLANK('Assortiment Hoortoestellen'!$B$26),1,IF(ISERROR(SEARCH(PROPER('Assortiment Hoortoestellen'!$B$26),PROPER('Dataset hoortoestellen'!D1827))),0,1))","v":1}]
["Betzel Hooroplossingen",5,"Bernafon","Zerena 7 MNR","BER-0645",{"$f":"IF(ISBLANK('Assortiment Hoortoestellen'!$B$26),1,IF(ISERROR(SEARCH(PROPER('Assortiment Hoortoestellen'!$B$26),PROPER('Dataset hoortoestellen'!D1828))),0,1))","v":1}]
["Betzel Hooroplossingen",3,"Coselgi","U10-CIC (links)","COS-0137",{"$f":"IF(ISBLANK('Assortiment Hoortoestellen'!$B$26),1,IF(ISERROR(SEARCH(PROPER('Assortiment Hoortoestellen'!$B$26),PROPER('Dataset hoortoestellen'!D1829))),0,1))","v":1}]
["Betzel Hooroplossingen",3,"Coselgi","U10-CIC TR (links)","COS-0138",{"$f":"IF(ISBLANK('Assortiment Hoortoestellen'!$B$26),1,IF(ISERROR(SEARCH(PROPER('Assortiment Hoortoestellen'!$B$26),PROPER('Dataset hoortoestellen'!D1830))),0,1))","v":1}]
["Betzel Hooroplossingen",3,"Coselgi","U10-FA","COS-0139",{"$f":"IF(ISBLANK('Assortiment Hoortoestellen'!$B$26),1,IF(ISERROR(SEARCH(PROPER('Assortiment Hoortoestellen'!$B$26),PROPER('Dataset hoortoestellen'!D1831))),0,1))","v":1}]
["Betzel Hooroplossingen",3,"Coselgi","U10-FM","COS-0140",{"$f":"IF(ISBLANK('Assortiment Hoortoestellen'!$B$26),1,IF(ISERROR(SEARCH(PROPER('Assortiment Hoortoestellen'!$B$26),PROPER('Dataset hoortoestellen'!D1832))),0,1))","v":1}]
["Betzel Hooroplossingen",3,"Coselgi","U10-FP","COS-0141",{"$f":"IF(ISBLANK('Assortiment Hoortoestellen'!$B$26),1,IF(ISERROR(SEARCH(PROPER('Assortiment Hoortoestellen'!$B$26),PROPER('Dataset hoortoestellen'!D1833))),0,1))","v":1}]
["Betzel Hooroplossingen",3,"Coselgi","U10-FS (HP-tel)","COS-0142",{"$f":"IF(ISBLANK('Assortiment Hoortoestellen'!$B$26),1,IF(ISERROR(SEARCH(PROPER('Assortiment Hoortoestellen'!$B$26),PROPER('Dataset hoortoestellen'!D1834))),0,1))","v":1}]
["Betzel Hooroplossingen",3,"Coselgi","U10-FS (M-tel)","COS-0143",{"$f":"IF(ISBLANK('Assortiment Hoortoestellen'!$B$26),1,IF(ISERROR(SEARCH(PROPER('Assortiment Hoortoestellen'!$B$26),PROPER('Dataset hoortoestellen'!D1835))),0,1))","v":1}]
["Betzel Hooroplossingen",3,"Coselgi","U10-FS (P-tel)","COS-0144",{"$f":"IF(ISBLANK('Assortiment Hoortoestellen'!$B$26),1,IF(ISERROR(SEARCH(PROPER('Assortiment Hoortoestellen'!$B$26),PROPER('Dataset hoortoestellen'!D1836))),0,1))","v":1}]
["Betzel Hooroplossingen",3,"Coselgi","U10-FS (S-tel)","COS-0145",{"$f":"IF(ISBLANK('Assortiment Hoortoestellen'!$B$26),1,IF(ISERROR(SEARCH(PROPER('Assortiment Hoortoestellen'!$B$26),PROPER('Dataset hoortoestellen'!D1837))),0,1))","v":1}]
["Betzel Hooroplossingen",3,"Coselgi","U10-PA (M-tel)","COS-0146",{"$f":"IF(ISBLANK('Assortiment Hoortoestellen'!$B$26),1,IF(ISERROR(SEARCH(PROPER('Assortiment Hoortoestellen'!$B$26),PROPER('Dataset hoortoestellen'!D1838))),0,1))","v":1}]
["Betzel Hooroplossingen",3,"Coselgi","U10-PA (S-tel)","COS-0147",{"$f":"IF(ISBLANK('Assortiment Hoortoestellen'!$B$26),1,IF(ISERROR(SEARCH(PROPER('Assortiment Hoortoestellen'!$B$26),PROPER('Dataset hoortoestellen'!D1839))),0,1))","v":1}]
["Betzel Hooroplossingen",3,"Coselgi","U10-XP","COS-0148",{"$f":"IF(ISBLANK('Assortiment Hoortoestellen'!$B$26),1,IF(ISERROR(SEARCH(PROPER('Assortiment Hoortoestellen'!$B$26),PROPER('Dataset hoortoestellen'!D1840))),0,1))","v":1}]
["Betzel Hooroplossingen",4,"Coselgi","U10E-CIC (links)","COS-0149",{"$f":"IF(ISBLANK('Assortiment Hoortoestellen'!$B$26),1,IF(ISERROR(SEARCH(PROPER('Assortiment Hoortoestellen'!$B$26),PROPER('Dataset hoortoestellen'!D1841))),0,1))","v":1}]
["Betzel Hooroplossingen",4,"Coselgi","U10E-CIC TR (links)","COS-0150",{"$f":"IF(ISBLANK('Assortiment Hoortoestellen'!$B$26),1,IF(ISERROR(SEARCH(PROPER('Assortiment Hoortoestellen'!$B$26),PROPER('Dataset hoortoestellen'!D1842))),0,1))","v":1}]
["Betzel Hooroplossingen",4,"Coselgi","U10E-FA","COS-0151",{"$f":"IF(ISBLANK('Assortiment Hoortoestellen'!$B$26),1,IF(ISERROR(SEARCH(PROPER('Assortiment Hoortoestellen'!$B$26),PROPER('Dataset hoortoestellen'!D1843))),0,1))","v":1}]
["Betzel Hooroplossingen",4,"Coselgi","U10E-FM","COS-0152",{"$f":"IF(ISBLANK('Assortiment Hoortoestellen'!$B$26),1,IF(ISERROR(SEARCH(PROPER('Assortiment Hoortoestellen'!$B$26),PROPER('Dataset hoortoestellen'!D1844))),0,1))","v":1}]
["Betzel Hooroplossingen",4,"Coselgi","U10E-FP","COS-0153",{"$f":"IF(ISBLANK('Assortiment Hoortoestellen'!$B$26),1,IF(ISERROR(SEARCH(PROPER('Assortiment Hoortoestellen'!$B$26),PROPER('Dataset hoortoestellen'!D1845))),0,1))","v":1}]
["Betzel Hooroplossingen",4,"Coselgi","U10E-FS (HP-tel)","COS-0154",{"$f":"IF(ISBLANK('Assortiment Hoortoestellen'!$B$26),1,IF(ISERROR(SEARCH(PROPER('Assortiment Hoortoestellen'!$B$26),PROPER('Dataset hoortoestellen'!D1846))),0,1))","v":1}]
["Betzel Hooroplossingen",4,"Coselgi","U10E-FS (M-tel)","COS-0155",{"$f":"IF(ISBLANK('Assortiment Hoortoestellen'!$B$26),1,IF(ISERROR(SEARCH(PROPER('Assortiment Hoortoestellen'!$B$26),PROPER('Dataset hoortoestellen'!D1847))),0,1))","v":1}]
["Betzel Hooroplossingen",4,"Coselgi","U10E-FS (P-tel)","COS-0156",{"$f":"IF(ISBLANK('Assortiment Hoortoestellen'!$B$26),1,IF(ISERROR(SEARCH(PROPER('Assortiment Hoortoestellen'!$B$26),PROPER('Dataset hoortoestellen'!D1848))),0,1))","v":1}]
["Betzel Hooroplossingen",4,"Coselgi","U10E-FS (S-tel)","COS-0157",{"$f":"IF(ISBLANK('Assortiment Hoortoestellen'!$B$26),1,IF(ISERROR(SEARCH(PROPER('Assortiment Hoortoestellen'!$B$26),PROPER('Dataset hoortoestellen'!D1849))),0,1))","v":1}]
["Betzel Hooroplossingen",4,"Coselgi","U10E-PA (M-tel)","COS-0158",{"$f":"IF(ISBLANK('Assortiment Hoortoestellen'!$B$26),1,IF(ISERROR(SEARCH(PROPER('Assortiment Hoortoestellen'!$B$26),PROPER('Dataset hoortoestellen'!D1850))),0,1))","v":1}]
["Betzel Hooroplossingen",4,"Coselgi","U10E-PA (S-tel)","COS-0159",{"$f":"IF(ISBLANK('Assortiment Hoortoestellen'!$B$26),1,IF(ISERROR(SEARCH(PROPER('Assortiment Hoortoestellen'!$B$26),PROPER('Dataset hoortoestellen'!D1851))),0,1))","v":1}]
["Betzel Hooroplossingen",4,"Coselgi","U10E-XP","COS-0160",{"$f":"IF(ISBLANK('Assortiment Hoortoestellen'!$B$26),1,IF(ISERROR(SEARCH(PROPER('Assortiment Hoortoestellen'!$B$26),PROPER('Dataset hoortoestellen'!D1852))),0,1))","v":1}]
["Betzel Hooroplossingen",5,"Coselgi","U15-CIC (links)","COS-0161",{"$f":"IF(ISBLANK('Assortiment Hoortoestellen'!$B$26),1,IF(ISERROR(SEARCH(PROPER('Assortiment Hoortoestellen'!$B$26),PROPER('Dataset hoortoestellen'!D1853))),0,1))","v":1}]
["Betzel Hooroplossingen",5,"Coselgi","U15-CIC TR (links)","COS-0162",{"$f":"IF(ISBLANK('Assortiment Hoortoestellen'!$B$26),1,IF(ISERROR(SEARCH(PROPER('Assortiment Hoortoestellen'!$B$26),PROPER('Dataset hoortoestellen'!D1854))),0,1))","v":1}]
["Betzel Hooroplossingen",5,"Coselgi","U15-FA","COS-0163",{"$f":"IF(ISBLANK('Assortiment Hoortoestellen'!$B$26),1,IF(ISERROR(SEARCH(PROPER('Assortiment Hoortoestellen'!$B$26),PROPER('Dataset hoortoestellen'!D1855))),0,1))","v":1}]
["Betzel Hooroplossingen",5,"Coselgi","U15-FM","COS-0164",{"$f":"IF(ISBLANK('Assortiment Hoortoestellen'!$B$26),1,IF(ISERROR(SEARCH(PROPER('Assortiment Hoortoestellen'!$B$26),PROPER('Dataset hoortoestellen'!D1856))),0,1))","v":1}]
["Betzel Hooroplossingen",5,"Coselgi","U15-FP","COS-0165",{"$f":"IF(ISBLANK('Assortiment Hoortoestellen'!$B$26),1,IF(ISERROR(SEARCH(PROPER('Assortiment Hoortoestellen'!$B$26),PROPER('Dataset hoortoestellen'!D1857))),0,1))","v":1}]
["Betzel Hooroplossingen",5,"Coselgi","U15-FS (HP-tel)","COS-0166",{"$f":"IF(ISBLANK('Assortiment Hoortoestellen'!$B$26),1,IF(ISERROR(SEARCH(PROPER('Assortiment Hoortoestellen'!$B$26),PROPER('Dataset hoortoestellen'!D1858))),0,1))","v":1}]
["Betzel Hooroplossingen",5,"Coselgi","U15-FS (M-tel)","COS-0167",{"$f":"IF(ISBLANK('Assortiment Hoortoestellen'!$B$26),1,IF(ISERROR(SEARCH(PROPER('Assortiment Hoortoestellen'!$B$26),PROPER('Dataset hoortoestellen'!D1859))),0,1))","v":1}]
["Betzel Hooroplossingen",5,"Coselgi","U15-FS (P-tel)","COS-0168",{"$f":"IF(ISBLANK('Assortiment Hoortoestellen'!$B$26),1,IF(ISERROR(SEARCH(PROPER('Assortiment Hoortoestellen'!$B$26),PROPER('Dataset hoortoestellen'!D1860))),0,1))","v":1}]
["Betzel Hooroplossingen",5,"Coselgi","U15-FS (S-tel)","COS-0169",{"$f":"IF(ISBLANK('Assortiment Hoortoestellen'!$B$26),1,IF(ISERROR(SEARCH(PROPER('Assortiment Hoortoestellen'!$B$26),PROPER('Dataset hoortoestellen'!D1861))),0,1))","v":1}]
["Betzel Hooroplossingen",5,"Coselgi","U15-PA (M-tel)","COS-0170",{"$f":"IF(ISBLANK('Assortiment Hoortoestellen'!$B$26),1,IF(ISERROR(SEARCH(PROPER('Assortiment Hoortoestellen'!$B$26),PROPER('Dataset hoortoestellen'!D1862))),0,1))","v":1}]
["Betzel Hooroplossingen",5,"Coselgi","U15-XP","COS-0172",{"$f":"IF(ISBLANK('Assortiment Hoortoestellen'!$B$26),1,IF(ISERROR(SEARCH(PROPER('Assortiment Hoortoestellen'!$B$26),PROPER('Dataset hoortoestellen'!D1863))),0,1))","v":1}]
["Betzel Hooroplossingen",2,"Coselgi","U6-CIC (links)","COS-0241",{"$f":"IF(ISBLANK('Assortiment Hoortoestellen'!$B$26),1,IF(ISERROR(SEARCH(PROPER('Assortiment Hoortoestellen'!$B$26),PROPER('Dataset hoortoestellen'!D1864))),0,1))","v":1}]
["Betzel Hooroplossingen",2,"Coselgi","U6-CIC TR (links)","COS-0242",{"$f":"IF(ISBLANK('Assortiment Hoortoestellen'!$B$26),1,IF(ISERROR(SEARCH(PROPER('Assortiment Hoortoestellen'!$B$26),PROPER('Dataset hoortoestellen'!D1865))),0,1))","v":1}]
["Betzel Hooroplossingen",2,"Coselgi","U6-FA","COS-0243",{"$f":"IF(ISBLANK('Assortiment Hoortoestellen'!$B$26),1,IF(ISERROR(SEARCH(PROPER('Assortiment Hoortoestellen'!$B$26),PROPER('Dataset hoortoestellen'!D1866))),0,1))","v":1}]
["Betzel Hooroplossingen",2,"Coselgi","U6-FM","COS-0244",{"$f":"IF(ISBLANK('Assortiment Hoortoestellen'!$B$26),1,IF(ISERROR(SEARCH(PROPER('Assortiment Hoortoestellen'!$B$26),PROPER('Dataset hoortoestellen'!D1867))),0,1))","v":1}]
["Betzel Hooroplossingen",2,"Coselgi","U6-FP","COS-0245",{"$f":"IF(ISBLANK('Assortiment Hoortoestellen'!$B$26),1,IF(ISERROR(SEARCH(PROPER('Assortiment Hoortoestellen'!$B$26),PROPER('Dataset hoortoestellen'!D1868))),0,1))","v":1}]
["Betzel Hooroplossingen",2,"Coselgi","U6-FS (HP-tel)","COS-0246",{"$f":"IF(ISBLANK('Assortiment Hoortoestellen'!$B$26),1,IF(ISERROR(SEARCH(PROPER('Assortiment Hoortoestellen'!$B$26),PROPER('Dataset hoortoestellen'!D1869))),0,1))","v":1}]
["Betzel Hooroplossingen",2,"Coselgi","U6-FS (M-tel)","COS-0247",{"$f":"IF(ISBLANK('Assortiment Hoortoestellen'!$B$26),1,IF(ISERROR(SEARCH(PROPER('Assortiment Hoortoestellen'!$B$26),PROPER('Dataset hoortoestellen'!D1870))),0,1))","v":1}]
["Betzel Hooroplossingen",2,"Coselgi","U6-FS (P-tel)","COS-0248",{"$f":"IF(ISBLANK('Assortiment Hoortoestellen'!$B$26),1,IF(ISERROR(SEARCH(PROPER('Assortiment Hoortoestellen'!$B$26),PROPER('Dataset hoortoestellen'!D1871))),0,1))","v":1}]
["Betzel Hooroplossingen",2,"Coselgi","U6-FS (S-tel)","COS-0249",{"$f":"IF(ISBLANK('Assortiment Hoortoestellen'!$B$26),1,IF(ISERROR(SEARCH(PROPER('Assortiment Hoortoestellen'!$B$26),PROPER('Dataset hoortoestellen'!D1872))),0,1))","v":1}]
["Betzel Hooroplossingen",2,"Coselgi","U6-PA (M-tel)","COS-0250",{"$f":"IF(ISBLANK('Assortiment Hoortoestellen'!$B$26),1,IF(ISERROR(SEARCH(PROPER('Assortiment Hoortoestellen'!$B$26),PROPER('Dataset hoortoestellen'!D1873))),0,1))","v":1}]
["Betzel Hooroplossingen",2,"Coselgi","U6-PA (S-tel)","COS-0251",{"$f":"IF(ISBLANK('Assortiment Hoortoestellen'!$B$26),1,IF(ISERROR(SEARCH(PROPER('Assortiment Hoortoestellen'!$B$26),PROPER('Dataset hoortoestellen'!D1874))),0,1))","v":1}]
["Betzel Hooroplossingen",2,"Coselgi","U6-XP","COS-0252",{"$f":"IF(ISBLANK('Assortiment Hoortoestellen'!$B$26),1,IF(ISERROR(SEARCH(PROPER('Assortiment Hoortoestellen'!$B$26),PROPER('Dataset hoortoestellen'!D1875))),0,1))","v":1}]
["Betzel Hooroplossingen",3,"Coselgi","U6E-FA","COS-0255",{"$f":"IF(ISBLANK('Assortiment Hoortoestellen'!$B$26),1,IF(ISERROR(SEARCH(PROPER('Assortiment Hoortoestellen'!$B$26),PROPER('Dataset hoortoestellen'!D1876))),0,1))","v":1}]
["Betzel Hooroplossingen",3,"Coselgi","U6E-FM","COS-0256",{"$f":"IF(ISBLANK('Assortiment Hoortoestellen'!$B$26),1,IF(ISERROR(SEARCH(PROPER('Assortiment Hoortoestellen'!$B$26),PROPER('Dataset hoortoestellen'!D1877))),0,1))","v":1}]
["Betzel Hooroplossingen",3,"Coselgi","U6E-FP","COS-0257",{"$f":"IF(ISBLANK('Assortiment Hoortoestellen'!$B$26),1,IF(ISERROR(SEARCH(PROPER('Assortiment Hoortoestellen'!$B$26),PROPER('Dataset hoortoestellen'!D1878))),0,1))","v":1}]
["Betzel Hooroplossingen",3,"Coselgi","U6E-FS (HP-tel)","COS-0258",{"$f":"IF(ISBLANK('Assortiment Hoortoestellen'!$B$26),1,IF(ISERROR(SEARCH(PROPER('Assortiment Hoortoestellen'!$B$26),PROPER('Dataset hoortoestellen'!D1879))),0,1))","v":1}]
["Betzel Hooroplossingen",3,"Coselgi","U6E-FS (M-tel)","COS-0259",{"$f":"IF(ISBLANK('Assortiment Hoortoestellen'!$B$26),1,IF(ISERROR(SEARCH(PROPER('Assortiment Hoortoestellen'!$B$26),PROPER('Dataset hoortoestellen'!D1880))),0,1))","v":1}]
["Betzel Hooroplossingen",3,"Coselgi","U6E-FS (P-tel)","COS-0260",{"$f":"IF(ISBLANK('Assortiment Hoortoestellen'!$B$26),1,IF(ISERROR(SEARCH(PROPER('Assortiment Hoortoestellen'!$B$26),PROPER('Dataset hoortoestellen'!D1881))),0,1))","v":1}]
["Betzel Hooroplossingen",3,"Coselgi","U6E-FS (S-tel)","COS-0261",{"$f":"IF(ISBLANK('Assortiment Hoortoestellen'!$B$26),1,IF(ISERROR(SEARCH(PROPER('Assortiment Hoortoestellen'!$B$26),PROPER('Dataset hoortoestellen'!D1882))),0,1))","v":1}]
["Betzel Hooroplossingen",3,"Coselgi","U6E-PA (M-tel)","COS-0262",{"$f":"IF(ISBLANK('Assortiment Hoortoestellen'!$B$26),1,IF(ISERROR(SEARCH(PROPER('Assortiment Hoortoestellen'!$B$26),PROPER('Dataset hoortoestellen'!D1883))),0,1))","v":1}]
["Betzel Hooroplossingen",3,"Coselgi","U6E-PA (S-tel)","COS-0263",{"$f":"IF(ISBLANK('Assortiment Hoortoestellen'!$B$26),1,IF(ISERROR(SEARCH(PROPER('Assortiment Hoortoestellen'!$B$26),PROPER('Dataset hoortoestellen'!D1884))),0,1))","v":1}]
["Betzel Hooroplossingen",3,"Coselgi","U6E-XP","COS-0264",{"$f":"IF(ISBLANK('Assortiment Hoortoestellen'!$B$26),1,IF(ISERROR(SEARCH(PROPER('Assortiment Hoortoestellen'!$B$26),PROPER('Dataset hoortoestellen'!D1885))),0,1))","v":1}]
["Betzel Hooroplossingen",3,"Coselgi","U6-CIC (rechts)","COS-0271",{"$f":"IF(ISBLANK('Assortiment Hoortoestellen'!$B$26),1,IF(ISERROR(SEARCH(PROPER('Assortiment Hoortoestellen'!$B$26),PROPER('Dataset hoortoestellen'!D1886))),0,1))","v":1}]
["Betzel Hooroplossingen",3,"Coselgi","U6-CIC TR (rechts)","COS-0272",{"$f":"IF(ISBLANK('Assortiment Hoortoestellen'!$B$26),1,IF(ISERROR(SEARCH(PROPER('Assortiment Hoortoestellen'!$B$26),PROPER('Dataset hoortoestellen'!D1887))),0,1))","v":1}]
["Betzel Hooroplossingen",2,"Coselgi","Effect EF2-F2 (HP-tel)","COS-0276",{"$f":"IF(ISBLANK('Assortiment Hoortoestellen'!$B$26),1,IF(ISERROR(SEARCH(PROPER('Assortiment Hoortoestellen'!$B$26),PROPER('Dataset hoortoestellen'!D1888))),0,1))","v":1}]
["Betzel Hooroplossingen",2,"Coselgi","Effect EF2-F2 (M-tel)","COS-0277",{"$f":"IF(ISBLANK('Assortiment Hoortoestellen'!$B$26),1,IF(ISERROR(SEARCH(PROPER('Assortiment Hoortoestellen'!$B$26),PROPER('Dataset hoortoestellen'!D1889))),0,1))","v":1}]
["Betzel Hooroplossingen",2,"Coselgi","Effect EF2-F2 (P-tel)","COS-0278",{"$f":"IF(ISBLANK('Assortiment Hoortoestellen'!$B$26),1,IF(ISERROR(SEARCH(PROPER('Assortiment Hoortoestellen'!$B$26),PROPER('Dataset hoortoestellen'!D1890))),0,1))","v":1}]
["Betzel Hooroplossingen",2,"Coselgi","Effect EF2-F2 (S-tel)","COS-0279",{"$f":"IF(ISBLANK('Assortiment Hoortoestellen'!$B$26),1,IF(ISERROR(SEARCH(PROPER('Assortiment Hoortoestellen'!$B$26),PROPER('Dataset hoortoestellen'!D1891))),0,1))","v":1}]
["Betzel Hooroplossingen",2,"Coselgi","Effect EF2-FS (M-tel)","COS-0281",{"$f":"IF(ISBLANK('Assortiment Hoortoestellen'!$B$26),1,IF(ISERROR(SEARCH(PROPER('Assortiment Hoortoestellen'!$B$26),PROPER('Dataset hoortoestellen'!D1892))),0,1))","v":1}]
["Betzel Hooroplossingen",2,"Coselgi","Effect EF2-FS (P-tel)","COS-0282",{"$f":"IF(ISBLANK('Assortiment Hoortoestellen'!$B$26),1,IF(ISERROR(SEARCH(PROPER('Assortiment Hoortoestellen'!$B$26),PROPER('Dataset hoortoestellen'!D1893))),0,1))","v":1}]
["Betzel Hooroplossingen",2,"Coselgi","Effect EF2-FS (S-tel)","COS-0283",{"$f":"IF(ISBLANK('Assortiment Hoortoestellen'!$B$26),1,IF(ISERROR(SEARCH(PROPER('Assortiment Hoortoestellen'!$B$26),PROPER('Dataset hoortoestellen'!D1894))),0,1))","v":1}]
["Betzel Hooroplossingen",2,"Coselgi","Effect EF2-CIC Links","COS-0284",{"$f":"IF(ISBLANK('Assortiment Hoortoestellen'!$B$26),1,IF(ISERROR(SEARCH(PROPER('Assortiment Hoortoestellen'!$B$26),PROPER('Dataset hoortoestellen'!D1895))),0,1))","v":1}]
["Betzel Hooroplossingen",2,"Coselgi","Effect EF2-CIC M","COS-0285",{"$f":"IF(ISBLANK('Assortiment Hoortoestellen'!$B$26),1,IF(ISERROR(SEARCH(PROPER('Assortiment Hoortoestellen'!$B$26),PROPER('Dataset hoortoestellen'!D1896))),0,1))","v":1}]
["Betzel Hooroplossingen",2,"Coselgi","Effect EF2-CIC Rechts","COS-0287",{"$f":"IF(ISBLANK('Assortiment Hoortoestellen'!$B$26),1,IF(ISERROR(SEARCH(PROPER('Assortiment Hoortoestellen'!$B$26),PROPER('Dataset hoortoestellen'!D1897))),0,1))","v":1}]
["Betzel Hooroplossingen",2,"Coselgi","Effect EF2-CIC TR Links","COS-0288",{"$f":"IF(ISBLANK('Assortiment Hoortoestellen'!$B$26),1,IF(ISERROR(SEARCH(PROPER('Assortiment Hoortoestellen'!$B$26),PROPER('Dataset hoortoestellen'!D1898))),0,1))","v":1}]
["Betzel Hooroplossingen",2,"Coselgi","Effect EF2-CIC TR Rechts","COS-0289",{"$f":"IF(ISBLANK('Assortiment Hoortoestellen'!$B$26),1,IF(ISERROR(SEARCH(PROPER('Assortiment Hoortoestellen'!$B$26),PROPER('Dataset hoortoestellen'!D1899))),0,1))","v":1}]
["Betzel Hooroplossingen",2,"Coselgi","Effect EF2-FA","COS-0290",{"$f":"IF(ISBLANK('Assortiment Hoortoestellen'!$B$26),1,IF(ISERROR(SEARCH(PROPER('Assortiment Hoortoestellen'!$B$26),PROPER('Dataset hoortoestellen'!D1900))),0,1))","v":1}]
["Betzel Hooroplossingen",2,"Coselgi","Effect EF2-FM","COS-0291",{"$f":"IF(ISBLANK('Assortiment Hoortoestellen'!$B$26),1,IF(ISERROR(SEARCH(PROPER('Assortiment Hoortoestellen'!$B$26),PROPER('Dataset hoortoestellen'!D1901))),0,1))","v":1}]
["Betzel Hooroplossingen",2,"Coselgi","Effect EF2-FP","COS-0292",{"$f":"IF(ISBLANK('Assortiment Hoortoestellen'!$B$26),1,IF(ISERROR(SEARCH(PROPER('Assortiment Hoortoestellen'!$B$26),PROPER('Dataset hoortoestellen'!D1902))),0,1))","v":1}]
["Betzel Hooroplossingen",2,"Coselgi","Effect EF2-XP","COS-0293",{"$f":"IF(ISBLANK('Assortiment Hoortoestellen'!$B$26),1,IF(ISERROR(SEARCH(PROPER('Assortiment Hoortoestellen'!$B$26),PROPER('Dataset hoortoestellen'!D1903))),0,1))","v":1}]
["Betzel Hooroplossingen",3,"Coselgi","Effect EF4-F2 (M-tel)","COS-0295",{"$f":"IF(ISBLANK('Assortiment Hoortoestellen'!$B$26),1,IF(ISERROR(SEARCH(PROPER('Assortiment Hoortoestellen'!$B$26),PROPER('Dataset hoortoestellen'!D1904))),0,1))","v":1}]
["Betzel Hooroplossingen",3,"Coselgi","Effect EF4-F2 (P-tel)","COS-0296",{"$f":"IF(ISBLANK('Assortiment Hoortoestellen'!$B$26),1,IF(ISERROR(SEARCH(PROPER('Assortiment Hoortoestellen'!$B$26),PROPER('Dataset hoortoestellen'!D1905))),0,1))","v":1}]
["Betzel Hooroplossingen",3,"Coselgi","Effect EF4-F2 (S-tel)","COS-0297",{"$f":"IF(ISBLANK('Assortiment Hoortoestellen'!$B$26),1,IF(ISERROR(SEARCH(PROPER('Assortiment Hoortoestellen'!$B$26),PROPER('Dataset hoortoestellen'!D1906))),0,1))","v":1}]
["Betzel Hooroplossingen",3,"Coselgi","Effect EF4 F2(HP-tel)","COS-0298",{"$f":"IF(ISBLANK('Assortiment Hoortoestellen'!$B$26),1,IF(ISERROR(SEARCH(PROPER('Assortiment Hoortoestellen'!$B$26),PROPER('Dataset hoortoestellen'!D1907))),0,1))","v":1}]
["Betzel Hooroplossingen",3,"Coselgi","Effect EF4-FS (HP-tel)","COS-0299",{"$f":"IF(ISBLANK('Assortiment Hoortoestellen'!$B$26),1,IF(ISERROR(SEARCH(PROPER('Assortiment Hoortoestellen'!$B$26),PROPER('Dataset hoortoestellen'!D1908))),0,1))","v":1}]
["Betzel Hooroplossingen",3,"Coselgi","Effect EF4-FS (M-tel)","COS-0300",{"$f":"IF(ISBLANK('Assortiment Hoortoestellen'!$B$26),1,IF(ISERROR(SEARCH(PROPER('Assortiment Hoortoestellen'!$B$26),PROPER('Dataset hoortoestellen'!D1909))),0,1))","v":1}]
["Betzel Hooroplossingen",3,"Coselgi","Effect EF4-FS (P-tel)","COS-0301",{"$f":"IF(ISBLANK('Assortiment Hoortoestellen'!$B$26),1,IF(ISERROR(SEARCH(PROPER('Assortiment Hoortoestellen'!$B$26),PROPER('Dataset hoortoestellen'!D1910))),0,1))","v":1}]
["Betzel Hooroplossingen",3,"Coselgi","Effect EF4-RIC 10 (M-tel)","COS-0303",{"$f":"IF(ISBLANK('Assortiment Hoortoestellen'!$B$26),1,IF(ISERROR(SEARCH(PROPER('Assortiment Hoortoestellen'!$B$26),PROPER('Dataset hoortoestellen'!D1911))),0,1))","v":1}]
["Betzel Hooroplossingen",3,"Coselgi","Effect EF4-RIC 10 (S-tel)","COS-0304",{"$f":"IF(ISBLANK('Assortiment Hoortoestellen'!$B$26),1,IF(ISERROR(SEARCH(PROPER('Assortiment Hoortoestellen'!$B$26),PROPER('Dataset hoortoestellen'!D1912))),0,1))","v":1}]
["Betzel Hooroplossingen",3,"Coselgi","Effect EF4-CIC Links","COS-0305",{"$f":"IF(ISBLANK('Assortiment Hoortoestellen'!$B$26),1,IF(ISERROR(SEARCH(PROPER('Assortiment Hoortoestellen'!$B$26),PROPER('Dataset hoortoestellen'!D1913))),0,1))","v":1}]
["Betzel Hooroplossingen",3,"Coselgi","Effect EF4-CIC M","COS-0306",{"$f":"IF(ISBLANK('Assortiment Hoortoestellen'!$B$26),1,IF(ISERROR(SEARCH(PROPER('Assortiment Hoortoestellen'!$B$26),PROPER('Dataset hoortoestellen'!D1914))),0,1))","v":1}]
["Betzel Hooroplossingen",3,"Coselgi","Effect EF4-CIC Rechts","COS-0308",{"$f":"IF(ISBLANK('Assortiment Hoortoestellen'!$B$26),1,IF(ISERROR(SEARCH(PROPER('Assortiment Hoortoestellen'!$B$26),PROPER('Dataset hoortoestellen'!D1915))),0,1))","v":1}]
["Betzel Hooroplossingen",3,"Coselgi","Effect EF4-CIC TR Links","COS-0309",{"$f":"IF(ISBLANK('Assortiment Hoortoestellen'!$B$26),1,IF(ISERROR(SEARCH(PROPER('Assortiment Hoortoestellen'!$B$26),PROPER('Dataset hoortoestellen'!D1916))),0,1))","v":1}]
["Betzel Hooroplossingen",3,"Coselgi","Effect EF4-CIC TR Rechts","COS-0310",{"$f":"IF(ISBLANK('Assortiment Hoortoestellen'!$B$26),1,IF(ISERROR(SEARCH(PROPER('Assortiment Hoortoestellen'!$B$26),PROPER('Dataset hoortoestellen'!D1917))),0,1))","v":1}]
["Betzel Hooroplossingen",3,"Coselgi","Effect EF4-FA","COS-0311",{"$f":"IF(ISBLANK('Assortiment Hoortoestellen'!$B$26),1,IF(ISERROR(SEARCH(PROPER('Assortiment Hoortoestellen'!$B$26),PROPER('Dataset hoortoestellen'!D1918))),0,1))","v":1}]
["Betzel Hooroplossingen",3,"Coselgi","Effect EF4-FM","COS-0312",{"$f":"IF(ISBLANK('Assortiment Hoortoestellen'!$B$26),1,IF(ISERROR(SEARCH(PROPER('Assortiment Hoortoestellen'!$B$26),PROPER('Dataset hoortoestellen'!D1919))),0,1))","v":1}]
["Betzel Hooroplossingen",3,"Coselgi","Effect EF4-FP","COS-0313",{"$f":"IF(ISBLANK('Assortiment Hoortoestellen'!$B$26),1,IF(ISERROR(SEARCH(PROPER('Assortiment Hoortoestellen'!$B$26),PROPER('Dataset hoortoestellen'!D1920))),0,1))","v":1}]
["Betzel Hooroplossingen",3,"Coselgi","Effect EF4-XP","COS-0314",{"$f":"IF(ISBLANK('Assortiment Hoortoestellen'!$B$26),1,IF(ISERROR(SEARCH(PROPER('Assortiment Hoortoestellen'!$B$26),PROPER('Dataset hoortoestellen'!D1921))),0,1))","v":1}]
["Betzel Hooroplossingen",4,"Coselgi","Effect EF5-F2 (HP-tel)","COS-0316",{"$f":"IF(ISBLANK('Assortiment Hoortoestellen'!$B$26),1,IF(ISERROR(SEARCH(PROPER('Assortiment Hoortoestellen'!$B$26),PROPER('Dataset hoortoestellen'!D1922))),0,1))","v":1}]
["Betzel Hooroplossingen",4,"Coselgi","Effect EF5-F2 (M-tel)","COS-0317",{"$f":"IF(ISBLANK('Assortiment Hoortoestellen'!$B$26),1,IF(ISERROR(SEARCH(PROPER('Assortiment Hoortoestellen'!$B$26),PROPER('Dataset hoortoestellen'!D1923))),0,1))","v":1}]
["Betzel Hooroplossingen",4,"Coselgi","Effect EF5-F2 (P-tel)","COS-0318",{"$f":"IF(ISBLANK('Assortiment Hoortoestellen'!$B$26),1,IF(ISERROR(SEARCH(PROPER('Assortiment Hoortoestellen'!$B$26),PROPER('Dataset hoortoestellen'!D1924))),0,1))","v":1}]
["Betzel Hooroplossingen",4,"Coselgi","Effect EF5-FS (HP-tel)","COS-0320",{"$f":"IF(ISBLANK('Assortiment Hoortoestellen'!$B$26),1,IF(ISERROR(SEARCH(PROPER('Assortiment Hoortoestellen'!$B$26),PROPER('Dataset hoortoestellen'!D1925))),0,1))","v":1}]
["Betzel Hooroplossingen",4,"Coselgi","Effect EF5-FS (M-tel)","COS-0321",{"$f":"IF(ISBLANK('Assortiment Hoortoestellen'!$B$26),1,IF(ISERROR(SEARCH(PROPER('Assortiment Hoortoestellen'!$B$26),PROPER('Dataset hoortoestellen'!D1926))),0,1))","v":1}]
["Betzel Hooroplossingen",4,"Coselgi","Effect EF5-FS (P-tel)","COS-0322",{"$f":"IF(ISBLANK('Assortiment Hoortoestellen'!$B$26),1,IF(ISERROR(SEARCH(PROPER('Assortiment Hoortoestellen'!$B$26),PROPER('Dataset hoortoestellen'!D1927))),0,1))","v":1}]
["Betzel Hooroplossingen",4,"Coselgi","Effect EF5-FS (S-tel)","COS-0323",{"$f":"IF(ISBLANK('Assortiment Hoortoestellen'!$B$26),1,IF(ISERROR(SEARCH(PROPER('Assortiment Hoortoestellen'!$B$26),PROPER('Dataset hoortoestellen'!D1928))),0,1))","v":1}]
["Betzel Hooroplossingen",4,"Coselgi","Effect EF5-RIC 10 (M-tel)","COS-0324",{"$f":"IF(ISBLANK('Assortiment Hoortoestellen'!$B$26),1,IF(ISERROR(SEARCH(PROPER('Assortiment Hoortoestellen'!$B$26),PROPER('Dataset hoortoestellen'!D1929))),0,1))","v":1}]
["Betzel Hooroplossingen",4,"Coselgi","Effect EF5-RIC 10 (S-tel)","COS-0325",{"$f":"IF(ISBLANK('Assortiment Hoortoestellen'!$B$26),1,IF(ISERROR(SEARCH(PROPER('Assortiment Hoortoestellen'!$B$26),PROPER('Dataset hoortoestellen'!D1930))),0,1))","v":1}]
["Betzel Hooroplossingen",4,"Coselgi","Effect EF5-CIC Links","COS-0326",{"$f":"IF(ISBLANK('Assortiment Hoortoestellen'!$B$26),1,IF(ISERROR(SEARCH(PROPER('Assortiment Hoortoestellen'!$B$26),PROPER('Dataset hoortoestellen'!D1931))),0,1))","v":1}]
["Betzel Hooroplossingen",4,"Coselgi","Effect EF5-CIC M","COS-0327",{"$f":"IF(ISBLANK('Assortiment Hoortoestellen'!$B$26),1,IF(ISERROR(SEARCH(PROPER('Assortiment Hoortoestellen'!$B$26),PROPER('Dataset hoortoestellen'!D1932))),0,1))","v":1}]
["Betzel Hooroplossingen",4,"Coselgi","Effect EF5-CIC Rechts","COS-0329",{"$f":"IF(ISBLANK('Assortiment Hoortoestellen'!$B$26),1,IF(ISERROR(SEARCH(PROPER('Assortiment Hoortoestellen'!$B$26),PROPER('Dataset hoortoestellen'!D1933))),0,1))","v":1}]
["Betzel Hooroplossingen",4,"Coselgi","Effect EF5-CIC TR Links","COS-0330",{"$f":"IF(ISBLANK('Assortiment Hoortoestellen'!$B$26),1,IF(ISERROR(SEARCH(PROPER('Assortiment Hoortoestellen'!$B$26),PROPER('Dataset hoortoestellen'!D1934))),0,1))","v":1}]
["Betzel Hooroplossingen",4,"Coselgi","Effect EF5-CIC TR Rechts","COS-0331",{"$f":"IF(ISBLANK('Assortiment Hoortoestellen'!$B$26),1,IF(ISERROR(SEARCH(PROPER('Assortiment Hoortoestellen'!$B$26),PROPER('Dataset hoortoestellen'!D1935))),0,1))","v":1}]
["Betzel Hooroplossingen",4,"Coselgi","Effect EF5-FA","COS-0332",{"$f":"IF(ISBLANK('Assortiment Hoortoestellen'!$B$26),1,IF(ISERROR(SEARCH(PROPER('Assortiment Hoortoestellen'!$B$26),PROPER('Dataset hoortoestellen'!D1936))),0,1))","v":1}]
["Betzel Hooroplossingen",4,"Coselgi","Effect EF5-FM","COS-0333",{"$f":"IF(ISBLANK('Assortiment Hoortoestellen'!$B$26),1,IF(ISERROR(SEARCH(PROPER('Assortiment Hoortoestellen'!$B$26),PROPER('Dataset hoortoestellen'!D1937))),0,1))","v":1}]
["Betzel Hooroplossingen",4,"Coselgi","Effect EF5-FP","COS-0334",{"$f":"IF(ISBLANK('Assortiment Hoortoestellen'!$B$26),1,IF(ISERROR(SEARCH(PROPER('Assortiment Hoortoestellen'!$B$26),PROPER('Dataset hoortoestellen'!D1938))),0,1))","v":1}]
["Betzel Hooroplossingen",4,"Coselgi","Effect EF5-XP","COS-0335",{"$f":"IF(ISBLANK('Assortiment Hoortoestellen'!$B$26),1,IF(ISERROR(SEARCH(PROPER('Assortiment Hoortoestellen'!$B$26),PROPER('Dataset hoortoestellen'!D1939))),0,1))","v":1}]
["Betzel Hooroplossingen",5,"Coselgi","Effect EF6-F2 (HP-tel)","COS-0337",{"$f":"IF(ISBLANK('Assortiment Hoortoestellen'!$B$26),1,IF(ISERROR(SEARCH(PROPER('Assortiment Hoortoestellen'!$B$26),PROPER('Dataset hoortoestellen'!D1940))),0,1))","v":1}]
["Betzel Hooroplossingen",5,"Coselgi","Effect EF6-F2 (M-tel)","COS-0338",{"$f":"IF(ISBLANK('Assortiment Hoortoestellen'!$B$26),1,IF(ISERROR(SEARCH(PROPER('Assortiment Hoortoestellen'!$B$26),PROPER('Dataset hoortoestellen'!D1941))),0,1))","v":1}]
["Betzel Hooroplossingen",5,"Coselgi","Effect EF6-F2 (P-tel)","COS-0339",{"$f":"IF(ISBLANK('Assortiment Hoortoestellen'!$B$26),1,IF(ISERROR(SEARCH(PROPER('Assortiment Hoortoestellen'!$B$26),PROPER('Dataset hoortoestellen'!D1942))),0,1))","v":1}]
["Betzel Hooroplossingen",5,"Coselgi","Effect EF6-F2 (S-tel)","COS-0340",{"$f":"IF(ISBLANK('Assortiment Hoortoestellen'!$B$26),1,IF(ISERROR(SEARCH(PROPER('Assortiment Hoortoestellen'!$B$26),PROPER('Dataset hoortoestellen'!D1943))),0,1))","v":1}]
["Betzel Hooroplossingen",5,"Coselgi","Effect EF6-FS (HP-tel)","COS-0341",{"$f":"IF(ISBLANK('Assortiment Hoortoestellen'!$B$26),1,IF(ISERROR(SEARCH(PROPER('Assortiment Hoortoestellen'!$B$26),PROPER('Dataset hoortoestellen'!D1944))),0,1))","v":1}]
["Betzel Hooroplossingen",5,"Coselgi","Effect EF6-FS (M-tel)","COS-0342",{"$f":"IF(ISBLANK('Assortiment Hoortoestellen'!$B$26),1,IF(ISERROR(SEARCH(PROPER('Assortiment Hoortoestellen'!$B$26),PROPER('Dataset hoortoestellen'!D1945))),0,1))","v":1}]
["Betzel Hooroplossingen",5,"Coselgi","Effect EF6-FS (P-tel)","COS-0343",{"$f":"IF(ISBLANK('Assortiment Hoortoestellen'!$B$26),1,IF(ISERROR(SEARCH(PROPER('Assortiment Hoortoestellen'!$B$26),PROPER('Dataset hoortoestellen'!D1946))),0,1))","v":1}]
["Betzel Hooroplossingen",5,"Coselgi","Effect EF6-FS (S-tel)","COS-0344",{"$f":"IF(ISBLANK('Assortiment Hoortoestellen'!$B$26),1,IF(ISERROR(SEARCH(PROPER('Assortiment Hoortoestellen'!$B$26),PROPER('Dataset hoortoestellen'!D1947))),0,1))","v":1}]
["Betzel Hooroplossingen",5,"Coselgi","Effect EF6-RIC 10 (M-tel)","COS-0345",{"$f":"IF(ISBLANK('Assortiment Hoortoestellen'!$B$26),1,IF(ISERROR(SEARCH(PROPER('Assortiment Hoortoestellen'!$B$26),PROPER('Dataset hoortoestellen'!D1948))),0,1))","v":1}]
["Betzel Hooroplossingen",5,"Coselgi","Effect EF6-CIC Links","COS-0347",{"$f":"IF(ISBLANK('Assortiment Hoortoestellen'!$B$26),1,IF(ISERROR(SEARCH(PROPER('Assortiment Hoortoestellen'!$B$26),PROPER('Dataset hoortoestellen'!D1949))),0,1))","v":1}]
["Betzel Hooroplossingen",5,"Coselgi","Effect EF6-CIC M","COS-0348",{"$f":"IF(ISBLANK('Assortiment Hoortoestellen'!$B$26),1,IF(ISERROR(SEARCH(PROPER('Assortiment Hoortoestellen'!$B$26),PROPER('Dataset hoortoestellen'!D1950))),0,1))","v":1}]
["Betzel Hooroplossingen",5,"Coselgi","Effect EF6-CIC Rechts","COS-0350",{"$f":"IF(ISBLANK('Assortiment Hoortoestellen'!$B$26),1,IF(ISERROR(SEARCH(PROPER('Assortiment Hoortoestellen'!$B$26),PROPER('Dataset hoortoestellen'!D1951))),0,1))","v":1}]
["Betzel Hooroplossingen",5,"Coselgi","Effect EF6-CIC TR Links","COS-0351",{"$f":"IF(ISBLANK('Assortiment Hoortoestellen'!$B$26),1,IF(ISERROR(SEARCH(PROPER('Assortiment Hoortoestellen'!$B$26),PROPER('Dataset hoortoestellen'!D1952))),0,1))","v":1}]
["Betzel Hooroplossingen",5,"Coselgi","Effect EF6-CIC TR Rechts","COS-0352",{"$f":"IF(ISBLANK('Assortiment Hoortoestellen'!$B$26),1,IF(ISERROR(SEARCH(PROPER('Assortiment Hoortoestellen'!$B$26),PROPER('Dataset hoortoestellen'!D1953))),0,1))","v":1}]
["Betzel Hooroplossingen",5,"Coselgi","Effect EF6-FA","COS-0353",{"$f":"IF(ISBLANK('Assortiment Hoortoestellen'!$B$26),1,IF(ISERROR(SEARCH(PROPER('Assortiment Hoortoestellen'!$B$26),PROPER('Dataset hoortoestellen'!D1954))),0,1))","v":1}]
["Betzel Hooroplossingen",5,"Coselgi","Effect EF6-FM","COS-0354",{"$f":"IF(ISBLANK('Assortiment Hoortoestellen'!$B$26),1,IF(ISERROR(SEARCH(PROPER('Assortiment Hoortoestellen'!$B$26),PROPER('Dataset hoortoestellen'!D1955))),0,1))","v":1}]
["Betzel Hooroplossingen",5,"Coselgi","Effect EF6-FP","COS-0355",{"$f":"IF(ISBLANK('Assortiment Hoortoestellen'!$B$26),1,IF(ISERROR(SEARCH(PROPER('Assortiment Hoortoestellen'!$B$26),PROPER('Dataset hoortoestellen'!D1956))),0,1))","v":1}]
["Betzel Hooroplossingen",5,"Coselgi","Effect EF6-XP","COS-0356",{"$f":"IF(ISBLANK('Assortiment Hoortoestellen'!$B$26),1,IF(ISERROR(SEARCH(PROPER('Assortiment Hoortoestellen'!$B$26),PROPER('Dataset hoortoestellen'!D1957))),0,1))","v":1}]
["Betzel Hooroplossingen",2,"Interton","RD261-DRW","INT-0026",{"$f":"IF(ISBLANK('Assortiment Hoortoestellen'!$B$26),1,IF(ISERROR(SEARCH(PROPER('Assortiment Hoortoestellen'!$B$26),PROPER('Dataset hoortoestellen'!D1958))),0,1))","v":1}]
["Betzel Hooroplossingen",2,"Interton","RD262-DRW","INT-0027",{"$f":"IF(ISBLANK('Assortiment Hoortoestellen'!$B$26),1,IF(ISERROR(SEARCH(PROPER('Assortiment Hoortoestellen'!$B$26),PROPER('Dataset hoortoestellen'!D1959))),0,1))","v":1}]
["Betzel Hooroplossingen",1,"Interton","RD270-DW","INT-0028",{"$f":"IF(ISBLANK('Assortiment Hoortoestellen'!$B$26),1,IF(ISERROR(SEARCH(PROPER('Assortiment Hoortoestellen'!$B$26),PROPER('Dataset hoortoestellen'!D1960))),0,1))","v":1}]
["Betzel Hooroplossingen",1,"Interton","RD280-DW","INT-0029",{"$f":"IF(ISBLANK('Assortiment Hoortoestellen'!$B$26),1,IF(ISERROR(SEARCH(PROPER('Assortiment Hoortoestellen'!$B$26),PROPER('Dataset hoortoestellen'!D1961))),0,1))","v":1}]
["Betzel Hooroplossingen",2,"Interton","RD361-DRW","INT-0032",{"$f":"IF(ISBLANK('Assortiment Hoortoestellen'!$B$26),1,IF(ISERROR(SEARCH(PROPER('Assortiment Hoortoestellen'!$B$26),PROPER('Dataset hoortoestellen'!D1962))),0,1))","v":1}]
["Betzel Hooroplossingen",2,"Interton","RD362-DRW","INT-0033",{"$f":"IF(ISBLANK('Assortiment Hoortoestellen'!$B$26),1,IF(ISERROR(SEARCH(PROPER('Assortiment Hoortoestellen'!$B$26),PROPER('Dataset hoortoestellen'!D1963))),0,1))","v":1}]
["Betzel Hooroplossingen",2,"Interton","RD370-DW","INT-0034",{"$f":"IF(ISBLANK('Assortiment Hoortoestellen'!$B$26),1,IF(ISERROR(SEARCH(PROPER('Assortiment Hoortoestellen'!$B$26),PROPER('Dataset hoortoestellen'!D1964))),0,1))","v":1}]
["Betzel Hooroplossingen",2,"Interton","RD380-DW","INT-0035",{"$f":"IF(ISBLANK('Assortiment Hoortoestellen'!$B$26),1,IF(ISERROR(SEARCH(PROPER('Assortiment Hoortoestellen'!$B$26),PROPER('Dataset hoortoestellen'!D1965))),0,1))","v":1}]
["Betzel Hooroplossingen",3,"Interton","RD3CIC","INT-0036",{"$f":"IF(ISBLANK('Assortiment Hoortoestellen'!$B$26),1,IF(ISERROR(SEARCH(PROPER('Assortiment Hoortoestellen'!$B$26),PROPER('Dataset hoortoestellen'!D1966))),0,1))","v":1}]
["Betzel Hooroplossingen",3,"Interton","RD3ITC-DW","INT-0037",{"$f":"IF(ISBLANK('Assortiment Hoortoestellen'!$B$26),1,IF(ISERROR(SEARCH(PROPER('Assortiment Hoortoestellen'!$B$26),PROPER('Dataset hoortoestellen'!D1967))),0,1))","v":1}]
["Betzel Hooroplossingen",3,"Interton","RD461-DRW","INT-0038",{"$f":"IF(ISBLANK('Assortiment Hoortoestellen'!$B$26),1,IF(ISERROR(SEARCH(PROPER('Assortiment Hoortoestellen'!$B$26),PROPER('Dataset hoortoestellen'!D1968))),0,1))","v":1}]
["Betzel Hooroplossingen",3,"Interton","RD462-DRW","INT-0039",{"$f":"IF(ISBLANK('Assortiment Hoortoestellen'!$B$26),1,IF(ISERROR(SEARCH(PROPER('Assortiment Hoortoestellen'!$B$26),PROPER('Dataset hoortoestellen'!D1969))),0,1))","v":1}]
["Betzel Hooroplossingen",3,"Interton","RD470-DW","INT-0040",{"$f":"IF(ISBLANK('Assortiment Hoortoestellen'!$B$26),1,IF(ISERROR(SEARCH(PROPER('Assortiment Hoortoestellen'!$B$26),PROPER('Dataset hoortoestellen'!D1970))),0,1))","v":1}]
["Betzel Hooroplossingen",3,"Interton","RD480-DW","INT-0041",{"$f":"IF(ISBLANK('Assortiment Hoortoestellen'!$B$26),1,IF(ISERROR(SEARCH(PROPER('Assortiment Hoortoestellen'!$B$26),PROPER('Dataset hoortoestellen'!D1971))),0,1))","v":1}]
["Betzel Hooroplossingen",3,"Interton","RD4CIC","INT-0042",{"$f":"IF(ISBLANK('Assortiment Hoortoestellen'!$B$26),1,IF(ISERROR(SEARCH(PROPER('Assortiment Hoortoestellen'!$B$26),PROPER('Dataset hoortoestellen'!D1972))),0,1))","v":1}]
["Betzel Hooroplossingen",3,"Interton","RD4ITC-DW","INT-0043",{"$f":"IF(ISBLANK('Assortiment Hoortoestellen'!$B$26),1,IF(ISERROR(SEARCH(PROPER('Assortiment Hoortoestellen'!$B$26),PROPER('Dataset hoortoestellen'!D1973))),0,1))","v":1}]
["Betzel Hooroplossingen",4,"Interton","RD661-DRW","INT-0044",{"$f":"IF(ISBLANK('Assortiment Hoortoestellen'!$B$26),1,IF(ISERROR(SEARCH(PROPER('Assortiment Hoortoestellen'!$B$26),PROPER('Dataset hoortoestellen'!D1974))),0,1))","v":1}]
["Betzel Hooroplossingen",4,"Interton","RD662-DRW","INT-0045",{"$f":"IF(ISBLANK('Assortiment Hoortoestellen'!$B$26),1,IF(ISERROR(SEARCH(PROPER('Assortiment Hoortoestellen'!$B$26),PROPER('Dataset hoortoestellen'!D1975))),0,1))","v":1}]
["Betzel Hooroplossingen",5,"Interton","RD670-DW","INT-0046",{"$f":"IF(ISBLANK('Assortiment Hoortoestellen'!$B$26),1,IF(ISERROR(SEARCH(PROPER('Assortiment Hoortoestellen'!$B$26),PROPER('Dataset hoortoestellen'!D1976))),0,1))","v":1}]
["Betzel Hooroplossingen",4,"Interton","RD680-DW","INT-0047",{"$f":"IF(ISBLANK('Assortiment Hoortoestellen'!$B$26),1,IF(ISERROR(SEARCH(PROPER('Assortiment Hoortoestellen'!$B$26),PROPER('Dataset hoortoestellen'!D1977))),0,1))","v":1}]
["Betzel Hooroplossingen",5,"Interton","RD6CIC","INT-0048",{"$f":"IF(ISBLANK('Assortiment Hoortoestellen'!$B$26),1,IF(ISERROR(SEARCH(PROPER('Assortiment Hoortoestellen'!$B$26),PROPER('Dataset hoortoestellen'!D1978))),0,1))","v":1}]
["Betzel Hooroplossingen",5,"Interton","RD6ITC-DW","INT-0049",{"$f":"IF(ISBLANK('Assortiment Hoortoestellen'!$B$26),1,IF(ISERROR(SEARCH(PROPER('Assortiment Hoortoestellen'!$B$26),PROPER('Dataset hoortoestellen'!D1979))),0,1))","v":1}]
["Betzel Hooroplossingen",1,"Oticon","Get","OTI-0064",{"$f":"IF(ISBLANK('Assortiment Hoortoestellen'!$B$26),1,IF(ISERROR(SEARCH(PROPER('Assortiment Hoortoestellen'!$B$26),PROPER('Dataset hoortoestellen'!D1980))),0,1))","v":1}]
["Betzel Hooroplossingen",1,"Oticon","Get","OTI-0065",{"$f":"IF(ISBLANK('Assortiment Hoortoestellen'!$B$26),1,IF(ISERROR(SEARCH(PROPER('Assortiment Hoortoestellen'!$B$26),PROPER('Dataset hoortoestellen'!D1981))),0,1))","v":1}]
["Betzel Hooroplossingen",1,"Oticon","Get","OTI-0066",{"$f":"IF(ISBLANK('Assortiment Hoortoestellen'!$B$26),1,IF(ISERROR(SEARCH(PROPER('Assortiment Hoortoestellen'!$B$26),PROPER('Dataset hoortoestellen'!D1982))),0,1))","v":1}]
["Betzel Hooroplossingen",1,"Oticon","Get","OTI-0068",{"$f":"IF(ISBLANK('Assortiment Hoortoestellen'!$B$26),1,IF(ISERROR(SEARCH(PROPER('Assortiment Hoortoestellen'!$B$26),PROPER('Dataset hoortoestellen'!D1983))),0,1))","v":1}]
["Betzel Hooroplossingen",4,"Oticon","Siya 1 CIC 75 - 85","OTI-0340",{"$f":"IF(ISBLANK('Assortiment Hoortoestellen'!$B$26),1,IF(ISERROR(SEARCH(PROPER('Assortiment Hoortoestellen'!$B$26),PROPER('Dataset hoortoestellen'!D1984))),0,1))","v":1}]
["Betzel Hooroplossingen",4,"Oticon","Siya 1 ITE 75 - 100","OTI-0342",{"$f":"IF(ISBLANK('Assortiment Hoortoestellen'!$B$26),1,IF(ISERROR(SEARCH(PROPER('Assortiment Hoortoestellen'!$B$26),PROPER('Dataset hoortoestellen'!D1985))),0,1))","v":1}]
["Betzel Hooroplossingen",4,"Oticon","Siya 1 miniRITE T 60 - 105","OTI-0344",{"$f":"IF(ISBLANK('Assortiment Hoortoestellen'!$B$26),1,IF(ISERROR(SEARCH(PROPER('Assortiment Hoortoestellen'!$B$26),PROPER('Dataset hoortoestellen'!D1986))),0,1))","v":1}]
["Betzel Hooroplossingen",3,"Oticon","Siya 2 miniRITE T 60 - 105","OTI-0351",{"$f":"IF(ISBLANK('Assortiment Hoortoestellen'!$B$26),1,IF(ISERROR(SEARCH(PROPER('Assortiment Hoortoestellen'!$B$26),PROPER('Dataset hoortoestellen'!D1987))),0,1))","v":1}]
["Betzel Hooroplossingen",5,"Oticon","Opn 3 CIC 75 - 85","OTI-0360",{"$f":"IF(ISBLANK('Assortiment Hoortoestellen'!$B$26),1,IF(ISERROR(SEARCH(PROPER('Assortiment Hoortoestellen'!$B$26),PROPER('Dataset hoortoestellen'!D1988))),0,1))","v":1}]
["Betzel Hooroplossingen",5,"Oticon","Opn 3 ITE 75 - 100","OTI-0362",{"$f":"IF(ISBLANK('Assortiment Hoortoestellen'!$B$26),1,IF(ISERROR(SEARCH(PROPER('Assortiment Hoortoestellen'!$B$26),PROPER('Dataset hoortoestellen'!D1989))),0,1))","v":1}]
["Betzel Hooroplossingen",5,"Oticon","Opn 3 miniRITE T 60 - 105","OTI-0364",{"$f":"IF(ISBLANK('Assortiment Hoortoestellen'!$B$26),1,IF(ISERROR(SEARCH(PROPER('Assortiment Hoortoestellen'!$B$26),PROPER('Dataset hoortoestellen'!D1990))),0,1))","v":1}]
["Betzel Hooroplossingen",5,"Oticon","Ruby 1 miniRITE R 60 - 105","OTI-0368",{"$f":"IF(ISBLANK('Assortiment Hoortoestellen'!$B$26),1,IF(ISERROR(SEARCH(PROPER('Assortiment Hoortoestellen'!$B$26),PROPER('Dataset hoortoestellen'!D1991))),0,1))","v":1}]
["Betzel Hooroplossingen",4,"Oticon","Ruby 2 miniRITE R 60 - 105","OTI-0373",{"$f":"IF(ISBLANK('Assortiment Hoortoestellen'!$B$26),1,IF(ISERROR(SEARCH(PROPER('Assortiment Hoortoestellen'!$B$26),PROPER('Dataset hoortoestellen'!D1992))),0,1))","v":1}]
["Betzel Hooroplossingen",3,"Oticon","Geno 1 BTE 85","OTI-0377",{"$f":"IF(ISBLANK('Assortiment Hoortoestellen'!$B$26),1,IF(ISERROR(SEARCH(PROPER('Assortiment Hoortoestellen'!$B$26),PROPER('Dataset hoortoestellen'!D1993))),0,1))","v":1}]
["Betzel Hooroplossingen",2,"Oticon","Geno 2 BTE 105 PP","OTI-0383",{"$f":"IF(ISBLANK('Assortiment Hoortoestellen'!$B$26),1,IF(ISERROR(SEARCH(PROPER('Assortiment Hoortoestellen'!$B$26),PROPER('Dataset hoortoestellen'!D1994))),0,1))","v":1}]
["Betzel Hooroplossingen",2,"Oticon","Geno 2 Custom 75 - 100","OTI-0385",{"$f":"IF(ISBLANK('Assortiment Hoortoestellen'!$B$26),1,IF(ISERROR(SEARCH(PROPER('Assortiment Hoortoestellen'!$B$26),PROPER('Dataset hoortoestellen'!D1995))),0,1))","v":1}]
["Betzel Hooroplossingen",2,"Oticon","Geno 2 BTE 85","OTI-384",{"$f":"IF(ISBLANK('Assortiment Hoortoestellen'!$B$26),1,IF(ISERROR(SEARCH(PROPER('Assortiment Hoortoestellen'!$B$26),PROPER('Dataset hoortoestellen'!D1996))),0,1))","v":1}]
["Betzel Hooroplossingen",2,"Phonak","Vitus BTE-micro","PHO-0260",{"$f":"IF(ISBLANK('Assortiment Hoortoestellen'!$B$26),1,IF(ISERROR(SEARCH(PROPER('Assortiment Hoortoestellen'!$B$26),PROPER('Dataset hoortoestellen'!D1997))),0,1))","v":1}]
["Betzel Hooroplossingen",2,"Phonak","Vitus BTE-P","PHO-0261",{"$f":"IF(ISBLANK('Assortiment Hoortoestellen'!$B$26),1,IF(ISERROR(SEARCH(PROPER('Assortiment Hoortoestellen'!$B$26),PROPER('Dataset hoortoestellen'!D1998))),0,1))","v":1}]
["Betzel Hooroplossingen",2,"Phonak","Vitus BTE-UP","PHO-0262",{"$f":"IF(ISBLANK('Assortiment Hoortoestellen'!$B$26),1,IF(ISERROR(SEARCH(PROPER('Assortiment Hoortoestellen'!$B$26),PROPER('Dataset hoortoestellen'!D1999))),0,1))","v":1}]
["Betzel Hooroplossingen",3,"Phonak","Audeo B 30 10","PHO-0269",{"$f":"IF(ISBLANK('Assortiment Hoortoestellen'!$B$26),1,IF(ISERROR(SEARCH(PROPER('Assortiment Hoortoestellen'!$B$26),PROPER('Dataset hoortoestellen'!D2000))),0,1))","v":1}]
["Betzel Hooroplossingen",5,"Phonak","Audeo B 70 13","PHO-0279",{"$f":"IF(ISBLANK('Assortiment Hoortoestellen'!$B$26),1,IF(ISERROR(SEARCH(PROPER('Assortiment Hoortoestellen'!$B$26),PROPER('Dataset hoortoestellen'!D2009))),0,1))","v":1}]
["Betzel Hooroplossingen",5,"Phonak","Naida B 70 SP","PHO-0305",{"$f":"IF(ISBLANK('Assortiment Hoortoestellen'!$B$26),1,IF(ISERROR(SEARCH(PROPER('Assortiment Hoortoestellen'!$B$26),PROPER('Dataset hoortoestellen'!D2025))),0,1))","v":1}]
["Betzel Hooroplossingen",3,"Phonak","Sky B 30 SP","PHO-0310",{"$f":"IF(ISBLANK('Assortiment Hoortoestellen'!$B$26),1,IF(ISERROR(SEARCH(PROPER('Assortiment Hoortoestellen'!$B$26),PROPER('Dataset hoortoestellen'!D2030))),0,1))","v":1}]
["Betzel Hooroplossingen",5,"Phonak","Virto B 70 13","PHO-0331",{"$f":"IF(ISBLANK('Assortiment Hoortoestellen'!$B$26),1,IF(ISERROR(SEARCH(PROPER('Assortiment Hoortoestellen'!$B$26),PROPER('Dataset hoortoestellen'!D2049))),0,1))","v":1}]
["Betzel Hooroplossingen",2,"ReSound","Enya 388-DW","RES-0216",{"$f":"IF(ISBLANK('Assortiment Hoortoestellen'!$B$26),1,IF(ISERROR(SEARCH(PROPER('Assortiment Hoortoestellen'!$B$26),PROPER('Dataset hoortoestellen'!D2063))),0,1))","v":1}]
["Betzel Hooroplossingen",4,"ReSound","LiNX 3D 561-DRW","RES-0294",{"$f":"IF(ISBLANK('Assortiment Hoortoestellen'!$B$26),1,IF(ISERROR(SEARCH(PROPER('Assortiment Hoortoestellen'!$B$26),PROPER('Dataset hoortoestellen'!D2077))),0,1))","v":1}]
["Betzel Hooroplossingen",5,"ReSound","LiNX 3D 7 CIC","RES-0299",{"$f":"IF(ISBLANK('Assortiment Hoortoestellen'!$B$26),1,IF(ISERROR(SEARCH(PROPER('Assortiment Hoortoestellen'!$B$26),PROPER('Dataset hoortoestellen'!D2082))),0,1))","v":1}]
["Betzel Hooroplossingen",4,"Starkey","Muse iQ 1200 CIC","STA-0343",{"$f":"IF(ISBLANK('Assortiment Hoortoestellen'!$B$26),1,IF(ISERROR(SEARCH(PROPER('Assortiment Hoortoestellen'!$B$26),PROPER('Dataset hoortoestellen'!D2101))),0,1))","v":1}]
["Betzel Hooroplossingen",4,"Starkey","Livio 1200 BTE R","STA-0393",{"$f":"IF(ISBLANK('Assortiment Hoortoestellen'!$B$26),1,IF(ISERROR(SEARCH(PROPER('Assortiment Hoortoestellen'!$B$26),PROPER('Dataset hoortoestellen'!D2115))),0,1))","v":1}]
["Betzel Hooroplossingen",3,"Unitron","T Insera 500 W 10A Dir","UNI-0323",{"$f":"IF(ISBLANK('Assortiment Hoortoestellen'!$B$26),1,IF(ISERROR(SEARCH(PROPER('Assortiment Hoortoestellen'!$B$26),PROPER('Dataset hoortoestellen'!D2125))),0,1))","v":1}]
["Betzel Hooroplossingen",4,"Unitron","DX Insera 5 W 312 Dir","UNI-0439",{"$f":"IF(ISBLANK('Assortiment Hoortoestellen'!$B$26),1,IF(ISERROR(SEARCH(PROPER('Assortiment Hoortoestellen'!$B$26),PROPER('Dataset hoortoestellen'!D2144))),0,1))","v":1}]
["Betzel Hooroplossingen",4,"Unitron","DX Moxi Jump R T 3","UNI-0446",{"$f":"IF(ISBLANK('Assortiment Hoortoestellen'!$B$26),1,IF(ISERROR(SEARCH(PROPER('Assortiment Hoortoestellen'!$B$26),PROPER('Dataset hoortoestellen'!D2149))),0,1))","v":1}]
["Betzel Hooroplossingen",3,"Widex","U110-CIC-M","WID-0406",{"$f":"IF(ISBLANK('Assortiment Hoortoestellen'!$B$26),1,IF(ISERROR(SEARCH(PROPER('Assortiment Hoortoestellen'!$B$26),PROPER('Dataset hoortoestellen'!D2163))),0,1))","v":1}]
["Betzel Hooroplossingen",3,"Widex","U220-CIC-M","WID-0420",{"$f":"IF(ISBLANK('Assortiment Hoortoestellen'!$B$26),1,IF(ISERROR(SEARCH(PROPER('Assortiment Hoortoestellen'!$B$26),PROPER('Dataset hoortoestellen'!D2177))),0,1))","v":1}]
["Betzel Hooroplossingen",4,"Widex","U330-FS (P-tel)","WID-0439",{"$f":"IF(ISBLANK('Assortiment Hoortoestellen'!$B$26),1,IF(ISERROR(SEARCH(PROPER('Assortiment Hoortoestellen'!$B$26),PROPER('Dataset hoortoestellen'!D2196))),0,1))","v":1}]
["Betzel Hooroplossingen",4,"Widex","U330-FP","WID-0458",{"$f":"IF(ISBLANK('Assortiment Hoortoestellen'!$B$26),1,IF(ISERROR(SEARCH(PROPER('Assortiment Hoortoestellen'!$B$26),PROPER('Dataset hoortoestellen'!D2214))),0,1))","v":1}]
["Betzel Hooroplossingen",5,"Widex","Enjoy E-CIC TR 330 Links","WID-0571",{"$f":"IF(ISBLANK('Assortiment Hoortoestellen'!$B$26),1,IF(ISERROR(SEARCH(PROPER('Assortiment Hoortoestellen'!$B$26),PROPER('Dataset hoortoestellen'!D2229))),0,1))","v":1}]
["Betzel Hooroplossingen",5,"Widex","Enjoy E-F2 330 (HP-tel)","WID-0586",{"$f":"IF(ISBLANK('Assortiment Hoortoestellen'!$B$26),1,IF(ISERROR(SEARCH(PROPER('Assortiment Hoortoestellen'!$B$26),PROPER('Dataset hoortoestellen'!D2238))),0,1))","v":1}]
["Betzel Hooroplossingen",2,"Widex","Enjoy E-F2 50 (P-tel)","WID-0596",{"$f":"IF(ISBLANK('Assortiment Hoortoestellen'!$B$26),1,IF(ISERROR(SEARCH(PROPER('Assortiment Hoortoestellen'!$B$26),PROPER('Dataset hoortoestellen'!D2244))),0,1))","v":1}]
["Betzel Hooroplossingen",4,"Widex","Enjoy E-FS 220 (HP-tel)","WID-0624",{"$f":"IF(ISBLANK('Assortiment Hoortoestellen'!$B$26),1,IF(ISERROR(SEARCH(PROPER('Assortiment Hoortoestellen'!$B$26),PROPER('Dataset hoortoestellen'!D2262))),0,1))","v":1}]
["Betzel Hooroplossingen",4,"Widex","Enjoy E-PA 220 (S-tel)","WID-0645",{"$f":"IF(ISBLANK('Assortiment Hoortoestellen'!$B$26),1,IF(ISERROR(SEARCH(PROPER('Assortiment Hoortoestellen'!$B$26),PROPER('Dataset hoortoestellen'!D2277))),0,1))","v":1}]
["Betzel Hooroplossingen",4,"Widex","Enjoy E-CIC TR 220 Rechts","WID-0662",{"$f":"IF(ISBLANK('Assortiment Hoortoestellen'!$B$26),1,IF(ISERROR(SEARCH(PROPER('Assortiment Hoortoestellen'!$B$26),PROPER('Dataset hoortoestellen'!D2286))),0,1))","v":1}]
["Bouwhuis Opticien-Audicien",2,"Starkey","Muse iQ i1000 BTE 13","STA-0349",{"$f":"IF(ISBLANK('Assortiment Hoortoestellen'!$B$26),1,IF(ISERROR(SEARCH(PROPER('Assortiment Hoortoestellen'!$B$26),PROPER('Dataset hoortoestellen'!D2310))),0,1))","v":1}]
["Bouwhuis Opticien-Audicien",4,"Starkey","Muse iQ i1200 CIC","STA-0362",{"$f":"IF(ISBLANK('Assortiment Hoortoestellen'!$B$26),1,IF(ISERROR(SEARCH(PROPER('Assortiment Hoortoestellen'!$B$26),PROPER('Dataset hoortoestellen'!D2314))),0,1))","v":1}]
["Bouwhuis Opticien-Audicien",3,"Widex","Enjoy E-CIC M TR 110","WID-0563",{"$f":"IF(ISBLANK('Assortiment Hoortoestellen'!$B$26),1,IF(ISERROR(SEARCH(PROPER('Assortiment Hoortoestellen'!$B$26),PROPER('Dataset hoortoestellen'!D2329))),0,1))","v":1}]
["Bouwhuis Opticien-Audicien",4,"Widex","Enjoy E-F2 220 (M-tel)","WID-0583",{"$f":"IF(ISBLANK('Assortiment Hoortoestellen'!$B$26),1,IF(ISERROR(SEARCH(PROPER('Assortiment Hoortoestellen'!$B$26),PROPER('Dataset hoortoestellen'!D2338))),0,1))","v":1}]
["Bouwhuis Opticien-Audicien",4,"Widex","Enjoy E-FS 220 (HP-tel)","WID-0624",{"$f":"IF(ISBLANK('Assortiment Hoortoestellen'!$B$26),1,IF(ISERROR(SEARCH(PROPER('Assortiment Hoortoestellen'!$B$26),PROPER('Dataset hoortoestellen'!D2358))),0,1))","v":1}]
["Bouwhuis Opticien-Audicien",3,"Widex","Enjoy E-CIC 110 Rechts","WID-0656",{"$f":"IF(ISBLANK('Assortiment Hoortoestellen'!$B$26),1,IF(ISERROR(SEARCH(PROPER('Assortiment Hoortoestellen'!$B$26),PROPER('Dataset hoortoestellen'!D2375))),0,1))","v":1}]
["Brabant Oor",3,"Bernafon","Zerena 3 MNR","BER-0629",{"$f":"IF(ISBLANK('Assortiment Hoortoestellen'!$B$26),1,IF(ISERROR(SEARCH(PROPER('Assortiment Hoortoestellen'!$B$26),PROPER('Dataset hoortoestellen'!D2391))),0,1))","v":1}]
["Brabant Oor",3,"Interton","RD461-DRW","INT-0038",{"$f":"IF(ISBLANK('Assortiment Hoortoestellen'!$B$26),1,IF(ISERROR(SEARCH(PROPER('Assortiment Hoortoestellen'!$B$26),PROPER('Dataset hoortoestellen'!D2399))),0,1))","v":1}]
["Brabant Oor",1,"Starkey","Muse i1000 CIC","STA-0277",{"$f":"IF(ISBLANK('Assortiment Hoortoestellen'!$B$26),1,IF(ISERROR(SEARCH(PROPER('Assortiment Hoortoestellen'!$B$26),PROPER('Dataset hoortoestellen'!D2410))),0,1))","v":1}]
["Cityhoren Rotterdam",4,"Audio Service","Duo 8 G4","AUS-0130",{"$f":"IF(ISBLANK('Assortiment Hoortoestellen'!$B$26),1,IF(ISERROR(SEARCH(PROPER('Assortiment Hoortoestellen'!$B$26),PROPER('Dataset hoortoestellen'!D2427))),0,1))","v":1}]
["Cityhoren Rotterdam",5,"Audio Service","quiX 12 G5 Rechts","AUS-0192",{"$f":"IF(ISBLANK('Assortiment Hoortoestellen'!$B$26),1,IF(ISERROR(SEARCH(PROPER('Assortiment Hoortoestellen'!$B$26),PROPER('Dataset hoortoestellen'!D2443))),0,1))","v":1}]
["Cityhoren Rotterdam",3,"Audio Service","Duo 6 G5","AUS-0206",{"$f":"IF(ISBLANK('Assortiment Hoortoestellen'!$B$26),1,IF(ISERROR(SEARCH(PROPER('Assortiment Hoortoestellen'!$B$26),PROPER('Dataset hoortoestellen'!D2451))),0,1))","v":1}]
["Cityhoren Rotterdam",5,"Beltone","Promise 966 DW","BEL-0034",{"$f":"IF(ISBLANK('Assortiment Hoortoestellen'!$B$26),1,IF(ISERROR(SEARCH(PROPER('Assortiment Hoortoestellen'!$B$26),PROPER('Dataset hoortoestellen'!D2472))),0,1))","v":1}]
["Cityhoren Rotterdam",2,"Beltone","Bold 295 SP DVI","BEL-0069",{"$f":"IF(ISBLANK('Assortiment Hoortoestellen'!$B$26),1,IF(ISERROR(SEARCH(PROPER('Assortiment Hoortoestellen'!$B$26),PROPER('Dataset hoortoestellen'!D2475))),0,1))","v":1}]
["Cityhoren Rotterdam",4,"Beltone","Ally 464-DRW","BEL-0109",{"$f":"IF(ISBLANK('Assortiment Hoortoestellen'!$B$26),1,IF(ISERROR(SEARCH(PROPER('Assortiment Hoortoestellen'!$B$26),PROPER('Dataset hoortoestellen'!D2491))),0,1))","v":1}]
["Cityhoren Rotterdam",1,"Bernafon","Nevara 1 NR","BER-0459",{"$f":"IF(ISBLANK('Assortiment Hoortoestellen'!$B$26),1,IF(ISERROR(SEARCH(PROPER('Assortiment Hoortoestellen'!$B$26),PROPER('Dataset hoortoestellen'!D2512))),0,1))","v":1}]
["Cityhoren Rotterdam",2,"Bernafon","Zerena 1 MNR","BER-0621",{"$f":"IF(ISBLANK('Assortiment Hoortoestellen'!$B$26),1,IF(ISERROR(SEARCH(PROPER('Assortiment Hoortoestellen'!$B$26),PROPER('Dataset hoortoestellen'!D2519))),0,1))","v":1}]
["Cityhoren Rotterdam",5,"Bernafon","Zerena 7 MNR T","BER-0646",{"$f":"IF(ISBLANK('Assortiment Hoortoestellen'!$B$26),1,IF(ISERROR(SEARCH(PROPER('Assortiment Hoortoestellen'!$B$26),PROPER('Dataset hoortoestellen'!D2538))),0,1))","v":1}]
["Cityhoren Rotterdam",3,"Bernafon","Viron 3 MNR T R","BER-0666",{"$f":"IF(ISBLANK('Assortiment Hoortoestellen'!$B$26),1,IF(ISERROR(SEARCH(PROPER('Assortiment Hoortoestellen'!$B$26),PROPER('Dataset hoortoestellen'!D2543))),0,1))","v":1}]
["Cityhoren Rotterdam",2,"Coselgi","Effect EF2-FM","COS-0291",{"$f":"IF(ISBLANK('Assortiment Hoortoestellen'!$B$26),1,IF(ISERROR(SEARCH(PROPER('Assortiment Hoortoestellen'!$B$26),PROPER('Dataset hoortoestellen'!D2557))),0,1))","v":1}]
["Cityhoren Rotterdam",3,"Coselgi","Effect EF4-RIC 10 (M-tel)","COS-0303",{"$f":"IF(ISBLANK('Assortiment Hoortoestellen'!$B$26),1,IF(ISERROR(SEARCH(PROPER('Assortiment Hoortoestellen'!$B$26),PROPER('Dataset hoortoestellen'!D2567))),0,1))","v":1}]
["Cityhoren Rotterdam",4,"Coselgi","Effect EF5-CIC TR Links","COS-0330",{"$f":"IF(ISBLANK('Assortiment Hoortoestellen'!$B$26),1,IF(ISERROR(SEARCH(PROPER('Assortiment Hoortoestellen'!$B$26),PROPER('Dataset hoortoestellen'!D2590))),0,1))","v":1}]
["Cityhoren Rotterdam",4,"Coselgi","Effect EF5-XP","COS-0335",{"$f":"IF(ISBLANK('Assortiment Hoortoestellen'!$B$26),1,IF(ISERROR(SEARCH(PROPER('Assortiment Hoortoestellen'!$B$26),PROPER('Dataset hoortoestellen'!D2595))),0,1))","v":1}]
["Cityhoren Rotterdam",5,"Coselgi","Effect EF6-CIC TR Rechts","COS-0352",{"$f":"IF(ISBLANK('Assortiment Hoortoestellen'!$B$26),1,IF(ISERROR(SEARCH(PROPER('Assortiment Hoortoestellen'!$B$26),PROPER('Dataset hoortoestellen'!D2609))),0,1))","v":1}]
["Cityhoren Rotterdam",5,"Interton","RD670-DW","INT-0046",{"$f":"IF(ISBLANK('Assortiment Hoortoestellen'!$B$26),1,IF(ISERROR(SEARCH(PROPER('Assortiment Hoortoestellen'!$B$26),PROPER('Dataset hoortoestellen'!D2632))),0,1))","v":1}]
["Cityhoren Rotterdam",1,"Oticon","Get","OTI-0066",{"$f":"IF(ISBLANK('Assortiment Hoortoestellen'!$B$26),1,IF(ISERROR(SEARCH(PROPER('Assortiment Hoortoestellen'!$B$26),PROPER('Dataset hoortoestellen'!D2638))),0,1))","v":1}]
["Cityhoren Rotterdam",3,"Oticon","Xceed 3 SP","OTI-0354",{"$f":"IF(ISBLANK('Assortiment Hoortoestellen'!$B$26),1,IF(ISERROR(SEARCH(PROPER('Assortiment Hoortoestellen'!$B$26),PROPER('Dataset hoortoestellen'!D2656))),0,1))","v":1}]
["Cityhoren Rotterdam",4,"Oticon","Ruby 2 miniRITE 60 - 105","OTI-0372",{"$f":"IF(ISBLANK('Assortiment Hoortoestellen'!$B$26),1,IF(ISERROR(SEARCH(PROPER('Assortiment Hoortoestellen'!$B$26),PROPER('Dataset hoortoestellen'!D2671))),0,1))","v":1}]
["Cityhoren Rotterdam",3,"Oticon","Geno 1 RITE 60 - 105","OTI-0381",{"$f":"IF(ISBLANK('Assortiment Hoortoestellen'!$B$26),1,IF(ISERROR(SEARCH(PROPER('Assortiment Hoortoestellen'!$B$26),PROPER('Dataset hoortoestellen'!D2680))),0,1))","v":1}]
["Cityhoren Rotterdam",2,"Phonak","Vitus BTE-UP","PHO-0262",{"$f":"IF(ISBLANK('Assortiment Hoortoestellen'!$B$26),1,IF(ISERROR(SEARCH(PROPER('Assortiment Hoortoestellen'!$B$26),PROPER('Dataset hoortoestellen'!D2690))),0,1))","v":1}]
["Cityhoren Rotterdam",3,"Phonak","Bolero B 30 P","PHO-0284",{"$f":"IF(ISBLANK('Assortiment Hoortoestellen'!$B$26),1,IF(ISERROR(SEARCH(PROPER('Assortiment Hoortoestellen'!$B$26),PROPER('Dataset hoortoestellen'!D2708))),0,1))","v":1}]
["Cityhoren Rotterdam",3,"Phonak","Sky B 30 M","PHO-0307",{"$f":"IF(ISBLANK('Assortiment Hoortoestellen'!$B$26),1,IF(ISERROR(SEARCH(PROPER('Assortiment Hoortoestellen'!$B$26),PROPER('Dataset hoortoestellen'!D2723))),0,1))","v":1}]
["Cityhoren Rotterdam",4,"Phonak","Sky B 50 UP","PHO-0317",{"$f":"IF(ISBLANK('Assortiment Hoortoestellen'!$B$26),1,IF(ISERROR(SEARCH(PROPER('Assortiment Hoortoestellen'!$B$26),PROPER('Dataset hoortoestellen'!D2732))),0,1))","v":1}]
["Cityhoren Rotterdam",4,"Phonak","Virto B 50 13","PHO-0328",{"$f":"IF(ISBLANK('Assortiment Hoortoestellen'!$B$26),1,IF(ISERROR(SEARCH(PROPER('Assortiment Hoortoestellen'!$B$26),PROPER('Dataset hoortoestellen'!D2742))),0,1))","v":1}]
["Cityhoren Rotterdam",2,"ReSound","Enya 362-DRW","RES-0213",{"$f":"IF(ISBLANK('Assortiment Hoortoestellen'!$B$26),1,IF(ISERROR(SEARCH(PROPER('Assortiment Hoortoestellen'!$B$26),PROPER('Dataset hoortoestellen'!D2756))),0,1))","v":1}]
["Cityhoren Rotterdam",4,"ReSound","Ligo 561-DRW","RES-0272",{"$f":"IF(ISBLANK('Assortiment Hoortoestellen'!$B$26),1,IF(ISERROR(SEARCH(PROPER('Assortiment Hoortoestellen'!$B$26),PROPER('Dataset hoortoestellen'!D2771))),0,1))","v":1}]
["Cityhoren Rotterdam",5,"ReSound","LiNX 3D 7 ITC-DW","RES-0300",{"$f":"IF(ISBLANK('Assortiment Hoortoestellen'!$B$26),1,IF(ISERROR(SEARCH(PROPER('Assortiment Hoortoestellen'!$B$26),PROPER('Dataset hoortoestellen'!D2793))),0,1))","v":1}]
["Cityhoren Rotterdam",1,"Starkey","Muse i1000 BTE 13","STA-0308",{"$f":"IF(ISBLANK('Assortiment Hoortoestellen'!$B$26),1,IF(ISERROR(SEARCH(PROPER('Assortiment Hoortoestellen'!$B$26),PROPER('Dataset hoortoestellen'!D2804))),0,1))","v":1}]
["Cityhoren Rotterdam",4,"Starkey","Muse iQ i1200 ITC","STA-0363",{"$f":"IF(ISBLANK('Assortiment Hoortoestellen'!$B$26),1,IF(ISERROR(SEARCH(PROPER('Assortiment Hoortoestellen'!$B$26),PROPER('Dataset hoortoestellen'!D2821))),0,1))","v":1}]
["Cityhoren Rotterdam",5,"Starkey","Muse iQ i1600 CIC","STA-0372\n",{"$f":"IF(ISBLANK('Assortiment Hoortoestellen'!$B$26),1,IF(ISERROR(SEARCH(PROPER('Assortiment Hoortoestellen'!$B$26),PROPER('Dataset hoortoestellen'!D2823))),0,1))","v":1}]
["Cityhoren Rotterdam",4,"Unitron","T Max UP 600","UNI-0277",{"$f":"IF(ISBLANK('Assortiment Hoortoestellen'!$B$26),1,IF(ISERROR(SEARCH(PROPER('Assortiment Hoortoestellen'!$B$26),PROPER('Dataset hoortoestellen'!D2845))),0,1))","v":1}]
["Cityhoren Rotterdam",5,"Unitron","T Stride 800 P","UNI-0311",{"$f":"IF(ISBLANK('Assortiment Hoortoestellen'!$B$26),1,IF(ISERROR(SEARCH(PROPER('Assortiment Hoortoestellen'!$B$26),PROPER('Dataset hoortoestellen'!D2856))),0,1))","v":1}]
["Cityhoren Rotterdam",5,"Unitron","T Insera 800 W 10A Omni","UNI-0339",{"$f":"IF(ISBLANK('Assortiment Hoortoestellen'!$B$26),1,IF(ISERROR(SEARCH(PROPER('Assortiment Hoortoestellen'!$B$26),PROPER('Dataset hoortoestellen'!D2869))),0,1))","v":1}]
["Cityhoren Rotterdam",5,"Unitron","DX Moxi Fit 7","UNI-0445",{"$f":"IF(ISBLANK('Assortiment Hoortoestellen'!$B$26),1,IF(ISERROR(SEARCH(PROPER('Assortiment Hoortoestellen'!$B$26),PROPER('Dataset hoortoestellen'!D2885))),0,1))","v":1}]
["Cityhoren Rotterdam",4,"Unitron","DX Stride P R 3","UNI-0455",{"$f":"IF(ISBLANK('Assortiment Hoortoestellen'!$B$26),1,IF(ISERROR(SEARCH(PROPER('Assortiment Hoortoestellen'!$B$26),PROPER('Dataset hoortoestellen'!D2893))),0,1))","v":1}]
["Cityhoren Rotterdam",4,"Widex","Enjoy E-CIC 220 Links","WID-0552",{"$f":"IF(ISBLANK('Assortiment Hoortoestellen'!$B$26),1,IF(ISERROR(SEARCH(PROPER('Assortiment Hoortoestellen'!$B$26),PROPER('Dataset hoortoestellen'!D2904))),0,1))","v":1}]
["Cityhoren Rotterdam",5,"Widex","Enjoy E-F2 330 (HP-tel)","WID-0586",{"$f":"IF(ISBLANK('Assortiment Hoortoestellen'!$B$26),1,IF(ISERROR(SEARCH(PROPER('Assortiment Hoortoestellen'!$B$26),PROPER('Dataset hoortoestellen'!D2921))),0,1))","v":1}]
["Cityhoren Rotterdam",3,"Widex","Enjoy E-FP 110","WID-0611",{"$f":"IF(ISBLANK('Assortiment Hoortoestellen'!$B$26),1,IF(ISERROR(SEARCH(PROPER('Assortiment Hoortoestellen'!$B$26),PROPER('Dataset hoortoestellen'!D2937))),0,1))","v":1}]
["Cityhoren Rotterdam",4,"Widex","Enjoy E-FS 220 (HP-tel)","WID-0624",{"$f":"IF(ISBLANK('Assortiment Hoortoestellen'!$B$26),1,IF(ISERROR(SEARCH(PROPER('Assortiment Hoortoestellen'!$B$26),PROPER('Dataset hoortoestellen'!D2945))),0,1))","v":1}]
["Cityhoren Rotterdam",5,"Widex","Enjoy E-CIC TR 330 Rechts","WID-0663",{"$f":"IF(ISBLANK('Assortiment Hoortoestellen'!$B$26),1,IF(ISERROR(SEARCH(PROPER('Assortiment Hoortoestellen'!$B$26),PROPER('Dataset hoortoestellen'!D2970))),0,1))","v":1}]
["Coppes Hoorzorg",5,"Phonak","Audeo B 70 10","PHO-0278",{"$f":"IF(ISBLANK('Assortiment Hoortoestellen'!$B$26),1,IF(ISERROR(SEARCH(PROPER('Assortiment Hoortoestellen'!$B$26),PROPER('Dataset hoortoestellen'!D2982))),0,1))","v":1}]
["Coppes Hoorzorg",3,"Phonak","Bolero B 30 M","PHO-0283",{"$f":"IF(ISBLANK('Assortiment Hoortoestellen'!$B$26),1,IF(ISERROR(SEARCH(PROPER('Assortiment Hoortoestellen'!$B$26),PROPER('Dataset hoortoestellen'!D2985))),0,1))","v":1}]
["Coppes Hoorzorg",4,"Phonak","Sky B 50 P","PHO-0313",{"$f":"IF(ISBLANK('Assortiment Hoortoestellen'!$B$26),1,IF(ISERROR(SEARCH(PROPER('Assortiment Hoortoestellen'!$B$26),PROPER('Dataset hoortoestellen'!D3006))),0,1))","v":1}]
["Coppes Hoorzorg",5,"Phonak","Sky B 70 SP","PHO-0322",{"$f":"IF(ISBLANK('Assortiment Hoortoestellen'!$B$26),1,IF(ISERROR(SEARCH(PROPER('Assortiment Hoortoestellen'!$B$26),PROPER('Dataset hoortoestellen'!D3013))),0,1))","v":1}]
["De Hoorwereld",5,"Audio Service","Duo 12 G5","AUS-0177",{"$f":"IF(ISBLANK('Assortiment Hoortoestellen'!$B$26),1,IF(ISERROR(SEARCH(PROPER('Assortiment Hoortoestellen'!$B$26),PROPER('Dataset hoortoestellen'!D3036))),0,1))","v":1}]
["De Hoorwereld",5,"Audio Service","Sun 12 G5","AUS-0197",{"$f":"IF(ISBLANK('Assortiment Hoortoestellen'!$B$26),1,IF(ISERROR(SEARCH(PROPER('Assortiment Hoortoestellen'!$B$26),PROPER('Dataset hoortoestellen'!D3050))),0,1))","v":1}]
["De Hoorwereld",1,"Starkey","Muse i1000 CIC","STA-0277",{"$f":"IF(ISBLANK('Assortiment Hoortoestellen'!$B$26),1,IF(ISERROR(SEARCH(PROPER('Assortiment Hoortoestellen'!$B$26),PROPER('Dataset hoortoestellen'!D3065))),0,1))","v":1}]
["De Hoorwereld",4,"Starkey","Livio 1200 RIC R","STA-0387",{"$f":"IF(ISBLANK('Assortiment Hoortoestellen'!$B$26),1,IF(ISERROR(SEARCH(PROPER('Assortiment Hoortoestellen'!$B$26),PROPER('Dataset hoortoestellen'!D3074))),0,1))","v":1}]
["De Hoorwereld",4,"Widex","Enjoy E-CIC M 220","WID-0558",{"$f":"IF(ISBLANK('Assortiment Hoortoestellen'!$B$26),1,IF(ISERROR(SEARCH(PROPER('Assortiment Hoortoestellen'!$B$26),PROPER('Dataset hoortoestellen'!D3084))),0,1))","v":1}]
["De Hoorwereld",2,"Widex","Enjoy E-F2 50 (HP-tel)","WID-0594",{"$f":"IF(ISBLANK('Assortiment Hoortoestellen'!$B$26),1,IF(ISERROR(SEARCH(PROPER('Assortiment Hoortoestellen'!$B$26),PROPER('Dataset hoortoestellen'!D3102))),0,1))","v":1}]
["De Hoorwereld",2,"Widex","Enjoy E-FP 50","WID-0615",{"$f":"IF(ISBLANK('Assortiment Hoortoestellen'!$B$26),1,IF(ISERROR(SEARCH(PROPER('Assortiment Hoortoestellen'!$B$26),PROPER('Dataset hoortoestellen'!D3117))),0,1))","v":1}]
["De Hoorwereld",5,"Widex","Enjoy E-FS 330 (HP-tel)","WID-0628",{"$f":"IF(ISBLANK('Assortiment Hoortoestellen'!$B$26),1,IF(ISERROR(SEARCH(PROPER('Assortiment Hoortoestellen'!$B$26),PROPER('Dataset hoortoestellen'!D3126))),0,1))","v":1}]
["De Hoorwereld",4,"Widex","Enjoy E-PA 220 (M-tel)","WID-0644",{"$f":"IF(ISBLANK('Assortiment Hoortoestellen'!$B$26),1,IF(ISERROR(SEARCH(PROPER('Assortiment Hoortoestellen'!$B$26),PROPER('Dataset hoortoestellen'!D3136))),0,1))","v":1}]
["De Hoorzaak",1,"Bernafon","Nevara 1 P","BER-0460",{"$f":"IF(ISBLANK('Assortiment Hoortoestellen'!$B$26),1,IF(ISERROR(SEARCH(PROPER('Assortiment Hoortoestellen'!$B$26),PROPER('Dataset hoortoestellen'!D3150))),0,1))","v":1}]
["De Hoorzaak",5,"Bernafon","Zerena 7 IIC","BER-0641",{"$f":"IF(ISBLANK('Assortiment Hoortoestellen'!$B$26),1,IF(ISERROR(SEARCH(PROPER('Assortiment Hoortoestellen'!$B$26),PROPER('Dataset hoortoestellen'!D3165))),0,1))","v":1}]
["De Hoorzaak",3,"Coselgi","U10-FS (P-tel)","COS-0144",{"$f":"IF(ISBLANK('Assortiment Hoortoestellen'!$B$26),1,IF(ISERROR(SEARCH(PROPER('Assortiment Hoortoestellen'!$B$26),PROPER('Dataset hoortoestellen'!D3174))),0,1))","v":1}]
["De Hoorzaak",5,"Coselgi","U15-FS (P-tel)","COS-0168",{"$f":"IF(ISBLANK('Assortiment Hoortoestellen'!$B$26),1,IF(ISERROR(SEARCH(PROPER('Assortiment Hoortoestellen'!$B$26),PROPER('Dataset hoortoestellen'!D3198))),0,1))","v":1}]
["De Hoorzaak",2,"Coselgi","U6-CIC (links)","COS-0241",{"$f":"IF(ISBLANK('Assortiment Hoortoestellen'!$B$26),1,IF(ISERROR(SEARCH(PROPER('Assortiment Hoortoestellen'!$B$26),PROPER('Dataset hoortoestellen'!D3202))),0,1))","v":1}]
["De Hoorzaak",3,"Coselgi","U6E-FS (HP-tel)","COS-0258",{"$f":"IF(ISBLANK('Assortiment Hoortoestellen'!$B$26),1,IF(ISERROR(SEARCH(PROPER('Assortiment Hoortoestellen'!$B$26),PROPER('Dataset hoortoestellen'!D3217))),0,1))","v":1}]
["De Hoorzaak",2,"Starkey","Muse iQ i1000 BTE 312","STA-0351",{"$f":"IF(ISBLANK('Assortiment Hoortoestellen'!$B$26),1,IF(ISERROR(SEARCH(PROPER('Assortiment Hoortoestellen'!$B$26),PROPER('Dataset hoortoestellen'!D3239))),0,1))","v":1}]
["De Hoorzaak",5,"Starkey","Muse iQ i1600 CIC","STA-0372",{"$f":"IF(ISBLANK('Assortiment Hoortoestellen'!$B$26),1,IF(ISERROR(SEARCH(PROPER('Assortiment Hoortoestellen'!$B$26),PROPER('Dataset hoortoestellen'!D3250))),0,1))","v":1}]
["De Hoorzaak",5,"Starkey","Livio 1600 RIC R","STA-0391",{"$f":"IF(ISBLANK('Assortiment Hoortoestellen'!$B$26),1,IF(ISERROR(SEARCH(PROPER('Assortiment Hoortoestellen'!$B$26),PROPER('Dataset hoortoestellen'!D3263))),0,1))","v":1}]
["De Jong Audiciens",4,"Audio Service","P 8 G5","AUS-0190",{"$f":"IF(ISBLANK('Assortiment Hoortoestellen'!$B$26),1,IF(ISERROR(SEARCH(PROPER('Assortiment Hoortoestellen'!$B$26),PROPER('Dataset hoortoestellen'!D3279))),0,1))","v":1}]
["De Jong Audiciens",4,"Audio Service","Sun 8 G5","AUS-0198",{"$f":"IF(ISBLANK('Assortiment Hoortoestellen'!$B$26),1,IF(ISERROR(SEARCH(PROPER('Assortiment Hoortoestellen'!$B$26),PROPER('Dataset hoortoestellen'!D3287))),0,1))","v":1}]
["De Jong Audiciens",2,"Audio Service","Rixx 4  G5","AUS-0215",{"$f":"IF(ISBLANK('Assortiment Hoortoestellen'!$B$26),1,IF(ISERROR(SEARCH(PROPER('Assortiment Hoortoestellen'!$B$26),PROPER('Dataset hoortoestellen'!D3298))),0,1))","v":1}]
["De Jong Audiciens",3,"Bernafon","Zerena 3 CIC","BER-0624",{"$f":"IF(ISBLANK('Assortiment Hoortoestellen'!$B$26),1,IF(ISERROR(SEARCH(PROPER('Assortiment Hoortoestellen'!$B$26),PROPER('Dataset hoortoestellen'!D3311))),0,1))","v":1}]
["De Jong Audiciens",3,"Coselgi","U10-PA (M-tel)","COS-0146",{"$f":"IF(ISBLANK('Assortiment Hoortoestellen'!$B$26),1,IF(ISERROR(SEARCH(PROPER('Assortiment Hoortoestellen'!$B$26),PROPER('Dataset hoortoestellen'!D3331))),0,1))","v":1}]
["De Jong Audiciens",4,"Coselgi","U10E-FS (HP-tel)","COS-0154",{"$f":"IF(ISBLANK('Assortiment Hoortoestellen'!$B$26),1,IF(ISERROR(SEARCH(PROPER('Assortiment Hoortoestellen'!$B$26),PROPER('Dataset hoortoestellen'!D3339))),0,1))","v":1}]
["De Jong Audiciens",5,"Coselgi","U15-FP","COS-0165",{"$f":"IF(ISBLANK('Assortiment Hoortoestellen'!$B$26),1,IF(ISERROR(SEARCH(PROPER('Assortiment Hoortoestellen'!$B$26),PROPER('Dataset hoortoestellen'!D3350))),0,1))","v":1}]
["De Jong Audiciens",2,"Coselgi","U6-FS (M-tel)","COS-0247",{"$f":"IF(ISBLANK('Assortiment Hoortoestellen'!$B$26),1,IF(ISERROR(SEARCH(PROPER('Assortiment Hoortoestellen'!$B$26),PROPER('Dataset hoortoestellen'!D3363))),0,1))","v":1}]
["De Jong Audiciens",3,"Coselgi","U6-CIC (rechts)","COS-0271",{"$f":"IF(ISBLANK('Assortiment Hoortoestellen'!$B$26),1,IF(ISERROR(SEARCH(PROPER('Assortiment Hoortoestellen'!$B$26),PROPER('Dataset hoortoestellen'!D3379))),0,1))","v":1}]
["De Jong Audiciens",3,"Coselgi","Effect EF4 F2(HP-tel)","COS-0298",{"$f":"IF(ISBLANK('Assortiment Hoortoestellen'!$B$26),1,IF(ISERROR(SEARCH(PROPER('Assortiment Hoortoestellen'!$B$26),PROPER('Dataset hoortoestellen'!D3400))),0,1))","v":1}]
["De Jong Audiciens",3,"Coselgi","Effect EF4-FM","COS-0312",{"$f":"IF(ISBLANK('Assortiment Hoortoestellen'!$B$26),1,IF(ISERROR(SEARCH(PROPER('Assortiment Hoortoestellen'!$B$26),PROPER('Dataset hoortoestellen'!D3412))),0,1))","v":1}]
["De Jong Audiciens",4,"Coselgi","Effect EF5-CIC Links","COS-0326",{"$f":"IF(ISBLANK('Assortiment Hoortoestellen'!$B$26),1,IF(ISERROR(SEARCH(PROPER('Assortiment Hoortoestellen'!$B$26),PROPER('Dataset hoortoestellen'!D3424))),0,1))","v":1}]
["De Jong Audiciens",4,"Coselgi","Effect EF5-FP","COS-0334",{"$f":"IF(ISBLANK('Assortiment Hoortoestellen'!$B$26),1,IF(ISERROR(SEARCH(PROPER('Assortiment Hoortoestellen'!$B$26),PROPER('Dataset hoortoestellen'!D3431))),0,1))","v":1}]
["De Jong Audiciens",2,"Interton","RD262-DRW","INT-0027",{"$f":"IF(ISBLANK('Assortiment Hoortoestellen'!$B$26),1,IF(ISERROR(SEARCH(PROPER('Assortiment Hoortoestellen'!$B$26),PROPER('Dataset hoortoestellen'!D3452))),0,1))","v":1}]
["De Jong Audiciens",3,"Interton","RD480-DW","INT-0041",{"$f":"IF(ISBLANK('Assortiment Hoortoestellen'!$B$26),1,IF(ISERROR(SEARCH(PROPER('Assortiment Hoortoestellen'!$B$26),PROPER('Dataset hoortoestellen'!D3464))),0,1))","v":1}]
["De Jong Audiciens",1,"Oticon","Get","OTI-0068",{"$f":"IF(ISBLANK('Assortiment Hoortoestellen'!$B$26),1,IF(ISERROR(SEARCH(PROPER('Assortiment Hoortoestellen'!$B$26),PROPER('Dataset hoortoestellen'!D3476))),0,1))","v":1}]
["De Jong Audiciens",5,"Phonak","Audeo B 70 10","PHO-0278",{"$f":"IF(ISBLANK('Assortiment Hoortoestellen'!$B$26),1,IF(ISERROR(SEARCH(PROPER('Assortiment Hoortoestellen'!$B$26),PROPER('Dataset hoortoestellen'!D3497))),0,1))","v":1}]
["De Jong Audiciens",3,"Phonak","Bolero B 30 M","PHO-0283",{"$f":"IF(ISBLANK('Assortiment Hoortoestellen'!$B$26),1,IF(ISERROR(SEARCH(PROPER('Assortiment Hoortoestellen'!$B$26),PROPER('Dataset hoortoestellen'!D3500))),0,1))","v":1}]
["De Jong Audiciens",4,"Phonak","Sky B 50 M","PHO-0312",{"$f":"IF(ISBLANK('Assortiment Hoortoestellen'!$B$26),1,IF(ISERROR(SEARCH(PROPER('Assortiment Hoortoestellen'!$B$26),PROPER('Dataset hoortoestellen'!D3520))),0,1))","v":1}]
["De Jong Audiciens",3,"Phonak","Virto B 30 10","PHO-0324",{"$f":"IF(ISBLANK('Assortiment Hoortoestellen'!$B$26),1,IF(ISERROR(SEARCH(PROPER('Assortiment Hoortoestellen'!$B$26),PROPER('Dataset hoortoestellen'!D3530))),0,1))","v":1}]
["De Jong Audiciens",2,"ReSound","Enya 377-DW","RES-0215",{"$f":"IF(ISBLANK('Assortiment Hoortoestellen'!$B$26),1,IF(ISERROR(SEARCH(PROPER('Assortiment Hoortoestellen'!$B$26),PROPER('Dataset hoortoestellen'!D3544))),0,1))","v":1}]
["De Jong Audiciens",4,"ReSound","Ligo 567-DW","RES-0274",{"$f":"IF(ISBLANK('Assortiment Hoortoestellen'!$B$26),1,IF(ISERROR(SEARCH(PROPER('Assortiment Hoortoestellen'!$B$26),PROPER('Dataset hoortoestellen'!D3559))),0,1))","v":1}]
["De Jong Audiciens",5,"ReSound","Ligo 777-DW","RES-0283",{"$f":"IF(ISBLANK('Assortiment Hoortoestellen'!$B$26),1,IF(ISERROR(SEARCH(PROPER('Assortiment Hoortoestellen'!$B$26),PROPER('Dataset hoortoestellen'!D3568))),0,1))","v":1}]
["De Jong Audiciens",1,"Starkey","Muse i1000 BTE 13 PP","STA-0331",{"$f":"IF(ISBLANK('Assortiment Hoortoestellen'!$B$26),1,IF(ISERROR(SEARCH(PROPER('Assortiment Hoortoestellen'!$B$26),PROPER('Dataset hoortoestellen'!D3578))),0,1))","v":1}]
["De Jong Audiciens",4,"Starkey","Muse iQ i1200 CIC","STA-0362",{"$f":"IF(ISBLANK('Assortiment Hoortoestellen'!$B$26),1,IF(ISERROR(SEARCH(PROPER('Assortiment Hoortoestellen'!$B$26),PROPER('Dataset hoortoestellen'!D3592))),0,1))","v":1}]
["De Jong Audiciens",2,"Unitron","Shine Rev 3 Kanaal","UNI-0176",{"$f":"IF(ISBLANK('Assortiment Hoortoestellen'!$B$26),1,IF(ISERROR(SEARCH(PROPER('Assortiment Hoortoestellen'!$B$26),PROPER('Dataset hoortoestellen'!D3611))),0,1))","v":1}]
["De Jong Audiciens",4,"Unitron","T Insera 600 10A Omni","UNI-0282",{"$f":"IF(ISBLANK('Assortiment Hoortoestellen'!$B$26),1,IF(ISERROR(SEARCH(PROPER('Assortiment Hoortoestellen'!$B$26),PROPER('Dataset hoortoestellen'!D3620))),0,1))","v":1}]
["De Jong Audiciens",4,"Unitron","T Insera 600 W 13 Dir","UNI-0330",{"$f":"IF(ISBLANK('Assortiment Hoortoestellen'!$B$26),1,IF(ISERROR(SEARCH(PROPER('Assortiment Hoortoestellen'!$B$26),PROPER('Dataset hoortoestellen'!D3644))),0,1))","v":1}]
["De Jong Audiciens",3,"Widex","U110-FS (HP-tel)","WID-0411",{"$f":"IF(ISBLANK('Assortiment Hoortoestellen'!$B$26),1,IF(ISERROR(SEARCH(PROPER('Assortiment Hoortoestellen'!$B$26),PROPER('Dataset hoortoestellen'!D3657))),0,1))","v":1}]
["De Jong Audiciens",3,"Widex","U110-FS (P-tel)","WID-0413",{"$f":"IF(ISBLANK('Assortiment Hoortoestellen'!$B$26),1,IF(ISERROR(SEARCH(PROPER('Assortiment Hoortoestellen'!$B$26),PROPER('Dataset hoortoestellen'!D3659))),0,1))","v":1}]
["De Jong Audiciens",4,"Widex","U330-FA","WID-0435",{"$f":"IF(ISBLANK('Assortiment Hoortoestellen'!$B$26),1,IF(ISERROR(SEARCH(PROPER('Assortiment Hoortoestellen'!$B$26),PROPER('Dataset hoortoestellen'!D3681))),0,1))","v":1}]
["De Jong Audiciens",5,"Widex","U440-CIC-M","WID-0446",{"$f":"IF(ISBLANK('Assortiment Hoortoestellen'!$B$26),1,IF(ISERROR(SEARCH(PROPER('Assortiment Hoortoestellen'!$B$26),PROPER('Dataset hoortoestellen'!D3692))),0,1))","v":1}]
["De Jong Audiciens",5,"Widex","U440-FP","WID-0459",{"$f":"IF(ISBLANK('Assortiment Hoortoestellen'!$B$26),1,IF(ISERROR(SEARCH(PROPER('Assortiment Hoortoestellen'!$B$26),PROPER('Dataset hoortoestellen'!D3705))),0,1))","v":1}]
["De Jong Audiciens",4,"Widex","Enjoy E-F2 220 (M-tel)","WID-0583",{"$f":"IF(ISBLANK('Assortiment Hoortoestellen'!$B$26),1,IF(ISERROR(SEARCH(PROPER('Assortiment Hoortoestellen'!$B$26),PROPER('Dataset hoortoestellen'!D3725))),0,1))","v":1}]
["De Jong Audiciens",2,"Widex","Enjoy E-F2 50 (M-tel)","WID-0595",{"$f":"IF(ISBLANK('Assortiment Hoortoestellen'!$B$26),1,IF(ISERROR(SEARCH(PROPER('Assortiment Hoortoestellen'!$B$26),PROPER('Dataset hoortoestellen'!D3733))),0,1))","v":1}]
["De Jong Audiciens",3,"Widex","Enjoy E-FP 110","WID-0611",{"$f":"IF(ISBLANK('Assortiment Hoortoestellen'!$B$26),1,IF(ISERROR(SEARCH(PROPER('Assortiment Hoortoestellen'!$B$26),PROPER('Dataset hoortoestellen'!D3744))),0,1))","v":1}]
["De Jong Audiciens",5,"Widex","Enjoy E-FS 330 (M-tel)","WID-0629",{"$f":"IF(ISBLANK('Assortiment Hoortoestellen'!$B$26),1,IF(ISERROR(SEARCH(PROPER('Assortiment Hoortoestellen'!$B$26),PROPER('Dataset hoortoestellen'!D3757))),0,1))","v":1}]
["De Jong Audiciens",5,"Widex","Enjoy E-CIC TR 330 Rechts","WID-0663",{"$f":"IF(ISBLANK('Assortiment Hoortoestellen'!$B$26),1,IF(ISERROR(SEARCH(PROPER('Assortiment Hoortoestellen'!$B$26),PROPER('Dataset hoortoestellen'!D3777))),0,1))","v":1}]
["De Oor-zaak",5,"Audio Service","quiX 12 G5 Rechts","AUS-0192",{"$f":"IF(ISBLANK('Assortiment Hoortoestellen'!$B$26),1,IF(ISERROR(SEARCH(PROPER('Assortiment Hoortoestellen'!$B$26),PROPER('Dataset hoortoestellen'!D3781))),0,1))","v":1}]
["De Pool v.o.f.",1,"Starkey","Muse i1000 CIC","STA-0277",{"$f":"IF(ISBLANK('Assortiment Hoortoestellen'!$B$26),1,IF(ISERROR(SEARCH(PROPER('Assortiment Hoortoestellen'!$B$26),PROPER('Dataset hoortoestellen'!D3806))),0,1))","v":1}]
["De Pool v.o.f.",2,"Starkey","Muse iQ i1000 RIC 312","STA-0357",{"$f":"IF(ISBLANK('Assortiment Hoortoestellen'!$B$26),1,IF(ISERROR(SEARCH(PROPER('Assortiment Hoortoestellen'!$B$26),PROPER('Dataset hoortoestellen'!D3818))),0,1))","v":1}]
["De Pool v.o.f.",4,"Starkey","Livio 1200 RIC R","STA-0387",{"$f":"IF(ISBLANK('Assortiment Hoortoestellen'!$B$26),1,IF(ISERROR(SEARCH(PROPER('Assortiment Hoortoestellen'!$B$26),PROPER('Dataset hoortoestellen'!D3825))),0,1))","v":1}]
["Ecoutez",4,"Audio Service","P 8 G5","AUS-0190",{"$f":"IF(ISBLANK('Assortiment Hoortoestellen'!$B$26),1,IF(ISERROR(SEARCH(PROPER('Assortiment Hoortoestellen'!$B$26),PROPER('Dataset hoortoestellen'!D3846))),0,1))","v":1}]
["Ecoutez",3,"Audio Service","Mood 6 G5","AUS-0208",{"$f":"IF(ISBLANK('Assortiment Hoortoestellen'!$B$26),1,IF(ISERROR(SEARCH(PROPER('Assortiment Hoortoestellen'!$B$26),PROPER('Dataset hoortoestellen'!D3858))),0,1))","v":1}]
["Ecoutez",1,"Audio Service ","Volta P C","AUS-0220",{"$f":"IF(ISBLANK('Assortiment Hoortoestellen'!$B$26),1,IF(ISERROR(SEARCH(PROPER('Assortiment Hoortoestellen'!$B$26),PROPER('Dataset hoortoestellen'!D3870))),0,1))","v":1}]
["Ecoutez",5,"Beltone","TST 976-DW","BEL-0123",{"$f":"IF(ISBLANK('Assortiment Hoortoestellen'!$B$26),1,IF(ISERROR(SEARCH(PROPER('Assortiment Hoortoestellen'!$B$26),PROPER('Dataset hoortoestellen'!D3877))),0,1))","v":1}]
["Ecoutez",3,"Bernafon","Viron 3 BTE 105","BER-0663",{"$f":"IF(ISBLANK('Assortiment Hoortoestellen'!$B$26),1,IF(ISERROR(SEARCH(PROPER('Assortiment Hoortoestellen'!$B$26),PROPER('Dataset hoortoestellen'!D3894))),0,1))","v":1}]
["Ecoutez",2,"Coselgi","Effect EF2-F2 (S-tel)","COS-0279",{"$f":"IF(ISBLANK('Assortiment Hoortoestellen'!$B$26),1,IF(ISERROR(SEARCH(PROPER('Assortiment Hoortoestellen'!$B$26),PROPER('Dataset hoortoestellen'!D3906))),0,1))","v":1}]
["Ecoutez",2,"Coselgi","Effect EF2-XP","COS-0293",{"$f":"IF(ISBLANK('Assortiment Hoortoestellen'!$B$26),1,IF(ISERROR(SEARCH(PROPER('Assortiment Hoortoestellen'!$B$26),PROPER('Dataset hoortoestellen'!D3918))),0,1))","v":1}]
["Ecoutez",4,"Coselgi","Effect EF5-F2 (P-tel)","COS-0318",{"$f":"IF(ISBLANK('Assortiment Hoortoestellen'!$B$26),1,IF(ISERROR(SEARCH(PROPER('Assortiment Hoortoestellen'!$B$26),PROPER('Dataset hoortoestellen'!D3939))),0,1))","v":1}]
["Ecoutez",5,"Coselgi","Effect EF6-F2 (HP-tel)","COS-0337",{"$f":"IF(ISBLANK('Assortiment Hoortoestellen'!$B$26),1,IF(ISERROR(SEARCH(PROPER('Assortiment Hoortoestellen'!$B$26),PROPER('Dataset hoortoestellen'!D3955))),0,1))","v":1}]
["Ecoutez",5,"Coselgi","Effect EF6-F2 (S-tel)","COS-0340",{"$f":"IF(ISBLANK('Assortiment Hoortoestellen'!$B$26),1,IF(ISERROR(SEARCH(PROPER('Assortiment Hoortoestellen'!$B$26),PROPER('Dataset hoortoestellen'!D3958))),0,1))","v":1}]
["Ecoutez",5,"Coselgi","Effect EF6-FM","COS-0354",{"$f":"IF(ISBLANK('Assortiment Hoortoestellen'!$B$26),1,IF(ISERROR(SEARCH(PROPER('Assortiment Hoortoestellen'!$B$26),PROPER('Dataset hoortoestellen'!D3970))),0,1))","v":1}]
["Ecoutez",3,"Interton","MOVE 462-DRW","INT-0068",{"$f":"IF(ISBLANK('Assortiment Hoortoestellen'!$B$26),1,IF(ISERROR(SEARCH(PROPER('Assortiment Hoortoestellen'!$B$26),PROPER('Dataset hoortoestellen'!D3991))),0,1))","v":1}]
["Ecoutez",1,"Oticon","Get","OTI-0064",{"$f":"IF(ISBLANK('Assortiment Hoortoestellen'!$B$26),1,IF(ISERROR(SEARCH(PROPER('Assortiment Hoortoestellen'!$B$26),PROPER('Dataset hoortoestellen'!D4007))),0,1))","v":1}]
["Ecoutez",5,"Oticon","Opn 3 CIC 75 - 85","OTI-0360",{"$f":"IF(ISBLANK('Assortiment Hoortoestellen'!$B$26),1,IF(ISERROR(SEARCH(PROPER('Assortiment Hoortoestellen'!$B$26),PROPER('Dataset hoortoestellen'!D4014))),0,1))","v":1}]
["Ecoutez",2,"Phonak","Vitus BTE-micro","PHO-0260",{"$f":"IF(ISBLANK('Assortiment Hoortoestellen'!$B$26),1,IF(ISERROR(SEARCH(PROPER('Assortiment Hoortoestellen'!$B$26),PROPER('Dataset hoortoestellen'!D4024))),0,1))","v":1}]
["Ecoutez",3,"Phonak","Bolero B 30 M","PHO-0283",{"$f":"IF(ISBLANK('Assortiment Hoortoestellen'!$B$26),1,IF(ISERROR(SEARCH(PROPER('Assortiment Hoortoestellen'!$B$26),PROPER('Dataset hoortoestellen'!D4038))),0,1))","v":1}]
["Ecoutez",3,"Phonak","Sky B 30 UP","PHO-0311",{"$f":"IF(ISBLANK('Assortiment Hoortoestellen'!$B$26),1,IF(ISERROR(SEARCH(PROPER('Assortiment Hoortoestellen'!$B$26),PROPER('Dataset hoortoestellen'!D4057))),0,1))","v":1}]
["Ecoutez",4,"Phonak","Sky M30-M","PHO-0333",{"$f":"IF(ISBLANK('Assortiment Hoortoestellen'!$B$26),1,IF(ISERROR(SEARCH(PROPER('Assortiment Hoortoestellen'!$B$26),PROPER('Dataset hoortoestellen'!D4075))),0,1))","v":1}]
["Ecoutez",5,"ReSound","LiNX 3D 7 ITC-DW","RES-0300",{"$f":"IF(ISBLANK('Assortiment Hoortoestellen'!$B$26),1,IF(ISERROR(SEARCH(PROPER('Assortiment Hoortoestellen'!$B$26),PROPER('Dataset hoortoestellen'!D4086))),0,1))","v":1}]
["Ecoutez",2,"ReSound","KEY 2ITC-DW","RES-0316",{"$f":"IF(ISBLANK('Assortiment Hoortoestellen'!$B$26),1,IF(ISERROR(SEARCH(PROPER('Assortiment Hoortoestellen'!$B$26),PROPER('Dataset hoortoestellen'!D4099))),0,1))","v":1}]
["Ecoutez",3,"ReSound","KEY 398-DW","RES-0322",{"$f":"IF(ISBLANK('Assortiment Hoortoestellen'!$B$26),1,IF(ISERROR(SEARCH(PROPER('Assortiment Hoortoestellen'!$B$26),PROPER('Dataset hoortoestellen'!D4105))),0,1))","v":1}]
["Ecoutez",2,"Starkey","Muse iQ 1000 ITC","STA-0341",{"$f":"IF(ISBLANK('Assortiment Hoortoestellen'!$B$26),1,IF(ISERROR(SEARCH(PROPER('Assortiment Hoortoestellen'!$B$26),PROPER('Dataset hoortoestellen'!D4127))),0,1))","v":1}]
["Ecoutez",4,"Starkey","Muse iQ i1200 ITC","STA-0363",{"$f":"IF(ISBLANK('Assortiment Hoortoestellen'!$B$26),1,IF(ISERROR(SEARCH(PROPER('Assortiment Hoortoestellen'!$B$26),PROPER('Dataset hoortoestellen'!D4138))),0,1))","v":1}]
["Ecoutez",5,"Starkey","Livio 1600 BTE 13","STA-0388",{"$f":"IF(ISBLANK('Assortiment Hoortoestellen'!$B$26),1,IF(ISERROR(SEARCH(PROPER('Assortiment Hoortoestellen'!$B$26),PROPER('Dataset hoortoestellen'!D4151))),0,1))","v":1}]
["Ecoutez",4,"Unitron","T Insera 600 W 312 Dir","UNI-0331",{"$f":"IF(ISBLANK('Assortiment Hoortoestellen'!$B$26),1,IF(ISERROR(SEARCH(PROPER('Assortiment Hoortoestellen'!$B$26),PROPER('Dataset hoortoestellen'!D4171))),0,1))","v":1}]
["Ecoutez",5,"Unitron","T Insera 800 W 312 Dir","UNI-0341",{"$f":"IF(ISBLANK('Assortiment Hoortoestellen'!$B$26),1,IF(ISERROR(SEARCH(PROPER('Assortiment Hoortoestellen'!$B$26),PROPER('Dataset hoortoestellen'!D4175))),0,1))","v":1}]
["Ecoutez",5,"Unitron","DX Insera 7 W 312 Dir","UNI-0442",{"$f":"IF(ISBLANK('Assortiment Hoortoestellen'!$B$26),1,IF(ISERROR(SEARCH(PROPER('Assortiment Hoortoestellen'!$B$26),PROPER('Dataset hoortoestellen'!D4186))),0,1))","v":1}]
["Ecoutez",2,"Unitron","Shine Rev+ 10A Omni","UNI-0473",{"$f":"IF(ISBLANK('Assortiment Hoortoestellen'!$B$26),1,IF(ISERROR(SEARCH(PROPER('Assortiment Hoortoestellen'!$B$26),PROPER('Dataset hoortoestellen'!D4199))),0,1))","v":1}]
["Ecoutez",3,"Widex","U220-CIC-M TR","WID-0421",{"$f":"IF(ISBLANK('Assortiment Hoortoestellen'!$B$26),1,IF(ISERROR(SEARCH(PROPER('Assortiment Hoortoestellen'!$B$26),PROPER('Dataset hoortoestellen'!D4219))),0,1))","v":1}]
["Ecoutez",4,"Widex","U330-FS (M-tel)","WID-0438",{"$f":"IF(ISBLANK('Assortiment Hoortoestellen'!$B$26),1,IF(ISERROR(SEARCH(PROPER('Assortiment Hoortoestellen'!$B$26),PROPER('Dataset hoortoestellen'!D4236))),0,1))","v":1}]
["Ecoutez",5,"Widex","U440-PA (M-tel)","WID-0454",{"$f":"IF(ISBLANK('Assortiment Hoortoestellen'!$B$26),1,IF(ISERROR(SEARCH(PROPER('Assortiment Hoortoestellen'!$B$26),PROPER('Dataset hoortoestellen'!D4252))),0,1))","v":1}]
["Ecoutez",5,"Widex","Enjoy E-CIC 330 Links","WID-0553",{"$f":"IF(ISBLANK('Assortiment Hoortoestellen'!$B$26),1,IF(ISERROR(SEARCH(PROPER('Assortiment Hoortoestellen'!$B$26),PROPER('Dataset hoortoestellen'!D4264))),0,1))","v":1}]
["Ecoutez",5,"Widex","Enjoy E-CIC TR 330 Links","WID-0571",{"$f":"IF(ISBLANK('Assortiment Hoortoestellen'!$B$26),1,IF(ISERROR(SEARCH(PROPER('Assortiment Hoortoestellen'!$B$26),PROPER('Dataset hoortoestellen'!D4271))),0,1))","v":1}]
["Ecoutez",3,"Widex","Enjoy E-FA 110","WID-0599",{"$f":"IF(ISBLANK('Assortiment Hoortoestellen'!$B$26),1,IF(ISERROR(SEARCH(PROPER('Assortiment Hoortoestellen'!$B$26),PROPER('Dataset hoortoestellen'!D4288))),0,1))","v":1}]
["Ecoutez",3,"Widex","Enjoy E-FS 110 (HP-tel)","WID-0620",{"$f":"IF(ISBLANK('Assortiment Hoortoestellen'!$B$26),1,IF(ISERROR(SEARCH(PROPER('Assortiment Hoortoestellen'!$B$26),PROPER('Dataset hoortoestellen'!D4300))),0,1))","v":1}]
["Ecoutez",2,"Widex","Enjoy E-FS 50 (HP-tel)","WID-0636",{"$f":"IF(ISBLANK('Assortiment Hoortoestellen'!$B$26),1,IF(ISERROR(SEARCH(PROPER('Assortiment Hoortoestellen'!$B$26),PROPER('Dataset hoortoestellen'!D4312))),0,1))","v":1}]
["Een & Al Oor Bakel",2,"Bernafon","Zerena 1 CIC","BER-0616",{"$f":"IF(ISBLANK('Assortiment Hoortoestellen'!$B$26),1,IF(ISERROR(SEARCH(PROPER('Assortiment Hoortoestellen'!$B$26),PROPER('Dataset hoortoestellen'!D4333))),0,1))","v":1}]
["Een & Al Oor Bakel",3,"Bernafon","Zerena 3 MNR T","BER-0630",{"$f":"IF(ISBLANK('Assortiment Hoortoestellen'!$B$26),1,IF(ISERROR(SEARCH(PROPER('Assortiment Hoortoestellen'!$B$26),PROPER('Dataset hoortoestellen'!D4336))),0,1))","v":1}]
["Engel Hoorservice",4,"Audio Service","quiX 8 G5 Links","AUS-0193",{"$f":"IF(ISBLANK('Assortiment Hoortoestellen'!$B$26),1,IF(ISERROR(SEARCH(PROPER('Assortiment Hoortoestellen'!$B$26),PROPER('Dataset hoortoestellen'!D4352))),0,1))","v":1}]
["Engel Hoorservice",2,"Interton","RD362-DRW","INT-0033",{"$f":"IF(ISBLANK('Assortiment Hoortoestellen'!$B$26),1,IF(ISERROR(SEARCH(PROPER('Assortiment Hoortoestellen'!$B$26),PROPER('Dataset hoortoestellen'!D4364))),0,1))","v":1}]
["Garant Opticien Audicien Apeldoorn",5,"Audio Service","quiX 8 G6 rechts","AUS-0258",{"$f":"IF(ISBLANK('Assortiment Hoortoestellen'!$B$26),1,IF(ISERROR(SEARCH(PROPER('Assortiment Hoortoestellen'!$B$26),PROPER('Dataset hoortoestellen'!D4385))),0,1))","v":1}]
["Garant Opticien Audicien Apeldoorn",3,"Audio Service","quiX 4 G6 rechts","AUS-0254",{"$f":"IF(ISBLANK('Assortiment Hoortoestellen'!$B$26),1,IF(ISERROR(SEARCH(PROPER('Assortiment Hoortoestellen'!$B$26),PROPER('Dataset hoortoestellen'!D4388))),0,1))","v":1}]
["Garant Opticien Audicien Apeldoorn",3,"Audio Service","Mood 4 G6","AUS-0240",{"$f":"IF(ISBLANK('Assortiment Hoortoestellen'!$B$26),1,IF(ISERROR(SEARCH(PROPER('Assortiment Hoortoestellen'!$B$26),PROPER('Dataset hoortoestellen'!D4414))),0,1))","v":1}]
["Garant Opticien Audicien Apeldoorn",5,"Beltone","TST 966-DW","BEL-0122",{"$f":"IF(ISBLANK('Assortiment Hoortoestellen'!$B$26),1,IF(ISERROR(SEARCH(PROPER('Assortiment Hoortoestellen'!$B$26),PROPER('Dataset hoortoestellen'!D4425))),0,1))","v":1}]
["Garant Opticien Audicien Apeldoorn",3,"Bernafon","Zerena 3 IIC","BER-0625",{"$f":"IF(ISBLANK('Assortiment Hoortoestellen'!$B$26),1,IF(ISERROR(SEARCH(PROPER('Assortiment Hoortoestellen'!$B$26),PROPER('Dataset hoortoestellen'!D4433))),0,1))","v":1}]
["Garant Opticien Audicien Apeldoorn",2,"Coselgi","Effect EF2-CIC TR Rechts","COS-0289",{"$f":"IF(ISBLANK('Assortiment Hoortoestellen'!$B$26),1,IF(ISERROR(SEARCH(PROPER('Assortiment Hoortoestellen'!$B$26),PROPER('Dataset hoortoestellen'!D4449))),0,1))","v":1}]
["Garant Opticien Audicien Apeldoorn",4,"Coselgi","Effect EF5-CIC M","COS-0327",{"$f":"IF(ISBLANK('Assortiment Hoortoestellen'!$B$26),1,IF(ISERROR(SEARCH(PROPER('Assortiment Hoortoestellen'!$B$26),PROPER('Dataset hoortoestellen'!D4466))),0,1))","v":1}]
["Garant Opticien Audicien Apeldoorn",2,"Coselgi","Effect EF2-F2 (P-tel)","COS-0278",{"$f":"IF(ISBLANK('Assortiment Hoortoestellen'!$B$26),1,IF(ISERROR(SEARCH(PROPER('Assortiment Hoortoestellen'!$B$26),PROPER('Dataset hoortoestellen'!D4477))),0,1))","v":1}]
["Garant Opticien Audicien Apeldoorn",4,"Coselgi","Effect EF5-F2 (P-TEL)","COS-0596",{"$f":"IF(ISBLANK('Assortiment Hoortoestellen'!$B$26),1,IF(ISERROR(SEARCH(PROPER('Assortiment Hoortoestellen'!$B$26),PROPER('Dataset hoortoestellen'!D4485))),0,1))","v":1}]
["Garant Opticien Audicien Apeldoorn",4,"Coselgi","Effect EF5-FS (HP-tel)","COS-0320",{"$f":"IF(ISBLANK('Assortiment Hoortoestellen'!$B$26),1,IF(ISERROR(SEARCH(PROPER('Assortiment Hoortoestellen'!$B$26),PROPER('Dataset hoortoestellen'!D4501))),0,1))","v":1}]
["Garant Opticien Audicien Apeldoorn",5,"Coselgi","Effect EF6-FP","COS-0355",{"$f":"IF(ISBLANK('Assortiment Hoortoestellen'!$B$26),1,IF(ISERROR(SEARCH(PROPER('Assortiment Hoortoestellen'!$B$26),PROPER('Dataset hoortoestellen'!D4517))),0,1))","v":1}]
["Garant Opticien Audicien Apeldoorn",5,"Interton","MOVE 6ITC-DW","INT-0083",{"$f":"IF(ISBLANK('Assortiment Hoortoestellen'!$B$26),1,IF(ISERROR(SEARCH(PROPER('Assortiment Hoortoestellen'!$B$26),PROPER('Dataset hoortoestellen'!D4532))),0,1))","v":1}]
["Garant Opticien Audicien Apeldoorn",5,"Interton","MOVE 665-DW","INT-0078",{"$f":"IF(ISBLANK('Assortiment Hoortoestellen'!$B$26),1,IF(ISERROR(SEARCH(PROPER('Assortiment Hoortoestellen'!$B$26),PROPER('Dataset hoortoestellen'!D4545))),0,1))","v":1}]
["Garant Opticien Audicien Apeldoorn",2,"Interton","Move 3CIC-W","INT-0064",{"$f":"IF(ISBLANK('Assortiment Hoortoestellen'!$B$26),1,IF(ISERROR(SEARCH(PROPER('Assortiment Hoortoestellen'!$B$26),PROPER('Dataset hoortoestellen'!D4551))),0,1))","v":1}]
["Garant Opticien Audicien Apeldoorn",2,"Oticon","Geno 2 Custom 75 - 100","OTI-0385",{"$f":"IF(ISBLANK('Assortiment Hoortoestellen'!$B$26),1,IF(ISERROR(SEARCH(PROPER('Assortiment Hoortoestellen'!$B$26),PROPER('Dataset hoortoestellen'!D4569))),0,1))","v":1}]
["Garant Opticien Audicien Apeldoorn",3,"Oticon","Geno 1 BTE 85","OTI-0377",{"$f":"IF(ISBLANK('Assortiment Hoortoestellen'!$B$26),1,IF(ISERROR(SEARCH(PROPER('Assortiment Hoortoestellen'!$B$26),PROPER('Dataset hoortoestellen'!D4580))),0,1))","v":1}]
["Garant Opticien Audicien Apeldoorn",4,"Phonak","Audéo M30-13T","PHO-0341",{"$f":"IF(ISBLANK('Assortiment Hoortoestellen'!$B$26),1,IF(ISERROR(SEARCH(PROPER('Assortiment Hoortoestellen'!$B$26),PROPER('Dataset hoortoestellen'!D4593))),0,1))","v":1}]
["Garant Opticien Audicien Apeldoorn",3,"ReSound","KEY 3CIC-W","RES-0323",{"$f":"IF(ISBLANK('Assortiment Hoortoestellen'!$B$26),1,IF(ISERROR(SEARCH(PROPER('Assortiment Hoortoestellen'!$B$26),PROPER('Dataset hoortoestellen'!D4613))),0,1))","v":1}]
["Garant Opticien Audicien Apeldoorn",5,"ReSound","LiNX Quattro 562-DRW","RES-0339",{"$f":"IF(ISBLANK('Assortiment Hoortoestellen'!$B$26),1,IF(ISERROR(SEARCH(PROPER('Assortiment Hoortoestellen'!$B$26),PROPER('Dataset hoortoestellen'!D4617))),0,1))","v":1}]
["Garant Opticien Audicien Apeldoorn",5,"ReSound","LiNX Quattro 577-DW","RES-0341",{"$f":"IF(ISBLANK('Assortiment Hoortoestellen'!$B$26),1,IF(ISERROR(SEARCH(PROPER('Assortiment Hoortoestellen'!$B$26),PROPER('Dataset hoortoestellen'!D4632))),0,1))","v":1}]
["Garant Opticien Audicien Apeldoorn",3,"Starkey","Muse iQ i1000 ITC","STA-0353",{"$f":"IF(ISBLANK('Assortiment Hoortoestellen'!$B$26),1,IF(ISERROR(SEARCH(PROPER('Assortiment Hoortoestellen'!$B$26),PROPER('Dataset hoortoestellen'!D4645))),0,1))","v":1}]
["Garant Opticien Audicien Apeldoorn",3,"Starkey","Livio AI 1200 mRIC 312","STA-0398",{"$f":"IF(ISBLANK('Assortiment Hoortoestellen'!$B$26),1,IF(ISERROR(SEARCH(PROPER('Assortiment Hoortoestellen'!$B$26),PROPER('Dataset hoortoestellen'!D4665))),0,1))","v":1}]
["Garant Opticien Audicien Apeldoorn",3,"Unitron","Insera B1-10 NW O","UNI-0530",{"$f":"IF(ISBLANK('Assortiment Hoortoestellen'!$B$26),1,IF(ISERROR(SEARCH(PROPER('Assortiment Hoortoestellen'!$B$26),PROPER('Dataset hoortoestellen'!D4682))),0,1))","v":1}]
["Garant Opticien Audicien Apeldoorn",3,"Unitron","Insera B1-312 NW O","UNI-0532",{"$f":"IF(ISBLANK('Assortiment Hoortoestellen'!$B$26),1,IF(ISERROR(SEARCH(PROPER('Assortiment Hoortoestellen'!$B$26),PROPER('Dataset hoortoestellen'!D4684))),0,1))","v":1}]
["Garant Opticien Audicien Apeldoorn",5,"Widex","Enjoy E-CIC 330 Links","WID-0553",{"$f":"IF(ISBLANK('Assortiment Hoortoestellen'!$B$26),1,IF(ISERROR(SEARCH(PROPER('Assortiment Hoortoestellen'!$B$26),PROPER('Dataset hoortoestellen'!D4706))),0,1))","v":1}]
["Garant Opticien Audicien Apeldoorn",5,"Widex","Enjoy E-CIC TR 330 Links","WID-0571",{"$f":"IF(ISBLANK('Assortiment Hoortoestellen'!$B$26),1,IF(ISERROR(SEARCH(PROPER('Assortiment Hoortoestellen'!$B$26),PROPER('Dataset hoortoestellen'!D4713))),0,1))","v":1}]
["Garant Opticien Audicien Apeldoorn",4,"Widex","U330-CIC","WID-0431",{"$f":"IF(ISBLANK('Assortiment Hoortoestellen'!$B$26),1,IF(ISERROR(SEARCH(PROPER('Assortiment Hoortoestellen'!$B$26),PROPER('Dataset hoortoestellen'!D4730))),0,1))","v":1}]
["Garant Opticien Audicien Apeldoorn",2,"Widex","Enjoy E-F2 50 (M-tel)","WID-0595",{"$f":"IF(ISBLANK('Assortiment Hoortoestellen'!$B$26),1,IF(ISERROR(SEARCH(PROPER('Assortiment Hoortoestellen'!$B$26),PROPER('Dataset hoortoestellen'!D4746))),0,1))","v":1}]
["Garant Opticien Audicien Apeldoorn",4,"Widex","Enjoy E-F2 220 (HP-tel)","WID-0582",{"$f":"IF(ISBLANK('Assortiment Hoortoestellen'!$B$26),1,IF(ISERROR(SEARCH(PROPER('Assortiment Hoortoestellen'!$B$26),PROPER('Dataset hoortoestellen'!D4758))),0,1))","v":1}]
["Garant Opticien Audicien Apeldoorn",2,"Widex","Enjoy E-FS 50 (P-tel)","WID-0638",{"$f":"IF(ISBLANK('Assortiment Hoortoestellen'!$B$26),1,IF(ISERROR(SEARCH(PROPER('Assortiment Hoortoestellen'!$B$26),PROPER('Dataset hoortoestellen'!D4765))),0,1))","v":1}]
["Garant Opticien Audicien Apeldoorn",5,"Widex","Enjoy E-F2 330 (P-tel)","WID-0588",{"$f":"IF(ISBLANK('Assortiment Hoortoestellen'!$B$26),1,IF(ISERROR(SEARCH(PROPER('Assortiment Hoortoestellen'!$B$26),PROPER('Dataset hoortoestellen'!D4782))),0,1))","v":1}]
["Garant Opticien Audicien Apeldoorn",3,"Widex","U110-FS (M-tel)","WID-0412",{"$f":"IF(ISBLANK('Assortiment Hoortoestellen'!$B$26),1,IF(ISERROR(SEARCH(PROPER('Assortiment Hoortoestellen'!$B$26),PROPER('Dataset hoortoestellen'!D4798))),0,1))","v":1}]
["Garant Opticien Audicien Apeldoorn",5,"Widex","Enjoy E-FS 330 (S-tel)","WID-0631",{"$f":"IF(ISBLANK('Assortiment Hoortoestellen'!$B$26),1,IF(ISERROR(SEARCH(PROPER('Assortiment Hoortoestellen'!$B$26),PROPER('Dataset hoortoestellen'!D4806))),0,1))","v":1}]
["Garant Opticien Audicien Apeldoorn",5,"Widex","U440-FS (P-tel)","WID-0452",{"$f":"IF(ISBLANK('Assortiment Hoortoestellen'!$B$26),1,IF(ISERROR(SEARCH(PROPER('Assortiment Hoortoestellen'!$B$26),PROPER('Dataset hoortoestellen'!D4827))),0,1))","v":1}]
["Gehoorpunt",4,"Audio Service","Duo 8 G5","AUS-0178",{"$f":"IF(ISBLANK('Assortiment Hoortoestellen'!$B$26),1,IF(ISERROR(SEARCH(PROPER('Assortiment Hoortoestellen'!$B$26),PROPER('Dataset hoortoestellen'!D4843))),0,1))","v":1}]
["Gehoorpunt",5,"Audio Service","Mood 12 G5","AUS-0184",{"$f":"IF(ISBLANK('Assortiment Hoortoestellen'!$B$26),1,IF(ISERROR(SEARCH(PROPER('Assortiment Hoortoestellen'!$B$26),PROPER('Dataset hoortoestellen'!D4846))),0,1))","v":1}]
["Gehoorpunt",3,"Audio Service","Sun 6 G5","AUS-0218",{"$f":"IF(ISBLANK('Assortiment Hoortoestellen'!$B$26),1,IF(ISERROR(SEARCH(PROPER('Assortiment Hoortoestellen'!$B$26),PROPER('Dataset hoortoestellen'!D4871))),0,1))","v":1}]
["Gehoorpunt",2,"Bernafon","Zerena 1 MNR","BER-0621",{"$f":"IF(ISBLANK('Assortiment Hoortoestellen'!$B$26),1,IF(ISERROR(SEARCH(PROPER('Assortiment Hoortoestellen'!$B$26),PROPER('Dataset hoortoestellen'!D4879))),0,1))","v":1}]
["Gehoorpunt",3,"Coselgi","U10-FM","COS-0140",{"$f":"IF(ISBLANK('Assortiment Hoortoestellen'!$B$26),1,IF(ISERROR(SEARCH(PROPER('Assortiment Hoortoestellen'!$B$26),PROPER('Dataset hoortoestellen'!D4895))),0,1))","v":1}]
["Gehoorpunt",4,"Coselgi","U10E-FS (S-tel)","COS-0157",{"$f":"IF(ISBLANK('Assortiment Hoortoestellen'!$B$26),1,IF(ISERROR(SEARCH(PROPER('Assortiment Hoortoestellen'!$B$26),PROPER('Dataset hoortoestellen'!D4912))),0,1))","v":1}]
["Gehoorpunt",5,"Coselgi","U15-FM","COS-0164",{"$f":"IF(ISBLANK('Assortiment Hoortoestellen'!$B$26),1,IF(ISERROR(SEARCH(PROPER('Assortiment Hoortoestellen'!$B$26),PROPER('Dataset hoortoestellen'!D4919))),0,1))","v":1}]
["Gehoorpunt",2,"Coselgi","U6-CIC (links)","COS-0241",{"$f":"IF(ISBLANK('Assortiment Hoortoestellen'!$B$26),1,IF(ISERROR(SEARCH(PROPER('Assortiment Hoortoestellen'!$B$26),PROPER('Dataset hoortoestellen'!D4927))),0,1))","v":1}]
["Gehoorpunt",3,"Coselgi","U6E-FS (M-tel)","COS-0259",{"$f":"IF(ISBLANK('Assortiment Hoortoestellen'!$B$26),1,IF(ISERROR(SEARCH(PROPER('Assortiment Hoortoestellen'!$B$26),PROPER('Dataset hoortoestellen'!D4943))),0,1))","v":1}]
["Gehoorpunt",2,"Coselgi","Effect EF2-CIC Rechts","COS-0287",{"$f":"IF(ISBLANK('Assortiment Hoortoestellen'!$B$26),1,IF(ISERROR(SEARCH(PROPER('Assortiment Hoortoestellen'!$B$26),PROPER('Dataset hoortoestellen'!D4960))),0,1))","v":1}]
["Gehoorpunt",3,"Coselgi","Effect EF4-CIC TR Rechts","COS-0310",{"$f":"IF(ISBLANK('Assortiment Hoortoestellen'!$B$26),1,IF(ISERROR(SEARCH(PROPER('Assortiment Hoortoestellen'!$B$26),PROPER('Dataset hoortoestellen'!D4980))),0,1))","v":1}]
["Gehoorpunt",4,"Coselgi","Effect EF5-RIC 10 (S-tel)","COS-0325",{"$f":"IF(ISBLANK('Assortiment Hoortoestellen'!$B$26),1,IF(ISERROR(SEARCH(PROPER('Assortiment Hoortoestellen'!$B$26),PROPER('Dataset hoortoestellen'!D4993))),0,1))","v":1}]
["Gehoorpunt",4,"Coselgi","Effect EF5-CIC M","COS-0327",{"$f":"IF(ISBLANK('Assortiment Hoortoestellen'!$B$26),1,IF(ISERROR(SEARCH(PROPER('Assortiment Hoortoestellen'!$B$26),PROPER('Dataset hoortoestellen'!D4995))),0,1))","v":1}]
["Gehoorpunt",5,"Coselgi","Effect EF6-RIC 10 (M-tel)","COS-0345",{"$f":"IF(ISBLANK('Assortiment Hoortoestellen'!$B$26),1,IF(ISERROR(SEARCH(PROPER('Assortiment Hoortoestellen'!$B$26),PROPER('Dataset hoortoestellen'!D5011))),0,1))","v":1}]
["Gehoorpunt",2,"Interton","RD362-DRW","INT-0033",{"$f":"IF(ISBLANK('Assortiment Hoortoestellen'!$B$26),1,IF(ISERROR(SEARCH(PROPER('Assortiment Hoortoestellen'!$B$26),PROPER('Dataset hoortoestellen'!D5026))),0,1))","v":1}]
["Gehoorpunt",5,"Interton","RD670-DW","INT-0046",{"$f":"IF(ISBLANK('Assortiment Hoortoestellen'!$B$26),1,IF(ISERROR(SEARCH(PROPER('Assortiment Hoortoestellen'!$B$26),PROPER('Dataset hoortoestellen'!D5039))),0,1))","v":1}]
["Gehoorpunt",3,"Phonak","Audeo B 30 13","PHO-0270",{"$f":"IF(ISBLANK('Assortiment Hoortoestellen'!$B$26),1,IF(ISERROR(SEARCH(PROPER('Assortiment Hoortoestellen'!$B$26),PROPER('Dataset hoortoestellen'!D5059))),0,1))","v":1}]
["Gehoorpunt",4,"Phonak","Audeo B 50 13","PHO-0274",{"$f":"IF(ISBLANK('Assortiment Hoortoestellen'!$B$26),1,IF(ISERROR(SEARCH(PROPER('Assortiment Hoortoestellen'!$B$26),PROPER('Dataset hoortoestellen'!D5063))),0,1))","v":1}]
["Gehoorpunt",3,"Phonak","Naida B 30 SP","PHO-0299",{"$f":"IF(ISBLANK('Assortiment Hoortoestellen'!$B$26),1,IF(ISERROR(SEARCH(PROPER('Assortiment Hoortoestellen'!$B$26),PROPER('Dataset hoortoestellen'!D5078))),0,1))","v":1}]
["Gehoorpunt",3,"Phonak","Virto B 30 13","PHO-0325",{"$f":"IF(ISBLANK('Assortiment Hoortoestellen'!$B$26),1,IF(ISERROR(SEARCH(PROPER('Assortiment Hoortoestellen'!$B$26),PROPER('Dataset hoortoestellen'!D5100))),0,1))","v":1}]
["Gehoorpunt",1,"ReSound","Vea 180 VI","RES-0009",{"$f":"IF(ISBLANK('Assortiment Hoortoestellen'!$B$26),1,IF(ISERROR(SEARCH(PROPER('Assortiment Hoortoestellen'!$B$26),PROPER('Dataset hoortoestellen'!D5107))),0,1))","v":1}]
["Gehoorpunt",4,"ReSound","Ligo 5 CIC","RES-0270",{"$f":"IF(ISBLANK('Assortiment Hoortoestellen'!$B$26),1,IF(ISERROR(SEARCH(PROPER('Assortiment Hoortoestellen'!$B$26),PROPER('Dataset hoortoestellen'!D5124))),0,1))","v":1}]
["Gehoorpunt",1,"Starkey","Muse i1000 CIC","STA-0277",{"$f":"IF(ISBLANK('Assortiment Hoortoestellen'!$B$26),1,IF(ISERROR(SEARCH(PROPER('Assortiment Hoortoestellen'!$B$26),PROPER('Dataset hoortoestellen'!D5140))),0,1))","v":1}]
["Gehoorpunt",2,"Starkey","Muse iQ i1000 BTE 13 PP","STA-0350",{"$f":"IF(ISBLANK('Assortiment Hoortoestellen'!$B$26),1,IF(ISERROR(SEARCH(PROPER('Assortiment Hoortoestellen'!$B$26),PROPER('Dataset hoortoestellen'!D5152))),0,1))","v":1}]
["Gehoorpunt",2,"Starkey","Muse iQ i1000 mRIC","STA-0355",{"$f":"IF(ISBLANK('Assortiment Hoortoestellen'!$B$26),1,IF(ISERROR(SEARCH(PROPER('Assortiment Hoortoestellen'!$B$26),PROPER('Dataset hoortoestellen'!D5159))),0,1))","v":1}]
["Gehoorpunt",5,"Starkey","Livio 1600 RIC 312","STA-0390",{"$f":"IF(ISBLANK('Assortiment Hoortoestellen'!$B$26),1,IF(ISERROR(SEARCH(PROPER('Assortiment Hoortoestellen'!$B$26),PROPER('Dataset hoortoestellen'!D5176))),0,1))","v":1}]
["Gehoorpunt",5,"Unitron","T Moxi Fit 800","UNI-0294",{"$f":"IF(ISBLANK('Assortiment Hoortoestellen'!$B$26),1,IF(ISERROR(SEARCH(PROPER('Assortiment Hoortoestellen'!$B$26),PROPER('Dataset hoortoestellen'!D5192))),0,1))","v":1}]
["Gehoorpunt",3,"Unitron","T Stride Dura 500 P","UNI-0312",{"$f":"IF(ISBLANK('Assortiment Hoortoestellen'!$B$26),1,IF(ISERROR(SEARCH(PROPER('Assortiment Hoortoestellen'!$B$26),PROPER('Dataset hoortoestellen'!D5200))),0,1))","v":1}]
["Gehoorpunt",3,"Widex","U110-CIC-M","WID-0406",{"$f":"IF(ISBLANK('Assortiment Hoortoestellen'!$B$26),1,IF(ISERROR(SEARCH(PROPER('Assortiment Hoortoestellen'!$B$26),PROPER('Dataset hoortoestellen'!D5221))),0,1))","v":1}]
["Gehoorpunt",3,"Widex","U110-FM","WID-0409",{"$f":"IF(ISBLANK('Assortiment Hoortoestellen'!$B$26),1,IF(ISERROR(SEARCH(PROPER('Assortiment Hoortoestellen'!$B$26),PROPER('Dataset hoortoestellen'!D5224))),0,1))","v":1}]
["Gehoorpunt",3,"Widex","U220-FS (M-tel)","WID-0425",{"$f":"IF(ISBLANK('Assortiment Hoortoestellen'!$B$26),1,IF(ISERROR(SEARCH(PROPER('Assortiment Hoortoestellen'!$B$26),PROPER('Dataset hoortoestellen'!D5240))),0,1))","v":1}]
["Gehoorpunt",5,"Widex","U440-CIC-M","WID-0446",{"$f":"IF(ISBLANK('Assortiment Hoortoestellen'!$B$26),1,IF(ISERROR(SEARCH(PROPER('Assortiment Hoortoestellen'!$B$26),PROPER('Dataset hoortoestellen'!D5261))),0,1))","v":1}]
["Gehoorpunt",4,"Widex","U330-FP","WID-0458",{"$f":"IF(ISBLANK('Assortiment Hoortoestellen'!$B$26),1,IF(ISERROR(SEARCH(PROPER('Assortiment Hoortoestellen'!$B$26),PROPER('Dataset hoortoestellen'!D5273))),0,1))","v":1}]
["Gehoorpunt",3,"Widex","Enjoy E-F2 110 (HP-tel)","WID-0578",{"$f":"IF(ISBLANK('Assortiment Hoortoestellen'!$B$26),1,IF(ISERROR(SEARCH(PROPER('Assortiment Hoortoestellen'!$B$26),PROPER('Dataset hoortoestellen'!D5289))),0,1))","v":1}]
["Gehoorpunt",3,"Widex","Enjoy E-F2 110 (S-tel)","WID-0581",{"$f":"IF(ISBLANK('Assortiment Hoortoestellen'!$B$26),1,IF(ISERROR(SEARCH(PROPER('Assortiment Hoortoestellen'!$B$26),PROPER('Dataset hoortoestellen'!D5292))),0,1))","v":1}]
["Gehoorpunt",3,"Widex","Enjoy E-FP 110","WID-0611",{"$f":"IF(ISBLANK('Assortiment Hoortoestellen'!$B$26),1,IF(ISERROR(SEARCH(PROPER('Assortiment Hoortoestellen'!$B$26),PROPER('Dataset hoortoestellen'!D5313))),0,1))","v":1}]
["Gehoorpunt",4,"Widex","Enjoy E-FS 220 (HP-tel)","WID-0624",{"$f":"IF(ISBLANK('Assortiment Hoortoestellen'!$B$26),1,IF(ISERROR(SEARCH(PROPER('Assortiment Hoortoestellen'!$B$26),PROPER('Dataset hoortoestellen'!D5321))),0,1))","v":1}]
["Gehoorpunt",5,"Widex","Enjoy E-PA 330 (M-tel)","WID-0646",{"$f":"IF(ISBLANK('Assortiment Hoortoestellen'!$B$26),1,IF(ISERROR(SEARCH(PROPER('Assortiment Hoortoestellen'!$B$26),PROPER('Dataset hoortoestellen'!D5337))),0,1))","v":1}]
["Hans Anders",5,"Rexton","M-Core iX-CIC 60 rechts","REX-0118",{"$f":"IF(ISBLANK('Assortiment Hoortoestellen'!$B$26),1,IF(ISERROR(SEARCH(PROPER('Assortiment Hoortoestellen'!$B$26),PROPER('Dataset hoortoestellen'!D5354))),0,1))","v":1}]
["Hans Anders",4,"Rexton","Sterling 40 8C ITE/ITC BT","REX-0083",{"$f":"IF(ISBLANK('Assortiment Hoortoestellen'!$B$26),1,IF(ISERROR(SEARCH(PROPER('Assortiment Hoortoestellen'!$B$26),PROPER('Dataset hoortoestellen'!D5361))),0,1))","v":1}]
["Hans Anders",1,"Rexton","Mosaic HP 10 E1","REX-0127",{"$f":"IF(ISBLANK('Assortiment Hoortoestellen'!$B$26),1,IF(ISERROR(SEARCH(PROPER('Assortiment Hoortoestellen'!$B$26),PROPER('Dataset hoortoestellen'!D5373))),0,1))","v":1}]
["Hans Anders",5,"Rexton","M-Core B-Li-P 60","REX-0106",{"$f":"IF(ISBLANK('Assortiment Hoortoestellen'!$B$26),1,IF(ISERROR(SEARCH(PROPER('Assortiment Hoortoestellen'!$B$26),PROPER('Dataset hoortoestellen'!D5389))),0,1))","v":1}]
["Hans Anders",3,"Starkey","Muse iQ i1000 ITC","STA-0353",{"$f":"IF(ISBLANK('Assortiment Hoortoestellen'!$B$26),1,IF(ISERROR(SEARCH(PROPER('Assortiment Hoortoestellen'!$B$26),PROPER('Dataset hoortoestellen'!D5406))),0,1))","v":1}]
["Hans Anders",4,"Starkey","Muse iQ i1200 ITE","STA-0364",{"$f":"IF(ISBLANK('Assortiment Hoortoestellen'!$B$26),1,IF(ISERROR(SEARCH(PROPER('Assortiment Hoortoestellen'!$B$26),PROPER('Dataset hoortoestellen'!D5413))),0,1))","v":1}]
["Hans Anders",5,"Starkey","Livio AI 1600 RIC 312","STA-0407",{"$f":"IF(ISBLANK('Assortiment Hoortoestellen'!$B$26),1,IF(ISERROR(SEARCH(PROPER('Assortiment Hoortoestellen'!$B$26),PROPER('Dataset hoortoestellen'!D5439))),0,1))","v":1}]
["Het Hoorhuis-Hoorspecialisten",4,"Audio Service","quiX 8 G5 Rechts","AUS-0194",{"$f":"IF(ISBLANK('Assortiment Hoortoestellen'!$B$26),1,IF(ISERROR(SEARCH(PROPER('Assortiment Hoortoestellen'!$B$26),PROPER('Dataset hoortoestellen'!D5450))),0,1))","v":1}]
["Het Hoorhuis-Hoorspecialisten",5,"Audio Service","quiX 8 G6 rechts","AUS-0258",{"$f":"IF(ISBLANK('Assortiment Hoortoestellen'!$B$26),1,IF(ISERROR(SEARCH(PROPER('Assortiment Hoortoestellen'!$B$26),PROPER('Dataset hoortoestellen'!D5454))),0,1))","v":1}]
["Het Hoorhuis-Hoorspecialisten",3,"Audio Service","HP 6 G4","AUS-0154",{"$f":"IF(ISBLANK('Assortiment Hoortoestellen'!$B$26),1,IF(ISERROR(SEARCH(PROPER('Assortiment Hoortoestellen'!$B$26),PROPER('Dataset hoortoestellen'!D5474))),0,1))","v":1}]
["Het Hoorhuis-Hoorspecialisten",1,"Audio Service ","Volta HP C","AUS-0219",{"$f":"IF(ISBLANK('Assortiment Hoortoestellen'!$B$26),1,IF(ISERROR(SEARCH(PROPER('Assortiment Hoortoestellen'!$B$26),PROPER('Dataset hoortoestellen'!D5487))),0,1))","v":1}]
["Het Hoorhuis-Hoorspecialisten",3,"Bernafon","Zerena 3 IIC","BER-0625",{"$f":"IF(ISBLANK('Assortiment Hoortoestellen'!$B$26),1,IF(ISERROR(SEARCH(PROPER('Assortiment Hoortoestellen'!$B$26),PROPER('Dataset hoortoestellen'!D5502))),0,1))","v":1}]
["Het Hoorhuis-Hoorspecialisten",2,"Coselgi","Effect EF2-CIC TR Rechts","COS-0289",{"$f":"IF(ISBLANK('Assortiment Hoortoestellen'!$B$26),1,IF(ISERROR(SEARCH(PROPER('Assortiment Hoortoestellen'!$B$26),PROPER('Dataset hoortoestellen'!D5518))),0,1))","v":1}]
["Het Hoorhuis-Hoorspecialisten",2,"Coselgi","Effect EF2-XP","COS-0293",{"$f":"IF(ISBLANK('Assortiment Hoortoestellen'!$B$26),1,IF(ISERROR(SEARCH(PROPER('Assortiment Hoortoestellen'!$B$26),PROPER('Dataset hoortoestellen'!D5520))),0,1))","v":1}]
["Het Hoorhuis-Hoorspecialisten",2,"Coselgi","Effect EF2-F2 (HP-tel)","COS-0276",{"$f":"IF(ISBLANK('Assortiment Hoortoestellen'!$B$26),1,IF(ISERROR(SEARCH(PROPER('Assortiment Hoortoestellen'!$B$26),PROPER('Dataset hoortoestellen'!D5542))),0,1))","v":1}]
["Het Hoorhuis-Hoorspecialisten",3,"Coselgi","Effect EF4-FM","COS-0312",{"$f":"IF(ISBLANK('Assortiment Hoortoestellen'!$B$26),1,IF(ISERROR(SEARCH(PROPER('Assortiment Hoortoestellen'!$B$26),PROPER('Dataset hoortoestellen'!D5553))),0,1))","v":1}]
["Het Hoorhuis-Hoorspecialisten",4,"Coselgi","Effect EF5-FS (HP-tel)","COS-0320",{"$f":"IF(ISBLANK('Assortiment Hoortoestellen'!$B$26),1,IF(ISERROR(SEARCH(PROPER('Assortiment Hoortoestellen'!$B$26),PROPER('Dataset hoortoestellen'!D5570))),0,1))","v":1}]
["Het Hoorhuis-Hoorspecialisten",5,"Coselgi","Effect EF6-FP","COS-0355",{"$f":"IF(ISBLANK('Assortiment Hoortoestellen'!$B$26),1,IF(ISERROR(SEARCH(PROPER('Assortiment Hoortoestellen'!$B$26),PROPER('Dataset hoortoestellen'!D5586))),0,1))","v":1}]
["Het Hoorhuis-Hoorspecialisten",5,"Coselgi","Effect EF6-RIC 10 (M-tel)","COS-0345",{"$f":"IF(ISBLANK('Assortiment Hoortoestellen'!$B$26),1,IF(ISERROR(SEARCH(PROPER('Assortiment Hoortoestellen'!$B$26),PROPER('Dataset hoortoestellen'!D5594))),0,1))","v":1}]
["Het Hoorhuis-Hoorspecialisten",5,"Interton","MOVE 6ITC-DW","INT-0083",{"$f":"IF(ISBLANK('Assortiment Hoortoestellen'!$B$26),1,IF(ISERROR(SEARCH(PROPER('Assortiment Hoortoestellen'!$B$26),PROPER('Dataset hoortoestellen'!D5601))),0,1))","v":1}]
["Het Hoorhuis-Hoorspecialisten",2,"Interton","Move 261-DRW","INT-0052",{"$f":"IF(ISBLANK('Assortiment Hoortoestellen'!$B$26),1,IF(ISERROR(SEARCH(PROPER('Assortiment Hoortoestellen'!$B$26),PROPER('Dataset hoortoestellen'!D5618))),0,1))","v":1}]
["Het Hoorhuis-Hoorspecialisten",2,"ReSound","KEY 277-DW","RES-0313",{"$f":"IF(ISBLANK('Assortiment Hoortoestellen'!$B$26),1,IF(ISERROR(SEARCH(PROPER('Assortiment Hoortoestellen'!$B$26),PROPER('Dataset hoortoestellen'!D5634))),0,1))","v":1}]
["Het Hoorhuis-Hoorspecialisten",4,"Oticon","Siya 1 CIC 75 - 85","OTI-0340",{"$f":"IF(ISBLANK('Assortiment Hoortoestellen'!$B$26),1,IF(ISERROR(SEARCH(PROPER('Assortiment Hoortoestellen'!$B$26),PROPER('Dataset hoortoestellen'!D5642))),0,1))","v":1}]
["Het Hoorhuis-Hoorspecialisten",3,"Phonak","Audeo B 30 13","PHO-0270",{"$f":"IF(ISBLANK('Assortiment Hoortoestellen'!$B$26),1,IF(ISERROR(SEARCH(PROPER('Assortiment Hoortoestellen'!$B$26),PROPER('Dataset hoortoestellen'!D5667))),0,1))","v":1}]
["Het Hoorhuis-Hoorspecialisten",3,"Phonak","Audeo B 30 312","PHO-0271",{"$f":"IF(ISBLANK('Assortiment Hoortoestellen'!$B$26),1,IF(ISERROR(SEARCH(PROPER('Assortiment Hoortoestellen'!$B$26),PROPER('Dataset hoortoestellen'!D5670))),0,1))","v":1}]
["Het Hoorhuis-Hoorspecialisten",5,"ReSound","LiNX Quattro 562-DRW","RES-0339",{"$f":"IF(ISBLANK('Assortiment Hoortoestellen'!$B$26),1,IF(ISERROR(SEARCH(PROPER('Assortiment Hoortoestellen'!$B$26),PROPER('Dataset hoortoestellen'!D5686))),0,1))","v":1}]
["Het Hoorhuis-Hoorspecialisten",1,"Starkey","Muse i1000 CIC","STA-0277",{"$f":"IF(ISBLANK('Assortiment Hoortoestellen'!$B$26),1,IF(ISERROR(SEARCH(PROPER('Assortiment Hoortoestellen'!$B$26),PROPER('Dataset hoortoestellen'!D5707))),0,1))","v":1}]
["Het Hoorhuis-Hoorspecialisten",4,"Starkey","Muse iQ i1200 ITE","STA-0364",{"$f":"IF(ISBLANK('Assortiment Hoortoestellen'!$B$26),1,IF(ISERROR(SEARCH(PROPER('Assortiment Hoortoestellen'!$B$26),PROPER('Dataset hoortoestellen'!D5719))),0,1))","v":1}]
["Het Hoorhuis-Hoorspecialisten",5,"Starkey","Livio AI 1600 BTE R","STA-0411",{"$f":"IF(ISBLANK('Assortiment Hoortoestellen'!$B$26),1,IF(ISERROR(SEARCH(PROPER('Assortiment Hoortoestellen'!$B$26),PROPER('Dataset hoortoestellen'!D5731))),0,1))","v":1}]
["Het Hoorhuis-Hoorspecialisten",5,"Starkey","Muse iQ i1600 BTE 13 PP","STA-0370",{"$f":"IF(ISBLANK('Assortiment Hoortoestellen'!$B$26),1,IF(ISERROR(SEARCH(PROPER('Assortiment Hoortoestellen'!$B$26),PROPER('Dataset hoortoestellen'!D5748))),0,1))","v":1}]
["Het Hoorhuis-Hoorspecialisten",3,"Unitron","Insera B1-312","UNI-0531",{"$f":"IF(ISBLANK('Assortiment Hoortoestellen'!$B$26),1,IF(ISERROR(SEARCH(PROPER('Assortiment Hoortoestellen'!$B$26),PROPER('Dataset hoortoestellen'!D5755))),0,1))","v":1}]
["Het Hoorhuis-Hoorspecialisten",5,"Unitron","Moxi B5-312","UNI-0522",{"$f":"IF(ISBLANK('Assortiment Hoortoestellen'!$B$26),1,IF(ISERROR(SEARCH(PROPER('Assortiment Hoortoestellen'!$B$26),PROPER('Dataset hoortoestellen'!D5767))),0,1))","v":1}]
["Het Hoorhuis-Hoorspecialisten",3,"Widex","Enjoy E-CIC M TR 110","WID-0563",{"$f":"IF(ISBLANK('Assortiment Hoortoestellen'!$B$26),1,IF(ISERROR(SEARCH(PROPER('Assortiment Hoortoestellen'!$B$26),PROPER('Dataset hoortoestellen'!D5783))),0,1))","v":1}]
["Het Hoorhuis-Hoorspecialisten",5,"Widex","U440-CIC-M TR","WID-0447",{"$f":"IF(ISBLANK('Assortiment Hoortoestellen'!$B$26),1,IF(ISERROR(SEARCH(PROPER('Assortiment Hoortoestellen'!$B$26),PROPER('Dataset hoortoestellen'!D5800))),0,1))","v":1}]
["Het Hoorhuis-Hoorspecialisten",4,"Widex","U330-CIC-M TR","WID-0434",{"$f":"IF(ISBLANK('Assortiment Hoortoestellen'!$B$26),1,IF(ISERROR(SEARCH(PROPER('Assortiment Hoortoestellen'!$B$26),PROPER('Dataset hoortoestellen'!D5807))),0,1))","v":1}]
["Het Hoorhuis-Hoorspecialisten",3,"Widex","Enjoy E-F2 110 (HP-tel)","WID-0578",{"$f":"IF(ISBLANK('Assortiment Hoortoestellen'!$B$26),1,IF(ISERROR(SEARCH(PROPER('Assortiment Hoortoestellen'!$B$26),PROPER('Dataset hoortoestellen'!D5819))),0,1))","v":1}]
["Het Hoorhuis-Hoorspecialisten",2,"Widex","Enjoy E-FS 50 (M-tel)","WID-0637",{"$f":"IF(ISBLANK('Assortiment Hoortoestellen'!$B$26),1,IF(ISERROR(SEARCH(PROPER('Assortiment Hoortoestellen'!$B$26),PROPER('Dataset hoortoestellen'!D5831))),0,1))","v":1}]
["Het Hoorhuis-Hoorspecialisten",5,"Widex","Enjoy E-F2 330 (M-tel)","WID-0587",{"$f":"IF(ISBLANK('Assortiment Hoortoestellen'!$B$26),1,IF(ISERROR(SEARCH(PROPER('Assortiment Hoortoestellen'!$B$26),PROPER('Dataset hoortoestellen'!D5848))),0,1))","v":1}]
["Het Hoorhuis-Hoorspecialisten",4,"Widex","U330-FM","WID-0436",{"$f":"IF(ISBLANK('Assortiment Hoortoestellen'!$B$26),1,IF(ISERROR(SEARCH(PROPER('Assortiment Hoortoestellen'!$B$26),PROPER('Dataset hoortoestellen'!D5868))),0,1))","v":1}]
["Het Hoorhuis-Hoorspecialisten",5,"Widex","Enjoy E-PA 330 (S-tel)","WID-0647",{"$f":"IF(ISBLANK('Assortiment Hoortoestellen'!$B$26),1,IF(ISERROR(SEARCH(PROPER('Assortiment Hoortoestellen'!$B$26),PROPER('Dataset hoortoestellen'!D5881))),0,1))","v":1}]
["Het Hoorhuis-Hoorspecialisten",5,"Widex","U440-FS (HP-tel)","WID-0450",{"$f":"IF(ISBLANK('Assortiment Hoortoestellen'!$B$26),1,IF(ISERROR(SEARCH(PROPER('Assortiment Hoortoestellen'!$B$26),PROPER('Dataset hoortoestellen'!D5892))),0,1))","v":1}]
["Het Hoorhuis-Hoorspecialisten",5,"Widex","U440-PA (M-tel)","WID-0454",{"$f":"IF(ISBLANK('Assortiment Hoortoestellen'!$B$26),1,IF(ISERROR(SEARCH(PROPER('Assortiment Hoortoestellen'!$B$26),PROPER('Dataset hoortoestellen'!D5900))),0,1))","v":1}]
["Hoogendoorn Optiek & Hoortechniek",2,"Audio Service","Mood 4 G5","AUS-0207",{"$f":"IF(ISBLANK('Assortiment Hoortoestellen'!$B$26),1,IF(ISERROR(SEARCH(PROPER('Assortiment Hoortoestellen'!$B$26),PROPER('Dataset hoortoestellen'!D5920))),0,1))","v":1}]
["Hoogendoorn Optiek & Hoortechniek",4,"Audio Service","HP 8 G4","AUS-0132",{"$f":"IF(ISBLANK('Assortiment Hoortoestellen'!$B$26),1,IF(ISERROR(SEARCH(PROPER('Assortiment Hoortoestellen'!$B$26),PROPER('Dataset hoortoestellen'!D5933))),0,1))","v":1}]
["Hoogendoorn Optiek & Hoortechniek",1,"Audio Service ","Volta P C","AUS-0220",{"$f":"IF(ISBLANK('Assortiment Hoortoestellen'!$B$26),1,IF(ISERROR(SEARCH(PROPER('Assortiment Hoortoestellen'!$B$26),PROPER('Dataset hoortoestellen'!D5944))),0,1))","v":1}]
["Hoogendoorn Optiek & Hoortechniek",1,"Bernafon","Nevara 1 PR","BER-0486",{"$f":"IF(ISBLANK('Assortiment Hoortoestellen'!$B$26),1,IF(ISERROR(SEARCH(PROPER('Assortiment Hoortoestellen'!$B$26),PROPER('Dataset hoortoestellen'!D5962))),0,1))","v":1}]
["Hoogendoorn Optiek & Hoortechniek",5,"Bernafon","Viron 7 MNR T R","BER-0674",{"$f":"IF(ISBLANK('Assortiment Hoortoestellen'!$B$26),1,IF(ISERROR(SEARCH(PROPER('Assortiment Hoortoestellen'!$B$26),PROPER('Dataset hoortoestellen'!D5968))),0,1))","v":1}]
["Hoogendoorn Optiek & Hoortechniek",2,"Coselgi","U6-CIC (links)","COS-0241",{"$f":"IF(ISBLANK('Assortiment Hoortoestellen'!$B$26),1,IF(ISERROR(SEARCH(PROPER('Assortiment Hoortoestellen'!$B$26),PROPER('Dataset hoortoestellen'!D5981))),0,1))","v":1}]
["Hoogendoorn Optiek & Hoortechniek",3,"Coselgi","Effect EF4-F2 (S-tel)","COS-0297",{"$f":"IF(ISBLANK('Assortiment Hoortoestellen'!$B$26),1,IF(ISERROR(SEARCH(PROPER('Assortiment Hoortoestellen'!$B$26),PROPER('Dataset hoortoestellen'!D6005))),0,1))","v":1}]
["Hoogendoorn Optiek & Hoortechniek",4,"Coselgi","Effect EF5-F2 (P-TEL)","COS-0596",{"$f":"IF(ISBLANK('Assortiment Hoortoestellen'!$B$26),1,IF(ISERROR(SEARCH(PROPER('Assortiment Hoortoestellen'!$B$26),PROPER('Dataset hoortoestellen'!D6012))),0,1))","v":1}]
["Hoogendoorn Optiek & Hoortechniek",4,"Coselgi","Effect EF5-FS (HP-tel)","COS-0320",{"$f":"IF(ISBLANK('Assortiment Hoortoestellen'!$B$26),1,IF(ISERROR(SEARCH(PROPER('Assortiment Hoortoestellen'!$B$26),PROPER('Dataset hoortoestellen'!D6028))),0,1))","v":1}]
["Hoogendoorn Optiek & Hoortechniek",5,"Coselgi","Effect EF6-F2 (S-tel)","COS-0340",{"$f":"IF(ISBLANK('Assortiment Hoortoestellen'!$B$26),1,IF(ISERROR(SEARCH(PROPER('Assortiment Hoortoestellen'!$B$26),PROPER('Dataset hoortoestellen'!D6036))),0,1))","v":1}]
["Hoogendoorn Optiek & Hoortechniek",4,"Coselgi","MOJO MRR2D M4 (p-tel)","COS-0360",{"$f":"IF(ISBLANK('Assortiment Hoortoestellen'!$B$26),1,IF(ISERROR(SEARCH(PROPER('Assortiment Hoortoestellen'!$B$26),PROPER('Dataset hoortoestellen'!D6047))),0,1))","v":1}]
["Hoogendoorn Optiek & Hoortechniek",1,"Interton","Move 170-DW","INT-0050",{"$f":"IF(ISBLANK('Assortiment Hoortoestellen'!$B$26),1,IF(ISERROR(SEARCH(PROPER('Assortiment Hoortoestellen'!$B$26),PROPER('Dataset hoortoestellen'!D6064))),0,1))","v":1}]
["Hoogendoorn Optiek & Hoortechniek",3,"Interton","MOVE 380-DWH","INT-0062",{"$f":"IF(ISBLANK('Assortiment Hoortoestellen'!$B$26),1,IF(ISERROR(SEARCH(PROPER('Assortiment Hoortoestellen'!$B$26),PROPER('Dataset hoortoestellen'!D6080))),0,1))","v":1}]
["Hoogendoorn Optiek & Hoortechniek",5,"Interton","MOVE 661-DRWC","INT-0076",{"$f":"IF(ISBLANK('Assortiment Hoortoestellen'!$B$26),1,IF(ISERROR(SEARCH(PROPER('Assortiment Hoortoestellen'!$B$26),PROPER('Dataset hoortoestellen'!D6088))),0,1))","v":1}]
["Hoogendoorn Optiek & Hoortechniek",4,"Phonak","Virto M30-10 NW O","PHO-0357",{"$f":"IF(ISBLANK('Assortiment Hoortoestellen'!$B$26),1,IF(ISERROR(SEARCH(PROPER('Assortiment Hoortoestellen'!$B$26),PROPER('Dataset hoortoestellen'!D6113))),0,1))","v":1}]
["Hoogendoorn Optiek & Hoortechniek",3,"Phonak","Audeo B 30 13","PHO-0270",{"$f":"IF(ISBLANK('Assortiment Hoortoestellen'!$B$26),1,IF(ISERROR(SEARCH(PROPER('Assortiment Hoortoestellen'!$B$26),PROPER('Dataset hoortoestellen'!D6125))),0,1))","v":1}]
["Hoogendoorn Optiek & Hoortechniek",3,"Phonak","Audeo B 30 312","PHO-0271",{"$f":"IF(ISBLANK('Assortiment Hoortoestellen'!$B$26),1,IF(ISERROR(SEARCH(PROPER('Assortiment Hoortoestellen'!$B$26),PROPER('Dataset hoortoestellen'!D6128))),0,1))","v":1}]
["Hoogendoorn Optiek & Hoortechniek",4,"ReSound","KEY 467-DW","RES-0328",{"$f":"IF(ISBLANK('Assortiment Hoortoestellen'!$B$26),1,IF(ISERROR(SEARCH(PROPER('Assortiment Hoortoestellen'!$B$26),PROPER('Dataset hoortoestellen'!D6149))),0,1))","v":1}]
["Hoogendoorn Optiek & Hoortechniek",4,"ReSound","KEY 462-DRW","RES-0327",{"$f":"IF(ISBLANK('Assortiment Hoortoestellen'!$B$26),1,IF(ISERROR(SEARCH(PROPER('Assortiment Hoortoestellen'!$B$26),PROPER('Dataset hoortoestellen'!D6161))),0,1))","v":1}]
["Hoogendoorn Optiek & Hoortechniek",4,"Starkey","Muse iQ i1200 ITC","STA-0363",{"$f":"IF(ISBLANK('Assortiment Hoortoestellen'!$B$26),1,IF(ISERROR(SEARCH(PROPER('Assortiment Hoortoestellen'!$B$26),PROPER('Dataset hoortoestellen'!D6173))),0,1))","v":1}]
["Hoogendoorn Optiek & Hoortechniek",5,"Starkey","Livio AI 1600 mRIC 312","STA-0406",{"$f":"IF(ISBLANK('Assortiment Hoortoestellen'!$B$26),1,IF(ISERROR(SEARCH(PROPER('Assortiment Hoortoestellen'!$B$26),PROPER('Dataset hoortoestellen'!D6194))),0,1))","v":1}]
["Hoogendoorn Optiek & Hoortechniek",2,"Starkey","Livio 1000 RIC R","STA-0383",{"$f":"IF(ISBLANK('Assortiment Hoortoestellen'!$B$26),1,IF(ISERROR(SEARCH(PROPER('Assortiment Hoortoestellen'!$B$26),PROPER('Dataset hoortoestellen'!D6201))),0,1))","v":1}]
["Hoogendoorn Optiek & Hoortechniek",3,"Unitron","Insera B1-312","UNI-0531",{"$f":"IF(ISBLANK('Assortiment Hoortoestellen'!$B$26),1,IF(ISERROR(SEARCH(PROPER('Assortiment Hoortoestellen'!$B$26),PROPER('Dataset hoortoestellen'!D6213))),0,1))","v":1}]
["Hoogendoorn Optiek & Hoortechniek",5,"Unitron","Moxi B5-312","UNI-0522",{"$f":"IF(ISBLANK('Assortiment Hoortoestellen'!$B$26),1,IF(ISERROR(SEARCH(PROPER('Assortiment Hoortoestellen'!$B$26),PROPER('Dataset hoortoestellen'!D6225))),0,1))","v":1}]
["Hoogendoorn Optiek & Hoortechniek",4,"Widex","Enjoy E-CIC 220 Rechts","WID-0657",{"$f":"IF(ISBLANK('Assortiment Hoortoestellen'!$B$26),1,IF(ISERROR(SEARCH(PROPER('Assortiment Hoortoestellen'!$B$26),PROPER('Dataset hoortoestellen'!D6242))),0,1))","v":1}]
["Hoogendoorn Optiek & Hoortechniek",5,"Widex","U440-CIC","WID-0444",{"$f":"IF(ISBLANK('Assortiment Hoortoestellen'!$B$26),1,IF(ISERROR(SEARCH(PROPER('Assortiment Hoortoestellen'!$B$26),PROPER('Dataset hoortoestellen'!D6249))),0,1))","v":1}]
["Hoogendoorn Optiek & Hoortechniek",3,"Widex","Enjoy E-BTE 13D 110","WID-0545",{"$f":"IF(ISBLANK('Assortiment Hoortoestellen'!$B$26),1,IF(ISERROR(SEARCH(PROPER('Assortiment Hoortoestellen'!$B$26),PROPER('Dataset hoortoestellen'!D6275))),0,1))","v":1}]
["Hoogendoorn Optiek & Hoortechniek",2,"Widex","Enjoy E-FS 50 (HP-tel)","WID-0636",{"$f":"IF(ISBLANK('Assortiment Hoortoestellen'!$B$26),1,IF(ISERROR(SEARCH(PROPER('Assortiment Hoortoestellen'!$B$26),PROPER('Dataset hoortoestellen'!D6286))),0,1))","v":1}]
["Hoogendoorn Optiek & Hoortechniek",4,"Widex","Enjoy E-F2 220 (S-tel)","WID-0585",{"$f":"IF(ISBLANK('Assortiment Hoortoestellen'!$B$26),1,IF(ISERROR(SEARCH(PROPER('Assortiment Hoortoestellen'!$B$26),PROPER('Dataset hoortoestellen'!D6294))),0,1))","v":1}]
["Hoogendoorn Optiek & Hoortechniek",4,"Widex","Enjoy E-FS 220 (S-tel)","WID-0627",{"$f":"IF(ISBLANK('Assortiment Hoortoestellen'!$B$26),1,IF(ISERROR(SEARCH(PROPER('Assortiment Hoortoestellen'!$B$26),PROPER('Dataset hoortoestellen'!D6314))),0,1))","v":1}]
["Hoogendoorn Optiek & Hoortechniek",5,"Widex","Enjoy E-FS 330 (M-tel)","WID-0629",{"$f":"IF(ISBLANK('Assortiment Hoortoestellen'!$B$26),1,IF(ISERROR(SEARCH(PROPER('Assortiment Hoortoestellen'!$B$26),PROPER('Dataset hoortoestellen'!D6327))),0,1))","v":1}]
["Hoogendoorn Optiek & Hoortechniek",4,"Widex","U330-FS (P-tel)","WID-0439",{"$f":"IF(ISBLANK('Assortiment Hoortoestellen'!$B$26),1,IF(ISERROR(SEARCH(PROPER('Assortiment Hoortoestellen'!$B$26),PROPER('Dataset hoortoestellen'!D6338))),0,1))","v":1}]
["Hoogendoorn Optiek & Hoortechniek",5,"Widex","U440-FS (S-tel)","WID-0453",{"$f":"IF(ISBLANK('Assortiment Hoortoestellen'!$B$26),1,IF(ISERROR(SEARCH(PROPER('Assortiment Hoortoestellen'!$B$26),PROPER('Dataset hoortoestellen'!D6356))),0,1))","v":1}]
["Hoorcentrum Horst",1,"Starkey","Muse i1000 BTE312","STA-0278",{"$f":"IF(ISBLANK('Assortiment Hoortoestellen'!$B$26),1,IF(ISERROR(SEARCH(PROPER('Assortiment Hoortoestellen'!$B$26),PROPER('Dataset hoortoestellen'!D6362))),0,1))","v":1}]
["Hoorcentrum Horst",3,"Unitron","T Stride 500 P","UNI-0305",{"$f":"IF(ISBLANK('Assortiment Hoortoestellen'!$B$26),1,IF(ISERROR(SEARCH(PROPER('Assortiment Hoortoestellen'!$B$26),PROPER('Dataset hoortoestellen'!D6375))),0,1))","v":1}]
["Hoorcentrum JvG Heemstede",4,"Audio Service","Sun 8 G4","AUS-0147",{"$f":"IF(ISBLANK('Assortiment Hoortoestellen'!$B$26),1,IF(ISERROR(SEARCH(PROPER('Assortiment Hoortoestellen'!$B$26),PROPER('Dataset hoortoestellen'!D6386))),0,1))","v":1}]
["Hoorcentrum JvG Heemstede",3,"Audio Service","Mood 6 G5","AUS-0208",{"$f":"IF(ISBLANK('Assortiment Hoortoestellen'!$B$26),1,IF(ISERROR(SEARCH(PROPER('Assortiment Hoortoestellen'!$B$26),PROPER('Dataset hoortoestellen'!D6408))),0,1))","v":1}]
["Hoorcentrum JvG Heemstede",3,"Audio Service","quiX 6  G5 Links","AUS-0214",{"$f":"IF(ISBLANK('Assortiment Hoortoestellen'!$B$26),1,IF(ISERROR(SEARCH(PROPER('Assortiment Hoortoestellen'!$B$26),PROPER('Dataset hoortoestellen'!D6414))),0,1))","v":1}]
["Hoorcentrum JvG Heemstede",4,"Phonak","Audeo B 50 13","PHO-0274",{"$f":"IF(ISBLANK('Assortiment Hoortoestellen'!$B$26),1,IF(ISERROR(SEARCH(PROPER('Assortiment Hoortoestellen'!$B$26),PROPER('Dataset hoortoestellen'!D6427))),0,1))","v":1}]
["Hoorcentrum JvG Heemstede",4,"Phonak","Bolero B 50 SP","PHO-0289",{"$f":"IF(ISBLANK('Assortiment Hoortoestellen'!$B$26),1,IF(ISERROR(SEARCH(PROPER('Assortiment Hoortoestellen'!$B$26),PROPER('Dataset hoortoestellen'!D6438))),0,1))","v":1}]
["Hoorcentrum JvG Heemstede",5,"Phonak","Sky B 70 RIC","PHO-0321",{"$f":"IF(ISBLANK('Assortiment Hoortoestellen'!$B$26),1,IF(ISERROR(SEARCH(PROPER('Assortiment Hoortoestellen'!$B$26),PROPER('Dataset hoortoestellen'!D6460))),0,1))","v":1}]
["Hoorcentrum JvG Heemstede",1,"Starkey","Muse i1000 BTE 13","STA-0308",{"$f":"IF(ISBLANK('Assortiment Hoortoestellen'!$B$26),1,IF(ISERROR(SEARCH(PROPER('Assortiment Hoortoestellen'!$B$26),PROPER('Dataset hoortoestellen'!D6475))),0,1))","v":1}]
["Hoorcentrum JvG Heemstede",3,"Starkey","Muse iQ i1000 ITE","STA-0354",{"$f":"IF(ISBLANK('Assortiment Hoortoestellen'!$B$26),1,IF(ISERROR(SEARCH(PROPER('Assortiment Hoortoestellen'!$B$26),PROPER('Dataset hoortoestellen'!D6489))),0,1))","v":1}]
["Hoorcentrum JvG Heemstede",3,"Starkey","Livio 1000 mRIC 312","STA-0381",{"$f":"IF(ISBLANK('Assortiment Hoortoestellen'!$B$26),1,IF(ISERROR(SEARCH(PROPER('Assortiment Hoortoestellen'!$B$26),PROPER('Dataset hoortoestellen'!D6499))),0,1))","v":1}]
["Hoorcentrum JvG Heemstede",5,"Starkey","Livio 1600 mRIC 312","STA-0389",{"$f":"IF(ISBLANK('Assortiment Hoortoestellen'!$B$26),1,IF(ISERROR(SEARCH(PROPER('Assortiment Hoortoestellen'!$B$26),PROPER('Dataset hoortoestellen'!D6506))),0,1))","v":1}]
["Hoorcentrum Meerkerk",5,"Starkey","Muse iQ i1600 CIC","STA-0372",{"$f":"IF(ISBLANK('Assortiment Hoortoestellen'!$B$26),1,IF(ISERROR(SEARCH(PROPER('Assortiment Hoortoestellen'!$B$26),PROPER('Dataset hoortoestellen'!D6522))),0,1))","v":1}]
["HoorPartners Groep - Audicienspraktijk Apeldoorn",4,"Audio Service","quiX 8 G5 Links","AUS-0193",{"$f":"IF(ISBLANK('Assortiment Hoortoestellen'!$B$26),1,IF(ISERROR(SEARCH(PROPER('Assortiment Hoortoestellen'!$B$26),PROPER('Dataset hoortoestellen'!D6543))),0,1))","v":1}]
["HoorPartners Groep - Audicienspraktijk Apeldoorn",1,"Resound","Vea 180 VI","RES-0009",{"$f":"IF(ISBLANK('Assortiment Hoortoestellen'!$B$26),1,IF(ISERROR(SEARCH(PROPER('Assortiment Hoortoestellen'!$B$26),PROPER('Dataset hoortoestellen'!D6555))),0,1))","v":1}]
["HoorPartners Groep - Hoorcentrum Wezep-Dalfsen",1,"Coselgi","Dinamico 3 D-CIC","COS-0052",{"$f":"IF(ISBLANK('Assortiment Hoortoestellen'!$B$26),1,IF(ISERROR(SEARCH(PROPER('Assortiment Hoortoestellen'!$B$26),PROPER('Dataset hoortoestellen'!D6567))),0,1))","v":1}]
["HoorPartners Groep - Hoorcentrum Wezep-Dalfsen",5,"Interton","RD6CIC","INT-0048",{"$f":"IF(ISBLANK('Assortiment Hoortoestellen'!$B$26),1,IF(ISERROR(SEARCH(PROPER('Assortiment Hoortoestellen'!$B$26),PROPER('Dataset hoortoestellen'!D6574))),0,1))","v":1}]
["Hoorservice Schram",4,"Beltone","Ally 4 ITC","BEL-0108",{"$f":"IF(ISBLANK('Assortiment Hoortoestellen'!$B$26),1,IF(ISERROR(SEARCH(PROPER('Assortiment Hoortoestellen'!$B$26),PROPER('Dataset hoortoestellen'!D6595))),0,1))","v":1}]
["Hoorservice Schram",4,"Coselgi","U10E-PA (M-tel)","COS-0158",{"$f":"IF(ISBLANK('Assortiment Hoortoestellen'!$B$26),1,IF(ISERROR(SEARCH(PROPER('Assortiment Hoortoestellen'!$B$26),PROPER('Dataset hoortoestellen'!D6607))),0,1))","v":1}]
["Hoorservice Schram",2,"Coselgi","U6-FP","COS-0245",{"$f":"IF(ISBLANK('Assortiment Hoortoestellen'!$B$26),1,IF(ISERROR(SEARCH(PROPER('Assortiment Hoortoestellen'!$B$26),PROPER('Dataset hoortoestellen'!D6619))),0,1))","v":1}]
["Hoorservice Schram",2,"Coselgi","U6-XP","COS-0252",{"$f":"IF(ISBLANK('Assortiment Hoortoestellen'!$B$26),1,IF(ISERROR(SEARCH(PROPER('Assortiment Hoortoestellen'!$B$26),PROPER('Dataset hoortoestellen'!D6626))),0,1))","v":1}]
["Hoorservice Schram",4,"Interton","RD661-DRW","INT-0044",{"$f":"IF(ISBLANK('Assortiment Hoortoestellen'!$B$26),1,IF(ISERROR(SEARCH(PROPER('Assortiment Hoortoestellen'!$B$26),PROPER('Dataset hoortoestellen'!D6643))),0,1))","v":1}]
["Hoorservice Schram",4,"ReSound","Ligo 5 ITC-DW","RES-0271",{"$f":"IF(ISBLANK('Assortiment Hoortoestellen'!$B$26),1,IF(ISERROR(SEARCH(PROPER('Assortiment Hoortoestellen'!$B$26),PROPER('Dataset hoortoestellen'!D6655))),0,1))","v":1}]
["Hoorservice Schram",4,"Starkey","Livio 1200 RIC R","STA-0387",{"$f":"IF(ISBLANK('Assortiment Hoortoestellen'!$B$26),1,IF(ISERROR(SEARCH(PROPER('Assortiment Hoortoestellen'!$B$26),PROPER('Dataset hoortoestellen'!D6667))),0,1))","v":1}]
["Hoorservice Schram",4,"Widex","U330-PA (S-tel)","WID-0442",{"$f":"IF(ISBLANK('Assortiment Hoortoestellen'!$B$26),1,IF(ISERROR(SEARCH(PROPER('Assortiment Hoortoestellen'!$B$26),PROPER('Dataset hoortoestellen'!D6688))),0,1))","v":1}]
["Hoorservice Schram",5,"Widex","U440-PA (M-tel)","WID-0454",{"$f":"IF(ISBLANK('Assortiment Hoortoestellen'!$B$26),1,IF(ISERROR(SEARCH(PROPER('Assortiment Hoortoestellen'!$B$26),PROPER('Dataset hoortoestellen'!D6695))),0,1))","v":1}]
["Hoorservice Schram",4,"Widex","Enjoy E-CIC TR 220 Links","WID-0570",{"$f":"IF(ISBLANK('Assortiment Hoortoestellen'!$B$26),1,IF(ISERROR(SEARCH(PROPER('Assortiment Hoortoestellen'!$B$26),PROPER('Dataset hoortoestellen'!D6707))),0,1))","v":1}]
["Hoorspecialist Leurs",1,"ReSound","Vea 180 VI","RES-0009",{"$f":"IF(ISBLANK('Assortiment Hoortoestellen'!$B$26),1,IF(ISERROR(SEARCH(PROPER('Assortiment Hoortoestellen'!$B$26),PROPER('Dataset hoortoestellen'!D6732))),0,1))","v":1}]
["Hoorspecialist Leurs",4,"Widex","U330-CIC-M","WID-0433",{"$f":"IF(ISBLANK('Assortiment Hoortoestellen'!$B$26),1,IF(ISERROR(SEARCH(PROPER('Assortiment Hoortoestellen'!$B$26),PROPER('Dataset hoortoestellen'!D6740))),0,1))","v":1}]
["Hoorspecialist Oirschot",5,"Audio Service","Mood 12 G5","AUS-0184",{"$f":"IF(ISBLANK('Assortiment Hoortoestellen'!$B$26),1,IF(ISERROR(SEARCH(PROPER('Assortiment Hoortoestellen'!$B$26),PROPER('Dataset hoortoestellen'!D6756))),0,1))","v":1}]
["Hoorspecialist Oirschot",3,"Audio Service","Duo 6 G5","AUS-0206",{"$f":"IF(ISBLANK('Assortiment Hoortoestellen'!$B$26),1,IF(ISERROR(SEARCH(PROPER('Assortiment Hoortoestellen'!$B$26),PROPER('Dataset hoortoestellen'!D6769))),0,1))","v":1}]
["Hoorspecialist Oirschot",2,"Audio Service","Sun 4 G5","AUS-0217",{"$f":"IF(ISBLANK('Assortiment Hoortoestellen'!$B$26),1,IF(ISERROR(SEARCH(PROPER('Assortiment Hoortoestellen'!$B$26),PROPER('Dataset hoortoestellen'!D6780))),0,1))","v":1}]
["Hoorspecialist Oirschot",1,"Bernafon","Nevara 1 P","BER-0460",{"$f":"IF(ISBLANK('Assortiment Hoortoestellen'!$B$26),1,IF(ISERROR(SEARCH(PROPER('Assortiment Hoortoestellen'!$B$26),PROPER('Dataset hoortoestellen'!D6788))),0,1))","v":1}]
["Hoorspecialist Oirschot",3,"Coselgi","U10-FA","COS-0139",{"$f":"IF(ISBLANK('Assortiment Hoortoestellen'!$B$26),1,IF(ISERROR(SEARCH(PROPER('Assortiment Hoortoestellen'!$B$26),PROPER('Dataset hoortoestellen'!D6808))),0,1))","v":1}]
["Hoorspecialist Oirschot",4,"Coselgi","U10E-FM","COS-0152",{"$f":"IF(ISBLANK('Assortiment Hoortoestellen'!$B$26),1,IF(ISERROR(SEARCH(PROPER('Assortiment Hoortoestellen'!$B$26),PROPER('Dataset hoortoestellen'!D6821))),0,1))","v":1}]
["Hoorspecialist Oirschot",5,"Coselgi","U15-FA","COS-0163",{"$f":"IF(ISBLANK('Assortiment Hoortoestellen'!$B$26),1,IF(ISERROR(SEARCH(PROPER('Assortiment Hoortoestellen'!$B$26),PROPER('Dataset hoortoestellen'!D6832))),0,1))","v":1}]
["Hoorspecialist Oirschot",3,"Coselgi","U6E-FM","COS-0256",{"$f":"IF(ISBLANK('Assortiment Hoortoestellen'!$B$26),1,IF(ISERROR(SEARCH(PROPER('Assortiment Hoortoestellen'!$B$26),PROPER('Dataset hoortoestellen'!D6854))),0,1))","v":1}]
["Hoorspecialist Oirschot",3,"Coselgi","U6E-FS (HP-tel)","COS-0258",{"$f":"IF(ISBLANK('Assortiment Hoortoestellen'!$B$26),1,IF(ISERROR(SEARCH(PROPER('Assortiment Hoortoestellen'!$B$26),PROPER('Dataset hoortoestellen'!D6856))),0,1))","v":1}]
["Hoorspecialist Oirschot",2,"Coselgi","Effect EF2-FS (M-tel)","COS-0281",{"$f":"IF(ISBLANK('Assortiment Hoortoestellen'!$B$26),1,IF(ISERROR(SEARCH(PROPER('Assortiment Hoortoestellen'!$B$26),PROPER('Dataset hoortoestellen'!D6869))),0,1))","v":1}]
["Hoorspecialist Oirschot",3,"Coselgi","Effect EF4-CIC TR Links","COS-0309",{"$f":"IF(ISBLANK('Assortiment Hoortoestellen'!$B$26),1,IF(ISERROR(SEARCH(PROPER('Assortiment Hoortoestellen'!$B$26),PROPER('Dataset hoortoestellen'!D6893))),0,1))","v":1}]
["Hoorspecialist Oirschot",4,"Coselgi","Effect EF5-FS (HP-tel)","COS-0320",{"$f":"IF(ISBLANK('Assortiment Hoortoestellen'!$B$26),1,IF(ISERROR(SEARCH(PROPER('Assortiment Hoortoestellen'!$B$26),PROPER('Dataset hoortoestellen'!D6902))),0,1))","v":1}]
["Hoorspecialist Oirschot",5,"Coselgi","Effect EF6-F2 (HP-tel)","COS-0337",{"$f":"IF(ISBLANK('Assortiment Hoortoestellen'!$B$26),1,IF(ISERROR(SEARCH(PROPER('Assortiment Hoortoestellen'!$B$26),PROPER('Dataset hoortoestellen'!D6917))),0,1))","v":1}]
["Hoorspecialist Oirschot",2,"Interton","RD261-DRW","INT-0026",{"$f":"IF(ISBLANK('Assortiment Hoortoestellen'!$B$26),1,IF(ISERROR(SEARCH(PROPER('Assortiment Hoortoestellen'!$B$26),PROPER('Dataset hoortoestellen'!D6935))),0,1))","v":1}]
["Hoorspecialist Oirschot",3,"Interton","RD461-DRW","INT-0038",{"$f":"IF(ISBLANK('Assortiment Hoortoestellen'!$B$26),1,IF(ISERROR(SEARCH(PROPER('Assortiment Hoortoestellen'!$B$26),PROPER('Dataset hoortoestellen'!D6945))),0,1))","v":1}]
["Hoorspecialist Oirschot",4,"Interton","RD680-DW","INT-0047",{"$f":"IF(ISBLANK('Assortiment Hoortoestellen'!$B$26),1,IF(ISERROR(SEARCH(PROPER('Assortiment Hoortoestellen'!$B$26),PROPER('Dataset hoortoestellen'!D6954))),0,1))","v":1}]
["Hoorspecialist Oirschot",5,"Oticon","Ruby 1 miniRITE R 60 - 105","OTI-0368",{"$f":"IF(ISBLANK('Assortiment Hoortoestellen'!$B$26),1,IF(ISERROR(SEARCH(PROPER('Assortiment Hoortoestellen'!$B$26),PROPER('Dataset hoortoestellen'!D6969))),0,1))","v":1}]
["Hoorspecialist Oirschot",4,"Phonak","Audeo B 50 10","PHO-0273",{"$f":"IF(ISBLANK('Assortiment Hoortoestellen'!$B$26),1,IF(ISERROR(SEARCH(PROPER('Assortiment Hoortoestellen'!$B$26),PROPER('Dataset hoortoestellen'!D6983))),0,1))","v":1}]
["Hoorspecialist Oirschot",3,"Phonak","Bolero B 30 SP","PHO-0285",{"$f":"IF(ISBLANK('Assortiment Hoortoestellen'!$B$26),1,IF(ISERROR(SEARCH(PROPER('Assortiment Hoortoestellen'!$B$26),PROPER('Dataset hoortoestellen'!D6993))),0,1))","v":1}]
["Hoorspecialist Oirschot",4,"Phonak","Sky B 50 RIC","PHO-0315",{"$f":"IF(ISBLANK('Assortiment Hoortoestellen'!$B$26),1,IF(ISERROR(SEARCH(PROPER('Assortiment Hoortoestellen'!$B$26),PROPER('Dataset hoortoestellen'!D7013))),0,1))","v":1}]
["Hoorspecialist Oirschot",5,"Phonak","Sky B 70 UP","PHO-0323",{"$f":"IF(ISBLANK('Assortiment Hoortoestellen'!$B$26),1,IF(ISERROR(SEARCH(PROPER('Assortiment Hoortoestellen'!$B$26),PROPER('Dataset hoortoestellen'!D7020))),0,1))","v":1}]
["Hoorspecialist Oirschot",1,"ReSound","Vea 130 -/P","RES-0011",{"$f":"IF(ISBLANK('Assortiment Hoortoestellen'!$B$26),1,IF(ISERROR(SEARCH(PROPER('Assortiment Hoortoestellen'!$B$26),PROPER('Dataset hoortoestellen'!D7037))),0,1))","v":1}]
["Hoorspecialist Oirschot",3,"ReSound","Ligo 477-DW","RES-0267",{"$f":"IF(ISBLANK('Assortiment Hoortoestellen'!$B$26),1,IF(ISERROR(SEARCH(PROPER('Assortiment Hoortoestellen'!$B$26),PROPER('Dataset hoortoestellen'!D7049))),0,1))","v":1}]
["Hoorspecialist Oirschot",5,"ReSound","LiNX 3D 7 CIC","RES-0299",{"$f":"IF(ISBLANK('Assortiment Hoortoestellen'!$B$26),1,IF(ISERROR(SEARCH(PROPER('Assortiment Hoortoestellen'!$B$26),PROPER('Dataset hoortoestellen'!D7061))),0,1))","v":1}]
["Hoorspecialist Oirschot",2,"Starkey","Muse iQ i1000 BTE 13 PP","STA-0350",{"$f":"IF(ISBLANK('Assortiment Hoortoestellen'!$B$26),1,IF(ISERROR(SEARCH(PROPER('Assortiment Hoortoestellen'!$B$26),PROPER('Dataset hoortoestellen'!D7082))),0,1))","v":1}]
["Hoorspecialist Oirschot",3,"Starkey","Muse iQ i1000 ITC","STA-0353",{"$f":"IF(ISBLANK('Assortiment Hoortoestellen'!$B$26),1,IF(ISERROR(SEARCH(PROPER('Assortiment Hoortoestellen'!$B$26),PROPER('Dataset hoortoestellen'!D7085))),0,1))","v":1}]
["Hoorspecialist Oirschot",4,"Starkey","Livio 1200 RIC 312","STA-0386",{"$f":"IF(ISBLANK('Assortiment Hoortoestellen'!$B$26),1,IF(ISERROR(SEARCH(PROPER('Assortiment Hoortoestellen'!$B$26),PROPER('Dataset hoortoestellen'!D7101))),0,1))","v":1}]
["Hoorspecialist Oirschot",3,"Unitron","T Max UP 500","UNI-0276",{"$f":"IF(ISBLANK('Assortiment Hoortoestellen'!$B$26),1,IF(ISERROR(SEARCH(PROPER('Assortiment Hoortoestellen'!$B$26),PROPER('Dataset hoortoestellen'!D7113))),0,1))","v":1}]
["Hoorspecialist Oirschot",3,"Unitron","DX Insera 3 W 312 Dir","UNI-0436",{"$f":"IF(ISBLANK('Assortiment Hoortoestellen'!$B$26),1,IF(ISERROR(SEARCH(PROPER('Assortiment Hoortoestellen'!$B$26),PROPER('Dataset hoortoestellen'!D7134))),0,1))","v":1}]
["Hoorspecialist Oirschot",5,"Unitron","DX Stride P R 5","UNI-0456",{"$f":"IF(ISBLANK('Assortiment Hoortoestellen'!$B$26),1,IF(ISERROR(SEARCH(PROPER('Assortiment Hoortoestellen'!$B$26),PROPER('Dataset hoortoestellen'!D7150))),0,1))","v":1}]
["Hoorspecialist Oirschot",3,"Widex","U110-FS (P-tel)","WID-0413",{"$f":"IF(ISBLANK('Assortiment Hoortoestellen'!$B$26),1,IF(ISERROR(SEARCH(PROPER('Assortiment Hoortoestellen'!$B$26),PROPER('Dataset hoortoestellen'!D7163))),0,1))","v":1}]
["Hoorspecialist Oirschot",3,"Widex","U220-FS (HP-tel)","WID-0424",{"$f":"IF(ISBLANK('Assortiment Hoortoestellen'!$B$26),1,IF(ISERROR(SEARCH(PROPER('Assortiment Hoortoestellen'!$B$26),PROPER('Dataset hoortoestellen'!D7174))),0,1))","v":1}]
["Hoorspecialist Oirschot",4,"Widex","U330-CIC TR","WID-0432",{"$f":"IF(ISBLANK('Assortiment Hoortoestellen'!$B$26),1,IF(ISERROR(SEARCH(PROPER('Assortiment Hoortoestellen'!$B$26),PROPER('Dataset hoortoestellen'!D7182))),0,1))","v":1}]
["Hoorspecialist Oirschot",5,"Widex","U440-FM","WID-0449",{"$f":"IF(ISBLANK('Assortiment Hoortoestellen'!$B$26),1,IF(ISERROR(SEARCH(PROPER('Assortiment Hoortoestellen'!$B$26),PROPER('Dataset hoortoestellen'!D7198))),0,1))","v":1}]
["Hoorspecialist Oirschot",5,"Widex","Enjoy E-CIC 330 Links","WID-0553",{"$f":"IF(ISBLANK('Assortiment Hoortoestellen'!$B$26),1,IF(ISERROR(SEARCH(PROPER('Assortiment Hoortoestellen'!$B$26),PROPER('Dataset hoortoestellen'!D7215))),0,1))","v":1}]
["Hoorspecialist Oirschot",3,"Widex","Enjoy E-F2 110 (S-tel)","WID-0581",{"$f":"IF(ISBLANK('Assortiment Hoortoestellen'!$B$26),1,IF(ISERROR(SEARCH(PROPER('Assortiment Hoortoestellen'!$B$26),PROPER('Dataset hoortoestellen'!D7226))),0,1))","v":1}]
["Hoorspecialist Oirschot",5,"Widex","Enjoy E-F2 330 (S-tel)","WID-0589",{"$f":"IF(ISBLANK('Assortiment Hoortoestellen'!$B$26),1,IF(ISERROR(SEARCH(PROPER('Assortiment Hoortoestellen'!$B$26),PROPER('Dataset hoortoestellen'!D7234))),0,1))","v":1}]
["Hoorspecialist Oirschot",2,"Widex","Enjoy E-FP 50","WID-0615",{"$f":"IF(ISBLANK('Assortiment Hoortoestellen'!$B$26),1,IF(ISERROR(SEARCH(PROPER('Assortiment Hoortoestellen'!$B$26),PROPER('Dataset hoortoestellen'!D7250))),0,1))","v":1}]
["Hoorspecialist Oirschot",2,"Widex","Enjoy E-FS 50 (HP-tel)","WID-0636",{"$f":"IF(ISBLANK('Assortiment Hoortoestellen'!$B$26),1,IF(ISERROR(SEARCH(PROPER('Assortiment Hoortoestellen'!$B$26),PROPER('Dataset hoortoestellen'!D7263))),0,1))","v":1}]
["Hoorspecialist Oirschot",4,"Widex","Enjoy E-XP 220","WID-0652",{"$f":"IF(ISBLANK('Assortiment Hoortoestellen'!$B$26),1,IF(ISERROR(SEARCH(PROPER('Assortiment Hoortoestellen'!$B$26),PROPER('Dataset hoortoestellen'!D7274))),0,1))","v":1}]
["Hoorspot Groenlo",3,"Resound","Alera TS 577/87 DW","RES-0037",{"$f":"IF(ISBLANK('Assortiment Hoortoestellen'!$B$26),1,IF(ISERROR(SEARCH(PROPER('Assortiment Hoortoestellen'!$B$26),PROPER('Dataset hoortoestellen'!D7296))),0,1))","v":1}]
["Hoorstudio Gooise Meren",5,"Audio Service","IHO 12 G5","AUS-0182",{"$f":"IF(ISBLANK('Assortiment Hoortoestellen'!$B$26),1,IF(ISERROR(SEARCH(PROPER('Assortiment Hoortoestellen'!$B$26),PROPER('Dataset hoortoestellen'!D7311))),0,1))","v":1}]
["Hoorstudio Gooise Meren",2,"Audio Service","Mood 4 G5","AUS-0207",{"$f":"IF(ISBLANK('Assortiment Hoortoestellen'!$B$26),1,IF(ISERROR(SEARCH(PROPER('Assortiment Hoortoestellen'!$B$26),PROPER('Dataset hoortoestellen'!D7315))),0,1))","v":1}]
["Hoorstudio Gooise Meren",5,"Beltone","TST 9CIC","BEL-0125",{"$f":"IF(ISBLANK('Assortiment Hoortoestellen'!$B$26),1,IF(ISERROR(SEARCH(PROPER('Assortiment Hoortoestellen'!$B$26),PROPER('Dataset hoortoestellen'!D7339))),0,1))","v":1}]
["Hoorstudio Gooise Meren",5,"Bernafon","Zerena 7 CIC","BER-0640",{"$f":"IF(ISBLANK('Assortiment Hoortoestellen'!$B$26),1,IF(ISERROR(SEARCH(PROPER('Assortiment Hoortoestellen'!$B$26),PROPER('Dataset hoortoestellen'!D7348))),0,1))","v":1}]
["Hoorstudio Gooise Meren",4,"Bernafon","Viron 5 BTE 105","BER-0667",{"$f":"IF(ISBLANK('Assortiment Hoortoestellen'!$B$26),1,IF(ISERROR(SEARCH(PROPER('Assortiment Hoortoestellen'!$B$26),PROPER('Dataset hoortoestellen'!D7363))),0,1))","v":1}]
["Hoorstudio Gooise Meren",2,"Coselgi","U6-FA","COS-0243",{"$f":"IF(ISBLANK('Assortiment Hoortoestellen'!$B$26),1,IF(ISERROR(SEARCH(PROPER('Assortiment Hoortoestellen'!$B$26),PROPER('Dataset hoortoestellen'!D7381))),0,1))","v":1}]
["Hoorstudio Gooise Meren",5,"Coselgi","Effect EF6-XP","COS-0356",{"$f":"IF(ISBLANK('Assortiment Hoortoestellen'!$B$26),1,IF(ISERROR(SEARCH(PROPER('Assortiment Hoortoestellen'!$B$26),PROPER('Dataset hoortoestellen'!D7387))),0,1))","v":1}]
["Hoorstudio Gooise Meren",2,"Coselgi","Effect EF2-F2 (P-tel)","COS-0278",{"$f":"IF(ISBLANK('Assortiment Hoortoestellen'!$B$26),1,IF(ISERROR(SEARCH(PROPER('Assortiment Hoortoestellen'!$B$26),PROPER('Dataset hoortoestellen'!D7396))),0,1))","v":1}]
["Hoorstudio Gooise Meren",2,"Coselgi","Effect EF2-FS (M-tel)","COS-0281",{"$f":"IF(ISBLANK('Assortiment Hoortoestellen'!$B$26),1,IF(ISERROR(SEARCH(PROPER('Assortiment Hoortoestellen'!$B$26),PROPER('Dataset hoortoestellen'!D7411))),0,1))","v":1}]
["Hoorstudio Gooise Meren",3,"Coselgi","MOJO MRR2D M3 (m-tel)","COS-0357",{"$f":"IF(ISBLANK('Assortiment Hoortoestellen'!$B$26),1,IF(ISERROR(SEARCH(PROPER('Assortiment Hoortoestellen'!$B$26),PROPER('Dataset hoortoestellen'!D7429))),0,1))","v":1}]
["Hoorstudio Gooise Meren",4,"Coselgi","MOJO MRR2D M4 (p-tel)","COS-0360",{"$f":"IF(ISBLANK('Assortiment Hoortoestellen'!$B$26),1,IF(ISERROR(SEARCH(PROPER('Assortiment Hoortoestellen'!$B$26),PROPER('Dataset hoortoestellen'!D7439))),0,1))","v":1}]
["Hoorstudio Gooise Meren",5,"Interton","MOVE 661-DRW","INT-0075",{"$f":"IF(ISBLANK('Assortiment Hoortoestellen'!$B$26),1,IF(ISERROR(SEARCH(PROPER('Assortiment Hoortoestellen'!$B$26),PROPER('Dataset hoortoestellen'!D7462))),0,1))","v":1}]
["Hoorstudio Gooise Meren",5,"Interton","MOVE 662-DRW","INT-0077",{"$f":"IF(ISBLANK('Assortiment Hoortoestellen'!$B$26),1,IF(ISERROR(SEARCH(PROPER('Assortiment Hoortoestellen'!$B$26),PROPER('Dataset hoortoestellen'!D7463))),0,1))","v":1}]
["Hoorstudio Gooise Meren",2,"ReSound","KEY 261-DRW","RES-0310",{"$f":"IF(ISBLANK('Assortiment Hoortoestellen'!$B$26),1,IF(ISERROR(SEARCH(PROPER('Assortiment Hoortoestellen'!$B$26),PROPER('Dataset hoortoestellen'!D7481))),0,1))","v":1}]
["Hoorstudio Gooise Meren",3,"Oticon","Siya 2 miniRITE T 60 - 105","OTI-0351",{"$f":"IF(ISBLANK('Assortiment Hoortoestellen'!$B$26),1,IF(ISERROR(SEARCH(PROPER('Assortiment Hoortoestellen'!$B$26),PROPER('Dataset hoortoestellen'!D7500))),0,1))","v":1}]
["Hoorstudio Gooise Meren",4,"Phonak","Virto M30-312","PHO-0358",{"$f":"IF(ISBLANK('Assortiment Hoortoestellen'!$B$26),1,IF(ISERROR(SEARCH(PROPER('Assortiment Hoortoestellen'!$B$26),PROPER('Dataset hoortoestellen'!D7507))),0,1))","v":1}]
["Hoorstudio Gooise Meren",3,"Phonak","Sky B 30 UP","PHO-0311",{"$f":"IF(ISBLANK('Assortiment Hoortoestellen'!$B$26),1,IF(ISERROR(SEARCH(PROPER('Assortiment Hoortoestellen'!$B$26),PROPER('Dataset hoortoestellen'!D7528))),0,1))","v":1}]
["Hoorstudio Gooise Meren",5,"ReSound","LiNX Quattro 5 ITC-DW","RES-0344",{"$f":"IF(ISBLANK('Assortiment Hoortoestellen'!$B$26),1,IF(ISERROR(SEARCH(PROPER('Assortiment Hoortoestellen'!$B$26),PROPER('Dataset hoortoestellen'!D7531))),0,1))","v":1}]
["Hoorstudio Gooise Meren",4,"ReSound","KEY 467-DW","RES-0328",{"$f":"IF(ISBLANK('Assortiment Hoortoestellen'!$B$26),1,IF(ISERROR(SEARCH(PROPER('Assortiment Hoortoestellen'!$B$26),PROPER('Dataset hoortoestellen'!D7543))),0,1))","v":1}]
["Hoorstudio Gooise Meren",5,"Starkey","Muse iQ i1600 ITC","STA-0373",{"$f":"IF(ISBLANK('Assortiment Hoortoestellen'!$B$26),1,IF(ISERROR(SEARCH(PROPER('Assortiment Hoortoestellen'!$B$26),PROPER('Dataset hoortoestellen'!D7568))),0,1))","v":1}]
["Hoorstudio Gooise Meren",4,"Starkey","Livio AI 1200 BTE 13","STA-0401",{"$f":"IF(ISBLANK('Assortiment Hoortoestellen'!$B$26),1,IF(ISERROR(SEARCH(PROPER('Assortiment Hoortoestellen'!$B$26),PROPER('Dataset hoortoestellen'!D7576))),0,1))","v":1}]
["Hoorstudio Gooise Meren",5,"Starkey","Livio AI 1600 RIC 312","STA-0407",{"$f":"IF(ISBLANK('Assortiment Hoortoestellen'!$B$26),1,IF(ISERROR(SEARCH(PROPER('Assortiment Hoortoestellen'!$B$26),PROPER('Dataset hoortoestellen'!D7592))),0,1))","v":1}]
["Hoorstudio Gooise Meren",5,"Unitron","T Insera 800 W 13 Dir","UNI-0340",{"$f":"IF(ISBLANK('Assortiment Hoortoestellen'!$B$26),1,IF(ISERROR(SEARCH(PROPER('Assortiment Hoortoestellen'!$B$26),PROPER('Dataset hoortoestellen'!D7609))),0,1))","v":1}]
["Hoorstudio Gooise Meren",3,"Unitron","T Insera 500 W 13 Dir","UNI-0325",{"$f":"IF(ISBLANK('Assortiment Hoortoestellen'!$B$26),1,IF(ISERROR(SEARCH(PROPER('Assortiment Hoortoestellen'!$B$26),PROPER('Dataset hoortoestellen'!D7620))),0,1))","v":1}]
["Hoorstudio Gooise Meren",5,"Unitron","DX Stride M 7","UNI-0454",{"$f":"IF(ISBLANK('Assortiment Hoortoestellen'!$B$26),1,IF(ISERROR(SEARCH(PROPER('Assortiment Hoortoestellen'!$B$26),PROPER('Dataset hoortoestellen'!D7628))),0,1))","v":1}]
["Hoorstudio Gooise Meren",5,"Widex","Enjoy E-CIC 330 Rechts","WID-0658",{"$f":"IF(ISBLANK('Assortiment Hoortoestellen'!$B$26),1,IF(ISERROR(SEARCH(PROPER('Assortiment Hoortoestellen'!$B$26),PROPER('Dataset hoortoestellen'!D7644))),0,1))","v":1}]
["Hoorstudio Gooise Meren",4,"Widex","Enjoy E-XP 220","WID-0652",{"$f":"IF(ISBLANK('Assortiment Hoortoestellen'!$B$26),1,IF(ISERROR(SEARCH(PROPER('Assortiment Hoortoestellen'!$B$26),PROPER('Dataset hoortoestellen'!D7661))),0,1))","v":1}]
["Hoorstudio Gooise Meren",5,"Widex","U440-CIC-M TR","WID-0447",{"$f":"IF(ISBLANK('Assortiment Hoortoestellen'!$B$26),1,IF(ISERROR(SEARCH(PROPER('Assortiment Hoortoestellen'!$B$26),PROPER('Dataset hoortoestellen'!D7668))),0,1))","v":1}]
["Hoorstudio Gooise Meren",3,"Widex","Enjoy E-F2 110 (P-tel)","WID-0580",{"$f":"IF(ISBLANK('Assortiment Hoortoestellen'!$B$26),1,IF(ISERROR(SEARCH(PROPER('Assortiment Hoortoestellen'!$B$26),PROPER('Dataset hoortoestellen'!D7690))),0,1))","v":1}]
["Hoorstudio Gooise Meren",2,"Widex","Enjoy E-FP 50","WID-0615",{"$f":"IF(ISBLANK('Assortiment Hoortoestellen'!$B$26),1,IF(ISERROR(SEARCH(PROPER('Assortiment Hoortoestellen'!$B$26),PROPER('Dataset hoortoestellen'!D7692))),0,1))","v":1}]
["Hoorstudio Gooise Meren",5,"Widex","Enjoy E-BTE 13D 330","WID-0547",{"$f":"IF(ISBLANK('Assortiment Hoortoestellen'!$B$26),1,IF(ISERROR(SEARCH(PROPER('Assortiment Hoortoestellen'!$B$26),PROPER('Dataset hoortoestellen'!D7709))),0,1))","v":1}]
["Hoorstudio Gooise Meren",4,"Widex","Enjoy E-FS 220 (P-tel)","WID-0626",{"$f":"IF(ISBLANK('Assortiment Hoortoestellen'!$B$26),1,IF(ISERROR(SEARCH(PROPER('Assortiment Hoortoestellen'!$B$26),PROPER('Dataset hoortoestellen'!D7720))),0,1))","v":1}]
["Hoorstudio Gooise Meren",5,"Widex","Enjoy E-FS 330 (S-tel)","WID-0631",{"$f":"IF(ISBLANK('Assortiment Hoortoestellen'!$B$26),1,IF(ISERROR(SEARCH(PROPER('Assortiment Hoortoestellen'!$B$26),PROPER('Dataset hoortoestellen'!D7742))),0,1))","v":1}]
["Hoorstudio Gooise Meren",5,"Widex","U440-FP","WID-0459",{"$f":"IF(ISBLANK('Assortiment Hoortoestellen'!$B$26),1,IF(ISERROR(SEARCH(PROPER('Assortiment Hoortoestellen'!$B$26),PROPER('Dataset hoortoestellen'!D7757))),0,1))","v":1}]
["Hoorstudio Gooise Meren",5,"Widex","U440-FS (M-tel)","WID-0451",{"$f":"IF(ISBLANK('Assortiment Hoortoestellen'!$B$26),1,IF(ISERROR(SEARCH(PROPER('Assortiment Hoortoestellen'!$B$26),PROPER('Dataset hoortoestellen'!D7761))),0,1))","v":1}]
["Hoorsucces Meppel",1,"ReSound","Vea 130 -/P","RES-0011",{"$f":"IF(ISBLANK('Assortiment Hoortoestellen'!$B$26),1,IF(ISERROR(SEARCH(PROPER('Assortiment Hoortoestellen'!$B$26),PROPER('Dataset hoortoestellen'!D7781))),0,1))","v":1}]
["Hoortijd",5,"Audio Service","Duo 12 G4","AUS-0129",{"$f":"IF(ISBLANK('Assortiment Hoortoestellen'!$B$26),1,IF(ISERROR(SEARCH(PROPER('Assortiment Hoortoestellen'!$B$26),PROPER('Dataset hoortoestellen'!D7790))),0,1))","v":1}]
["Hoortijd",4,"Bernafon","Zerena 5 MNR","BER-0637",{"$f":"IF(ISBLANK('Assortiment Hoortoestellen'!$B$26),1,IF(ISERROR(SEARCH(PROPER('Assortiment Hoortoestellen'!$B$26),PROPER('Dataset hoortoestellen'!D7805))),0,1))","v":1}]
["Hoortijd",5,"Oticon","Opn 3 miniRITE T 60 - 105","OTI-0364",{"$f":"IF(ISBLANK('Assortiment Hoortoestellen'!$B$26),1,IF(ISERROR(SEARCH(PROPER('Assortiment Hoortoestellen'!$B$26),PROPER('Dataset hoortoestellen'!D7823))),0,1))","v":1}]
["Hoortijd",3,"Phonak","Audeo B 30 10","PHO-0269",{"$f":"IF(ISBLANK('Assortiment Hoortoestellen'!$B$26),1,IF(ISERROR(SEARCH(PROPER('Assortiment Hoortoestellen'!$B$26),PROPER('Dataset hoortoestellen'!D7829))),0,1))","v":1}]
["Hoortijd",3,"Phonak","Bolero B 30 SP","PHO-0285",{"$f":"IF(ISBLANK('Assortiment Hoortoestellen'!$B$26),1,IF(ISERROR(SEARCH(PROPER('Assortiment Hoortoestellen'!$B$26),PROPER('Dataset hoortoestellen'!D7842))),0,1))","v":1}]
["Hoortijd",3,"Phonak","Sky B 30 RIC","PHO-0309",{"$f":"IF(ISBLANK('Assortiment Hoortoestellen'!$B$26),1,IF(ISERROR(SEARCH(PROPER('Assortiment Hoortoestellen'!$B$26),PROPER('Dataset hoortoestellen'!D7857))),0,1))","v":1}]
["Hoortijd",4,"Phonak","Virto B 50 312","PHO-0329",{"$f":"IF(ISBLANK('Assortiment Hoortoestellen'!$B$26),1,IF(ISERROR(SEARCH(PROPER('Assortiment Hoortoestellen'!$B$26),PROPER('Dataset hoortoestellen'!D7875))),0,1))","v":1}]
["Hoortijd",5,"ReSound","Ligo 761-DRW","RES-0280",{"$f":"IF(ISBLANK('Assortiment Hoortoestellen'!$B$26),1,IF(ISERROR(SEARCH(PROPER('Assortiment Hoortoestellen'!$B$26),PROPER('Dataset hoortoestellen'!D7881))),0,1))","v":1}]
["Hoortijd",4,"Widex","Enjoy E-F2 220 (HP-tel)","WID-0582",{"$f":"IF(ISBLANK('Assortiment Hoortoestellen'!$B$26),1,IF(ISERROR(SEARCH(PROPER('Assortiment Hoortoestellen'!$B$26),PROPER('Dataset hoortoestellen'!D7904))),0,1))","v":1}]
["Hoortijd",5,"Widex","Enjoy E-FA 330","WID-0601",{"$f":"IF(ISBLANK('Assortiment Hoortoestellen'!$B$26),1,IF(ISERROR(SEARCH(PROPER('Assortiment Hoortoestellen'!$B$26),PROPER('Dataset hoortoestellen'!D7918))),0,1))","v":1}]
["Hoortijd",2,"Widex","Enjoy E-FM 50","WID-0609",{"$f":"IF(ISBLANK('Assortiment Hoortoestellen'!$B$26),1,IF(ISERROR(SEARCH(PROPER('Assortiment Hoortoestellen'!$B$26),PROPER('Dataset hoortoestellen'!D7923))),0,1))","v":1}]
["Hoortijd",2,"Widex","Enjoy E-FS 50 (P-tel)","WID-0638",{"$f":"IF(ISBLANK('Assortiment Hoortoestellen'!$B$26),1,IF(ISERROR(SEARCH(PROPER('Assortiment Hoortoestellen'!$B$26),PROPER('Dataset hoortoestellen'!D7942))),0,1))","v":1}]
["Hoortijd",4,"Widex","Enjoy E-CIC TR 220 Rechts","WID-0662",{"$f":"IF(ISBLANK('Assortiment Hoortoestellen'!$B$26),1,IF(ISERROR(SEARCH(PROPER('Assortiment Hoortoestellen'!$B$26),PROPER('Dataset hoortoestellen'!D7956))),0,1))","v":1}]
["Hoortoestelwinkel",5,"Audio Service","Mood 12 G5","AUS-0184",{"$f":"IF(ISBLANK('Assortiment Hoortoestellen'!$B$26),1,IF(ISERROR(SEARCH(PROPER('Assortiment Hoortoestellen'!$B$26),PROPER('Dataset hoortoestellen'!D7970))),0,1))","v":1}]
["Hoortoestelwinkel",4,"Audio Service","P 8 G5","AUS-0190",{"$f":"IF(ISBLANK('Assortiment Hoortoestellen'!$B$26),1,IF(ISERROR(SEARCH(PROPER('Assortiment Hoortoestellen'!$B$26),PROPER('Dataset hoortoestellen'!D7975))),0,1))","v":1}]
["Hoortoestelwinkel",2,"Audio Service","Rixx 4  G5","AUS-0215",{"$f":"IF(ISBLANK('Assortiment Hoortoestellen'!$B$26),1,IF(ISERROR(SEARCH(PROPER('Assortiment Hoortoestellen'!$B$26),PROPER('Dataset hoortoestellen'!D7994))),0,1))","v":1}]
["Hoortoestelwinkel",2,"Bernafon","Zerena 1 IIC","BER-0617",{"$f":"IF(ISBLANK('Assortiment Hoortoestellen'!$B$26),1,IF(ISERROR(SEARCH(PROPER('Assortiment Hoortoestellen'!$B$26),PROPER('Dataset hoortoestellen'!D8014))),0,1))","v":1}]
["Hoortoestelwinkel",2,"Bernafon","Viron 1 MNR T R","BER-0662",{"$f":"IF(ISBLANK('Assortiment Hoortoestellen'!$B$26),1,IF(ISERROR(SEARCH(PROPER('Assortiment Hoortoestellen'!$B$26),PROPER('Dataset hoortoestellen'!D8022))),0,1))","v":1}]
["Hoortoestelwinkel",2,"Coselgi","Effect EF2-FS (S-tel)","COS-0283",{"$f":"IF(ISBLANK('Assortiment Hoortoestellen'!$B$26),1,IF(ISERROR(SEARCH(PROPER('Assortiment Hoortoestellen'!$B$26),PROPER('Dataset hoortoestellen'!D8038))),0,1))","v":1}]
["Hoortoestelwinkel",3,"Coselgi","Effect EF4-RIC 10 (M-tel)","COS-0303",{"$f":"IF(ISBLANK('Assortiment Hoortoestellen'!$B$26),1,IF(ISERROR(SEARCH(PROPER('Assortiment Hoortoestellen'!$B$26),PROPER('Dataset hoortoestellen'!D8055))),0,1))","v":1}]
["Hoortoestelwinkel",3,"Coselgi","Effect EF4-FA","COS-0311",{"$f":"IF(ISBLANK('Assortiment Hoortoestellen'!$B$26),1,IF(ISERROR(SEARCH(PROPER('Assortiment Hoortoestellen'!$B$26),PROPER('Dataset hoortoestellen'!D8062))),0,1))","v":1}]
["Hoortoestelwinkel",4,"Coselgi","Effect EF5-FS (M-tel)","COS-0321",{"$f":"IF(ISBLANK('Assortiment Hoortoestellen'!$B$26),1,IF(ISERROR(SEARCH(PROPER('Assortiment Hoortoestellen'!$B$26),PROPER('Dataset hoortoestellen'!D8070))),0,1))","v":1}]
["Hoortoestelwinkel",5,"Coselgi","Effect EF6-F2 (P-tel)","COS-0339",{"$f":"IF(ISBLANK('Assortiment Hoortoestellen'!$B$26),1,IF(ISERROR(SEARCH(PROPER('Assortiment Hoortoestellen'!$B$26),PROPER('Dataset hoortoestellen'!D8086))),0,1))","v":1}]
["Hoortoestelwinkel",3,"Coselgi","MOJO MRR2D M3 (p-tel)","COS-0358",{"$f":"IF(ISBLANK('Assortiment Hoortoestellen'!$B$26),1,IF(ISERROR(SEARCH(PROPER('Assortiment Hoortoestellen'!$B$26),PROPER('Dataset hoortoestellen'!D8103))),0,1))","v":1}]
["Hoortoestelwinkel",1,"Interton","MOVE 270-DW","INT-0055",{"$f":"IF(ISBLANK('Assortiment Hoortoestellen'!$B$26),1,IF(ISERROR(SEARCH(PROPER('Assortiment Hoortoestellen'!$B$26),PROPER('Dataset hoortoestellen'!D8110))),0,1))","v":1}]
["Hoortoestelwinkel",1,"Oticon","Get","OTI-0064",{"$f":"IF(ISBLANK('Assortiment Hoortoestellen'!$B$26),1,IF(ISERROR(SEARCH(PROPER('Assortiment Hoortoestellen'!$B$26),PROPER('Dataset hoortoestellen'!D8136))),0,1))","v":1}]
["Hoortoestelwinkel",4,"Oticon","Siya 1 CIC 75 - 85","OTI-0340",{"$f":"IF(ISBLANK('Assortiment Hoortoestellen'!$B$26),1,IF(ISERROR(SEARCH(PROPER('Assortiment Hoortoestellen'!$B$26),PROPER('Dataset hoortoestellen'!D8138))),0,1))","v":1}]
["Hoortoestelwinkel",2,"Phonak","Vitus BTE-UP","PHO-0262",{"$f":"IF(ISBLANK('Assortiment Hoortoestellen'!$B$26),1,IF(ISERROR(SEARCH(PROPER('Assortiment Hoortoestellen'!$B$26),PROPER('Dataset hoortoestellen'!D8155))),0,1))","v":1}]
["Hoortoestelwinkel",5,"Phonak","Bolero B 70 SP","PHO-0293",{"$f":"IF(ISBLANK('Assortiment Hoortoestellen'!$B$26),1,IF(ISERROR(SEARCH(PROPER('Assortiment Hoortoestellen'!$B$26),PROPER('Dataset hoortoestellen'!D8175))),0,1))","v":1}]
["Hoortoestelwinkel",3,"Phonak","Sky B 30 RIC","PHO-0309",{"$f":"IF(ISBLANK('Assortiment Hoortoestellen'!$B$26),1,IF(ISERROR(SEARCH(PROPER('Assortiment Hoortoestellen'!$B$26),PROPER('Dataset hoortoestellen'!D8184))),0,1))","v":1}]
["Hoortoestelwinkel",4,"Phonak","Virto B 50 10","PHO-0327",{"$f":"IF(ISBLANK('Assortiment Hoortoestellen'!$B$26),1,IF(ISERROR(SEARCH(PROPER('Assortiment Hoortoestellen'!$B$26),PROPER('Dataset hoortoestellen'!D8199))),0,1))","v":1}]
["Hoortoestelwinkel",5,"ReSound","LiNX 3D 762-DRW","RES-0302",{"$f":"IF(ISBLANK('Assortiment Hoortoestellen'!$B$26),1,IF(ISERROR(SEARCH(PROPER('Assortiment Hoortoestellen'!$B$26),PROPER('Dataset hoortoestellen'!D8217))),0,1))","v":1}]
["Hoortoestelwinkel",2,"ReSound","KEY 262-DRW","RES-0311",{"$f":"IF(ISBLANK('Assortiment Hoortoestellen'!$B$26),1,IF(ISERROR(SEARCH(PROPER('Assortiment Hoortoestellen'!$B$26),PROPER('Dataset hoortoestellen'!D8223))),0,1))","v":1}]
["Hoortoestelwinkel",3,"ReSound","KEY 3ITC-DW","RES-0324",{"$f":"IF(ISBLANK('Assortiment Hoortoestellen'!$B$26),1,IF(ISERROR(SEARCH(PROPER('Assortiment Hoortoestellen'!$B$26),PROPER('Dataset hoortoestellen'!D8236))),0,1))","v":1}]
["Hoortoestelwinkel",1,"Starkey","Muse i1000 RIC 312","STA-0309",{"$f":"IF(ISBLANK('Assortiment Hoortoestellen'!$B$26),1,IF(ISERROR(SEARCH(PROPER('Assortiment Hoortoestellen'!$B$26),PROPER('Dataset hoortoestellen'!D8251))),0,1))","v":1}]
["Hoortoestelwinkel",5,"Starkey","Muse iQ i1600 CIC","STA-0372\n",{"$f":"IF(ISBLANK('Assortiment Hoortoestellen'!$B$26),1,IF(ISERROR(SEARCH(PROPER('Assortiment Hoortoestellen'!$B$26),PROPER('Dataset hoortoestellen'!D8269))),0,1))","v":1}]
["Hoortoestelwinkel",3,"Starkey","Livio 1000 RIC R","STA-0383",{"$f":"IF(ISBLANK('Assortiment Hoortoestellen'!$B$26),1,IF(ISERROR(SEARCH(PROPER('Assortiment Hoortoestellen'!$B$26),PROPER('Dataset hoortoestellen'!D8275))),0,1))","v":1}]
["Hoortoestelwinkel",4,"Unitron","T Insera 600 W 10A Dir","UNI-0328",{"$f":"IF(ISBLANK('Assortiment Hoortoestellen'!$B$26),1,IF(ISERROR(SEARCH(PROPER('Assortiment Hoortoestellen'!$B$26),PROPER('Dataset hoortoestellen'!D8298))),0,1))","v":1}]
["Hoortoestelwinkel",4,"Unitron","T Insera 600 W 13 Dir","UNI-0330",{"$f":"IF(ISBLANK('Assortiment Hoortoestellen'!$B$26),1,IF(ISERROR(SEARCH(PROPER('Assortiment Hoortoestellen'!$B$26),PROPER('Dataset hoortoestellen'!D8299))),0,1))","v":1}]
["Hoortoestelwinkel",4,"Unitron","DX Moxi Fit 5","UNI-0444",{"$f":"IF(ISBLANK('Assortiment Hoortoestellen'!$B$26),1,IF(ISERROR(SEARCH(PROPER('Assortiment Hoortoestellen'!$B$26),PROPER('Dataset hoortoestellen'!D8317))),0,1))","v":1}]
["Hoortoestelwinkel",3,"Widex","U110-FM","WID-0409",{"$f":"IF(ISBLANK('Assortiment Hoortoestellen'!$B$26),1,IF(ISERROR(SEARCH(PROPER('Assortiment Hoortoestellen'!$B$26),PROPER('Dataset hoortoestellen'!D8336))),0,1))","v":1}]
["Hoortoestelwinkel",3,"Widex","U220-FM","WID-0423",{"$f":"IF(ISBLANK('Assortiment Hoortoestellen'!$B$26),1,IF(ISERROR(SEARCH(PROPER('Assortiment Hoortoestellen'!$B$26),PROPER('Dataset hoortoestellen'!D8350))),0,1))","v":1}]
["Hoortoestelwinkel",4,"Widex","U330-FS (HP-tel)","WID-0437",{"$f":"IF(ISBLANK('Assortiment Hoortoestellen'!$B$26),1,IF(ISERROR(SEARCH(PROPER('Assortiment Hoortoestellen'!$B$26),PROPER('Dataset hoortoestellen'!D8364))),0,1))","v":1}]
["Hoortoestelwinkel",4,"Widex","U330-PA (S-tel)","WID-0442",{"$f":"IF(ISBLANK('Assortiment Hoortoestellen'!$B$26),1,IF(ISERROR(SEARCH(PROPER('Assortiment Hoortoestellen'!$B$26),PROPER('Dataset hoortoestellen'!D8369))),0,1))","v":1}]
["Hoortoestelwinkel",4,"Widex","Enjoy E-BTE 13D 220","WID-0546",{"$f":"IF(ISBLANK('Assortiment Hoortoestellen'!$B$26),1,IF(ISERROR(SEARCH(PROPER('Assortiment Hoortoestellen'!$B$26),PROPER('Dataset hoortoestellen'!D8388))),0,1))","v":1}]
["Hoortoestelwinkel",3,"Widex","Enjoy E-F2 110 (M-tel)","WID-0579",{"$f":"IF(ISBLANK('Assortiment Hoortoestellen'!$B$26),1,IF(ISERROR(SEARCH(PROPER('Assortiment Hoortoestellen'!$B$26),PROPER('Dataset hoortoestellen'!D8402))),0,1))","v":1}]
["Hoortoestelwinkel",5,"Widex","Enjoy E-F2 330 (S-tel)","WID-0589",{"$f":"IF(ISBLANK('Assortiment Hoortoestellen'!$B$26),1,IF(ISERROR(SEARCH(PROPER('Assortiment Hoortoestellen'!$B$26),PROPER('Dataset hoortoestellen'!D8412))),0,1))","v":1}]
["Hoortoestelwinkel",3,"Widex","Enjoy E-FS 110 (P-tel)","WID-0622",{"$f":"IF(ISBLANK('Assortiment Hoortoestellen'!$B$26),1,IF(ISERROR(SEARCH(PROPER('Assortiment Hoortoestellen'!$B$26),PROPER('Dataset hoortoestellen'!D8431))),0,1))","v":1}]
["Hoortoestelwinkel",4,"Widex","Enjoy E-FS 220 (S-tel)","WID-0627",{"$f":"IF(ISBLANK('Assortiment Hoortoestellen'!$B$26),1,IF(ISERROR(SEARCH(PROPER('Assortiment Hoortoestellen'!$B$26),PROPER('Dataset hoortoestellen'!D8436))),0,1))","v":1}]
["Hoortoestelwinkel",5,"Widex","Enjoy E-PA 330 (S-tel)","WID-0647",{"$f":"IF(ISBLANK('Assortiment Hoortoestellen'!$B$26),1,IF(ISERROR(SEARCH(PROPER('Assortiment Hoortoestellen'!$B$26),PROPER('Dataset hoortoestellen'!D8450))),0,1))","v":1}]
["Hoortzo Ridderkerk",4,"Audio Service","quiX 8 G5 Rechts","AUS-0194",{"$f":"IF(ISBLANK('Assortiment Hoortoestellen'!$B$26),1,IF(ISERROR(SEARCH(PROPER('Assortiment Hoortoestellen'!$B$26),PROPER('Dataset hoortoestellen'!D8464))),0,1))","v":1}]
["Hoortzo Ridderkerk",3,"Audio Service","HP 6 G4","AUS-0154",{"$f":"IF(ISBLANK('Assortiment Hoortoestellen'!$B$26),1,IF(ISERROR(SEARCH(PROPER('Assortiment Hoortoestellen'!$B$26),PROPER('Dataset hoortoestellen'!D8483))),0,1))","v":1}]
["Hoortzo Ridderkerk",5,"Audio Service","Duo 12 G4","AUS-0129",{"$f":"IF(ISBLANK('Assortiment Hoortoestellen'!$B$26),1,IF(ISERROR(SEARCH(PROPER('Assortiment Hoortoestellen'!$B$26),PROPER('Dataset hoortoestellen'!D8488))),0,1))","v":1}]
["Hoortzo Ridderkerk",5,"Bernafon","Zerena 7 CIC","BER-0640",{"$f":"IF(ISBLANK('Assortiment Hoortoestellen'!$B$26),1,IF(ISERROR(SEARCH(PROPER('Assortiment Hoortoestellen'!$B$26),PROPER('Dataset hoortoestellen'!D8504))),0,1))","v":1}]
["Hoortzo Ridderkerk",5,"Bernafon","Viron 7 MNR T R","BER-0674",{"$f":"IF(ISBLANK('Assortiment Hoortoestellen'!$B$26),1,IF(ISERROR(SEARCH(PROPER('Assortiment Hoortoestellen'!$B$26),PROPER('Dataset hoortoestellen'!D8516))),0,1))","v":1}]
["Hoortzo Ridderkerk",5,"Coselgi","Effect EF6-CIC M","COS-0348",{"$f":"IF(ISBLANK('Assortiment Hoortoestellen'!$B$26),1,IF(ISERROR(SEARCH(PROPER('Assortiment Hoortoestellen'!$B$26),PROPER('Dataset hoortoestellen'!D8532))),0,1))","v":1}]
["Hoortzo Ridderkerk",3,"Coselgi","Effect EF4-F2 (M-tel)","COS-0295",{"$f":"IF(ISBLANK('Assortiment Hoortoestellen'!$B$26),1,IF(ISERROR(SEARCH(PROPER('Assortiment Hoortoestellen'!$B$26),PROPER('Dataset hoortoestellen'!D8549))),0,1))","v":1}]
["Hoortzo Ridderkerk",3,"Coselgi","Effect EF4-FA","COS-0311",{"$f":"IF(ISBLANK('Assortiment Hoortoestellen'!$B$26),1,IF(ISERROR(SEARCH(PROPER('Assortiment Hoortoestellen'!$B$26),PROPER('Dataset hoortoestellen'!D8556))),0,1))","v":1}]
["Hoortzo Ridderkerk",3,"Coselgi","Effect EF4-FS (HP-tel)","COS-0299",{"$f":"IF(ISBLANK('Assortiment Hoortoestellen'!$B$26),1,IF(ISERROR(SEARCH(PROPER('Assortiment Hoortoestellen'!$B$26),PROPER('Dataset hoortoestellen'!D8568))),0,1))","v":1}]
["Hoortzo Ridderkerk",4,"Coselgi","MOJO MRR2D M4 (m-tel)","COS-0359",{"$f":"IF(ISBLANK('Assortiment Hoortoestellen'!$B$26),1,IF(ISERROR(SEARCH(PROPER('Assortiment Hoortoestellen'!$B$26),PROPER('Dataset hoortoestellen'!D8593))),0,1))","v":1}]
["Hoortzo Ridderkerk",5,"Coselgi","Effect EF6-FS (M-tel)","COS-0342",{"$f":"IF(ISBLANK('Assortiment Hoortoestellen'!$B$26),1,IF(ISERROR(SEARCH(PROPER('Assortiment Hoortoestellen'!$B$26),PROPER('Dataset hoortoestellen'!D8597))),0,1))","v":1}]
["Hoortzo Ridderkerk",5,"Interton","MOVE 680-DWH","INT-0080",{"$f":"IF(ISBLANK('Assortiment Hoortoestellen'!$B$26),1,IF(ISERROR(SEARCH(PROPER('Assortiment Hoortoestellen'!$B$26),PROPER('Dataset hoortoestellen'!D8617))),0,1))","v":1}]
["Hoortzo Ridderkerk",4,"Interton","MOVE 465-DW","INT-0069",{"$f":"IF(ISBLANK('Assortiment Hoortoestellen'!$B$26),1,IF(ISERROR(SEARCH(PROPER('Assortiment Hoortoestellen'!$B$26),PROPER('Dataset hoortoestellen'!D8630))),0,1))","v":1}]
["Hoortzo Ridderkerk",5,"Oticon","Opn 3 CIC 75 - 85","OTI-0360",{"$f":"IF(ISBLANK('Assortiment Hoortoestellen'!$B$26),1,IF(ISERROR(SEARCH(PROPER('Assortiment Hoortoestellen'!$B$26),PROPER('Dataset hoortoestellen'!D8645))),0,1))","v":1}]
["Hoortzo Ridderkerk",4,"Oticon","Siya 1 ITE 75 - 100","OTI-0342",{"$f":"IF(ISBLANK('Assortiment Hoortoestellen'!$B$26),1,IF(ISERROR(SEARCH(PROPER('Assortiment Hoortoestellen'!$B$26),PROPER('Dataset hoortoestellen'!D8649))),0,1))","v":1}]
["Hoortzo Ridderkerk",4,"Phonak","Bolero M30-M","PHO-0351",{"$f":"IF(ISBLANK('Assortiment Hoortoestellen'!$B$26),1,IF(ISERROR(SEARCH(PROPER('Assortiment Hoortoestellen'!$B$26),PROPER('Dataset hoortoestellen'!D8669))),0,1))","v":1}]
["Hoortzo Ridderkerk",3,"Phonak","Bolero B 30 P","PHO-0284",{"$f":"IF(ISBLANK('Assortiment Hoortoestellen'!$B$26),1,IF(ISERROR(SEARCH(PROPER('Assortiment Hoortoestellen'!$B$26),PROPER('Dataset hoortoestellen'!D8682))),0,1))","v":1}]
["Hoortzo Ridderkerk",5,"ReSound","LiNX Quattro 561-DRWT","RES-0338",{"$f":"IF(ISBLANK('Assortiment Hoortoestellen'!$B$26),1,IF(ISERROR(SEARCH(PROPER('Assortiment Hoortoestellen'!$B$26),PROPER('Dataset hoortoestellen'!D8693))),0,1))","v":1}]
["Hoortzo Ridderkerk",4,"ReSound","KEY 462-DRW","RES-0327",{"$f":"IF(ISBLANK('Assortiment Hoortoestellen'!$B$26),1,IF(ISERROR(SEARCH(PROPER('Assortiment Hoortoestellen'!$B$26),PROPER('Dataset hoortoestellen'!D8711))),0,1))","v":1}]
["Hoortzo Ridderkerk",3,"Starkey","Muse iQ i1000 CIC","STA-0352\n",{"$f":"IF(ISBLANK('Assortiment Hoortoestellen'!$B$26),1,IF(ISERROR(SEARCH(PROPER('Assortiment Hoortoestellen'!$B$26),PROPER('Dataset hoortoestellen'!D8717))),0,1))","v":1}]
["Hoortzo Ridderkerk",2,"Starkey","Livio 1000 BTE 13","STA-0380",{"$f":"IF(ISBLANK('Assortiment Hoortoestellen'!$B$26),1,IF(ISERROR(SEARCH(PROPER('Assortiment Hoortoestellen'!$B$26),PROPER('Dataset hoortoestellen'!D8730))),0,1))","v":1}]
["Hoortzo Ridderkerk",2,"Starkey","Livio 1000 RIC 312","STA-0382",{"$f":"IF(ISBLANK('Assortiment Hoortoestellen'!$B$26),1,IF(ISERROR(SEARCH(PROPER('Assortiment Hoortoestellen'!$B$26),PROPER('Dataset hoortoestellen'!D8745))),0,1))","v":1}]
["Hoortzo Ridderkerk",5,"Unitron","T Insera 800 W 312 Dir","UNI-0341",{"$f":"IF(ISBLANK('Assortiment Hoortoestellen'!$B$26),1,IF(ISERROR(SEARCH(PROPER('Assortiment Hoortoestellen'!$B$26),PROPER('Dataset hoortoestellen'!D8763))),0,1))","v":1}]
["Hoortzo Ridderkerk",3,"Unitron","DX Moxi Fit 3","UNI-0443",{"$f":"IF(ISBLANK('Assortiment Hoortoestellen'!$B$26),1,IF(ISERROR(SEARCH(PROPER('Assortiment Hoortoestellen'!$B$26),PROPER('Dataset hoortoestellen'!D8782))),0,1))","v":1}]
["Hoortzo Ridderkerk",2,"Unitron ","Shine Rev+ W 13 Dir","UNI-0474",{"$f":"IF(ISBLANK('Assortiment Hoortoestellen'!$B$26),1,IF(ISERROR(SEARCH(PROPER('Assortiment Hoortoestellen'!$B$26),PROPER('Dataset hoortoestellen'!D8796))),0,1))","v":1}]
["Hoortzo Ridderkerk",5,"Widex","Enjoy E-CIC TR 330 Links","WID-0571",{"$f":"IF(ISBLANK('Assortiment Hoortoestellen'!$B$26),1,IF(ISERROR(SEARCH(PROPER('Assortiment Hoortoestellen'!$B$26),PROPER('Dataset hoortoestellen'!D8806))),0,1))","v":1}]
["Hoortzo Ridderkerk",4,"Widex","Enjoy E-CIC TR 220 Links","WID-0570",{"$f":"IF(ISBLANK('Assortiment Hoortoestellen'!$B$26),1,IF(ISERROR(SEARCH(PROPER('Assortiment Hoortoestellen'!$B$26),PROPER('Dataset hoortoestellen'!D8811))),0,1))","v":1}]
["Hoortzo Ridderkerk",3,"Widex","U220-CIC","WID-0418",{"$f":"IF(ISBLANK('Assortiment Hoortoestellen'!$B$26),1,IF(ISERROR(SEARCH(PROPER('Assortiment Hoortoestellen'!$B$26),PROPER('Dataset hoortoestellen'!D8830))),0,1))","v":1}]
["Hoortzo Ridderkerk",3,"Widex","Enjoy E-F2 110 (M-tel)","WID-0579",{"$f":"IF(ISBLANK('Assortiment Hoortoestellen'!$B$26),1,IF(ISERROR(SEARCH(PROPER('Assortiment Hoortoestellen'!$B$26),PROPER('Dataset hoortoestellen'!D8844))),0,1))","v":1}]
["Hoortzo Ridderkerk",2,"Widex","Enjoy E-FS 50 (M-tel)","WID-0637",{"$f":"IF(ISBLANK('Assortiment Hoortoestellen'!$B$26),1,IF(ISERROR(SEARCH(PROPER('Assortiment Hoortoestellen'!$B$26),PROPER('Dataset hoortoestellen'!D8854))),0,1))","v":1}]
["Hoortzo Ridderkerk",5,"Widex","Enjoy E-F2 330 (S-tel)","WID-0589",{"$f":"IF(ISBLANK('Assortiment Hoortoestellen'!$B$26),1,IF(ISERROR(SEARCH(PROPER('Assortiment Hoortoestellen'!$B$26),PROPER('Dataset hoortoestellen'!D8877))),0,1))","v":1}]
["Hoortzo Ridderkerk",4,"Widex","Enjoy E-PA 220 (M-tel)","WID-0644",{"$f":"IF(ISBLANK('Assortiment Hoortoestellen'!$B$26),1,IF(ISERROR(SEARCH(PROPER('Assortiment Hoortoestellen'!$B$26),PROPER('Dataset hoortoestellen'!D8882))),0,1))","v":1}]
["Hoortzo Ridderkerk",3,"Widex","U110-FS (S-tel)","WID-0414",{"$f":"IF(ISBLANK('Assortiment Hoortoestellen'!$B$26),1,IF(ISERROR(SEARCH(PROPER('Assortiment Hoortoestellen'!$B$26),PROPER('Dataset hoortoestellen'!D8896))),0,1))","v":1}]
["Hoortzo Ridderkerk",4,"Widex","U330-FS (S-tel)","WID-0440",{"$f":"IF(ISBLANK('Assortiment Hoortoestellen'!$B$26),1,IF(ISERROR(SEARCH(PROPER('Assortiment Hoortoestellen'!$B$26),PROPER('Dataset hoortoestellen'!D8906))),0,1))","v":1}]
["Hoortzo Ridderkerk",5,"Widex","U440-PA (S-tel)","WID-0455",{"$f":"IF(ISBLANK('Assortiment Hoortoestellen'!$B$26),1,IF(ISERROR(SEARCH(PROPER('Assortiment Hoortoestellen'!$B$26),PROPER('Dataset hoortoestellen'!D8925))),0,1))","v":1}]
["Hoortzo Spijkenisse",5,"Audio Service","Duo 12 G5","AUS-0177",{"$f":"IF(ISBLANK('Assortiment Hoortoestellen'!$B$26),1,IF(ISERROR(SEARCH(PROPER('Assortiment Hoortoestellen'!$B$26),PROPER('Dataset hoortoestellen'!D8943))),0,1))","v":1}]
["Hoortzo Spijkenisse",1,"Audio Service ","Volta P C","AUS-0220",{"$f":"IF(ISBLANK('Assortiment Hoortoestellen'!$B$26),1,IF(ISERROR(SEARCH(PROPER('Assortiment Hoortoestellen'!$B$26),PROPER('Dataset hoortoestellen'!D8958))),0,1))","v":1}]
["Hoortzo Spijkenisse",5,"Beltone","Amaze 663-DRWC","BEL-0127",{"$f":"IF(ISBLANK('Assortiment Hoortoestellen'!$B$26),1,IF(ISERROR(SEARCH(PROPER('Assortiment Hoortoestellen'!$B$26),PROPER('Dataset hoortoestellen'!D8967))),0,1))","v":1}]
["Hoortzo Spijkenisse",1,"Bernafon","Nevara 1 P","BER-0460",{"$f":"IF(ISBLANK('Assortiment Hoortoestellen'!$B$26),1,IF(ISERROR(SEARCH(PROPER('Assortiment Hoortoestellen'!$B$26),PROPER('Dataset hoortoestellen'!D8977))),0,1))","v":1}]
["Hoortzo Spijkenisse",2,"Coselgi","U6-CIC (links)","COS-0241",{"$f":"IF(ISBLANK('Assortiment Hoortoestellen'!$B$26),1,IF(ISERROR(SEARCH(PROPER('Assortiment Hoortoestellen'!$B$26),PROPER('Dataset hoortoestellen'!D8995))),0,1))","v":1}]
["Hoortzo Spijkenisse",4,"Coselgi","Effect EF5-CIC TR Rechts","COS-0331",{"$f":"IF(ISBLANK('Assortiment Hoortoestellen'!$B$26),1,IF(ISERROR(SEARCH(PROPER('Assortiment Hoortoestellen'!$B$26),PROPER('Dataset hoortoestellen'!D9011))),0,1))","v":1}]
["Hoortzo Spijkenisse",2,"Coselgi","Effect EF2-FA","COS-0290",{"$f":"IF(ISBLANK('Assortiment Hoortoestellen'!$B$26),1,IF(ISERROR(SEARCH(PROPER('Assortiment Hoortoestellen'!$B$26),PROPER('Dataset hoortoestellen'!D9024))),0,1))","v":1}]
["Hoortzo Spijkenisse",4,"Coselgi","Effect EF5-FM","COS-0333",{"$f":"IF(ISBLANK('Assortiment Hoortoestellen'!$B$26),1,IF(ISERROR(SEARCH(PROPER('Assortiment Hoortoestellen'!$B$26),PROPER('Dataset hoortoestellen'!D9035))),0,1))","v":1}]
["Hoortzo Spijkenisse",5,"Coselgi","Effect EF6-F2 (M-tel)","COS-0338",{"$f":"IF(ISBLANK('Assortiment Hoortoestellen'!$B$26),1,IF(ISERROR(SEARCH(PROPER('Assortiment Hoortoestellen'!$B$26),PROPER('Dataset hoortoestellen'!D9043))),0,1))","v":1}]
["Hoortzo Spijkenisse",5,"Coselgi","Effect EF6-FS (M-tel)","COS-0342",{"$f":"IF(ISBLANK('Assortiment Hoortoestellen'!$B$26),1,IF(ISERROR(SEARCH(PROPER('Assortiment Hoortoestellen'!$B$26),PROPER('Dataset hoortoestellen'!D9063))),0,1))","v":1}]
["Hoortzo Spijkenisse",2,"Interton","MOVE 270-DW","INT-0055",{"$f":"IF(ISBLANK('Assortiment Hoortoestellen'!$B$26),1,IF(ISERROR(SEARCH(PROPER('Assortiment Hoortoestellen'!$B$26),PROPER('Dataset hoortoestellen'!D9076))),0,1))","v":1}]
["Hoortzo Spijkenisse",5,"Interton","MOVE 690-DW","INT-0081",{"$f":"IF(ISBLANK('Assortiment Hoortoestellen'!$B$26),1,IF(ISERROR(SEARCH(PROPER('Assortiment Hoortoestellen'!$B$26),PROPER('Dataset hoortoestellen'!D9087))),0,1))","v":1}]
["Hoortzo Spijkenisse",2,"ReSound","KEY 267-DW","RES-0312",{"$f":"IF(ISBLANK('Assortiment Hoortoestellen'!$B$26),1,IF(ISERROR(SEARCH(PROPER('Assortiment Hoortoestellen'!$B$26),PROPER('Dataset hoortoestellen'!D9105))),0,1))","v":1}]
["Hoortzo Spijkenisse",5,"Oticon","Opn 3 CIC 75 - 85","OTI-0360",{"$f":"IF(ISBLANK('Assortiment Hoortoestellen'!$B$26),1,IF(ISERROR(SEARCH(PROPER('Assortiment Hoortoestellen'!$B$26),PROPER('Dataset hoortoestellen'!D9111))),0,1))","v":1}]
["Hoortzo Spijkenisse",4,"Oticon","Siya 1 miniRITE T 60 - 105","OTI-0344",{"$f":"IF(ISBLANK('Assortiment Hoortoestellen'!$B$26),1,IF(ISERROR(SEARCH(PROPER('Assortiment Hoortoestellen'!$B$26),PROPER('Dataset hoortoestellen'!D9124))),0,1))","v":1}]
["Hoortzo Spijkenisse",4,"Phonak","Bolero M30-M","PHO-0351",{"$f":"IF(ISBLANK('Assortiment Hoortoestellen'!$B$26),1,IF(ISERROR(SEARCH(PROPER('Assortiment Hoortoestellen'!$B$26),PROPER('Dataset hoortoestellen'!D9135))),0,1))","v":1}]
["Hoortzo Spijkenisse",4,"ReSound","KEY 4ITC-DW","RES-0333",{"$f":"IF(ISBLANK('Assortiment Hoortoestellen'!$B$26),1,IF(ISERROR(SEARCH(PROPER('Assortiment Hoortoestellen'!$B$26),PROPER('Dataset hoortoestellen'!D9157))),0,1))","v":1}]
["Hoortzo Spijkenisse",5,"ReSound","Enzo Q 598-DWT","RES-0335",{"$f":"IF(ISBLANK('Assortiment Hoortoestellen'!$B$26),1,IF(ISERROR(SEARCH(PROPER('Assortiment Hoortoestellen'!$B$26),PROPER('Dataset hoortoestellen'!D9163))),0,1))","v":1}]
["Hoortzo Spijkenisse",3,"ReSound","KEY 361-DRW","RES-0317",{"$f":"IF(ISBLANK('Assortiment Hoortoestellen'!$B$26),1,IF(ISERROR(SEARCH(PROPER('Assortiment Hoortoestellen'!$B$26),PROPER('Dataset hoortoestellen'!D9176))),0,1))","v":1}]
["Hoortzo Spijkenisse",1,"Starkey","Livio S2 RIC 312","STA-0414",{"$f":"IF(ISBLANK('Assortiment Hoortoestellen'!$B$26),1,IF(ISERROR(SEARCH(PROPER('Assortiment Hoortoestellen'!$B$26),PROPER('Dataset hoortoestellen'!D9200))),0,1))","v":1}]
["Hoortzo Spijkenisse",1,"Starkey","Muse i1000 BTE 13","STA-0308",{"$f":"IF(ISBLANK('Assortiment Hoortoestellen'!$B$26),1,IF(ISERROR(SEARCH(PROPER('Assortiment Hoortoestellen'!$B$26),PROPER('Dataset hoortoestellen'!D9205))),0,1))","v":1}]
["Hoortzo Spijkenisse",2,"Unitron","Shine Rev+ W 312 Dir","UNI-0475",{"$f":"IF(ISBLANK('Assortiment Hoortoestellen'!$B$26),1,IF(ISERROR(SEARCH(PROPER('Assortiment Hoortoestellen'!$B$26),PROPER('Dataset hoortoestellen'!D9224))),0,1))","v":1}]
["Hoortzo Spijkenisse",3,"Unitron","T Insera 500 W 10A Dir","UNI-0323",{"$f":"IF(ISBLANK('Assortiment Hoortoestellen'!$B$26),1,IF(ISERROR(SEARCH(PROPER('Assortiment Hoortoestellen'!$B$26),PROPER('Dataset hoortoestellen'!D9238))),0,1))","v":1}]
["Hoortzo Spijkenisse",3,"Unitron","DX Moxi Fit 3","UNI-0443",{"$f":"IF(ISBLANK('Assortiment Hoortoestellen'!$B$26),1,IF(ISERROR(SEARCH(PROPER('Assortiment Hoortoestellen'!$B$26),PROPER('Dataset hoortoestellen'!D9248))),0,1))","v":1}]
["Hoortzo Spijkenisse",5,"Unitron","DX Moxi Move R 5","UNI-0450",{"$f":"IF(ISBLANK('Assortiment Hoortoestellen'!$B$26),1,IF(ISERROR(SEARCH(PROPER('Assortiment Hoortoestellen'!$B$26),PROPER('Dataset hoortoestellen'!D9257))),0,1))","v":1}]
["Hoortzo Spijkenisse",3,"Widex","Enjoy E-CIC TR 110 Links","WID-0569",{"$f":"IF(ISBLANK('Assortiment Hoortoestellen'!$B$26),1,IF(ISERROR(SEARCH(PROPER('Assortiment Hoortoestellen'!$B$26),PROPER('Dataset hoortoestellen'!D9276))),0,1))","v":1}]
["Hoortzo Spijkenisse",5,"Widex","U440-CIC-M TR","WID-0447",{"$f":"IF(ISBLANK('Assortiment Hoortoestellen'!$B$26),1,IF(ISERROR(SEARCH(PROPER('Assortiment Hoortoestellen'!$B$26),PROPER('Dataset hoortoestellen'!D9290))),0,1))","v":1}]
["Hoortzo Spijkenisse",3,"Widex","U220-CIC-M TR","WID-0421",{"$f":"IF(ISBLANK('Assortiment Hoortoestellen'!$B$26),1,IF(ISERROR(SEARCH(PROPER('Assortiment Hoortoestellen'!$B$26),PROPER('Dataset hoortoestellen'!D9300))),0,1))","v":1}]
["Hoortzo Spijkenisse",2,"Widex","Enjoy E-FS 50 (P-tel)","WID-0638",{"$f":"IF(ISBLANK('Assortiment Hoortoestellen'!$B$26),1,IF(ISERROR(SEARCH(PROPER('Assortiment Hoortoestellen'!$B$26),PROPER('Dataset hoortoestellen'!D9323))),0,1))","v":1}]
["Hoortzo Spijkenisse",3,"Widex","Enjoy E-FP 110","WID-0611",{"$f":"IF(ISBLANK('Assortiment Hoortoestellen'!$B$26),1,IF(ISERROR(SEARCH(PROPER('Assortiment Hoortoestellen'!$B$26),PROPER('Dataset hoortoestellen'!D9324))),0,1))","v":1}]
["Hoortzo Spijkenisse",3,"Widex","Enjoy E-PA 110 (M-tel)","WID-0642",{"$f":"IF(ISBLANK('Assortiment Hoortoestellen'!$B$26),1,IF(ISERROR(SEARCH(PROPER('Assortiment Hoortoestellen'!$B$26),PROPER('Dataset hoortoestellen'!D9338))),0,1))","v":1}]
["Hoortzo Spijkenisse",5,"Widex","Enjoy E-FS 330 (P-tel)","WID-0630",{"$f":"IF(ISBLANK('Assortiment Hoortoestellen'!$B$26),1,IF(ISERROR(SEARCH(PROPER('Assortiment Hoortoestellen'!$B$26),PROPER('Dataset hoortoestellen'!D9361))),0,1))","v":1}]
["Hoortzo Spijkenisse",3,"Widex","U220-FA","WID-0422",{"$f":"IF(ISBLANK('Assortiment Hoortoestellen'!$B$26),1,IF(ISERROR(SEARCH(PROPER('Assortiment Hoortoestellen'!$B$26),PROPER('Dataset hoortoestellen'!D9371))),0,1))","v":1}]
["Hoortzo Spijkenisse",5,"Widex","U440-PA (M-tel)","WID-0454",{"$f":"IF(ISBLANK('Assortiment Hoortoestellen'!$B$26),1,IF(ISERROR(SEARCH(PROPER('Assortiment Hoortoestellen'!$B$26),PROPER('Dataset hoortoestellen'!D9389))),0,1))","v":1}]
["Hoorus Boxmeer",4,"Audio Service","IHO 8 G5","AUS-0183",{"$f":"IF(ISBLANK('Assortiment Hoortoestellen'!$B$26),1,IF(ISERROR(SEARCH(PROPER('Assortiment Hoortoestellen'!$B$26),PROPER('Dataset hoortoestellen'!D9404))),0,1))","v":1}]
["Hoorus Boxmeer",5,"Audio Service","quiX 12 G5 Rechts","AUS-0192",{"$f":"IF(ISBLANK('Assortiment Hoortoestellen'!$B$26),1,IF(ISERROR(SEARCH(PROPER('Assortiment Hoortoestellen'!$B$26),PROPER('Dataset hoortoestellen'!D9413))),0,1))","v":1}]
["Hoorus Boxmeer",3,"Audio Service","Mood 6 G5","AUS-0208",{"$f":"IF(ISBLANK('Assortiment Hoortoestellen'!$B$26),1,IF(ISERROR(SEARCH(PROPER('Assortiment Hoortoestellen'!$B$26),PROPER('Dataset hoortoestellen'!D9423))),0,1))","v":1}]
["Hoorus Boxmeer",1,"Audio Service ","Volta quiX C rechts","AUS-0222",{"$f":"IF(ISBLANK('Assortiment Hoortoestellen'!$B$26),1,IF(ISERROR(SEARCH(PROPER('Assortiment Hoortoestellen'!$B$26),PROPER('Dataset hoortoestellen'!D9437))),0,1))","v":1}]
["Hoorus Boxmeer",4,"Bernafon","Zerena 5 CIC","BER-0632",{"$f":"IF(ISBLANK('Assortiment Hoortoestellen'!$B$26),1,IF(ISERROR(SEARCH(PROPER('Assortiment Hoortoestellen'!$B$26),PROPER('Dataset hoortoestellen'!D9452))),0,1))","v":1}]
["Hoorus Boxmeer",3,"Coselgi","U10-FA","COS-0139",{"$f":"IF(ISBLANK('Assortiment Hoortoestellen'!$B$26),1,IF(ISERROR(SEARCH(PROPER('Assortiment Hoortoestellen'!$B$26),PROPER('Dataset hoortoestellen'!D9461))),0,1))","v":1}]
["Hoorus Boxmeer",5,"Coselgi","U15-FA","COS-0163",{"$f":"IF(ISBLANK('Assortiment Hoortoestellen'!$B$26),1,IF(ISERROR(SEARCH(PROPER('Assortiment Hoortoestellen'!$B$26),PROPER('Dataset hoortoestellen'!D9485))),0,1))","v":1}]
["Hoorus Boxmeer",5,"Coselgi","U15-FS (M-tel)","COS-0167",{"$f":"IF(ISBLANK('Assortiment Hoortoestellen'!$B$26),1,IF(ISERROR(SEARCH(PROPER('Assortiment Hoortoestellen'!$B$26),PROPER('Dataset hoortoestellen'!D9489))),0,1))","v":1}]
["Hoorus Boxmeer",2,"Coselgi","U6-XP","COS-0252",{"$f":"IF(ISBLANK('Assortiment Hoortoestellen'!$B$26),1,IF(ISERROR(SEARCH(PROPER('Assortiment Hoortoestellen'!$B$26),PROPER('Dataset hoortoestellen'!D9505))),0,1))","v":1}]
["Hoorus Boxmeer",2,"Coselgi","Effect EF2-F2 (HP-tel)","COS-0276",{"$f":"IF(ISBLANK('Assortiment Hoortoestellen'!$B$26),1,IF(ISERROR(SEARCH(PROPER('Assortiment Hoortoestellen'!$B$26),PROPER('Dataset hoortoestellen'!D9518))),0,1))","v":1}]
["Hoorus Boxmeer",2,"Coselgi","Effect EF2-CIC TR Rechts","COS-0289",{"$f":"IF(ISBLANK('Assortiment Hoortoestellen'!$B$26),1,IF(ISERROR(SEARCH(PROPER('Assortiment Hoortoestellen'!$B$26),PROPER('Dataset hoortoestellen'!D9529))),0,1))","v":1}]
["Hoorus Boxmeer",3,"Coselgi","Effect EF4-XP","COS-0314",{"$f":"IF(ISBLANK('Assortiment Hoortoestellen'!$B$26),1,IF(ISERROR(SEARCH(PROPER('Assortiment Hoortoestellen'!$B$26),PROPER('Dataset hoortoestellen'!D9551))),0,1))","v":1}]
["Hoorus Boxmeer",4,"Coselgi","Effect EF5-FS (P-tel)","COS-0322",{"$f":"IF(ISBLANK('Assortiment Hoortoestellen'!$B$26),1,IF(ISERROR(SEARCH(PROPER('Assortiment Hoortoestellen'!$B$26),PROPER('Dataset hoortoestellen'!D9557))),0,1))","v":1}]
["Hoorus Boxmeer",5,"Coselgi","Effect EF6-F2 (HP-tel)","COS-0337",{"$f":"IF(ISBLANK('Assortiment Hoortoestellen'!$B$26),1,IF(ISERROR(SEARCH(PROPER('Assortiment Hoortoestellen'!$B$26),PROPER('Dataset hoortoestellen'!D9570))),0,1))","v":1}]
["Hoorus Boxmeer",5,"Coselgi","Effect EF6-CIC Rechts","COS-0350",{"$f":"IF(ISBLANK('Assortiment Hoortoestellen'!$B$26),1,IF(ISERROR(SEARCH(PROPER('Assortiment Hoortoestellen'!$B$26),PROPER('Dataset hoortoestellen'!D9581))),0,1))","v":1}]
["Hoorus Boxmeer",3,"Interton","RD4ITC-DW","INT-0043",{"$f":"IF(ISBLANK('Assortiment Hoortoestellen'!$B$26),1,IF(ISERROR(SEARCH(PROPER('Assortiment Hoortoestellen'!$B$26),PROPER('Dataset hoortoestellen'!D9603))),0,1))","v":1}]
["Hoorus Boxmeer",3,"Oticon","Siya 2 miniRITE T 60 - 105","OTI-0351",{"$f":"IF(ISBLANK('Assortiment Hoortoestellen'!$B$26),1,IF(ISERROR(SEARCH(PROPER('Assortiment Hoortoestellen'!$B$26),PROPER('Dataset hoortoestellen'!D9618))),0,1))","v":1}]
["Hoorus Boxmeer",3,"Phonak","Audeo B 30 10","PHO-0269",{"$f":"IF(ISBLANK('Assortiment Hoortoestellen'!$B$26),1,IF(ISERROR(SEARCH(PROPER('Assortiment Hoortoestellen'!$B$26),PROPER('Dataset hoortoestellen'!D9632))),0,1))","v":1}]
["Hoorus Boxmeer",5,"Phonak","Audeo B 70 312","PHO-0280",{"$f":"IF(ISBLANK('Assortiment Hoortoestellen'!$B$26),1,IF(ISERROR(SEARCH(PROPER('Assortiment Hoortoestellen'!$B$26),PROPER('Dataset hoortoestellen'!D9642))),0,1))","v":1}]
["Hoorus Boxmeer",5,"Phonak","Bolero B 70 P","PHO-0291",{"$f":"IF(ISBLANK('Assortiment Hoortoestellen'!$B$26),1,IF(ISERROR(SEARCH(PROPER('Assortiment Hoortoestellen'!$B$26),PROPER('Dataset hoortoestellen'!D9651))),0,1))","v":1}]
["Hoorus Boxmeer",5,"Phonak","Sky B 70 P","PHO-0319",{"$f":"IF(ISBLANK('Assortiment Hoortoestellen'!$B$26),1,IF(ISERROR(SEARCH(PROPER('Assortiment Hoortoestellen'!$B$26),PROPER('Dataset hoortoestellen'!D9670))),0,1))","v":1}]
["Hoorus Boxmeer",5,"Phonak","Sky M30-PR","PHO-0334",{"$f":"IF(ISBLANK('Assortiment Hoortoestellen'!$B$26),1,IF(ISERROR(SEARCH(PROPER('Assortiment Hoortoestellen'!$B$26),PROPER('Dataset hoortoestellen'!D9684))),0,1))","v":1}]
["Hoorus Boxmeer",2,"ReSound","Enya 377-DW","RES-0215",{"$f":"IF(ISBLANK('Assortiment Hoortoestellen'!$B$26),1,IF(ISERROR(SEARCH(PROPER('Assortiment Hoortoestellen'!$B$26),PROPER('Dataset hoortoestellen'!D9694))),0,1))","v":1}]
["Hoorus Boxmeer",3,"ReSound","Ligo 488-DW","RES-0268",{"$f":"IF(ISBLANK('Assortiment Hoortoestellen'!$B$26),1,IF(ISERROR(SEARCH(PROPER('Assortiment Hoortoestellen'!$B$26),PROPER('Dataset hoortoestellen'!D9703))),0,1))","v":1}]
["Hoorus Boxmeer",5,"ReSound","LiNX 3D 767-DW","RES-0303",{"$f":"IF(ISBLANK('Assortiment Hoortoestellen'!$B$26),1,IF(ISERROR(SEARCH(PROPER('Assortiment Hoortoestellen'!$B$26),PROPER('Dataset hoortoestellen'!D9718))),0,1))","v":1}]
["Hoorus Boxmeer",2,"Starkey","Muse iQ 1000 ITC","STA-0341",{"$f":"IF(ISBLANK('Assortiment Hoortoestellen'!$B$26),1,IF(ISERROR(SEARCH(PROPER('Assortiment Hoortoestellen'!$B$26),PROPER('Dataset hoortoestellen'!D9732))),0,1))","v":1}]
["Hoorus Boxmeer",4,"Starkey","Muse iQ i1200 CIC","STA-0362",{"$f":"IF(ISBLANK('Assortiment Hoortoestellen'!$B$26),1,IF(ISERROR(SEARCH(PROPER('Assortiment Hoortoestellen'!$B$26),PROPER('Dataset hoortoestellen'!D9742))),0,1))","v":1}]
["Hoorus Boxmeer",5,"Unitron","T Max SP 800","UNI-0275",{"$f":"IF(ISBLANK('Assortiment Hoortoestellen'!$B$26),1,IF(ISERROR(SEARCH(PROPER('Assortiment Hoortoestellen'!$B$26),PROPER('Dataset hoortoestellen'!D9765))),0,1))","v":1}]
["Hoorus Boxmeer",5,"Unitron","T Insera 800 W 13 Dir","UNI-0340",{"$f":"IF(ISBLANK('Assortiment Hoortoestellen'!$B$26),1,IF(ISERROR(SEARCH(PROPER('Assortiment Hoortoestellen'!$B$26),PROPER('Dataset hoortoestellen'!D9779))),0,1))","v":1}]
["Hoorus Boxmeer",2,"Unitron ","Shine Rev+ UP","UNI-0433",{"$f":"IF(ISBLANK('Assortiment Hoortoestellen'!$B$26),1,IF(ISERROR(SEARCH(PROPER('Assortiment Hoortoestellen'!$B$26),PROPER('Dataset hoortoestellen'!D9784))),0,1))","v":1}]
["Hoorus Boxmeer",3,"Widex","U110-CIC","WID-0404",{"$f":"IF(ISBLANK('Assortiment Hoortoestellen'!$B$26),1,IF(ISERROR(SEARCH(PROPER('Assortiment Hoortoestellen'!$B$26),PROPER('Dataset hoortoestellen'!D9807))),0,1))","v":1}]
["Hoorus Boxmeer",3,"Widex","U110-FS (S-tel)","WID-0414",{"$f":"IF(ISBLANK('Assortiment Hoortoestellen'!$B$26),1,IF(ISERROR(SEARCH(PROPER('Assortiment Hoortoestellen'!$B$26),PROPER('Dataset hoortoestellen'!D9817))),0,1))","v":1}]
["Hoorus Boxmeer",3,"Widex","U220-PA (M-tel)","WID-0428",{"$f":"IF(ISBLANK('Assortiment Hoortoestellen'!$B$26),1,IF(ISERROR(SEARCH(PROPER('Assortiment Hoortoestellen'!$B$26),PROPER('Dataset hoortoestellen'!D9831))),0,1))","v":1}]
["Hoorus Boxmeer",4,"Widex","U330-XP","WID-0443",{"$f":"IF(ISBLANK('Assortiment Hoortoestellen'!$B$26),1,IF(ISERROR(SEARCH(PROPER('Assortiment Hoortoestellen'!$B$26),PROPER('Dataset hoortoestellen'!D9846))),0,1))","v":1}]
["Hoorus Boxmeer",5,"Widex","U440-FS (S-tel)","WID-0453",{"$f":"IF(ISBLANK('Assortiment Hoortoestellen'!$B$26),1,IF(ISERROR(SEARCH(PROPER('Assortiment Hoortoestellen'!$B$26),PROPER('Dataset hoortoestellen'!D9855))),0,1))","v":1}]
["Hoorus Boxmeer",2,"Widex","Enjoy E-BTE 13D 50","WID-0549",{"$f":"IF(ISBLANK('Assortiment Hoortoestellen'!$B$26),1,IF(ISERROR(SEARCH(PROPER('Assortiment Hoortoestellen'!$B$26),PROPER('Dataset hoortoestellen'!D9865))),0,1))","v":1}]
["Hoorus Boxmeer",3,"Widex","Enjoy E-F2 110 (S-tel)","WID-0581",{"$f":"IF(ISBLANK('Assortiment Hoortoestellen'!$B$26),1,IF(ISERROR(SEARCH(PROPER('Assortiment Hoortoestellen'!$B$26),PROPER('Dataset hoortoestellen'!D9879))),0,1))","v":1}]
["Hoorus Boxmeer",5,"Widex","Enjoy E-FM 330","WID-0607",{"$f":"IF(ISBLANK('Assortiment Hoortoestellen'!$B$26),1,IF(ISERROR(SEARCH(PROPER('Assortiment Hoortoestellen'!$B$26),PROPER('Dataset hoortoestellen'!D9898))),0,1))","v":1}]
["Hoorus Boxmeer",3,"Widex","Enjoy E-FS 110 (S-tel)","WID-0623",{"$f":"IF(ISBLANK('Assortiment Hoortoestellen'!$B$26),1,IF(ISERROR(SEARCH(PROPER('Assortiment Hoortoestellen'!$B$26),PROPER('Dataset hoortoestellen'!D9907))),0,1))","v":1}]
["Hoorus Boxmeer",2,"Widex","Enjoy E-FS 50 (M-tel)","WID-0637",{"$f":"IF(ISBLANK('Assortiment Hoortoestellen'!$B$26),1,IF(ISERROR(SEARCH(PROPER('Assortiment Hoortoestellen'!$B$26),PROPER('Dataset hoortoestellen'!D9917))),0,1))","v":1}]
["Hoorus Boxmeer",5,"Widex","Enjoy E-CIC 330 Rechts","WID-0658",{"$f":"IF(ISBLANK('Assortiment Hoortoestellen'!$B$26),1,IF(ISERROR(SEARCH(PROPER('Assortiment Hoortoestellen'!$B$26),PROPER('Dataset hoortoestellen'!D9931))),0,1))","v":1}]
["Hoorus Malden",5,"Audio Service","IHO 12 G5","AUS-0182",{"$f":"IF(ISBLANK('Assortiment Hoortoestellen'!$B$26),1,IF(ISERROR(SEARCH(PROPER('Assortiment Hoortoestellen'!$B$26),PROPER('Dataset hoortoestellen'!D9946))),0,1))","v":1}]
["Hoorus Malden",3,"Audio Service","P 6 G5","AUS-0210",{"$f":"IF(ISBLANK('Assortiment Hoortoestellen'!$B$26),1,IF(ISERROR(SEARCH(PROPER('Assortiment Hoortoestellen'!$B$26),PROPER('Dataset hoortoestellen'!D9968))),0,1))","v":1}]
["Hoorus Malden",1,"Audio Service ","Volta quiX C Links","AUS-0221",{"$f":"IF(ISBLANK('Assortiment Hoortoestellen'!$B$26),1,IF(ISERROR(SEARCH(PROPER('Assortiment Hoortoestellen'!$B$26),PROPER('Dataset hoortoestellen'!D9979))),0,1))","v":1}]
["Hoorus Malden",3,"Bernafon","Zerena 3 IIC","BER-0625",{"$f":"IF(ISBLANK('Assortiment Hoortoestellen'!$B$26),1,IF(ISERROR(SEARCH(PROPER('Assortiment Hoortoestellen'!$B$26),PROPER('Dataset hoortoestellen'!D9992))),0,1))","v":1}]
["Hoorus Malden",5,"Bernafon","Zerena 7 CIC","BER-0640",{"$f":"IF(ISBLANK('Assortiment Hoortoestellen'!$B$26),1,IF(ISERROR(SEARCH(PROPER('Assortiment Hoortoestellen'!$B$26),PROPER('Dataset hoortoestellen'!D9999))),0,1))","v":1}]
["Hoorus Malden",3,"Coselgi","U10-PA (S-tel)","COS-0147",{"$f":"IF(ISBLANK('Assortiment Hoortoestellen'!$B$26),1,IF(ISERROR(SEARCH(PROPER('Assortiment Hoortoestellen'!$B$26),PROPER('Dataset hoortoestellen'!D10012))),0,1))","v":1}]
["Hoorus Malden",5,"Coselgi","U15-XP","COS-0172",{"$f":"IF(ISBLANK('Assortiment Hoortoestellen'!$B$26),1,IF(ISERROR(SEARCH(PROPER('Assortiment Hoortoestellen'!$B$26),PROPER('Dataset hoortoestellen'!D10036))),0,1))","v":1}]
["Hoorus Malden",2,"Coselgi","U6-FS (S-tel)","COS-0249",{"$f":"IF(ISBLANK('Assortiment Hoortoestellen'!$B$26),1,IF(ISERROR(SEARCH(PROPER('Assortiment Hoortoestellen'!$B$26),PROPER('Dataset hoortoestellen'!D10045))),0,1))","v":1}]
["Hoorus Malden",3,"Coselgi","U6-CIC TR (rechts)","COS-0272",{"$f":"IF(ISBLANK('Assortiment Hoortoestellen'!$B$26),1,IF(ISERROR(SEARCH(PROPER('Assortiment Hoortoestellen'!$B$26),PROPER('Dataset hoortoestellen'!D10060))),0,1))","v":1}]
["Hoorus Malden",3,"Coselgi","Effect EF4-F2 (P-tel)","COS-0296",{"$f":"IF(ISBLANK('Assortiment Hoortoestellen'!$B$26),1,IF(ISERROR(SEARCH(PROPER('Assortiment Hoortoestellen'!$B$26),PROPER('Dataset hoortoestellen'!D10078))),0,1))","v":1}]
["Hoorus Malden",3,"Coselgi","Effect EF4-CIC Rechts","COS-0308",{"$f":"IF(ISBLANK('Assortiment Hoortoestellen'!$B$26),1,IF(ISERROR(SEARCH(PROPER('Assortiment Hoortoestellen'!$B$26),PROPER('Dataset hoortoestellen'!D10088))),0,1))","v":1}]
["Hoorus Malden",4,"Coselgi","Effect EF5-F2 (P-tel)","COS-0318",{"$f":"IF(ISBLANK('Assortiment Hoortoestellen'!$B$26),1,IF(ISERROR(SEARCH(PROPER('Assortiment Hoortoestellen'!$B$26),PROPER('Dataset hoortoestellen'!D10097))),0,1))","v":1}]
["Hoorus Malden",4,"Coselgi","Effect EF5-XP","COS-0335",{"$f":"IF(ISBLANK('Assortiment Hoortoestellen'!$B$26),1,IF(ISERROR(SEARCH(PROPER('Assortiment Hoortoestellen'!$B$26),PROPER('Dataset hoortoestellen'!D10112))),0,1))","v":1}]
["Hoorus Malden",5,"Coselgi","Effect EF6-CIC TR Rechts","COS-0352",{"$f":"IF(ISBLANK('Assortiment Hoortoestellen'!$B$26),1,IF(ISERROR(SEARCH(PROPER('Assortiment Hoortoestellen'!$B$26),PROPER('Dataset hoortoestellen'!D10126))),0,1))","v":1}]
["Hoorus Malden",2,"Interton","RD362-DRW","INT-0033",{"$f":"IF(ISBLANK('Assortiment Hoortoestellen'!$B$26),1,IF(ISERROR(SEARCH(PROPER('Assortiment Hoortoestellen'!$B$26),PROPER('Dataset hoortoestellen'!D10136))),0,1))","v":1}]
["Hoorus Malden",4,"Oticon","Siya 1 miniRITE T 60 - 105","OTI-0344",{"$f":"IF(ISBLANK('Assortiment Hoortoestellen'!$B$26),1,IF(ISERROR(SEARCH(PROPER('Assortiment Hoortoestellen'!$B$26),PROPER('Dataset hoortoestellen'!D10159))),0,1))","v":1}]
["Hoorus Malden",3,"Oticon","Siya 2 ITE 75 - 100","OTI-0349",{"$f":"IF(ISBLANK('Assortiment Hoortoestellen'!$B$26),1,IF(ISERROR(SEARCH(PROPER('Assortiment Hoortoestellen'!$B$26),PROPER('Dataset hoortoestellen'!D10160))),0,1))","v":1}]
["Hoorus Malden",3,"Phonak","Audeo B 30 312 T","PHO-0272",{"$f":"IF(ISBLANK('Assortiment Hoortoestellen'!$B$26),1,IF(ISERROR(SEARCH(PROPER('Assortiment Hoortoestellen'!$B$26),PROPER('Dataset hoortoestellen'!D10178))),0,1))","v":1}]
["Hoorus Malden",3,"Phonak","Bolero B 30 P","PHO-0284",{"$f":"IF(ISBLANK('Assortiment Hoortoestellen'!$B$26),1,IF(ISERROR(SEARCH(PROPER('Assortiment Hoortoestellen'!$B$26),PROPER('Dataset hoortoestellen'!D10188))),0,1))","v":1}]
["Hoorus Malden",4,"Phonak","Sky B 50 UP","PHO-0317",{"$f":"IF(ISBLANK('Assortiment Hoortoestellen'!$B$26),1,IF(ISERROR(SEARCH(PROPER('Assortiment Hoortoestellen'!$B$26),PROPER('Dataset hoortoestellen'!D10211))),0,1))","v":1}]
["Hoorus Malden",5,"Phonak","Virto B 70 312","PHO-0332",{"$f":"IF(ISBLANK('Assortiment Hoortoestellen'!$B$26),1,IF(ISERROR(SEARCH(PROPER('Assortiment Hoortoestellen'!$B$26),PROPER('Dataset hoortoestellen'!D10225))),0,1))","v":1}]
["Hoorus Malden",3,"ReSound","Ligo 4 CIC","RES-0262",{"$f":"IF(ISBLANK('Assortiment Hoortoestellen'!$B$26),1,IF(ISERROR(SEARCH(PROPER('Assortiment Hoortoestellen'!$B$26),PROPER('Dataset hoortoestellen'!D10240))),0,1))","v":1}]
["Hoorus Malden",5,"ReSound","Ligo 798-DW","RES-0285",{"$f":"IF(ISBLANK('Assortiment Hoortoestellen'!$B$26),1,IF(ISERROR(SEARCH(PROPER('Assortiment Hoortoestellen'!$B$26),PROPER('Dataset hoortoestellen'!D10249))),0,1))","v":1}]
["Hoorus Malden",5,"ReSound","LiNX 3D 761-DRW","RES-0301",{"$f":"IF(ISBLANK('Assortiment Hoortoestellen'!$B$26),1,IF(ISERROR(SEARCH(PROPER('Assortiment Hoortoestellen'!$B$26),PROPER('Dataset hoortoestellen'!D10259))),0,1))","v":1}]
["Hoorus Malden",2,"Starkey","Muse iQ i1000 RIC Li-Ion","STA-0334",{"$f":"IF(ISBLANK('Assortiment Hoortoestellen'!$B$26),1,IF(ISERROR(SEARCH(PROPER('Assortiment Hoortoestellen'!$B$26),PROPER('Dataset hoortoestellen'!D10273))),0,1))","v":1}]
["Hoorus Malden",3,"Starkey","Livio 1000 mRIC 312","STA-0381",{"$f":"IF(ISBLANK('Assortiment Hoortoestellen'!$B$26),1,IF(ISERROR(SEARCH(PROPER('Assortiment Hoortoestellen'!$B$26),PROPER('Dataset hoortoestellen'!D10292))),0,1))","v":1}]
["Hoorus Malden",5,"Starkey","Livio 1600 RIC 312","STA-0390",{"$f":"IF(ISBLANK('Assortiment Hoortoestellen'!$B$26),1,IF(ISERROR(SEARCH(PROPER('Assortiment Hoortoestellen'!$B$26),PROPER('Dataset hoortoestellen'!D10301))),0,1))","v":1}]
["Hoorus Malden",5,"Unitron","T Max UP 800","UNI-0279",{"$f":"IF(ISBLANK('Assortiment Hoortoestellen'!$B$26),1,IF(ISERROR(SEARCH(PROPER('Assortiment Hoortoestellen'!$B$26),PROPER('Dataset hoortoestellen'!D10311))),0,1))","v":1}]
["Hoorus Malden",2,"Unitron","Shine Rev+ P","UNI-0431",{"$f":"IF(ISBLANK('Assortiment Hoortoestellen'!$B$26),1,IF(ISERROR(SEARCH(PROPER('Assortiment Hoortoestellen'!$B$26),PROPER('Dataset hoortoestellen'!D10325))),0,1))","v":1}]
["Hoorus Malden",5,"Unitron","DX Stride M 7","UNI-0454",{"$f":"IF(ISBLANK('Assortiment Hoortoestellen'!$B$26),1,IF(ISERROR(SEARCH(PROPER('Assortiment Hoortoestellen'!$B$26),PROPER('Dataset hoortoestellen'!D10344))),0,1))","v":1}]
["Hoorus Malden",2,"Unitron","Shine Rev+ W 312 Dir","UNI-0475",{"$f":"IF(ISBLANK('Assortiment Hoortoestellen'!$B$26),1,IF(ISERROR(SEARCH(PROPER('Assortiment Hoortoestellen'!$B$26),PROPER('Dataset hoortoestellen'!D10349))),0,1))","v":1}]
["Hoorus Malden",3,"Widex","U220-FS (S-tel)","WID-0427",{"$f":"IF(ISBLANK('Assortiment Hoortoestellen'!$B$26),1,IF(ISERROR(SEARCH(PROPER('Assortiment Hoortoestellen'!$B$26),PROPER('Dataset hoortoestellen'!D10373))),0,1))","v":1}]
["Hoorus Malden",4,"Widex","U330-FS (S-tel)","WID-0440",{"$f":"IF(ISBLANK('Assortiment Hoortoestellen'!$B$26),1,IF(ISERROR(SEARCH(PROPER('Assortiment Hoortoestellen'!$B$26),PROPER('Dataset hoortoestellen'!D10386))),0,1))","v":1}]
["Hoorus Malden",5,"Widex","U440-CIC-M TR","WID-0447",{"$f":"IF(ISBLANK('Assortiment Hoortoestellen'!$B$26),1,IF(ISERROR(SEARCH(PROPER('Assortiment Hoortoestellen'!$B$26),PROPER('Dataset hoortoestellen'!D10392))),0,1))","v":1}]
["Hoorus Malden",5,"Widex","Enjoy E-CIC M 330","WID-0559",{"$f":"IF(ISBLANK('Assortiment Hoortoestellen'!$B$26),1,IF(ISERROR(SEARCH(PROPER('Assortiment Hoortoestellen'!$B$26),PROPER('Dataset hoortoestellen'!D10414))),0,1))","v":1}]
["Hoorus Malden",4,"Widex","Enjoy E-F2 220 (P-tel)","WID-0584",{"$f":"IF(ISBLANK('Assortiment Hoortoestellen'!$B$26),1,IF(ISERROR(SEARCH(PROPER('Assortiment Hoortoestellen'!$B$26),PROPER('Dataset hoortoestellen'!D10425))),0,1))","v":1}]
["Hoorus Malden",2,"Widex","Enjoy E-FA 50","WID-0603",{"$f":"IF(ISBLANK('Assortiment Hoortoestellen'!$B$26),1,IF(ISERROR(SEARCH(PROPER('Assortiment Hoortoestellen'!$B$26),PROPER('Dataset hoortoestellen'!D10438))),0,1))","v":1}]
["Hoorus Malden",4,"Widex","Enjoy E-FP 220","WID-0612",{"$f":"IF(ISBLANK('Assortiment Hoortoestellen'!$B$26),1,IF(ISERROR(SEARCH(PROPER('Assortiment Hoortoestellen'!$B$26),PROPER('Dataset hoortoestellen'!D10444))),0,1))","v":1}]
["Hoorus Malden",2,"Widex","Enjoy E-FS 50 (S-tel)","WID-0639",{"$f":"IF(ISBLANK('Assortiment Hoortoestellen'!$B$26),1,IF(ISERROR(SEARCH(PROPER('Assortiment Hoortoestellen'!$B$26),PROPER('Dataset hoortoestellen'!D10462))),0,1))","v":1}]
["Hoorus Malden",4,"Widex","Enjoy E-CIC 220 Rechts","WID-0657",{"$f":"IF(ISBLANK('Assortiment Hoortoestellen'!$B$26),1,IF(ISERROR(SEARCH(PROPER('Assortiment Hoortoestellen'!$B$26),PROPER('Dataset hoortoestellen'!D10473))),0,1))","v":1}]
["Hoorzaak van Neerven ",5,"Audio Service","Duo 12 G5","AUS-0177",{"$f":"IF(ISBLANK('Assortiment Hoortoestellen'!$B$26),1,IF(ISERROR(SEARCH(PROPER('Assortiment Hoortoestellen'!$B$26),PROPER('Dataset hoortoestellen'!D10486))),0,1))","v":1}]
["Hoorzaak van Neerven ",3,"Audio Service","quiX 6  G5 Rechts","AUS-0213",{"$f":"IF(ISBLANK('Assortiment Hoortoestellen'!$B$26),1,IF(ISERROR(SEARCH(PROPER('Assortiment Hoortoestellen'!$B$26),PROPER('Dataset hoortoestellen'!D10506))),0,1))","v":1}]
["Hoorzaak van Neerven ",3,"Audio Service","Sun 6 G5","AUS-0218",{"$f":"IF(ISBLANK('Assortiment Hoortoestellen'!$B$26),1,IF(ISERROR(SEARCH(PROPER('Assortiment Hoortoestellen'!$B$26),PROPER('Dataset hoortoestellen'!D10510))),0,1))","v":1}]
["Hoorzaak van Neerven ",3,"Coselgi","U10-CIC (links)","COS-0137",{"$f":"IF(ISBLANK('Assortiment Hoortoestellen'!$B$26),1,IF(ISERROR(SEARCH(PROPER('Assortiment Hoortoestellen'!$B$26),PROPER('Dataset hoortoestellen'!D10530))),0,1))","v":1}]
["Hoorzaak van Neerven ",3,"Coselgi","U10-PA (M-tel)","COS-0146",{"$f":"IF(ISBLANK('Assortiment Hoortoestellen'!$B$26),1,IF(ISERROR(SEARCH(PROPER('Assortiment Hoortoestellen'!$B$26),PROPER('Dataset hoortoestellen'!D10539))),0,1))","v":1}]
["Hoorzaak van Neerven ",5,"Coselgi","U15-CIC (links)","COS-0161",{"$f":"IF(ISBLANK('Assortiment Hoortoestellen'!$B$26),1,IF(ISERROR(SEARCH(PROPER('Assortiment Hoortoestellen'!$B$26),PROPER('Dataset hoortoestellen'!D10554))),0,1))","v":1}]
["Hoorzaak van Neerven ",2,"Coselgi","U6-FS (P-tel)","COS-0248",{"$f":"IF(ISBLANK('Assortiment Hoortoestellen'!$B$26),1,IF(ISERROR(SEARCH(PROPER('Assortiment Hoortoestellen'!$B$26),PROPER('Dataset hoortoestellen'!D10572))),0,1))","v":1}]
["Hoorzaak van Neerven ",3,"Coselgi","U6E-FS (P-tel)","COS-0260",{"$f":"IF(ISBLANK('Assortiment Hoortoestellen'!$B$26),1,IF(ISERROR(SEARCH(PROPER('Assortiment Hoortoestellen'!$B$26),PROPER('Dataset hoortoestellen'!D10582))),0,1))","v":1}]
["Hoorzaak van Neerven ",2,"Coselgi","Effect EF2-F2 (P-tel)","COS-0278",{"$f":"IF(ISBLANK('Assortiment Hoortoestellen'!$B$26),1,IF(ISERROR(SEARCH(PROPER('Assortiment Hoortoestellen'!$B$26),PROPER('Dataset hoortoestellen'!D10591))),0,1))","v":1}]
["Hoorzaak van Neerven ",3,"Coselgi","Effect EF4-F2 (P-tel)","COS-0296",{"$f":"IF(ISBLANK('Assortiment Hoortoestellen'!$B$26),1,IF(ISERROR(SEARCH(PROPER('Assortiment Hoortoestellen'!$B$26),PROPER('Dataset hoortoestellen'!D10606))),0,1))","v":1}]
["Hoorzaak van Neerven ",4,"Coselgi","Effect EF5-F2 (M-tel)","COS-0317",{"$f":"IF(ISBLANK('Assortiment Hoortoestellen'!$B$26),1,IF(ISERROR(SEARCH(PROPER('Assortiment Hoortoestellen'!$B$26),PROPER('Dataset hoortoestellen'!D10624))),0,1))","v":1}]
["Hoorzaak van Neerven ",5,"Coselgi","Effect EF6-F2 (P-tel)","COS-0339",{"$f":"IF(ISBLANK('Assortiment Hoortoestellen'!$B$26),1,IF(ISERROR(SEARCH(PROPER('Assortiment Hoortoestellen'!$B$26),PROPER('Dataset hoortoestellen'!D10643))),0,1))","v":1}]
["Hoorzaak van Neerven ",5,"Coselgi","Effect EF6-CIC TR Links","COS-0351",{"$f":"IF(ISBLANK('Assortiment Hoortoestellen'!$B$26),1,IF(ISERROR(SEARCH(PROPER('Assortiment Hoortoestellen'!$B$26),PROPER('Dataset hoortoestellen'!D10653))),0,1))","v":1}]
["Hoorzaak van Neerven ",3,"Interton","RD3CIC","INT-0036",{"$f":"IF(ISBLANK('Assortiment Hoortoestellen'!$B$26),1,IF(ISERROR(SEARCH(PROPER('Assortiment Hoortoestellen'!$B$26),PROPER('Dataset hoortoestellen'!D10667))),0,1))","v":1}]
["Hoorzaak van Neerven ",3,"Interton","RD480-DW","INT-0041",{"$f":"IF(ISBLANK('Assortiment Hoortoestellen'!$B$26),1,IF(ISERROR(SEARCH(PROPER('Assortiment Hoortoestellen'!$B$26),PROPER('Dataset hoortoestellen'!D10672))),0,1))","v":1}]
["Hoorzaak van Neerven ",3,"Phonak","Audeo B 30 13","PHO-0270",{"$f":"IF(ISBLANK('Assortiment Hoortoestellen'!$B$26),1,IF(ISERROR(SEARCH(PROPER('Assortiment Hoortoestellen'!$B$26),PROPER('Dataset hoortoestellen'!D10695))),0,1))","v":1}]
["Hoorzaak van Neerven ",3,"Phonak","Bolero B 30 M","PHO-0283",{"$f":"IF(ISBLANK('Assortiment Hoortoestellen'!$B$26),1,IF(ISERROR(SEARCH(PROPER('Assortiment Hoortoestellen'!$B$26),PROPER('Dataset hoortoestellen'!D10705))),0,1))","v":1}]
["Hoorzaak van Neerven ",5,"Phonak","Naida B 70 UP","PHO-0306",{"$f":"IF(ISBLANK('Assortiment Hoortoestellen'!$B$26),1,IF(ISERROR(SEARCH(PROPER('Assortiment Hoortoestellen'!$B$26),PROPER('Dataset hoortoestellen'!D10719))),0,1))","v":1}]
["Hoorzaak van Neerven ",4,"Phonak","Virto B 50 10","PHO-0327",{"$f":"IF(ISBLANK('Assortiment Hoortoestellen'!$B$26),1,IF(ISERROR(SEARCH(PROPER('Assortiment Hoortoestellen'!$B$26),PROPER('Dataset hoortoestellen'!D10738))),0,1))","v":1}]
["Hoorzaak van Neerven ",1,"ReSound","Vea 180 VI","RES-0009",{"$f":"IF(ISBLANK('Assortiment Hoortoestellen'!$B$26),1,IF(ISERROR(SEARCH(PROPER('Assortiment Hoortoestellen'!$B$26),PROPER('Dataset hoortoestellen'!D10743))),0,1))","v":1}]
["Hoorzaak van Neerven ",3,"ReSound","Ligo 462-DRW","RES-0265",{"$f":"IF(ISBLANK('Assortiment Hoortoestellen'!$B$26),1,IF(ISERROR(SEARCH(PROPER('Assortiment Hoortoestellen'!$B$26),PROPER('Dataset hoortoestellen'!D10753))),0,1))","v":1}]
["Hoorzaak van Neerven ",5,"ReSound","Ligo 7 ITC-DW","RES-0279",{"$f":"IF(ISBLANK('Assortiment Hoortoestellen'!$B$26),1,IF(ISERROR(SEARCH(PROPER('Assortiment Hoortoestellen'!$B$26),PROPER('Dataset hoortoestellen'!D10767))),0,1))","v":1}]
["Hoorzaak van Neerven ",3,"Starkey","Livio 1000 mRIC 312","STA-0381",{"$f":"IF(ISBLANK('Assortiment Hoortoestellen'!$B$26),1,IF(ISERROR(SEARCH(PROPER('Assortiment Hoortoestellen'!$B$26),PROPER('Dataset hoortoestellen'!D10786))),0,1))","v":1}]
["Hoorzaak van Neerven ",4,"Unitron","T Max UP 600","UNI-0277",{"$f":"IF(ISBLANK('Assortiment Hoortoestellen'!$B$26),1,IF(ISERROR(SEARCH(PROPER('Assortiment Hoortoestellen'!$B$26),PROPER('Dataset hoortoestellen'!D10804))),0,1))","v":1}]
["Hoorzaak van Neerven ",4,"Unitron","T Stride Dura 600 P","UNI-0313",{"$f":"IF(ISBLANK('Assortiment Hoortoestellen'!$B$26),1,IF(ISERROR(SEARCH(PROPER('Assortiment Hoortoestellen'!$B$26),PROPER('Dataset hoortoestellen'!D10819))),0,1))","v":1}]
["Hoorzaak van Neerven ",4,"Unitron","T Insera 600 W 312 Dir","UNI-0331",{"$f":"IF(ISBLANK('Assortiment Hoortoestellen'!$B$26),1,IF(ISERROR(SEARCH(PROPER('Assortiment Hoortoestellen'!$B$26),PROPER('Dataset hoortoestellen'!D10832))),0,1))","v":1}]
["Hoorzaak van Neerven ",3,"Widex","U110-CIC TR","WID-0405",{"$f":"IF(ISBLANK('Assortiment Hoortoestellen'!$B$26),1,IF(ISERROR(SEARCH(PROPER('Assortiment Hoortoestellen'!$B$26),PROPER('Dataset hoortoestellen'!D10838))),0,1))","v":1}]
["Hoorzaak van Neerven ",3,"Widex","U220-FM","WID-0423",{"$f":"IF(ISBLANK('Assortiment Hoortoestellen'!$B$26),1,IF(ISERROR(SEARCH(PROPER('Assortiment Hoortoestellen'!$B$26),PROPER('Dataset hoortoestellen'!D10856))),0,1))","v":1}]
["Hoorzaak van Neerven ",4,"Widex","U330-CIC-M TR","WID-0434",{"$f":"IF(ISBLANK('Assortiment Hoortoestellen'!$B$26),1,IF(ISERROR(SEARCH(PROPER('Assortiment Hoortoestellen'!$B$26),PROPER('Dataset hoortoestellen'!D10867))),0,1))","v":1}]
["Hoorzaak van Neerven ",5,"Widex","U440-CIC-M TR","WID-0447",{"$f":"IF(ISBLANK('Assortiment Hoortoestellen'!$B$26),1,IF(ISERROR(SEARCH(PROPER('Assortiment Hoortoestellen'!$B$26),PROPER('Dataset hoortoestellen'!D10880))),0,1))","v":1}]
["Hoorzaak van Neerven ",3,"Widex","Enjoy E-CIC M 110","WID-0557",{"$f":"IF(ISBLANK('Assortiment Hoortoestellen'!$B$26),1,IF(ISERROR(SEARCH(PROPER('Assortiment Hoortoestellen'!$B$26),PROPER('Dataset hoortoestellen'!D10900))),0,1))","v":1}]
["Hoorzaak van Neerven ",3,"Widex","Enjoy E-CIC TR 110 Links","WID-0569",{"$f":"IF(ISBLANK('Assortiment Hoortoestellen'!$B$26),1,IF(ISERROR(SEARCH(PROPER('Assortiment Hoortoestellen'!$B$26),PROPER('Dataset hoortoestellen'!D10904))),0,1))","v":1}]
["Hoorzaak van Neerven ",2,"Widex","Enjoy E-F2 50 (HP-tel)","WID-0594",{"$f":"IF(ISBLANK('Assortiment Hoortoestellen'!$B$26),1,IF(ISERROR(SEARCH(PROPER('Assortiment Hoortoestellen'!$B$26),PROPER('Dataset hoortoestellen'!D10919))),0,1))","v":1}]
["Hoorzaak van Neerven ",4,"Widex","Enjoy E-FP 220","WID-0612",{"$f":"IF(ISBLANK('Assortiment Hoortoestellen'!$B$26),1,IF(ISERROR(SEARCH(PROPER('Assortiment Hoortoestellen'!$B$26),PROPER('Dataset hoortoestellen'!D10932))),0,1))","v":1}]
["Hoorzaak van Neerven ",3,"Widex","Enjoy E-PA 110 (S-tel)","WID-0643",{"$f":"IF(ISBLANK('Assortiment Hoortoestellen'!$B$26),1,IF(ISERROR(SEARCH(PROPER('Assortiment Hoortoestellen'!$B$26),PROPER('Dataset hoortoestellen'!D10952))),0,1))","v":1}]
["Hoorzaak van Neerven ",5,"Widex","Enjoy E-PA 330 (S-tel)","WID-0647",{"$f":"IF(ISBLANK('Assortiment Hoortoestellen'!$B$26),1,IF(ISERROR(SEARCH(PROPER('Assortiment Hoortoestellen'!$B$26),PROPER('Dataset hoortoestellen'!D10956))),0,1))","v":1}]
["Horen Epe",3,"Oticon","Zerena 3 CIC","BER-0624",{"$f":"IF(ISBLANK('Assortiment Hoortoestellen'!$B$26),1,IF(ISERROR(SEARCH(PROPER('Assortiment Hoortoestellen'!$B$26),PROPER('Dataset hoortoestellen'!D10971))),0,1))","v":1}]
["Horen Epe",5,"Coselgi","Effect EF6-CIC Links","COS-0347",{"$f":"IF(ISBLANK('Assortiment Hoortoestellen'!$B$26),1,IF(ISERROR(SEARCH(PROPER('Assortiment Hoortoestellen'!$B$26),PROPER('Dataset hoortoestellen'!D10993))),0,1))","v":1}]
["Horen Epe",1,"Oticon","Get","OTI-0068",{"$f":"IF(ISBLANK('Assortiment Hoortoestellen'!$B$26),1,IF(ISERROR(SEARCH(PROPER('Assortiment Hoortoestellen'!$B$26),PROPER('Dataset hoortoestellen'!D11000))),0,1))","v":1}]
["Horen Epe",4,"Starkey","Muse iQ 1200 CIC","STA-0343",{"$f":"IF(ISBLANK('Assortiment Hoortoestellen'!$B$26),1,IF(ISERROR(SEARCH(PROPER('Assortiment Hoortoestellen'!$B$26),PROPER('Dataset hoortoestellen'!D11018))),0,1))","v":1}]
["Horen Epe",4,"Starkey","Muse iQ i1200 CIC","STA-0362",{"$f":"IF(ISBLANK('Assortiment Hoortoestellen'!$B$26),1,IF(ISERROR(SEARCH(PROPER('Assortiment Hoortoestellen'!$B$26),PROPER('Dataset hoortoestellen'!D11024))),0,1))","v":1}]
["Horend Goed",2,"Audio Service","Mood 4 G5","AUS-0207",{"$f":"IF(ISBLANK('Assortiment Hoortoestellen'!$B$26),1,IF(ISERROR(SEARCH(PROPER('Assortiment Hoortoestellen'!$B$26),PROPER('Dataset hoortoestellen'!D11047))),0,1))","v":1}]
["Horend Goed",5,"Audio Service","HP 12 G4","AUS-0131",{"$f":"IF(ISBLANK('Assortiment Hoortoestellen'!$B$26),1,IF(ISERROR(SEARCH(PROPER('Assortiment Hoortoestellen'!$B$26),PROPER('Dataset hoortoestellen'!D11061))),0,1))","v":1}]
["Horend Goed",4,"Audio Service","Mood 6 G6","AUS-0241",{"$f":"IF(ISBLANK('Assortiment Hoortoestellen'!$B$26),1,IF(ISERROR(SEARCH(PROPER('Assortiment Hoortoestellen'!$B$26),PROPER('Dataset hoortoestellen'!D11066))),0,1))","v":1}]
["Horend Goed",3,"Bernafon","Zerena 3 CIC","BER-0624",{"$f":"IF(ISBLANK('Assortiment Hoortoestellen'!$B$26),1,IF(ISERROR(SEARCH(PROPER('Assortiment Hoortoestellen'!$B$26),PROPER('Dataset hoortoestellen'!D11085))),0,1))","v":1}]
["Horend Goed",2,"Coselgi","Effect EF2-CIC Links","COS-0284",{"$f":"IF(ISBLANK('Assortiment Hoortoestellen'!$B$26),1,IF(ISERROR(SEARCH(PROPER('Assortiment Hoortoestellen'!$B$26),PROPER('Dataset hoortoestellen'!D11099))),0,1))","v":1}]
["Horend Goed",4,"Coselgi","Effect EF5-CIC Links","COS-0326",{"$f":"IF(ISBLANK('Assortiment Hoortoestellen'!$B$26),1,IF(ISERROR(SEARCH(PROPER('Assortiment Hoortoestellen'!$B$26),PROPER('Dataset hoortoestellen'!D11113))),0,1))","v":1}]
["Horend Goed",5,"Coselgi","Effect EF6-CIC TR Rechts","COS-0352",{"$f":"IF(ISBLANK('Assortiment Hoortoestellen'!$B$26),1,IF(ISERROR(SEARCH(PROPER('Assortiment Hoortoestellen'!$B$26),PROPER('Dataset hoortoestellen'!D11118))),0,1))","v":1}]
["Horend Goed",2,"Coselgi","Effect EF2-FA","COS-0290",{"$f":"IF(ISBLANK('Assortiment Hoortoestellen'!$B$26),1,IF(ISERROR(SEARCH(PROPER('Assortiment Hoortoestellen'!$B$26),PROPER('Dataset hoortoestellen'!D11137))),0,1))","v":1}]
["Horend Goed",3,"Coselgi","Effect EF4-FS (HP-tel)","COS-0299",{"$f":"IF(ISBLANK('Assortiment Hoortoestellen'!$B$26),1,IF(ISERROR(SEARCH(PROPER('Assortiment Hoortoestellen'!$B$26),PROPER('Dataset hoortoestellen'!D11147))),0,1))","v":1}]
["Horend Goed",3,"Coselgi","Effect EF4-RIC 10 (S-tel)","COS-0304",{"$f":"IF(ISBLANK('Assortiment Hoortoestellen'!$B$26),1,IF(ISERROR(SEARCH(PROPER('Assortiment Hoortoestellen'!$B$26),PROPER('Dataset hoortoestellen'!D11161))),0,1))","v":1}]
["Horend Goed",5,"Coselgi","MOJO MRR2D M5 (m-tel)","COS-0361",{"$f":"IF(ISBLANK('Assortiment Hoortoestellen'!$B$26),1,IF(ISERROR(SEARCH(PROPER('Assortiment Hoortoestellen'!$B$26),PROPER('Dataset hoortoestellen'!D11180))),0,1))","v":1}]
["Horend Goed",4,"Interton","MOVE 4CIC-W","INT-0073",{"$f":"IF(ISBLANK('Assortiment Hoortoestellen'!$B$26),1,IF(ISERROR(SEARCH(PROPER('Assortiment Hoortoestellen'!$B$26),PROPER('Dataset hoortoestellen'!D11185))),0,1))","v":1}]
["Horend Goed",5,"Interton","MOVE 665-DW","INT-0078",{"$f":"IF(ISBLANK('Assortiment Hoortoestellen'!$B$26),1,IF(ISERROR(SEARCH(PROPER('Assortiment Hoortoestellen'!$B$26),PROPER('Dataset hoortoestellen'!D11199))),0,1))","v":1}]
["Horend Goed",4,"Interton","MOVE 461-DRWC","INT-0067",{"$f":"IF(ISBLANK('Assortiment Hoortoestellen'!$B$26),1,IF(ISERROR(SEARCH(PROPER('Assortiment Hoortoestellen'!$B$26),PROPER('Dataset hoortoestellen'!D11213))),0,1))","v":1}]
["Horend Goed",2,"Oticon","Geno 2 BTE 85","OTI-384",{"$f":"IF(ISBLANK('Assortiment Hoortoestellen'!$B$26),1,IF(ISERROR(SEARCH(PROPER('Assortiment Hoortoestellen'!$B$26),PROPER('Dataset hoortoestellen'!D11232))),0,1))","v":1}]
["Horend Goed",4,"Phonak","Bolero M30-PR","PHO-0352",{"$f":"IF(ISBLANK('Assortiment Hoortoestellen'!$B$26),1,IF(ISERROR(SEARCH(PROPER('Assortiment Hoortoestellen'!$B$26),PROPER('Dataset hoortoestellen'!D11250))),0,1))","v":1}]
["Horend Goed",3,"ReSound","KEY 3ITC-DW","RES-0324",{"$f":"IF(ISBLANK('Assortiment Hoortoestellen'!$B$26),1,IF(ISERROR(SEARCH(PROPER('Assortiment Hoortoestellen'!$B$26),PROPER('Dataset hoortoestellen'!D11265))),0,1))","v":1}]
["Horend Goed",5,"ReSound","Enzo Q 598-DWT","RES-0335",{"$f":"IF(ISBLANK('Assortiment Hoortoestellen'!$B$26),1,IF(ISERROR(SEARCH(PROPER('Assortiment Hoortoestellen'!$B$26),PROPER('Dataset hoortoestellen'!D11274))),0,1))","v":1}]
["Horend Goed",4,"ReSound","KEY 488-DWH","RES-0330",{"$f":"IF(ISBLANK('Assortiment Hoortoestellen'!$B$26),1,IF(ISERROR(SEARCH(PROPER('Assortiment Hoortoestellen'!$B$26),PROPER('Dataset hoortoestellen'!D11280))),0,1))","v":1}]
["Horend Goed",2,"Starkey","Muse iQ 1000 ITC","STA-0341",{"$f":"IF(ISBLANK('Assortiment Hoortoestellen'!$B$26),1,IF(ISERROR(SEARCH(PROPER('Assortiment Hoortoestellen'!$B$26),PROPER('Dataset hoortoestellen'!D11298))),0,1))","v":1}]
["Horend Goed",2,"Starkey","Livio 1000 BTE R","STA-0392",{"$f":"IF(ISBLANK('Assortiment Hoortoestellen'!$B$26),1,IF(ISERROR(SEARCH(PROPER('Assortiment Hoortoestellen'!$B$26),PROPER('Dataset hoortoestellen'!D11313))),0,1))","v":1}]
["Horend Goed",5,"Starkey","Livio AI 1600 RIC 312","STA-0407",{"$f":"IF(ISBLANK('Assortiment Hoortoestellen'!$B$26),1,IF(ISERROR(SEARCH(PROPER('Assortiment Hoortoestellen'!$B$26),PROPER('Dataset hoortoestellen'!D11326))),0,1))","v":1}]
["Horend Goed",3,"Unitron","DX Stride M 3","UNI-0452",{"$f":"IF(ISBLANK('Assortiment Hoortoestellen'!$B$26),1,IF(ISERROR(SEARCH(PROPER('Assortiment Hoortoestellen'!$B$26),PROPER('Dataset hoortoestellen'!D11346))),0,1))","v":1}]
["Horend Goed",5,"Unitron","Moxi B5-RT","UNI-0524",{"$f":"IF(ISBLANK('Assortiment Hoortoestellen'!$B$26),1,IF(ISERROR(SEARCH(PROPER('Assortiment Hoortoestellen'!$B$26),PROPER('Dataset hoortoestellen'!D11350))),0,1))","v":1}]
["Horend Goed",3,"Widex","Enjoy E-CIC M 110","WID-0557",{"$f":"IF(ISBLANK('Assortiment Hoortoestellen'!$B$26),1,IF(ISERROR(SEARCH(PROPER('Assortiment Hoortoestellen'!$B$26),PROPER('Dataset hoortoestellen'!D11365))),0,1))","v":1}]
["Horend Goed",3,"Widex","Enjoy E-XP 110","WID-0651",{"$f":"IF(ISBLANK('Assortiment Hoortoestellen'!$B$26),1,IF(ISERROR(SEARCH(PROPER('Assortiment Hoortoestellen'!$B$26),PROPER('Dataset hoortoestellen'!D11374))),0,1))","v":1}]
["Horend Goed",4,"Widex","U330-XP","WID-0443",{"$f":"IF(ISBLANK('Assortiment Hoortoestellen'!$B$26),1,IF(ISERROR(SEARCH(PROPER('Assortiment Hoortoestellen'!$B$26),PROPER('Dataset hoortoestellen'!D11394))),0,1))","v":1}]
["Horend Goed",3,"Widex","Enjoy E-F2 110 (S-tel)","WID-0581",{"$f":"IF(ISBLANK('Assortiment Hoortoestellen'!$B$26),1,IF(ISERROR(SEARCH(PROPER('Assortiment Hoortoestellen'!$B$26),PROPER('Dataset hoortoestellen'!D11411))),0,1))","v":1}]
["Horend Goed",5,"Widex","Enjoy E-BTE 13D 330","WID-0547",{"$f":"IF(ISBLANK('Assortiment Hoortoestellen'!$B$26),1,IF(ISERROR(SEARCH(PROPER('Assortiment Hoortoestellen'!$B$26),PROPER('Dataset hoortoestellen'!D11427))),0,1))","v":1}]
["Horend Goed",5,"Widex","Enjoy E-F2 330 (S-tel)","WID-0589",{"$f":"IF(ISBLANK('Assortiment Hoortoestellen'!$B$26),1,IF(ISERROR(SEARCH(PROPER('Assortiment Hoortoestellen'!$B$26),PROPER('Dataset hoortoestellen'!D11439))),0,1))","v":1}]
["Horend Goed",3,"Widex","U110-FP","WID-0410",{"$f":"IF(ISBLANK('Assortiment Hoortoestellen'!$B$26),1,IF(ISERROR(SEARCH(PROPER('Assortiment Hoortoestellen'!$B$26),PROPER('Dataset hoortoestellen'!D11446))),0,1))","v":1}]
["Horend Goed",5,"Widex","Enjoy E-PA 330 (M-tel)","WID-0646",{"$f":"IF(ISBLANK('Assortiment Hoortoestellen'!$B$26),1,IF(ISERROR(SEARCH(PROPER('Assortiment Hoortoestellen'!$B$26),PROPER('Dataset hoortoestellen'!D11463))),0,1))","v":1}]
["Horend Goed",5,"Widex","U440-FS (M-tel)","WID-0451",{"$f":"IF(ISBLANK('Assortiment Hoortoestellen'!$B$26),1,IF(ISERROR(SEARCH(PROPER('Assortiment Hoortoestellen'!$B$26),PROPER('Dataset hoortoestellen'!D11479))),0,1))","v":1}]
["Horend Goed",5,"Widex","U440-PA (S-tel)","WID-0455",{"$f":"IF(ISBLANK('Assortiment Hoortoestellen'!$B$26),1,IF(ISERROR(SEARCH(PROPER('Assortiment Hoortoestellen'!$B$26),PROPER('Dataset hoortoestellen'!D11487))),0,1))","v":1}]
["Huiskens Optiek & Horen",1,"Oticon","Get","OTI-0066",{"$f":"IF(ISBLANK('Assortiment Hoortoestellen'!$B$26),1,IF(ISERROR(SEARCH(PROPER('Assortiment Hoortoestellen'!$B$26),PROPER('Dataset hoortoestellen'!D11507))),0,1))","v":1}]
["IntoEars Hoorcentrum",3,"Audio Service","quix 6 G4 links","AUS-0169",{"$f":"IF(ISBLANK('Assortiment Hoortoestellen'!$B$26),1,IF(ISERROR(SEARCH(PROPER('Assortiment Hoortoestellen'!$B$26),PROPER('Dataset hoortoestellen'!D11512))),0,1))","v":1}]
["IntoEars Hoorcentrum",5,"Starkey","Muse iQ i1600 CIC","STA-0372",{"$f":"IF(ISBLANK('Assortiment Hoortoestellen'!$B$26),1,IF(ISERROR(SEARCH(PROPER('Assortiment Hoortoestellen'!$B$26),PROPER('Dataset hoortoestellen'!D11531))),0,1))","v":1}]
["Jan Bours De Audicien bij wie u thuis hoort",1,"Starkey","Muse i1000 ITC","STA-0279",{"$f":"IF(ISBLANK('Assortiment Hoortoestellen'!$B$26),1,IF(ISERROR(SEARCH(PROPER('Assortiment Hoortoestellen'!$B$26),PROPER('Dataset hoortoestellen'!D11545))),0,1))","v":1}]
["Jansen Horen en Zien",4,"Audio Service","Duo 8 G4","AUS-0130",{"$f":"IF(ISBLANK('Assortiment Hoortoestellen'!$B$26),1,IF(ISERROR(SEARCH(PROPER('Assortiment Hoortoestellen'!$B$26),PROPER('Dataset hoortoestellen'!D11555))),0,1))","v":1}]
["Jansen Horen en Zien",5,"Audio Service","Rixx 12 G5","AUS-0195",{"$f":"IF(ISBLANK('Assortiment Hoortoestellen'!$B$26),1,IF(ISERROR(SEARCH(PROPER('Assortiment Hoortoestellen'!$B$26),PROPER('Dataset hoortoestellen'!D11574))),0,1))","v":1}]
["Jansen Horen en Zien",3,"Audio Service","Duo 6 G5","AUS-0206",{"$f":"IF(ISBLANK('Assortiment Hoortoestellen'!$B$26),1,IF(ISERROR(SEARCH(PROPER('Assortiment Hoortoestellen'!$B$26),PROPER('Dataset hoortoestellen'!D11579))),0,1))","v":1}]
["Jansen Horen en Zien",1,"Bernafon","Nevara 1 ITC","BER-0455",{"$f":"IF(ISBLANK('Assortiment Hoortoestellen'!$B$26),1,IF(ISERROR(SEARCH(PROPER('Assortiment Hoortoestellen'!$B$26),PROPER('Dataset hoortoestellen'!D11593))),0,1))","v":1}]
["Jansen Horen en Zien",4,"Bernafon","Zerena 5 MNR","BER-0637",{"$f":"IF(ISBLANK('Assortiment Hoortoestellen'!$B$26),1,IF(ISERROR(SEARCH(PROPER('Assortiment Hoortoestellen'!$B$26),PROPER('Dataset hoortoestellen'!D11607))),0,1))","v":1}]
["Jansen Horen en Zien",4,"Coselgi","U10E-FA","COS-0151",{"$f":"IF(ISBLANK('Assortiment Hoortoestellen'!$B$26),1,IF(ISERROR(SEARCH(PROPER('Assortiment Hoortoestellen'!$B$26),PROPER('Dataset hoortoestellen'!D11626))),0,1))","v":1}]
["Jansen Horen en Zien",4,"Coselgi","U10E-FS (P-tel)","COS-0156",{"$f":"IF(ISBLANK('Assortiment Hoortoestellen'!$B$26),1,IF(ISERROR(SEARCH(PROPER('Assortiment Hoortoestellen'!$B$26),PROPER('Dataset hoortoestellen'!D11631))),0,1))","v":1}]
["Jansen Horen en Zien",5,"Coselgi","U15-PA (M-tel)","COS-0170",{"$f":"IF(ISBLANK('Assortiment Hoortoestellen'!$B$26),1,IF(ISERROR(SEARCH(PROPER('Assortiment Hoortoestellen'!$B$26),PROPER('Dataset hoortoestellen'!D11645))),0,1))","v":1}]
["Jansen Horen en Zien",3,"Coselgi","U6E-XP","COS-0264",{"$f":"IF(ISBLANK('Assortiment Hoortoestellen'!$B$26),1,IF(ISERROR(SEARCH(PROPER('Assortiment Hoortoestellen'!$B$26),PROPER('Dataset hoortoestellen'!D11668))),0,1))","v":1}]
["Jansen Horen en Zien",2,"Coselgi","Effect EF2-F2 (S-tel)","COS-0279",{"$f":"IF(ISBLANK('Assortiment Hoortoestellen'!$B$26),1,IF(ISERROR(SEARCH(PROPER('Assortiment Hoortoestellen'!$B$26),PROPER('Dataset hoortoestellen'!D11674))),0,1))","v":1}]
["Jansen Horen en Zien",3,"Coselgi","Effect EF4-FS (M-tel)","COS-0300",{"$f":"IF(ISBLANK('Assortiment Hoortoestellen'!$B$26),1,IF(ISERROR(SEARCH(PROPER('Assortiment Hoortoestellen'!$B$26),PROPER('Dataset hoortoestellen'!D11692))),0,1))","v":1}]
["Jansen Horen en Zien",4,"Coselgi","Effect EF5-F2 (P-tel)","COS-0318",{"$f":"IF(ISBLANK('Assortiment Hoortoestellen'!$B$26),1,IF(ISERROR(SEARCH(PROPER('Assortiment Hoortoestellen'!$B$26),PROPER('Dataset hoortoestellen'!D11707))),0,1))","v":1}]
["Jansen Horen en Zien",4,"Coselgi","Effect EF5-CIC Rechts","COS-0329",{"$f":"IF(ISBLANK('Assortiment Hoortoestellen'!$B$26),1,IF(ISERROR(SEARCH(PROPER('Assortiment Hoortoestellen'!$B$26),PROPER('Dataset hoortoestellen'!D11716))),0,1))","v":1}]
["Jansen Horen en Zien",5,"Coselgi","Effect EF6-F2 (S-tel)","COS-0340",{"$f":"IF(ISBLANK('Assortiment Hoortoestellen'!$B$26),1,IF(ISERROR(SEARCH(PROPER('Assortiment Hoortoestellen'!$B$26),PROPER('Dataset hoortoestellen'!D11726))),0,1))","v":1}]
["Jansen Horen en Zien",1,"Interton","RD280-DW","INT-0029",{"$f":"IF(ISBLANK('Assortiment Hoortoestellen'!$B$26),1,IF(ISERROR(SEARCH(PROPER('Assortiment Hoortoestellen'!$B$26),PROPER('Dataset hoortoestellen'!D11744))),0,1))","v":1}]
["Jansen Horen en Zien",5,"Interton","RD670-DW","INT-0046",{"$f":"IF(ISBLANK('Assortiment Hoortoestellen'!$B$26),1,IF(ISERROR(SEARCH(PROPER('Assortiment Hoortoestellen'!$B$26),PROPER('Dataset hoortoestellen'!D11759))),0,1))","v":1}]
["Jansen Horen en Zien",4,"Oticon","Siya 1 ITE 75 - 100","OTI-0342",{"$f":"IF(ISBLANK('Assortiment Hoortoestellen'!$B$26),1,IF(ISERROR(SEARCH(PROPER('Assortiment Hoortoestellen'!$B$26),PROPER('Dataset hoortoestellen'!D11768))),0,1))","v":1}]
["Jansen Horen en Zien",5,"Phonak","Audeo B 70 312 T","PHO-0281",{"$f":"IF(ISBLANK('Assortiment Hoortoestellen'!$B$26),1,IF(ISERROR(SEARCH(PROPER('Assortiment Hoortoestellen'!$B$26),PROPER('Dataset hoortoestellen'!D11788))),0,1))","v":1}]
["Jansen Horen en Zien",4,"Phonak","Bolero B 50 M","PHO-0286",{"$f":"IF(ISBLANK('Assortiment Hoortoestellen'!$B$26),1,IF(ISERROR(SEARCH(PROPER('Assortiment Hoortoestellen'!$B$26),PROPER('Dataset hoortoestellen'!D11792))),0,1))","v":1}]
["Jansen Horen en Zien",3,"Phonak","Sky B 30 SP","PHO-0310",{"$f":"IF(ISBLANK('Assortiment Hoortoestellen'!$B$26),1,IF(ISERROR(SEARCH(PROPER('Assortiment Hoortoestellen'!$B$26),PROPER('Dataset hoortoestellen'!D11807))),0,1))","v":1}]
["Jansen Horen en Zien",1,"ReSound","Vea 130 -/P","RES-0011",{"$f":"IF(ISBLANK('Assortiment Hoortoestellen'!$B$26),1,IF(ISERROR(SEARCH(PROPER('Assortiment Hoortoestellen'!$B$26),PROPER('Dataset hoortoestellen'!D11829))),0,1))","v":1}]
["Jansen Horen en Zien",3,"ReSound","Ligo 467-DW","RES-0266",{"$f":"IF(ISBLANK('Assortiment Hoortoestellen'!$B$26),1,IF(ISERROR(SEARCH(PROPER('Assortiment Hoortoestellen'!$B$26),PROPER('Dataset hoortoestellen'!D11840))),0,1))","v":1}]
["Jansen Horen en Zien",5,"ReSound","Ligo 777-DW","RES-0283",{"$f":"IF(ISBLANK('Assortiment Hoortoestellen'!$B$26),1,IF(ISERROR(SEARCH(PROPER('Assortiment Hoortoestellen'!$B$26),PROPER('Dataset hoortoestellen'!D11857))),0,1))","v":1}]
["Jansen Horen en Zien",5,"ReSound","Ligo 798-DW","RES-0285",{"$f":"IF(ISBLANK('Assortiment Hoortoestellen'!$B$26),1,IF(ISERROR(SEARCH(PROPER('Assortiment Hoortoestellen'!$B$26),PROPER('Dataset hoortoestellen'!D11859))),0,1))","v":1}]
["Jansen Horen en Zien",4,"Starkey","Muse iQ i1200 CIC","STA-0362",{"$f":"IF(ISBLANK('Assortiment Hoortoestellen'!$B$26),1,IF(ISERROR(SEARCH(PROPER('Assortiment Hoortoestellen'!$B$26),PROPER('Dataset hoortoestellen'!D11881))),0,1))","v":1}]
["Jansen Horen en Zien",3,"Starkey","Livio 1000 mRIC 312","STA-0381",{"$f":"IF(ISBLANK('Assortiment Hoortoestellen'!$B$26),1,IF(ISERROR(SEARCH(PROPER('Assortiment Hoortoestellen'!$B$26),PROPER('Dataset hoortoestellen'!D11888))),0,1))","v":1}]
["Jansen Horen en Zien",3,"Unitron","T Max UP 500","UNI-0276",{"$f":"IF(ISBLANK('Assortiment Hoortoestellen'!$B$26),1,IF(ISERROR(SEARCH(PROPER('Assortiment Hoortoestellen'!$B$26),PROPER('Dataset hoortoestellen'!D11905))),0,1))","v":1}]
["Jansen Horen en Zien",4,"Unitron","T Stride Dura 600 P","UNI-0313",{"$f":"IF(ISBLANK('Assortiment Hoortoestellen'!$B$26),1,IF(ISERROR(SEARCH(PROPER('Assortiment Hoortoestellen'!$B$26),PROPER('Dataset hoortoestellen'!D11921))),0,1))","v":1}]
["Jansen Horen en Zien",3,"Unitron","T Insera 500 W 312 Dir","UNI-0326",{"$f":"IF(ISBLANK('Assortiment Hoortoestellen'!$B$26),1,IF(ISERROR(SEARCH(PROPER('Assortiment Hoortoestellen'!$B$26),PROPER('Dataset hoortoestellen'!D11929))),0,1))","v":1}]
["Jansen Horen en Zien",3,"Widex","U110-CIC TR","WID-0405",{"$f":"IF(ISBLANK('Assortiment Hoortoestellen'!$B$26),1,IF(ISERROR(SEARCH(PROPER('Assortiment Hoortoestellen'!$B$26),PROPER('Dataset hoortoestellen'!D11940))),0,1))","v":1}]
["Jansen Horen en Zien",3,"Widex","U220-FA","WID-0422",{"$f":"IF(ISBLANK('Assortiment Hoortoestellen'!$B$26),1,IF(ISERROR(SEARCH(PROPER('Assortiment Hoortoestellen'!$B$26),PROPER('Dataset hoortoestellen'!D11957))),0,1))","v":1}]
["Jansen Horen en Zien",4,"Widex","U330-FS (M-tel)","WID-0438",{"$f":"IF(ISBLANK('Assortiment Hoortoestellen'!$B$26),1,IF(ISERROR(SEARCH(PROPER('Assortiment Hoortoestellen'!$B$26),PROPER('Dataset hoortoestellen'!D11973))),0,1))","v":1}]
["Jansen Horen en Zien",5,"Widex","U440-CIC-M","WID-0446",{"$f":"IF(ISBLANK('Assortiment Hoortoestellen'!$B$26),1,IF(ISERROR(SEARCH(PROPER('Assortiment Hoortoestellen'!$B$26),PROPER('Dataset hoortoestellen'!D11981))),0,1))","v":1}]
["Jansen Horen en Zien",5,"Widex","Enjoy E-BTE 13D 330","WID-0547",{"$f":"IF(ISBLANK('Assortiment Hoortoestellen'!$B$26),1,IF(ISERROR(SEARCH(PROPER('Assortiment Hoortoestellen'!$B$26),PROPER('Dataset hoortoestellen'!D11997))),0,1))","v":1}]
["Jansen Horen en Zien",5,"Widex","Enjoy E-F2 330 (S-tel)","WID-0589",{"$f":"IF(ISBLANK('Assortiment Hoortoestellen'!$B$26),1,IF(ISERROR(SEARCH(PROPER('Assortiment Hoortoestellen'!$B$26),PROPER('Dataset hoortoestellen'!D12020))),0,1))","v":1}]
["Jansen Horen en Zien",3,"Widex","Enjoy E-FA 110","WID-0599",{"$f":"IF(ISBLANK('Assortiment Hoortoestellen'!$B$26),1,IF(ISERROR(SEARCH(PROPER('Assortiment Hoortoestellen'!$B$26),PROPER('Dataset hoortoestellen'!D12025))),0,1))","v":1}]
["Jansen Horen en Zien",3,"Widex","Enjoy E-FS 110 (P-tel)","WID-0622",{"$f":"IF(ISBLANK('Assortiment Hoortoestellen'!$B$26),1,IF(ISERROR(SEARCH(PROPER('Assortiment Hoortoestellen'!$B$26),PROPER('Dataset hoortoestellen'!D12039))),0,1))","v":1}]
["Jansen Horen en Zien",2,"Widex","Enjoy E-FS 50 (HP-tel)","WID-0636",{"$f":"IF(ISBLANK('Assortiment Hoortoestellen'!$B$26),1,IF(ISERROR(SEARCH(PROPER('Assortiment Hoortoestellen'!$B$26),PROPER('Dataset hoortoestellen'!D12049))),0,1))","v":1}]
["Janssen Hoorzorg",4,"Audio Service","quiX 8 G5 Links","AUS-0193",{"$f":"IF(ISBLANK('Assortiment Hoortoestellen'!$B$26),1,IF(ISERROR(SEARCH(PROPER('Assortiment Hoortoestellen'!$B$26),PROPER('Dataset hoortoestellen'!D12068))),0,1))","v":1}]
["Janssen Hoorzorg",3,"Audio Service","P 6 G5","AUS-0210",{"$f":"IF(ISBLANK('Assortiment Hoortoestellen'!$B$26),1,IF(ISERROR(SEARCH(PROPER('Assortiment Hoortoestellen'!$B$26),PROPER('Dataset hoortoestellen'!D12086))),0,1))","v":1}]
["Janssen Hoorzorg",5,"Beltone","TST 9ITC-DW","BEL-0126",{"$f":"IF(ISBLANK('Assortiment Hoortoestellen'!$B$26),1,IF(ISERROR(SEARCH(PROPER('Assortiment Hoortoestellen'!$B$26),PROPER('Dataset hoortoestellen'!D12101))),0,1))","v":1}]
["Janssen Hoorzorg",2,"Bernafon","Zerena 1 IIC","BER-0617",{"$f":"IF(ISBLANK('Assortiment Hoortoestellen'!$B$26),1,IF(ISERROR(SEARCH(PROPER('Assortiment Hoortoestellen'!$B$26),PROPER('Dataset hoortoestellen'!D12110))),0,1))","v":1}]
["Janssen Hoorzorg",2,"Bernafon","Viron 1 BTE 105","BER-0659",{"$f":"IF(ISBLANK('Assortiment Hoortoestellen'!$B$26),1,IF(ISERROR(SEARCH(PROPER('Assortiment Hoortoestellen'!$B$26),PROPER('Dataset hoortoestellen'!D12120))),0,1))","v":1}]
["Janssen Hoorzorg",4,"Coselgi","Effect EF5-CIC Links","COS-0326",{"$f":"IF(ISBLANK('Assortiment Hoortoestellen'!$B$26),1,IF(ISERROR(SEARCH(PROPER('Assortiment Hoortoestellen'!$B$26),PROPER('Dataset hoortoestellen'!D12138))),0,1))","v":1}]
["Janssen Hoorzorg",4,"Coselgi","Effect EF5-XP","COS-0335",{"$f":"IF(ISBLANK('Assortiment Hoortoestellen'!$B$26),1,IF(ISERROR(SEARCH(PROPER('Assortiment Hoortoestellen'!$B$26),PROPER('Dataset hoortoestellen'!D12153))),0,1))","v":1}]
["Janssen Hoorzorg",2,"Coselgi","Effect EF2-F2 (S-tel)","COS-0279",{"$f":"IF(ISBLANK('Assortiment Hoortoestellen'!$B$26),1,IF(ISERROR(SEARCH(PROPER('Assortiment Hoortoestellen'!$B$26),PROPER('Dataset hoortoestellen'!D12162))),0,1))","v":1}]
["Janssen Hoorzorg",3,"Coselgi","Effect EF4-FS (HP-tel)","COS-0636",{"$f":"IF(ISBLANK('Assortiment Hoortoestellen'!$B$26),1,IF(ISERROR(SEARCH(PROPER('Assortiment Hoortoestellen'!$B$26),PROPER('Dataset hoortoestellen'!D12172))),0,1))","v":1}]
["Janssen Hoorzorg",3,"Coselgi","Effect EF4-RIC 10 (M-tel)","COS-0303",{"$f":"IF(ISBLANK('Assortiment Hoortoestellen'!$B$26),1,IF(ISERROR(SEARCH(PROPER('Assortiment Hoortoestellen'!$B$26),PROPER('Dataset hoortoestellen'!D12186))),0,1))","v":1}]
["Janssen Hoorzorg",5,"Coselgi","Effect EF4-FS (HP-tel)","COS-0636",{"$f":"IF(ISBLANK('Assortiment Hoortoestellen'!$B$26),1,IF(ISERROR(SEARCH(PROPER('Assortiment Hoortoestellen'!$B$26),PROPER('Dataset hoortoestellen'!D12201))),0,1))","v":1}]
["Janssen Hoorzorg",3,"Interton","Move 3ITC-DW","INT-0065",{"$f":"IF(ISBLANK('Assortiment Hoortoestellen'!$B$26),1,IF(ISERROR(SEARCH(PROPER('Assortiment Hoortoestellen'!$B$26),PROPER('Dataset hoortoestellen'!D12210))),0,1))","v":1}]
["Janssen Hoorzorg",3,"Interton","MOVE 370-DW","INT-0061",{"$f":"IF(ISBLANK('Assortiment Hoortoestellen'!$B$26),1,IF(ISERROR(SEARCH(PROPER('Assortiment Hoortoestellen'!$B$26),PROPER('Dataset hoortoestellen'!D12234))),0,1))","v":1}]
["Janssen Hoorzorg",3,"Interton","MOVE 362-DRW","INT-0059",{"$f":"IF(ISBLANK('Assortiment Hoortoestellen'!$B$26),1,IF(ISERROR(SEARCH(PROPER('Assortiment Hoortoestellen'!$B$26),PROPER('Dataset hoortoestellen'!D12238))),0,1))","v":1}]
["Janssen Hoorzorg",5,"Oticon","Opn 3 ITE 75 - 100","OTI-0362",{"$f":"IF(ISBLANK('Assortiment Hoortoestellen'!$B$26),1,IF(ISERROR(SEARCH(PROPER('Assortiment Hoortoestellen'!$B$26),PROPER('Dataset hoortoestellen'!D12253))),0,1))","v":1}]
["Janssen Hoorzorg",4,"Phonak","Audéo M30-13T","PHO-0341",{"$f":"IF(ISBLANK('Assortiment Hoortoestellen'!$B$26),1,IF(ISERROR(SEARCH(PROPER('Assortiment Hoortoestellen'!$B$26),PROPER('Dataset hoortoestellen'!D12275))),0,1))","v":1}]
["Janssen Hoorzorg",3,"Phonak","Audeo B 30 312 T","PHO-0272",{"$f":"IF(ISBLANK('Assortiment Hoortoestellen'!$B$26),1,IF(ISERROR(SEARCH(PROPER('Assortiment Hoortoestellen'!$B$26),PROPER('Dataset hoortoestellen'!D12286))),0,1))","v":1}]
["Janssen Hoorzorg",4,"ReSound","KEY 4CIC-W","RES-0332",{"$f":"IF(ISBLANK('Assortiment Hoortoestellen'!$B$26),1,IF(ISERROR(SEARCH(PROPER('Assortiment Hoortoestellen'!$B$26),PROPER('Dataset hoortoestellen'!D12299))),0,1))","v":1}]
["Janssen Hoorzorg",4,"ReSound","KEY 461-DRW","RES-0325",{"$f":"IF(ISBLANK('Assortiment Hoortoestellen'!$B$26),1,IF(ISERROR(SEARCH(PROPER('Assortiment Hoortoestellen'!$B$26),PROPER('Dataset hoortoestellen'!D12315))),0,1))","v":1}]
["Janssen Hoorzorg",2,"Starkey","Muse iQ 1000 CIC","STA-0340",{"$f":"IF(ISBLANK('Assortiment Hoortoestellen'!$B$26),1,IF(ISERROR(SEARCH(PROPER('Assortiment Hoortoestellen'!$B$26),PROPER('Dataset hoortoestellen'!D12323))),0,1))","v":1}]
["Janssen Hoorzorg",4,"Starkey","Muse iQ i1200 ITE","STA-0364",{"$f":"IF(ISBLANK('Assortiment Hoortoestellen'!$B$26),1,IF(ISERROR(SEARCH(PROPER('Assortiment Hoortoestellen'!$B$26),PROPER('Dataset hoortoestellen'!D12334))),0,1))","v":1}]
["Janssen Hoorzorg",1,"Starkey","Muse i1000 BTE312","STA-0278",{"$f":"IF(ISBLANK('Assortiment Hoortoestellen'!$B$26),1,IF(ISERROR(SEARCH(PROPER('Assortiment Hoortoestellen'!$B$26),PROPER('Dataset hoortoestellen'!D12351))),0,1))","v":1}]
["Janssen Hoorzorg",5,"Unitron","T Insera 800 10A Omni","UNI-2080",{"$f":"IF(ISBLANK('Assortiment Hoortoestellen'!$B$26),1,IF(ISERROR(SEARCH(PROPER('Assortiment Hoortoestellen'!$B$26),PROPER('Dataset hoortoestellen'!D12367))),0,1))","v":1}]
["Janssen Hoorzorg",3,"Unitron","DX Insera 3 312 Omni","UNI-0435",{"$f":"IF(ISBLANK('Assortiment Hoortoestellen'!$B$26),1,IF(ISERROR(SEARCH(PROPER('Assortiment Hoortoestellen'!$B$26),PROPER('Dataset hoortoestellen'!D12375))),0,1))","v":1}]
["Janssen Hoorzorg",2,"Unitron","Shine Rev+ P","UNI-0431",{"$f":"IF(ISBLANK('Assortiment Hoortoestellen'!$B$26),1,IF(ISERROR(SEARCH(PROPER('Assortiment Hoortoestellen'!$B$26),PROPER('Dataset hoortoestellen'!D12386))),0,1))","v":1}]
["Janssen Hoorzorg",4,"Unitron","T Max UP 600","UNI-0277",{"$f":"IF(ISBLANK('Assortiment Hoortoestellen'!$B$26),1,IF(ISERROR(SEARCH(PROPER('Assortiment Hoortoestellen'!$B$26),PROPER('Dataset hoortoestellen'!D12399))),0,1))","v":1}]
["Janssen Hoorzorg",4,"Widex","Enjoy E-CIC M 220","WID-0558",{"$f":"IF(ISBLANK('Assortiment Hoortoestellen'!$B$26),1,IF(ISERROR(SEARCH(PROPER('Assortiment Hoortoestellen'!$B$26),PROPER('Dataset hoortoestellen'!D12415))),0,1))","v":1}]
["Janssen Hoorzorg",4,"Widex","U330-CIC-M TR","WID-0434",{"$f":"IF(ISBLANK('Assortiment Hoortoestellen'!$B$26),1,IF(ISERROR(SEARCH(PROPER('Assortiment Hoortoestellen'!$B$26),PROPER('Dataset hoortoestellen'!D12436))),0,1))","v":1}]
["Janssen Hoorzorg",2,"Widex","Enjoy E-F2 50 (S-tel)","WID-0597",{"$f":"IF(ISBLANK('Assortiment Hoortoestellen'!$B$26),1,IF(ISERROR(SEARCH(PROPER('Assortiment Hoortoestellen'!$B$26),PROPER('Dataset hoortoestellen'!D12448))),0,1))","v":1}]
["Janssen Hoorzorg",4,"Widex","Enjoy E-F2 220 (M-tel)","WID-0583",{"$f":"IF(ISBLANK('Assortiment Hoortoestellen'!$B$26),1,IF(ISERROR(SEARCH(PROPER('Assortiment Hoortoestellen'!$B$26),PROPER('Dataset hoortoestellen'!D12460))),0,1))","v":1}]
["Janssen Hoorzorg",2,"Widex","Enjoy E-FS 50 (S-tel)","WID-0639",{"$f":"IF(ISBLANK('Assortiment Hoortoestellen'!$B$26),1,IF(ISERROR(SEARCH(PROPER('Assortiment Hoortoestellen'!$B$26),PROPER('Dataset hoortoestellen'!D12467))),0,1))","v":1}]
["Janssen Hoorzorg",3,"Widex","U110-FM","WID-0409",{"$f":"IF(ISBLANK('Assortiment Hoortoestellen'!$B$26),1,IF(ISERROR(SEARCH(PROPER('Assortiment Hoortoestellen'!$B$26),PROPER('Dataset hoortoestellen'!D12488))),0,1))","v":1}]
["Janssen Hoorzorg",4,"Widex","U330-FS (HP-tel)","WID-0437",{"$f":"IF(ISBLANK('Assortiment Hoortoestellen'!$B$26),1,IF(ISERROR(SEARCH(PROPER('Assortiment Hoortoestellen'!$B$26),PROPER('Dataset hoortoestellen'!D12504))),0,1))","v":1}]
["Janssen Hoorzorg",5,"Widex","U440-FA","WID-0448",{"$f":"IF(ISBLANK('Assortiment Hoortoestellen'!$B$26),1,IF(ISERROR(SEARCH(PROPER('Assortiment Hoortoestellen'!$B$26),PROPER('Dataset hoortoestellen'!D12514))),0,1))","v":1}]
["Janssen Hoorzorg",5,"Widex","U440-PA (S-tel)","WID-0455",{"$f":"IF(ISBLANK('Assortiment Hoortoestellen'!$B$26),1,IF(ISERROR(SEARCH(PROPER('Assortiment Hoortoestellen'!$B$26),PROPER('Dataset hoortoestellen'!D12532))),0,1))","v":1}]
["Jerre Hoorzorg ",3,"Audio Service","quiX 6  G5 Links","AUS-0214",{"$f":"IF(ISBLANK('Assortiment Hoortoestellen'!$B$26),1,IF(ISERROR(SEARCH(PROPER('Assortiment Hoortoestellen'!$B$26),PROPER('Dataset hoortoestellen'!D12533))),0,1))","v":1}]
["Jerre Hoorzorg ",3,"Audio Service","HP 6 G4","AUS-0154",{"$f":"IF(ISBLANK('Assortiment Hoortoestellen'!$B$26),1,IF(ISERROR(SEARCH(PROPER('Assortiment Hoortoestellen'!$B$26),PROPER('Dataset hoortoestellen'!D12556))),0,1))","v":1}]
["Jerre Hoorzorg ",1,"Audio Service ","Volta HP C","AUS-0219",{"$f":"IF(ISBLANK('Assortiment Hoortoestellen'!$B$26),1,IF(ISERROR(SEARCH(PROPER('Assortiment Hoortoestellen'!$B$26),PROPER('Dataset hoortoestellen'!D12566))),0,1))","v":1}]
["Jerre Hoorzorg ",4,"Bernafon","Zerena 5 CIC","BER-0632",{"$f":"IF(ISBLANK('Assortiment Hoortoestellen'!$B$26),1,IF(ISERROR(SEARCH(PROPER('Assortiment Hoortoestellen'!$B$26),PROPER('Dataset hoortoestellen'!D12580))),0,1))","v":1}]
["Jerre Hoorzorg ",2,"Coselgi","Effect EF2-CIC M","COS-0285",{"$f":"IF(ISBLANK('Assortiment Hoortoestellen'!$B$26),1,IF(ISERROR(SEARCH(PROPER('Assortiment Hoortoestellen'!$B$26),PROPER('Dataset hoortoestellen'!D12595))),0,1))","v":1}]
["Jerre Hoorzorg ",5,"Coselgi","Effect EF6-CIC M","COS-0348",{"$f":"IF(ISBLANK('Assortiment Hoortoestellen'!$B$26),1,IF(ISERROR(SEARCH(PROPER('Assortiment Hoortoestellen'!$B$26),PROPER('Dataset hoortoestellen'!D12604))),0,1))","v":1}]
["Jerre Hoorzorg ",4,"Coselgi","Effect EF5-CIC M","COS-0327",{"$f":"IF(ISBLANK('Assortiment Hoortoestellen'!$B$26),1,IF(ISERROR(SEARCH(PROPER('Assortiment Hoortoestellen'!$B$26),PROPER('Dataset hoortoestellen'!D12614))),0,1))","v":1}]
["Jerre Hoorzorg ",3,"Coselgi","Effect EF4-FM","COS-0312",{"$f":"IF(ISBLANK('Assortiment Hoortoestellen'!$B$26),1,IF(ISERROR(SEARCH(PROPER('Assortiment Hoortoestellen'!$B$26),PROPER('Dataset hoortoestellen'!D12632))),0,1))","v":1}]
["Jerre Hoorzorg ",2,"Coselgi","Effect EF2-FS (S-tel)","COS-0283",{"$f":"IF(ISBLANK('Assortiment Hoortoestellen'!$B$26),1,IF(ISERROR(SEARCH(PROPER('Assortiment Hoortoestellen'!$B$26),PROPER('Dataset hoortoestellen'!D12647))),0,1))","v":1}]
["Jerre Hoorzorg ",4,"Coselgi","Effect EF5-FS (P-tel)","COS-0322",{"$f":"IF(ISBLANK('Assortiment Hoortoestellen'!$B$26),1,IF(ISERROR(SEARCH(PROPER('Assortiment Hoortoestellen'!$B$26),PROPER('Dataset hoortoestellen'!D12656))),0,1))","v":1}]
["Jerre Hoorzorg ",5,"Interton","MOVE 6ITC-DW","INT-0083",{"$f":"IF(ISBLANK('Assortiment Hoortoestellen'!$B$26),1,IF(ISERROR(SEARCH(PROPER('Assortiment Hoortoestellen'!$B$26),PROPER('Dataset hoortoestellen'!D12680))),0,1))","v":1}]
["Jerre Hoorzorg ",5,"Interton","MOVE 665-DW","INT-0078",{"$f":"IF(ISBLANK('Assortiment Hoortoestellen'!$B$26),1,IF(ISERROR(SEARCH(PROPER('Assortiment Hoortoestellen'!$B$26),PROPER('Dataset hoortoestellen'!D12693))),0,1))","v":1}]
["Jerre Hoorzorg ",2,"Interton","MOVE 290-DW","INT-0057",{"$f":"IF(ISBLANK('Assortiment Hoortoestellen'!$B$26),1,IF(ISERROR(SEARCH(PROPER('Assortiment Hoortoestellen'!$B$26),PROPER('Dataset hoortoestellen'!D12695))),0,1))","v":1}]
["Jerre Hoorzorg ",4,"Oticon","Siya 1 ITE 75 - 100","OTI-0342",{"$f":"IF(ISBLANK('Assortiment Hoortoestellen'!$B$26),1,IF(ISERROR(SEARCH(PROPER('Assortiment Hoortoestellen'!$B$26),PROPER('Dataset hoortoestellen'!D12717))),0,1))","v":1}]
["Jerre Hoorzorg ",4,"Phonak","Virto M30-10 NW O","PHO-0357",{"$f":"IF(ISBLANK('Assortiment Hoortoestellen'!$B$26),1,IF(ISERROR(SEARCH(PROPER('Assortiment Hoortoestellen'!$B$26),PROPER('Dataset hoortoestellen'!D12728))),0,1))","v":1}]
["Jerre Hoorzorg ",4,"Phonak","Naida M30-SP","PHO-0355",{"$f":"IF(ISBLANK('Assortiment Hoortoestellen'!$B$26),1,IF(ISERROR(SEARCH(PROPER('Assortiment Hoortoestellen'!$B$26),PROPER('Dataset hoortoestellen'!D12741))),0,1))","v":1}]
["Jerre Hoorzorg ",5,"ReSound","LiNX Quattro 5 ITC-DW","RES-0344",{"$f":"IF(ISBLANK('Assortiment Hoortoestellen'!$B$26),1,IF(ISERROR(SEARCH(PROPER('Assortiment Hoortoestellen'!$B$26),PROPER('Dataset hoortoestellen'!D12761))),0,1))","v":1}]
["Jerre Hoorzorg ",5,"ReSound","LiNX Quattro 561-DRWC","RES-0306",{"$f":"IF(ISBLANK('Assortiment Hoortoestellen'!$B$26),1,IF(ISERROR(SEARCH(PROPER('Assortiment Hoortoestellen'!$B$26),PROPER('Dataset hoortoestellen'!D12769))),0,1))","v":1}]
["Jerre Hoorzorg ",4,"ReSound","KEY 488-DWH","RES-0330",{"$f":"IF(ISBLANK('Assortiment Hoortoestellen'!$B$26),1,IF(ISERROR(SEARCH(PROPER('Assortiment Hoortoestellen'!$B$26),PROPER('Dataset hoortoestellen'!D12780))),0,1))","v":1}]
["Jerre Hoorzorg ",3,"ReSound","KEY 361-DRW","RES-0317",{"$f":"IF(ISBLANK('Assortiment Hoortoestellen'!$B$26),1,IF(ISERROR(SEARCH(PROPER('Assortiment Hoortoestellen'!$B$26),PROPER('Dataset hoortoestellen'!D12793))),0,1))","v":1}]
["Jerre Hoorzorg ",4,"Starkey","Muse iQ i1200 ITE","STA-0364",{"$f":"IF(ISBLANK('Assortiment Hoortoestellen'!$B$26),1,IF(ISERROR(SEARCH(PROPER('Assortiment Hoortoestellen'!$B$26),PROPER('Dataset hoortoestellen'!D12809))),0,1))","v":1}]
["Jerre Hoorzorg ",3,"Starkey","Livio AI 1200 BTE R","STA-0412",{"$f":"IF(ISBLANK('Assortiment Hoortoestellen'!$B$26),1,IF(ISERROR(SEARCH(PROPER('Assortiment Hoortoestellen'!$B$26),PROPER('Dataset hoortoestellen'!D12817))),0,1))","v":1}]
["Jerre Hoorzorg ",5,"Unitron","T Insera 800 W 10A Omni","UNI-0339",{"$f":"IF(ISBLANK('Assortiment Hoortoestellen'!$B$26),1,IF(ISERROR(SEARCH(PROPER('Assortiment Hoortoestellen'!$B$26),PROPER('Dataset hoortoestellen'!D12842))),0,1))","v":1}]
["Jerre Hoorzorg ",3,"Unitron","T Insera 500 W 312 Dir","UNI-0326",{"$f":"IF(ISBLANK('Assortiment Hoortoestellen'!$B$26),1,IF(ISERROR(SEARCH(PROPER('Assortiment Hoortoestellen'!$B$26),PROPER('Dataset hoortoestellen'!D12854))),0,1))","v":1}]
["Jerre Hoorzorg ",4,"Unitron","DX Moxi Fit 5","UNI-0444",{"$f":"IF(ISBLANK('Assortiment Hoortoestellen'!$B$26),1,IF(ISERROR(SEARCH(PROPER('Assortiment Hoortoestellen'!$B$26),PROPER('Dataset hoortoestellen'!D12861))),0,1))","v":1}]
["Jerre Hoorzorg ",3,"Unitron","Stride B1-PR","UNI-0511",{"$f":"IF(ISBLANK('Assortiment Hoortoestellen'!$B$26),1,IF(ISERROR(SEARCH(PROPER('Assortiment Hoortoestellen'!$B$26),PROPER('Dataset hoortoestellen'!D12882))),0,1))","v":1}]
["Jerre Hoorzorg ",4,"Widex","Enjoy E-CIC 220 Rechts","WID-0657",{"$f":"IF(ISBLANK('Assortiment Hoortoestellen'!$B$26),1,IF(ISERROR(SEARCH(PROPER('Assortiment Hoortoestellen'!$B$26),PROPER('Dataset hoortoestellen'!D12894))),0,1))","v":1}]
["Jerre Hoorzorg ",4,"Widex","Enjoy E-XP 220","WID-0652",{"$f":"IF(ISBLANK('Assortiment Hoortoestellen'!$B$26),1,IF(ISERROR(SEARCH(PROPER('Assortiment Hoortoestellen'!$B$26),PROPER('Dataset hoortoestellen'!D12906))),0,1))","v":1}]
["Jerre Hoorzorg ",5,"Widex","U440-XP","WID-0456",{"$f":"IF(ISBLANK('Assortiment Hoortoestellen'!$B$26),1,IF(ISERROR(SEARCH(PROPER('Assortiment Hoortoestellen'!$B$26),PROPER('Dataset hoortoestellen'!D12913))),0,1))","v":1}]
["Jerre Hoorzorg ",2,"Widex","Enjoy E-FA 50","WID-0603",{"$f":"IF(ISBLANK('Assortiment Hoortoestellen'!$B$26),1,IF(ISERROR(SEARCH(PROPER('Assortiment Hoortoestellen'!$B$26),PROPER('Dataset hoortoestellen'!D12930))),0,1))","v":1}]
["Jerre Hoorzorg ",3,"Widex","Enjoy E-FM 110","WID-0605",{"$f":"IF(ISBLANK('Assortiment Hoortoestellen'!$B$26),1,IF(ISERROR(SEARCH(PROPER('Assortiment Hoortoestellen'!$B$26),PROPER('Dataset hoortoestellen'!D12942))),0,1))","v":1}]
["Jerre Hoorzorg ",4,"Widex","Enjoy E-FP 220","WID-0612",{"$f":"IF(ISBLANK('Assortiment Hoortoestellen'!$B$26),1,IF(ISERROR(SEARCH(PROPER('Assortiment Hoortoestellen'!$B$26),PROPER('Dataset hoortoestellen'!D12954))),0,1))","v":1}]
["Jerre Hoorzorg ",4,"Widex","U330-FA","WID-0435",{"$f":"IF(ISBLANK('Assortiment Hoortoestellen'!$B$26),1,IF(ISERROR(SEARCH(PROPER('Assortiment Hoortoestellen'!$B$26),PROPER('Dataset hoortoestellen'!D12975))),0,1))","v":1}]
["Jerre Hoorzorg ",5,"Widex","Enjoy E-FS 330 (P-tel)","WID-0630",{"$f":"IF(ISBLANK('Assortiment Hoortoestellen'!$B$26),1,IF(ISERROR(SEARCH(PROPER('Assortiment Hoortoestellen'!$B$26),PROPER('Dataset hoortoestellen'!D12982))),0,1))","v":1}]
["Jerre Hoorzorg ",3,"Widex","U220-FP","WID-0457",{"$f":"IF(ISBLANK('Assortiment Hoortoestellen'!$B$26),1,IF(ISERROR(SEARCH(PROPER('Assortiment Hoortoestellen'!$B$26),PROPER('Dataset hoortoestellen'!D12998))),0,1))","v":1}]
["Jerre Hoorzorg ",5,"Widex","U440-FS (S-tel)","WID-0453",{"$f":"IF(ISBLANK('Assortiment Hoortoestellen'!$B$26),1,IF(ISERROR(SEARCH(PROPER('Assortiment Hoortoestellen'!$B$26),PROPER('Dataset hoortoestellen'!D13008))),0,1))","v":1}]
["Jess Optiek",4,"Audio Service","IHO 8 G5","AUS-0183",{"$f":"IF(ISBLANK('Assortiment Hoortoestellen'!$B$26),1,IF(ISERROR(SEARCH(PROPER('Assortiment Hoortoestellen'!$B$26),PROPER('Dataset hoortoestellen'!D13022))),0,1))","v":1}]
["Jess Optiek",2,"Audio Service","quiX 4 G5 Links","AUS-0211",{"$f":"IF(ISBLANK('Assortiment Hoortoestellen'!$B$26),1,IF(ISERROR(SEARCH(PROPER('Assortiment Hoortoestellen'!$B$26),PROPER('Dataset hoortoestellen'!D13041))),0,1))","v":1}]
["Jess Optiek",1,"Audio Service ","Volta P C","AUS-0220",{"$f":"IF(ISBLANK('Assortiment Hoortoestellen'!$B$26),1,IF(ISERROR(SEARCH(PROPER('Assortiment Hoortoestellen'!$B$26),PROPER('Dataset hoortoestellen'!D13050))),0,1))","v":1}]
["Jess Optiek",2,"Bernafon","Zerena 1 MNR","BER-0621",{"$f":"IF(ISBLANK('Assortiment Hoortoestellen'!$B$26),1,IF(ISERROR(SEARCH(PROPER('Assortiment Hoortoestellen'!$B$26),PROPER('Dataset hoortoestellen'!D13060))),0,1))","v":1}]
["Jess Optiek",3,"Coselgi","U10-CIC TR (links)","COS-0138",{"$f":"IF(ISBLANK('Assortiment Hoortoestellen'!$B$26),1,IF(ISERROR(SEARCH(PROPER('Assortiment Hoortoestellen'!$B$26),PROPER('Dataset hoortoestellen'!D13074))),0,1))","v":1}]
["Jess Optiek",4,"Coselgi","U10E-FP","COS-0153",{"$f":"IF(ISBLANK('Assortiment Hoortoestellen'!$B$26),1,IF(ISERROR(SEARCH(PROPER('Assortiment Hoortoestellen'!$B$26),PROPER('Dataset hoortoestellen'!D13089))),0,1))","v":1}]
["Jess Optiek",2,"Coselgi","U6-FM","COS-0244",{"$f":"IF(ISBLANK('Assortiment Hoortoestellen'!$B$26),1,IF(ISERROR(SEARCH(PROPER('Assortiment Hoortoestellen'!$B$26),PROPER('Dataset hoortoestellen'!D13111))),0,1))","v":1}]
["Jess Optiek",3,"Coselgi","U6E-FP","COS-0257",{"$f":"IF(ISBLANK('Assortiment Hoortoestellen'!$B$26),1,IF(ISERROR(SEARCH(PROPER('Assortiment Hoortoestellen'!$B$26),PROPER('Dataset hoortoestellen'!D13122))),0,1))","v":1}]
["Jess Optiek",2,"Coselgi","Effect EF2-F2 (S-tel)","COS-0279",{"$f":"IF(ISBLANK('Assortiment Hoortoestellen'!$B$26),1,IF(ISERROR(SEARCH(PROPER('Assortiment Hoortoestellen'!$B$26),PROPER('Dataset hoortoestellen'!D13135))),0,1))","v":1}]
["Jess Optiek",2,"Coselgi","Effect EF2-CIC Rechts","COS-0287",{"$f":"IF(ISBLANK('Assortiment Hoortoestellen'!$B$26),1,IF(ISERROR(SEARCH(PROPER('Assortiment Hoortoestellen'!$B$26),PROPER('Dataset hoortoestellen'!D13141))),0,1))","v":1}]
["Jess Optiek",3,"Coselgi","Effect EF4-FM","COS-0312",{"$f":"IF(ISBLANK('Assortiment Hoortoestellen'!$B$26),1,IF(ISERROR(SEARCH(PROPER('Assortiment Hoortoestellen'!$B$26),PROPER('Dataset hoortoestellen'!D13163))),0,1))","v":1}]
["Jess Optiek",4,"Coselgi","Effect EF5-RIC 10 (S-tel)","COS-0325",{"$f":"IF(ISBLANK('Assortiment Hoortoestellen'!$B$26),1,IF(ISERROR(SEARCH(PROPER('Assortiment Hoortoestellen'!$B$26),PROPER('Dataset hoortoestellen'!D13174))),0,1))","v":1}]
["Jess Optiek",5,"Coselgi","Effect EF6-F2 (S-tel)","COS-0340",{"$f":"IF(ISBLANK('Assortiment Hoortoestellen'!$B$26),1,IF(ISERROR(SEARCH(PROPER('Assortiment Hoortoestellen'!$B$26),PROPER('Dataset hoortoestellen'!D13187))),0,1))","v":1}]
["Jess Optiek",2,"Interton","RD362-DRW","INT-0033",{"$f":"IF(ISBLANK('Assortiment Hoortoestellen'!$B$26),1,IF(ISERROR(SEARCH(PROPER('Assortiment Hoortoestellen'!$B$26),PROPER('Dataset hoortoestellen'!D13207))),0,1))","v":1}]
["Jess Optiek",3,"Interton","RD3ITC-DW","INT-0037",{"$f":"IF(ISBLANK('Assortiment Hoortoestellen'!$B$26),1,IF(ISERROR(SEARCH(PROPER('Assortiment Hoortoestellen'!$B$26),PROPER('Dataset hoortoestellen'!D13211))),0,1))","v":1}]
["Jess Optiek",5,"Interton","RD6CIC","INT-0048",{"$f":"IF(ISBLANK('Assortiment Hoortoestellen'!$B$26),1,IF(ISERROR(SEARCH(PROPER('Assortiment Hoortoestellen'!$B$26),PROPER('Dataset hoortoestellen'!D13222))),0,1))","v":1}]
["Jess Optiek",5,"Oticon","Opn 3 miniRITE T 60 - 105","OTI-0364",{"$f":"IF(ISBLANK('Assortiment Hoortoestellen'!$B$26),1,IF(ISERROR(SEARCH(PROPER('Assortiment Hoortoestellen'!$B$26),PROPER('Dataset hoortoestellen'!D13235))),0,1))","v":1}]
["Jess Optiek",5,"Phonak","Audeo B 70 13","PHO-0279",{"$f":"IF(ISBLANK('Assortiment Hoortoestellen'!$B$26),1,IF(ISERROR(SEARCH(PROPER('Assortiment Hoortoestellen'!$B$26),PROPER('Dataset hoortoestellen'!D13255))),0,1))","v":1}]
["Jess Optiek",5,"Phonak","Bolero B 70 M","PHO-0290",{"$f":"IF(ISBLANK('Assortiment Hoortoestellen'!$B$26),1,IF(ISERROR(SEARCH(PROPER('Assortiment Hoortoestellen'!$B$26),PROPER('Dataset hoortoestellen'!D13263))),0,1))","v":1}]
["Jess Optiek",3,"Phonak","Virto B 30 13","PHO-0325",{"$f":"IF(ISBLANK('Assortiment Hoortoestellen'!$B$26),1,IF(ISERROR(SEARCH(PROPER('Assortiment Hoortoestellen'!$B$26),PROPER('Dataset hoortoestellen'!D13288))),0,1))","v":1}]
["Jess Optiek",1,"ReSound","Vea 180 VI","RES-0009",{"$f":"IF(ISBLANK('Assortiment Hoortoestellen'!$B$26),1,IF(ISERROR(SEARCH(PROPER('Assortiment Hoortoestellen'!$B$26),PROPER('Dataset hoortoestellen'!D13300))),0,1))","v":1}]
["Jess Optiek",2,"ReSound","Enya 388-DW","RES-0216",{"$f":"IF(ISBLANK('Assortiment Hoortoestellen'!$B$26),1,IF(ISERROR(SEARCH(PROPER('Assortiment Hoortoestellen'!$B$26),PROPER('Dataset hoortoestellen'!D13307))),0,1))","v":1}]
["Jess Optiek",4,"ReSound","LiNX 3D 577-DW","RES-0297",{"$f":"IF(ISBLANK('Assortiment Hoortoestellen'!$B$26),1,IF(ISERROR(SEARCH(PROPER('Assortiment Hoortoestellen'!$B$26),PROPER('Dataset hoortoestellen'!D13324))),0,1))","v":1}]
["Jess Optiek",1,"Starkey","Muse i1000 ITC","STA-0279",{"$f":"IF(ISBLANK('Assortiment Hoortoestellen'!$B$26),1,IF(ISERROR(SEARCH(PROPER('Assortiment Hoortoestellen'!$B$26),PROPER('Dataset hoortoestellen'!D13336))),0,1))","v":1}]
["Jess Optiek",2,"Starkey","Muse iQ i1000 BTE 312","STA-0351",{"$f":"IF(ISBLANK('Assortiment Hoortoestellen'!$B$26),1,IF(ISERROR(SEARCH(PROPER('Assortiment Hoortoestellen'!$B$26),PROPER('Dataset hoortoestellen'!D13348))),0,1))","v":1}]
["Jess Optiek",5,"Starkey","Livio 1600 mRIC 312","STA-0389",{"$f":"IF(ISBLANK('Assortiment Hoortoestellen'!$B$26),1,IF(ISERROR(SEARCH(PROPER('Assortiment Hoortoestellen'!$B$26),PROPER('Dataset hoortoestellen'!D13369))),0,1))","v":1}]
["Jess Optiek",4,"Unitron","T Max SP 600","UNI-0273",{"$f":"IF(ISBLANK('Assortiment Hoortoestellen'!$B$26),1,IF(ISERROR(SEARCH(PROPER('Assortiment Hoortoestellen'!$B$26),PROPER('Dataset hoortoestellen'!D13376))),0,1))","v":1}]
["Jess Optiek",4,"Unitron","T Insera 600 W 312 Dir","UNI-0331",{"$f":"IF(ISBLANK('Assortiment Hoortoestellen'!$B$26),1,IF(ISERROR(SEARCH(PROPER('Assortiment Hoortoestellen'!$B$26),PROPER('Dataset hoortoestellen'!D13388))),0,1))","v":1}]
["Jess Optiek",4,"Unitron","DX Insera 5 10A Omni","UNI-0437",{"$f":"IF(ISBLANK('Assortiment Hoortoestellen'!$B$26),1,IF(ISERROR(SEARCH(PROPER('Assortiment Hoortoestellen'!$B$26),PROPER('Dataset hoortoestellen'!D13400))),0,1))","v":1}]
["Jess Optiek",3,"Widex","U110-CIC-M","WID-0406",{"$f":"IF(ISBLANK('Assortiment Hoortoestellen'!$B$26),1,IF(ISERROR(SEARCH(PROPER('Assortiment Hoortoestellen'!$B$26),PROPER('Dataset hoortoestellen'!D13421))),0,1))","v":1}]
["Jess Optiek",3,"Widex","U110-FM","WID-0409",{"$f":"IF(ISBLANK('Assortiment Hoortoestellen'!$B$26),1,IF(ISERROR(SEARCH(PROPER('Assortiment Hoortoestellen'!$B$26),PROPER('Dataset hoortoestellen'!D13424))),0,1))","v":1}]
["Jess Optiek",4,"Widex","U330-FA","WID-0435",{"$f":"IF(ISBLANK('Assortiment Hoortoestellen'!$B$26),1,IF(ISERROR(SEARCH(PROPER('Assortiment Hoortoestellen'!$B$26),PROPER('Dataset hoortoestellen'!D13450))),0,1))","v":1}]
["Jess Optiek",5,"Widex","U440-CIC-M TR","WID-0447",{"$f":"IF(ISBLANK('Assortiment Hoortoestellen'!$B$26),1,IF(ISERROR(SEARCH(PROPER('Assortiment Hoortoestellen'!$B$26),PROPER('Dataset hoortoestellen'!D13461))),0,1))","v":1}]
["Jess Optiek",5,"Widex","U440-PA (S-tel)","WID-0455",{"$f":"IF(ISBLANK('Assortiment Hoortoestellen'!$B$26),1,IF(ISERROR(SEARCH(PROPER('Assortiment Hoortoestellen'!$B$26),PROPER('Dataset hoortoestellen'!D13469))),0,1))","v":1}]
["Jess Optiek",3,"Widex","Enjoy E-CIC TR 110 Links","WID-0569",{"$f":"IF(ISBLANK('Assortiment Hoortoestellen'!$B$26),1,IF(ISERROR(SEARCH(PROPER('Assortiment Hoortoestellen'!$B$26),PROPER('Dataset hoortoestellen'!D13485))),0,1))","v":1}]
["Jess Optiek",4,"Widex","Enjoy E-F2 220 (HP-tel)","WID-0582",{"$f":"IF(ISBLANK('Assortiment Hoortoestellen'!$B$26),1,IF(ISERROR(SEARCH(PROPER('Assortiment Hoortoestellen'!$B$26),PROPER('Dataset hoortoestellen'!D13492))),0,1))","v":1}]
["Jess Optiek",3,"Widex","Enjoy E-FS 110 (HP-tel)","WID-0620",{"$f":"IF(ISBLANK('Assortiment Hoortoestellen'!$B$26),1,IF(ISERROR(SEARCH(PROPER('Assortiment Hoortoestellen'!$B$26),PROPER('Dataset hoortoestellen'!D13516))),0,1))","v":1}]
["Jess Optiek",2,"Widex","Enjoy E-FS 50 (M-tel)","WID-0637",{"$f":"IF(ISBLANK('Assortiment Hoortoestellen'!$B$26),1,IF(ISERROR(SEARCH(PROPER('Assortiment Hoortoestellen'!$B$26),PROPER('Dataset hoortoestellen'!D13529))),0,1))","v":1}]
["Jess Optiek",4,"Widex","Enjoy E-PA 220 (S-tel)","WID-0645",{"$f":"IF(ISBLANK('Assortiment Hoortoestellen'!$B$26),1,IF(ISERROR(SEARCH(PROPER('Assortiment Hoortoestellen'!$B$26),PROPER('Dataset hoortoestellen'!D13535))),0,1))","v":1}]
["Joosten Hoorspecialisten Hoorn",3,"Phonak","Bolero B 30 M","PHO-0283",{"$f":"IF(ISBLANK('Assortiment Hoortoestellen'!$B$26),1,IF(ISERROR(SEARCH(PROPER('Assortiment Hoortoestellen'!$B$26),PROPER('Dataset hoortoestellen'!D13557))),0,1))","v":1}]
["Joosten Hoorspecialisten Hoorn",4,"Audio Service","Duo 8 G5","AUS-0178",{"$f":"IF(ISBLANK('Assortiment Hoortoestellen'!$B$26),1,IF(ISERROR(SEARCH(PROPER('Assortiment Hoortoestellen'!$B$26),PROPER('Dataset hoortoestellen'!D13568))),0,1))","v":1}]
["Joosten Hoorspecialisten Hoorn",2,"Coselgi","Effect EF2-F2 (P-tel)","COS-0278",{"$f":"IF(ISBLANK('Assortiment Hoortoestellen'!$B$26),1,IF(ISERROR(SEARCH(PROPER('Assortiment Hoortoestellen'!$B$26),PROPER('Dataset hoortoestellen'!D13581))),0,1))","v":1}]
["Joosten Hoorspecialisten Hoorn",2,"Coselgi","Effect EF2-FS (P-tel)","COS-0282",{"$f":"IF(ISBLANK('Assortiment Hoortoestellen'!$B$26),1,IF(ISERROR(SEARCH(PROPER('Assortiment Hoortoestellen'!$B$26),PROPER('Dataset hoortoestellen'!D13587))),0,1))","v":1}]
["Joosten Hoorspecialisten Hoorn",3,"Coselgi","Effect EF4-FS (M-tel)","COS-0300",{"$f":"IF(ISBLANK('Assortiment Hoortoestellen'!$B$26),1,IF(ISERROR(SEARCH(PROPER('Assortiment Hoortoestellen'!$B$26),PROPER('Dataset hoortoestellen'!D13605))),0,1))","v":1}]
["Joosten Hoorspecialisten Hoorn",4,"Coselgi","Effect EF5-F2 (M-tel)","COS-0317",{"$f":"IF(ISBLANK('Assortiment Hoortoestellen'!$B$26),1,IF(ISERROR(SEARCH(PROPER('Assortiment Hoortoestellen'!$B$26),PROPER('Dataset hoortoestellen'!D13616))),0,1))","v":1}]
["Joosten Hoorspecialisten Hoorn",5,"Coselgi","Effect EF6-CIC Links","COS-0347",{"$f":"IF(ISBLANK('Assortiment Hoortoestellen'!$B$26),1,IF(ISERROR(SEARCH(PROPER('Assortiment Hoortoestellen'!$B$26),PROPER('Dataset hoortoestellen'!D13629))),0,1))","v":1}]
["Joosten Hoorspecialisten Hoorn",5,"Widex","Enjoy E-BTE 13D 330","WID-0547",{"$f":"IF(ISBLANK('Assortiment Hoortoestellen'!$B$26),1,IF(ISERROR(SEARCH(PROPER('Assortiment Hoortoestellen'!$B$26),PROPER('Dataset hoortoestellen'!D13649))),0,1))","v":1}]
["Joosten Hoorspecialisten Hoorn",4,"Widex","Enjoy E-CIC 220 Links","WID-0552",{"$f":"IF(ISBLANK('Assortiment Hoortoestellen'!$B$26),1,IF(ISERROR(SEARCH(PROPER('Assortiment Hoortoestellen'!$B$26),PROPER('Dataset hoortoestellen'!D13653))),0,1))","v":1}]
["Joosten Hoorspecialisten Hoorn",3,"Widex","Enjoy E-F2 110 (P-tel)","WID-0580",{"$f":"IF(ISBLANK('Assortiment Hoortoestellen'!$B$26),1,IF(ISERROR(SEARCH(PROPER('Assortiment Hoortoestellen'!$B$26),PROPER('Dataset hoortoestellen'!D13668))),0,1))","v":1}]
["Joosten Hoorspecialisten Hoorn",2,"Widex","Enjoy E-F2 50 (S-tel)","WID-0597",{"$f":"IF(ISBLANK('Assortiment Hoortoestellen'!$B$26),1,IF(ISERROR(SEARCH(PROPER('Assortiment Hoortoestellen'!$B$26),PROPER('Dataset hoortoestellen'!D13681))),0,1))","v":1}]
["Joosten Hoorspecialisten Hoorn",4,"Widex","Enjoy E-FS 220 (S-tel)","WID-0627",{"$f":"IF(ISBLANK('Assortiment Hoortoestellen'!$B$26),1,IF(ISERROR(SEARCH(PROPER('Assortiment Hoortoestellen'!$B$26),PROPER('Dataset hoortoestellen'!D13701))),0,1))","v":1}]
["Joosten Hoorspecialisten Hoorn",5,"Widex","Enjoy E-XP 330","WID-0653",{"$f":"IF(ISBLANK('Assortiment Hoortoestellen'!$B$26),1,IF(ISERROR(SEARCH(PROPER('Assortiment Hoortoestellen'!$B$26),PROPER('Dataset hoortoestellen'!D13718))),0,1))","v":1}]
["Joosten Hoorspecialisten Hoorn",3,"Audio Service","HP 6 G4","AUS-0154",{"$f":"IF(ISBLANK('Assortiment Hoortoestellen'!$B$26),1,IF(ISERROR(SEARCH(PROPER('Assortiment Hoortoestellen'!$B$26),PROPER('Dataset hoortoestellen'!D13730))),0,1))","v":1}]
["Joosten Hoorspecialisten Hoorn",3,"ReSound","KEY 361-DRW","RES-0317",{"$f":"IF(ISBLANK('Assortiment Hoortoestellen'!$B$26),1,IF(ISERROR(SEARCH(PROPER('Assortiment Hoortoestellen'!$B$26),PROPER('Dataset hoortoestellen'!D13742))),0,1))","v":1}]
["Joosten Hoorspecialisten Hoorn",3,"ReSound","KEY 3CIC-W","RES-0323",{"$f":"IF(ISBLANK('Assortiment Hoortoestellen'!$B$26),1,IF(ISERROR(SEARCH(PROPER('Assortiment Hoortoestellen'!$B$26),PROPER('Dataset hoortoestellen'!D13749))),0,1))","v":1}]
["Joosten Hoorspecialisten Hoorn",5,"ReSound","LiNX Quattro 577-DW","RES-0341",{"$f":"IF(ISBLANK('Assortiment Hoortoestellen'!$B$26),1,IF(ISERROR(SEARCH(PROPER('Assortiment Hoortoestellen'!$B$26),PROPER('Dataset hoortoestellen'!D13766))),0,1))","v":1}]
["Joosten Hoorspecialisten Hoorn",4,"Starkey","Livio AI 1200 RIC R","STA-0404",{"$f":"IF(ISBLANK('Assortiment Hoortoestellen'!$B$26),1,IF(ISERROR(SEARCH(PROPER('Assortiment Hoortoestellen'!$B$26),PROPER('Dataset hoortoestellen'!D13782))),0,1))","v":1}]
["Joosten Hoorspecialisten Hoorn",5,"Coselgi","MOJO MRR2D M5 (m-tel)","COS-0361",{"$f":"IF(ISBLANK('Assortiment Hoortoestellen'!$B$26),1,IF(ISERROR(SEARCH(PROPER('Assortiment Hoortoestellen'!$B$26),PROPER('Dataset hoortoestellen'!D13794))),0,1))","v":1}]
["Joosten Hoorspecialisten Hoorn",1,"Interton","Move 180-DWH","INT-0051",{"$f":"IF(ISBLANK('Assortiment Hoortoestellen'!$B$26),1,IF(ISERROR(SEARCH(PROPER('Assortiment Hoortoestellen'!$B$26),PROPER('Dataset hoortoestellen'!D13801))),0,1))","v":1}]
["Joosten Hoorspecialisten Hoorn",4,"Interton","MOVE 462-DRW","INT-0068",{"$f":"IF(ISBLANK('Assortiment Hoortoestellen'!$B$26),1,IF(ISERROR(SEARCH(PROPER('Assortiment Hoortoestellen'!$B$26),PROPER('Dataset hoortoestellen'!D13818))),0,1))","v":1}]
["Joosten Hoorspecialisten Hoorn",5,"Interton","MOVE 680-DWH","INT-0080",{"$f":"IF(ISBLANK('Assortiment Hoortoestellen'!$B$26),1,IF(ISERROR(SEARCH(PROPER('Assortiment Hoortoestellen'!$B$26),PROPER('Dataset hoortoestellen'!D13830))),0,1))","v":1}]
["Joosten Hoorspecialisten Hoorn",2,"Starkey","Muse iQ 1000 ITC","STA-0341",{"$f":"IF(ISBLANK('Assortiment Hoortoestellen'!$B$26),1,IF(ISERROR(SEARCH(PROPER('Assortiment Hoortoestellen'!$B$26),PROPER('Dataset hoortoestellen'!D13842))),0,1))","v":1}]
["Joosten Hoorspecialisten Hoorn",5,"Audio Service","P 12 G5","AUS-0189",{"$f":"IF(ISBLANK('Assortiment Hoortoestellen'!$B$26),1,IF(ISERROR(SEARCH(PROPER('Assortiment Hoortoestellen'!$B$26),PROPER('Dataset hoortoestellen'!D13863))),0,1))","v":1}]
["Joosten Hoorspecialisten Hoorn",3,"Oticon","Siya 2 miniRITE T 60 - 105","OTI-0351",{"$f":"IF(ISBLANK('Assortiment Hoortoestellen'!$B$26),1,IF(ISERROR(SEARCH(PROPER('Assortiment Hoortoestellen'!$B$26),PROPER('Dataset hoortoestellen'!D13879))),0,1))","v":1}]
["Joosten Hoorspecialisten Hoorn",4,"Phonak","Sky M30-SP","PHO-0335",{"$f":"IF(ISBLANK('Assortiment Hoortoestellen'!$B$26),1,IF(ISERROR(SEARCH(PROPER('Assortiment Hoortoestellen'!$B$26),PROPER('Dataset hoortoestellen'!D13882))),0,1))","v":1}]
["Joosten Hoorspecialisten Hoorn",3,"Widex","U110-XP","WID-0417",{"$f":"IF(ISBLANK('Assortiment Hoortoestellen'!$B$26),1,IF(ISERROR(SEARCH(PROPER('Assortiment Hoortoestellen'!$B$26),PROPER('Dataset hoortoestellen'!D13907))),0,1))","v":1}]
["Joosten Hoorspecialisten Hoorn",3,"Widex","U220-FS (HP-tel)","WID-0424",{"$f":"IF(ISBLANK('Assortiment Hoortoestellen'!$B$26),1,IF(ISERROR(SEARCH(PROPER('Assortiment Hoortoestellen'!$B$26),PROPER('Dataset hoortoestellen'!D13915))),0,1))","v":1}]
["Joosten Hoorspecialisten Hoorn",4,"Widex","U330-FS (P-tel)","WID-0439",{"$f":"IF(ISBLANK('Assortiment Hoortoestellen'!$B$26),1,IF(ISERROR(SEARCH(PROPER('Assortiment Hoortoestellen'!$B$26),PROPER('Dataset hoortoestellen'!D13931))),0,1))","v":1}]
["Joosten Hoorspecialisten Hoorn",5,"Widex","U440-PA (S-tel)","WID-0455",{"$f":"IF(ISBLANK('Assortiment Hoortoestellen'!$B$26),1,IF(ISERROR(SEARCH(PROPER('Assortiment Hoortoestellen'!$B$26),PROPER('Dataset hoortoestellen'!D13948))),0,1))","v":1}]
["Joosten Hoorspecialisten Hoorn",3,"Bernafon","Viron 3 BTE 105","BER-0663",{"$f":"IF(ISBLANK('Assortiment Hoortoestellen'!$B$26),1,IF(ISERROR(SEARCH(PROPER('Assortiment Hoortoestellen'!$B$26),PROPER('Dataset hoortoestellen'!D13955))),0,1))","v":1}]
["Joosten Hoorspecialisten Hoorn",4,"Phonak","Virto M30-312 NW O","PHO-0359",{"$f":"IF(ISBLANK('Assortiment Hoortoestellen'!$B$26),1,IF(ISERROR(SEARCH(PROPER('Assortiment Hoortoestellen'!$B$26),PROPER('Dataset hoortoestellen'!D13963))),0,1))","v":1}]
["Joosten Hoorspecialisten Hoorn",4,"Audio Service","quiX 6 G6 links","AUS-0255",{"$f":"IF(ISBLANK('Assortiment Hoortoestellen'!$B$26),1,IF(ISERROR(SEARCH(PROPER('Assortiment Hoortoestellen'!$B$26),PROPER('Dataset hoortoestellen'!D13979))),0,1))","v":1}]
["Joosten Hoorspecialisten Hoorn",5,"Unitron","Moxi B5-312","UNI-0522",{"$f":"IF(ISBLANK('Assortiment Hoortoestellen'!$B$26),1,IF(ISERROR(SEARCH(PROPER('Assortiment Hoortoestellen'!$B$26),PROPER('Dataset hoortoestellen'!D13999))),0,1))","v":1}]
["Joosten Hoorspecialisten Zaandam",4,"Phonak","Audéo M30-312","PHO-0342",{"$f":"IF(ISBLANK('Assortiment Hoortoestellen'!$B$26),1,IF(ISERROR(SEARCH(PROPER('Assortiment Hoortoestellen'!$B$26),PROPER('Dataset hoortoestellen'!D14010))),0,1))","v":1}]
["Joosten Hoorspecialisten Zaandam",3,"Audio Service","Duo 6 G5","AUS-0206",{"$f":"IF(ISBLANK('Assortiment Hoortoestellen'!$B$26),1,IF(ISERROR(SEARCH(PROPER('Assortiment Hoortoestellen'!$B$26),PROPER('Dataset hoortoestellen'!D14023))),0,1))","v":1}]
["Joosten Hoorspecialisten Zaandam",2,"Coselgi","Effect EF2-FS (M-tel)","COS-0281",{"$f":"IF(ISBLANK('Assortiment Hoortoestellen'!$B$26),1,IF(ISERROR(SEARCH(PROPER('Assortiment Hoortoestellen'!$B$26),PROPER('Dataset hoortoestellen'!D14043))),0,1))","v":1}]
["Joosten Hoorspecialisten Zaandam",3,"Coselgi","Effect EF4 F2(HP-tel)","COS-0298",{"$f":"IF(ISBLANK('Assortiment Hoortoestellen'!$B$26),1,IF(ISERROR(SEARCH(PROPER('Assortiment Hoortoestellen'!$B$26),PROPER('Dataset hoortoestellen'!D14047))),0,1))","v":1}]
["Joosten Hoorspecialisten Zaandam",3,"Coselgi","Effect EF4-FS (M-tel)","COS-0300",{"$f":"IF(ISBLANK('Assortiment Hoortoestellen'!$B$26),1,IF(ISERROR(SEARCH(PROPER('Assortiment Hoortoestellen'!$B$26),PROPER('Dataset hoortoestellen'!D14062))),0,1))","v":1}]
["Joosten Hoorspecialisten Zaandam",4,"Coselgi","Effect EF5-F2 (P-tel)","COS-0318",{"$f":"IF(ISBLANK('Assortiment Hoortoestellen'!$B$26),1,IF(ISERROR(SEARCH(PROPER('Assortiment Hoortoestellen'!$B$26),PROPER('Dataset hoortoestellen'!D14075))),0,1))","v":1}]
["Joosten Hoorspecialisten Zaandam",5,"Coselgi","Effect EF6-FA","COS-0353",{"$f":"IF(ISBLANK('Assortiment Hoortoestellen'!$B$26),1,IF(ISERROR(SEARCH(PROPER('Assortiment Hoortoestellen'!$B$26),PROPER('Dataset hoortoestellen'!D14095))),0,1))","v":1}]
["Joosten Hoorspecialisten Zaandam",5,"Coselgi","Effect EF6-FS (M-tel)","COS-0342",{"$f":"IF(ISBLANK('Assortiment Hoortoestellen'!$B$26),1,IF(ISERROR(SEARCH(PROPER('Assortiment Hoortoestellen'!$B$26),PROPER('Dataset hoortoestellen'!D14099))),0,1))","v":1}]
["Joosten Hoorspecialisten Zaandam",3,"Widex","Enjoy E-CIC M 110","WID-0557",{"$f":"IF(ISBLANK('Assortiment Hoortoestellen'!$B$26),1,IF(ISERROR(SEARCH(PROPER('Assortiment Hoortoestellen'!$B$26),PROPER('Dataset hoortoestellen'!D14114))),0,1))","v":1}]
["Joosten Hoorspecialisten Zaandam",2,"Widex","Enjoy E-F2 50 (M-tel)","WID-0595",{"$f":"IF(ISBLANK('Assortiment Hoortoestellen'!$B$26),1,IF(ISERROR(SEARCH(PROPER('Assortiment Hoortoestellen'!$B$26),PROPER('Dataset hoortoestellen'!D14136))),0,1))","v":1}]
["Joosten Hoorspecialisten Zaandam",3,"Widex","Enjoy E-FM 110","WID-0605",{"$f":"IF(ISBLANK('Assortiment Hoortoestellen'!$B$26),1,IF(ISERROR(SEARCH(PROPER('Assortiment Hoortoestellen'!$B$26),PROPER('Dataset hoortoestellen'!D14143))),0,1))","v":1}]
["Joosten Hoorspecialisten Zaandam",5,"Widex","Enjoy E-FS 330 (M-tel)","WID-0629",{"$f":"IF(ISBLANK('Assortiment Hoortoestellen'!$B$26),1,IF(ISERROR(SEARCH(PROPER('Assortiment Hoortoestellen'!$B$26),PROPER('Dataset hoortoestellen'!D14160))),0,1))","v":1}]
["Joosten Hoorspecialisten Zaandam",5,"ReSound","Enzo Q 588-DWHT","RES-0334",{"$f":"IF(ISBLANK('Assortiment Hoortoestellen'!$B$26),1,IF(ISERROR(SEARCH(PROPER('Assortiment Hoortoestellen'!$B$26),PROPER('Dataset hoortoestellen'!D14176))),0,1))","v":1}]
["Joosten Hoorspecialisten Zaandam",4,"Audio Service","HP 8 G4","AUS-0132",{"$f":"IF(ISBLANK('Assortiment Hoortoestellen'!$B$26),1,IF(ISERROR(SEARCH(PROPER('Assortiment Hoortoestellen'!$B$26),PROPER('Dataset hoortoestellen'!D14188))),0,1))","v":1}]
["Joosten Hoorspecialisten Zaandam",2,"ReSound","KEY 277-DW","RES-0313",{"$f":"IF(ISBLANK('Assortiment Hoortoestellen'!$B$26),1,IF(ISERROR(SEARCH(PROPER('Assortiment Hoortoestellen'!$B$26),PROPER('Dataset hoortoestellen'!D14195))),0,1))","v":1}]
["Joosten Hoorspecialisten Zaandam",4,"ReSound","KEY 477-DW","RES-0329",{"$f":"IF(ISBLANK('Assortiment Hoortoestellen'!$B$26),1,IF(ISERROR(SEARCH(PROPER('Assortiment Hoortoestellen'!$B$26),PROPER('Dataset hoortoestellen'!D14212))),0,1))","v":1}]
["Joosten Hoorspecialisten Zaandam",2,"Starkey","Livio 1000 RIC 312","STA-0382",{"$f":"IF(ISBLANK('Assortiment Hoortoestellen'!$B$26),1,IF(ISERROR(SEARCH(PROPER('Assortiment Hoortoestellen'!$B$26),PROPER('Dataset hoortoestellen'!D14228))),0,1))","v":1}]
["Joosten Hoorspecialisten Zaandam",3,"Starkey","Livio AI 1200 RIC 312","STA-0399",{"$f":"IF(ISBLANK('Assortiment Hoortoestellen'!$B$26),1,IF(ISERROR(SEARCH(PROPER('Assortiment Hoortoestellen'!$B$26),PROPER('Dataset hoortoestellen'!D14236))),0,1))","v":1}]
["Joosten Hoorspecialisten Zaandam",1,"Interton","Move 170-DW","INT-0050",{"$f":"IF(ISBLANK('Assortiment Hoortoestellen'!$B$26),1,IF(ISERROR(SEARCH(PROPER('Assortiment Hoortoestellen'!$B$26),PROPER('Dataset hoortoestellen'!D14257))),0,1))","v":1}]
["Joosten Hoorspecialisten Zaandam",2,"Interton","Move 262-DRW","INT-0053",{"$f":"IF(ISBLANK('Assortiment Hoortoestellen'!$B$26),1,IF(ISERROR(SEARCH(PROPER('Assortiment Hoortoestellen'!$B$26),PROPER('Dataset hoortoestellen'!D14260))),0,1))","v":1}]
["Joosten Hoorspecialisten Zaandam",4,"Interton","MOVE 465-DW","INT-0069",{"$f":"IF(ISBLANK('Assortiment Hoortoestellen'!$B$26),1,IF(ISERROR(SEARCH(PROPER('Assortiment Hoortoestellen'!$B$26),PROPER('Dataset hoortoestellen'!D14276))),0,1))","v":1}]
["Joosten Hoorspecialisten Zaandam",5,"Interton","MOVE 690-DW","INT-0081",{"$f":"IF(ISBLANK('Assortiment Hoortoestellen'!$B$26),1,IF(ISERROR(SEARCH(PROPER('Assortiment Hoortoestellen'!$B$26),PROPER('Dataset hoortoestellen'!D14288))),0,1))","v":1}]
["Joosten Hoorspecialisten Zaandam",4,"Starkey","Muse iQ i1200 ITE","STA-0364",{"$f":"IF(ISBLANK('Assortiment Hoortoestellen'!$B$26),1,IF(ISERROR(SEARCH(PROPER('Assortiment Hoortoestellen'!$B$26),PROPER('Dataset hoortoestellen'!D14309))),0,1))","v":1}]
["Joosten Hoorspecialisten Zaandam",5,"Audio Service","quiX 12 G5 Rechts","AUS-0192",{"$f":"IF(ISBLANK('Assortiment Hoortoestellen'!$B$26),1,IF(ISERROR(SEARCH(PROPER('Assortiment Hoortoestellen'!$B$26),PROPER('Dataset hoortoestellen'!D14325))),0,1))","v":1}]
["Joosten Hoorspecialisten Zaandam",4,"Audio Service","quiX 8 G5 Links","AUS-0193",{"$f":"IF(ISBLANK('Assortiment Hoortoestellen'!$B$26),1,IF(ISERROR(SEARCH(PROPER('Assortiment Hoortoestellen'!$B$26),PROPER('Dataset hoortoestellen'!D14328))),0,1))","v":1}]
["Joosten Hoorspecialisten Zaandam",5,"Beltone","TST 9CIC","BEL-0125",{"$f":"IF(ISBLANK('Assortiment Hoortoestellen'!$B$26),1,IF(ISERROR(SEARCH(PROPER('Assortiment Hoortoestellen'!$B$26),PROPER('Dataset hoortoestellen'!D14349))),0,1))","v":1}]
["Joosten Hoorspecialisten Zaandam",3,"Widex","U110-FP","WID-0410",{"$f":"IF(ISBLANK('Assortiment Hoortoestellen'!$B$26),1,IF(ISERROR(SEARCH(PROPER('Assortiment Hoortoestellen'!$B$26),PROPER('Dataset hoortoestellen'!D14357))),0,1))","v":1}]
["Joosten Hoorspecialisten Zaandam",3,"Widex","U220-FS (M-tel)","WID-0425",{"$f":"IF(ISBLANK('Assortiment Hoortoestellen'!$B$26),1,IF(ISERROR(SEARCH(PROPER('Assortiment Hoortoestellen'!$B$26),PROPER('Dataset hoortoestellen'!D14373))),0,1))","v":1}]
["Joosten Hoorspecialisten Zaandam",4,"Widex","U330-PA (M-tel)","WID-0441",{"$f":"IF(ISBLANK('Assortiment Hoortoestellen'!$B$26),1,IF(ISERROR(SEARCH(PROPER('Assortiment Hoortoestellen'!$B$26),PROPER('Dataset hoortoestellen'!D14390))),0,1))","v":1}]
["Joosten Hoorspecialisten Zaandam",5,"Widex","U440-FA","WID-0448",{"$f":"IF(ISBLANK('Assortiment Hoortoestellen'!$B$26),1,IF(ISERROR(SEARCH(PROPER('Assortiment Hoortoestellen'!$B$26),PROPER('Dataset hoortoestellen'!D14397))),0,1))","v":1}]
["Joosten Hoorspecialisten Zaandam",2,"Coselgi","U6-FA","COS-0243",{"$f":"IF(ISBLANK('Assortiment Hoortoestellen'!$B$26),1,IF(ISERROR(SEARCH(PROPER('Assortiment Hoortoestellen'!$B$26),PROPER('Dataset hoortoestellen'!D14409))),0,1))","v":1}]
["Joosten Hoorspecialisten Zaandam",2,"Bernafon","Zerena 1 CIC","BER-0616",{"$f":"IF(ISBLANK('Assortiment Hoortoestellen'!$B$26),1,IF(ISERROR(SEARCH(PROPER('Assortiment Hoortoestellen'!$B$26),PROPER('Dataset hoortoestellen'!D14425))),0,1))","v":1}]
["Joosten Hoorspecialisten Zaandam",5,"Unitron","Insera B5-312","UNI-0537",{"$f":"IF(ISBLANK('Assortiment Hoortoestellen'!$B$26),1,IF(ISERROR(SEARCH(PROPER('Assortiment Hoortoestellen'!$B$26),PROPER('Dataset hoortoestellen'!D14442))),0,1))","v":1}]
["Joosten Hoorspecialisten Zaandam",3,"Unitron","Moxi B1-312","UNI-0518",{"$f":"IF(ISBLANK('Assortiment Hoortoestellen'!$B$26),1,IF(ISERROR(SEARCH(PROPER('Assortiment Hoortoestellen'!$B$26),PROPER('Dataset hoortoestellen'!D14449))),0,1))","v":1}]
["KIND HOREN",5,"Audio Service","Mood 12 G5","AUS-0184",{"$f":"IF(ISBLANK('Assortiment Hoortoestellen'!$B$26),1,IF(ISERROR(SEARCH(PROPER('Assortiment Hoortoestellen'!$B$26),PROPER('Dataset hoortoestellen'!D14471))),0,1))","v":1}]
["KIND HOREN",3,"Audio Service","Mood 6 G5","AUS-0208",{"$f":"IF(ISBLANK('Assortiment Hoortoestellen'!$B$26),1,IF(ISERROR(SEARCH(PROPER('Assortiment Hoortoestellen'!$B$26),PROPER('Dataset hoortoestellen'!D14486))),0,1))","v":1}]
["KIND HOREN",2,"Audio Service","Rixx 4  G5","AUS-0215",{"$f":"IF(ISBLANK('Assortiment Hoortoestellen'!$B$26),1,IF(ISERROR(SEARCH(PROPER('Assortiment Hoortoestellen'!$B$26),PROPER('Dataset hoortoestellen'!D14493))),0,1))","v":1}]
["KIND HOREN",2,"Bernafon","Zerena 1 MNR","BER-0621",{"$f":"IF(ISBLANK('Assortiment Hoortoestellen'!$B$26),1,IF(ISERROR(SEARCH(PROPER('Assortiment Hoortoestellen'!$B$26),PROPER('Dataset hoortoestellen'!D14508))),0,1))","v":1}]
["KIND HOREN",5,"Bernafon","Zerena 7 BTE 105","BER-0639",{"$f":"IF(ISBLANK('Assortiment Hoortoestellen'!$B$26),1,IF(ISERROR(SEARCH(PROPER('Assortiment Hoortoestellen'!$B$26),PROPER('Dataset hoortoestellen'!D14517))),0,1))","v":1}]
["KIND HOREN",4,"Coselgi","U10E-FP","COS-0153",{"$f":"IF(ISBLANK('Assortiment Hoortoestellen'!$B$26),1,IF(ISERROR(SEARCH(PROPER('Assortiment Hoortoestellen'!$B$26),PROPER('Dataset hoortoestellen'!D14537))),0,1))","v":1}]
["KIND HOREN",5,"Coselgi","U15-PA (M-tel)","COS-0170",{"$f":"IF(ISBLANK('Assortiment Hoortoestellen'!$B$26),1,IF(ISERROR(SEARCH(PROPER('Assortiment Hoortoestellen'!$B$26),PROPER('Dataset hoortoestellen'!D14554))),0,1))","v":1}]
["KIND HOREN",2,"Coselgi","U6-CIC (links)","COS-0241",{"$f":"IF(ISBLANK('Assortiment Hoortoestellen'!$B$26),1,IF(ISERROR(SEARCH(PROPER('Assortiment Hoortoestellen'!$B$26),PROPER('Dataset hoortoestellen'!D14556))),0,1))","v":1}]
["KIND HOREN",2,"Coselgi","Effect EF2-F2 (P-tel)","COS-0278",{"$f":"IF(ISBLANK('Assortiment Hoortoestellen'!$B$26),1,IF(ISERROR(SEARCH(PROPER('Assortiment Hoortoestellen'!$B$26),PROPER('Dataset hoortoestellen'!D14582))),0,1))","v":1}]
["KIND HOREN",2,"Coselgi","Effect EF2-CIC Rechts","COS-0287",{"$f":"IF(ISBLANK('Assortiment Hoortoestellen'!$B$26),1,IF(ISERROR(SEARCH(PROPER('Assortiment Hoortoestellen'!$B$26),PROPER('Dataset hoortoestellen'!D14589))),0,1))","v":1}]
["KIND HOREN",3,"Coselgi","Effect EF4-CIC M","COS-0306",{"$f":"IF(ISBLANK('Assortiment Hoortoestellen'!$B$26),1,IF(ISERROR(SEARCH(PROPER('Assortiment Hoortoestellen'!$B$26),PROPER('Dataset hoortoestellen'!D14606))),0,1))","v":1}]
["KIND HOREN",4,"Coselgi","Effect EF5-RIC 10 (S-tel)","COS-0325",{"$f":"IF(ISBLANK('Assortiment Hoortoestellen'!$B$26),1,IF(ISERROR(SEARCH(PROPER('Assortiment Hoortoestellen'!$B$26),PROPER('Dataset hoortoestellen'!D14622))),0,1))","v":1}]
["KIND HOREN",4,"Coselgi","Effect EF5-FP","COS-0334",{"$f":"IF(ISBLANK('Assortiment Hoortoestellen'!$B$26),1,IF(ISERROR(SEARCH(PROPER('Assortiment Hoortoestellen'!$B$26),PROPER('Dataset hoortoestellen'!D14630))),0,1))","v":1}]
["KIND HOREN",5,"Coselgi","Effect EF6-FS (M-tel)","COS-0342",{"$f":"IF(ISBLANK('Assortiment Hoortoestellen'!$B$26),1,IF(ISERROR(SEARCH(PROPER('Assortiment Hoortoestellen'!$B$26),PROPER('Dataset hoortoestellen'!D14637))),0,1))","v":1}]
["KIND HOREN",2,"Interton","RD361-DRW","INT-0032",{"$f":"IF(ISBLANK('Assortiment Hoortoestellen'!$B$26),1,IF(ISERROR(SEARCH(PROPER('Assortiment Hoortoestellen'!$B$26),PROPER('Dataset hoortoestellen'!D14654))),0,1))","v":1}]
["KIND HOREN",5,"Interton","RD6CIC","INT-0048",{"$f":"IF(ISBLANK('Assortiment Hoortoestellen'!$B$26),1,IF(ISERROR(SEARCH(PROPER('Assortiment Hoortoestellen'!$B$26),PROPER('Dataset hoortoestellen'!D14670))),0,1))","v":1}]
["KIND HOREN",4,"Oticon","Siya 1 miniRITE T 60 - 105","OTI-0344",{"$f":"IF(ISBLANK('Assortiment Hoortoestellen'!$B$26),1,IF(ISERROR(SEARCH(PROPER('Assortiment Hoortoestellen'!$B$26),PROPER('Dataset hoortoestellen'!D14678))),0,1))","v":1}]
["KIND HOREN",5,"Phonak","Audeo B 70 13","PHO-0279",{"$f":"IF(ISBLANK('Assortiment Hoortoestellen'!$B$26),1,IF(ISERROR(SEARCH(PROPER('Assortiment Hoortoestellen'!$B$26),PROPER('Dataset hoortoestellen'!D14703))),0,1))","v":1}]
["KIND HOREN",3,"Phonak","Bolero B 30 P","PHO-0284",{"$f":"IF(ISBLANK('Assortiment Hoortoestellen'!$B$26),1,IF(ISERROR(SEARCH(PROPER('Assortiment Hoortoestellen'!$B$26),PROPER('Dataset hoortoestellen'!D14706))),0,1))","v":1}]
["KIND HOREN",3,"Phonak","Sky B 30 RIC","PHO-0309",{"$f":"IF(ISBLANK('Assortiment Hoortoestellen'!$B$26),1,IF(ISERROR(SEARCH(PROPER('Assortiment Hoortoestellen'!$B$26),PROPER('Dataset hoortoestellen'!D14722))),0,1))","v":1}]
["KIND HOREN",4,"Phonak","Sky M30-M","PHO-0333",{"$f":"IF(ISBLANK('Assortiment Hoortoestellen'!$B$26),1,IF(ISERROR(SEARCH(PROPER('Assortiment Hoortoestellen'!$B$26),PROPER('Dataset hoortoestellen'!D14743))),0,1))","v":1}]
["KIND HOREN",2,"ReSound","Enya 3 ITC","RES-0212",{"$f":"IF(ISBLANK('Assortiment Hoortoestellen'!$B$26),1,IF(ISERROR(SEARCH(PROPER('Assortiment Hoortoestellen'!$B$26),PROPER('Dataset hoortoestellen'!D14751))),0,1))","v":1}]
["KIND HOREN",4,"ReSound","LiNX 3D 5 CIC","RES-0292",{"$f":"IF(ISBLANK('Assortiment Hoortoestellen'!$B$26),1,IF(ISERROR(SEARCH(PROPER('Assortiment Hoortoestellen'!$B$26),PROPER('Dataset hoortoestellen'!D14767))),0,1))","v":1}]
["KIND HOREN",1,"Starkey","Muse i1000 ITC","STA-0279",{"$f":"IF(ISBLANK('Assortiment Hoortoestellen'!$B$26),1,IF(ISERROR(SEARCH(PROPER('Assortiment Hoortoestellen'!$B$26),PROPER('Dataset hoortoestellen'!D14784))),0,1))","v":1}]
["KIND HOREN",2,"Starkey","Muse iQ 1000 CIC","STA-0340",{"$f":"IF(ISBLANK('Assortiment Hoortoestellen'!$B$26),1,IF(ISERROR(SEARCH(PROPER('Assortiment Hoortoestellen'!$B$26),PROPER('Dataset hoortoestellen'!D14791))),0,1))","v":1}]
["KIND HOREN",4,"Starkey","Muse iQ i1200 ITC","STA-0363",{"$f":"IF(ISBLANK('Assortiment Hoortoestellen'!$B$26),1,IF(ISERROR(SEARCH(PROPER('Assortiment Hoortoestellen'!$B$26),PROPER('Dataset hoortoestellen'!D14803))),0,1))","v":1}]
["KIND HOREN",5,"Starkey","Livio 1600 RIC R","STA-0391",{"$f":"IF(ISBLANK('Assortiment Hoortoestellen'!$B$26),1,IF(ISERROR(SEARCH(PROPER('Assortiment Hoortoestellen'!$B$26),PROPER('Dataset hoortoestellen'!D14819))),0,1))","v":1}]
["KIND HOREN",4,"Unitron","T Insera 600 W 312 Dir","UNI-0331",{"$f":"IF(ISBLANK('Assortiment Hoortoestellen'!$B$26),1,IF(ISERROR(SEARCH(PROPER('Assortiment Hoortoestellen'!$B$26),PROPER('Dataset hoortoestellen'!D14836))),0,1))","v":1}]
["KIND HOREN",2,"Unitron","Shine Rev+ RIC","UNI-0432",{"$f":"IF(ISBLANK('Assortiment Hoortoestellen'!$B$26),1,IF(ISERROR(SEARCH(PROPER('Assortiment Hoortoestellen'!$B$26),PROPER('Dataset hoortoestellen'!D14843))),0,1))","v":1}]
["KIND HOREN",4,"Unitron","DX Moxi Jump R T 3","UNI-0446",{"$f":"IF(ISBLANK('Assortiment Hoortoestellen'!$B$26),1,IF(ISERROR(SEARCH(PROPER('Assortiment Hoortoestellen'!$B$26),PROPER('Dataset hoortoestellen'!D14855))),0,1))","v":1}]
["KIND HOREN",3,"Widex","U110-CIC","WID-0404",{"$f":"IF(ISBLANK('Assortiment Hoortoestellen'!$B$26),1,IF(ISERROR(SEARCH(PROPER('Assortiment Hoortoestellen'!$B$26),PROPER('Dataset hoortoestellen'!D14867))),0,1))","v":1}]
["KIND HOREN",3,"Widex","U220-CIC-M TR","WID-0421",{"$f":"IF(ISBLANK('Assortiment Hoortoestellen'!$B$26),1,IF(ISERROR(SEARCH(PROPER('Assortiment Hoortoestellen'!$B$26),PROPER('Dataset hoortoestellen'!D14884))),0,1))","v":1}]
["KIND HOREN",4,"Widex","U330-PA (M-tel)","WID-0441",{"$f":"IF(ISBLANK('Assortiment Hoortoestellen'!$B$26),1,IF(ISERROR(SEARCH(PROPER('Assortiment Hoortoestellen'!$B$26),PROPER('Dataset hoortoestellen'!D14904))),0,1))","v":1}]
["KIND HOREN",5,"Widex","U440-PA (S-tel)","WID-0455",{"$f":"IF(ISBLANK('Assortiment Hoortoestellen'!$B$26),1,IF(ISERROR(SEARCH(PROPER('Assortiment Hoortoestellen'!$B$26),PROPER('Dataset hoortoestellen'!D14917))),0,1))","v":1}]
["KIND HOREN",3,"Widex","Enjoy E-CIC M TR 110","WID-0563",{"$f":"IF(ISBLANK('Assortiment Hoortoestellen'!$B$26),1,IF(ISERROR(SEARCH(PROPER('Assortiment Hoortoestellen'!$B$26),PROPER('Dataset hoortoestellen'!D14932))),0,1))","v":1}]
["KIND HOREN",3,"Widex","Enjoy E-F2 110 (HP-tel)","WID-0578",{"$f":"IF(ISBLANK('Assortiment Hoortoestellen'!$B$26),1,IF(ISERROR(SEARCH(PROPER('Assortiment Hoortoestellen'!$B$26),PROPER('Dataset hoortoestellen'!D14936))),0,1))","v":1}]
["KIND HOREN",3,"Widex","Enjoy E-FM 110","WID-0605",{"$f":"IF(ISBLANK('Assortiment Hoortoestellen'!$B$26),1,IF(ISERROR(SEARCH(PROPER('Assortiment Hoortoestellen'!$B$26),PROPER('Dataset hoortoestellen'!D14956))),0,1))","v":1}]
["KIND HOREN",4,"Widex","Enjoy E-FS 220 (M-tel)","WID-0625",{"$f":"IF(ISBLANK('Assortiment Hoortoestellen'!$B$26),1,IF(ISERROR(SEARCH(PROPER('Assortiment Hoortoestellen'!$B$26),PROPER('Dataset hoortoestellen'!D14969))),0,1))","v":1}]
["KIND HOREN",3,"Widex","Enjoy E-PA 110 (M-tel)","WID-0642",{"$f":"IF(ISBLANK('Assortiment Hoortoestellen'!$B$26),1,IF(ISERROR(SEARCH(PROPER('Assortiment Hoortoestellen'!$B$26),PROPER('Dataset hoortoestellen'!D14980))),0,1))","v":1}]
["Kooijman Hoortoestellen",3,"Audio Service","HP 6 G4","AUS-0154",{"$f":"IF(ISBLANK('Assortiment Hoortoestellen'!$B$26),1,IF(ISERROR(SEARCH(PROPER('Assortiment Hoortoestellen'!$B$26),PROPER('Dataset hoortoestellen'!D15000))),0,1))","v":1}]
["Kooijman Hoortoestellen",4,"Audio Service","Duo 8 G5","AUS-0178",{"$f":"IF(ISBLANK('Assortiment Hoortoestellen'!$B$26),1,IF(ISERROR(SEARCH(PROPER('Assortiment Hoortoestellen'!$B$26),PROPER('Dataset hoortoestellen'!D15002))),0,1))","v":1}]
["Kooijman Hoortoestellen",3,"Audio Service","Mood 6 G5","AUS-0208",{"$f":"IF(ISBLANK('Assortiment Hoortoestellen'!$B$26),1,IF(ISERROR(SEARCH(PROPER('Assortiment Hoortoestellen'!$B$26),PROPER('Dataset hoortoestellen'!D15024))),0,1))","v":1}]
["Kooijman Hoortoestellen",2,"Audio Service","Rixx 4  G5","AUS-0215",{"$f":"IF(ISBLANK('Assortiment Hoortoestellen'!$B$26),1,IF(ISERROR(SEARCH(PROPER('Assortiment Hoortoestellen'!$B$26),PROPER('Dataset hoortoestellen'!D15031))),0,1))","v":1}]
["Kooijman Hoortoestellen",1,"Bernafon","Nevara 1 P","BER-0460",{"$f":"IF(ISBLANK('Assortiment Hoortoestellen'!$B$26),1,IF(ISERROR(SEARCH(PROPER('Assortiment Hoortoestellen'!$B$26),PROPER('Dataset hoortoestellen'!D15048))),0,1))","v":1}]
["Kooijman Hoortoestellen",5,"Bernafon","Viron 7 BTE 105","BER-0671",{"$f":"IF(ISBLANK('Assortiment Hoortoestellen'!$B$26),1,IF(ISERROR(SEARCH(PROPER('Assortiment Hoortoestellen'!$B$26),PROPER('Dataset hoortoestellen'!D15064))),0,1))","v":1}]
["Kooijman Hoortoestellen",2,"Coselgi","Effect EF2-F2 (S-tel)","COS-0279",{"$f":"IF(ISBLANK('Assortiment Hoortoestellen'!$B$26),1,IF(ISERROR(SEARCH(PROPER('Assortiment Hoortoestellen'!$B$26),PROPER('Dataset hoortoestellen'!D15072))),0,1))","v":1}]
["Kooijman Hoortoestellen",2,"Coselgi","Effect EF2-FP","COS-0292",{"$f":"IF(ISBLANK('Assortiment Hoortoestellen'!$B$26),1,IF(ISERROR(SEARCH(PROPER('Assortiment Hoortoestellen'!$B$26),PROPER('Dataset hoortoestellen'!D15083))),0,1))","v":1}]
["Kooijman Hoortoestellen",3,"Coselgi","Effect EF4-FM","COS-0312",{"$f":"IF(ISBLANK('Assortiment Hoortoestellen'!$B$26),1,IF(ISERROR(SEARCH(PROPER('Assortiment Hoortoestellen'!$B$26),PROPER('Dataset hoortoestellen'!D15100))),0,1))","v":1}]
["Kooijman Hoortoestellen",4,"Coselgi","Effect EF5-CIC TR Rechts","COS-0331",{"$f":"IF(ISBLANK('Assortiment Hoortoestellen'!$B$26),1,IF(ISERROR(SEARCH(PROPER('Assortiment Hoortoestellen'!$B$26),PROPER('Dataset hoortoestellen'!D15116))),0,1))","v":1}]
["Kooijman Hoortoestellen",5,"Coselgi","Effect EF6-F2 (S-tel)","COS-0340",{"$f":"IF(ISBLANK('Assortiment Hoortoestellen'!$B$26),1,IF(ISERROR(SEARCH(PROPER('Assortiment Hoortoestellen'!$B$26),PROPER('Dataset hoortoestellen'!D15124))),0,1))","v":1}]
["Kooijman Hoortoestellen",2,"Interton","MOVE 361-DRW","INT-0058",{"$f":"IF(ISBLANK('Assortiment Hoortoestellen'!$B$26),1,IF(ISERROR(SEARCH(PROPER('Assortiment Hoortoestellen'!$B$26),PROPER('Dataset hoortoestellen'!D15149))),0,1))","v":1}]
["Kooijman Hoortoestellen",3,"Interton","MOVE 490-DW","INT-0072",{"$f":"IF(ISBLANK('Assortiment Hoortoestellen'!$B$26),1,IF(ISERROR(SEARCH(PROPER('Assortiment Hoortoestellen'!$B$26),PROPER('Dataset hoortoestellen'!D15161))),0,1))","v":1}]
["Kooijman Hoortoestellen",4,"Interton","MOVE 661-DRW","INT-0075",{"$f":"IF(ISBLANK('Assortiment Hoortoestellen'!$B$26),1,IF(ISERROR(SEARCH(PROPER('Assortiment Hoortoestellen'!$B$26),PROPER('Dataset hoortoestellen'!D15164))),0,1))","v":1}]
["Kooijman Hoortoestellen",3,"Oticon","Geno 1 BTE 85","OTI-0377",{"$f":"IF(ISBLANK('Assortiment Hoortoestellen'!$B$26),1,IF(ISERROR(SEARCH(PROPER('Assortiment Hoortoestellen'!$B$26),PROPER('Dataset hoortoestellen'!D15185))),0,1))","v":1}]
["Kooijman Hoortoestellen",4,"Phonak","Audeo B 50 10","PHO-0273",{"$f":"IF(ISBLANK('Assortiment Hoortoestellen'!$B$26),1,IF(ISERROR(SEARCH(PROPER('Assortiment Hoortoestellen'!$B$26),PROPER('Dataset hoortoestellen'!D15197))),0,1))","v":1}]
["Kooijman Hoortoestellen",3,"Phonak","Naida B 30 SP","PHO-0299",{"$f":"IF(ISBLANK('Assortiment Hoortoestellen'!$B$26),1,IF(ISERROR(SEARCH(PROPER('Assortiment Hoortoestellen'!$B$26),PROPER('Dataset hoortoestellen'!D15213))),0,1))","v":1}]
["Kooijman Hoortoestellen",5,"Phonak","Sky B 70 P","PHO-0319",{"$f":"IF(ISBLANK('Assortiment Hoortoestellen'!$B$26),1,IF(ISERROR(SEARCH(PROPER('Assortiment Hoortoestellen'!$B$26),PROPER('Dataset hoortoestellen'!D15230))),0,1))","v":1}]
["Kooijman Hoortoestellen",4,"Phonak","Virto B 50 13","PHO-0328",{"$f":"IF(ISBLANK('Assortiment Hoortoestellen'!$B$26),1,IF(ISERROR(SEARCH(PROPER('Assortiment Hoortoestellen'!$B$26),PROPER('Dataset hoortoestellen'!D15237))),0,1))","v":1}]
["Kooijman Hoortoestellen",2,"ReSound","MagnaSP 490 DVI","RES-0227",{"$f":"IF(ISBLANK('Assortiment Hoortoestellen'!$B$26),1,IF(ISERROR(SEARCH(PROPER('Assortiment Hoortoestellen'!$B$26),PROPER('Dataset hoortoestellen'!D15249))),0,1))","v":1}]
["Kooijman Hoortoestellen",2,"ReSound","KEY 267-DW","RES-0312",{"$f":"IF(ISBLANK('Assortiment Hoortoestellen'!$B$26),1,IF(ISERROR(SEARCH(PROPER('Assortiment Hoortoestellen'!$B$26),PROPER('Dataset hoortoestellen'!D15261))),0,1))","v":1}]
["Kooijman Hoortoestellen",4,"ReSound","KEY 477-DW","RES-0329",{"$f":"IF(ISBLANK('Assortiment Hoortoestellen'!$B$26),1,IF(ISERROR(SEARCH(PROPER('Assortiment Hoortoestellen'!$B$26),PROPER('Dataset hoortoestellen'!D15278))),0,1))","v":1}]
["Kooijman Hoortoestellen",1,"Starkey","Muse i1000 ITC","STA-0279",{"$f":"IF(ISBLANK('Assortiment Hoortoestellen'!$B$26),1,IF(ISERROR(SEARCH(PROPER('Assortiment Hoortoestellen'!$B$26),PROPER('Dataset hoortoestellen'!D15285))),0,1))","v":1}]
["Kooijman Hoortoestellen",3,"Starkey","Livio 1000 RIC 312","STA-0382",{"$f":"IF(ISBLANK('Assortiment Hoortoestellen'!$B$26),1,IF(ISERROR(SEARCH(PROPER('Assortiment Hoortoestellen'!$B$26),PROPER('Dataset hoortoestellen'!D15311))),0,1))","v":1}]
["Kooijman Hoortoestellen",4,"Starkey","Livio 1200 BTE R","STA-0393",{"$f":"IF(ISBLANK('Assortiment Hoortoestellen'!$B$26),1,IF(ISERROR(SEARCH(PROPER('Assortiment Hoortoestellen'!$B$26),PROPER('Dataset hoortoestellen'!D15322))),0,1))","v":1}]
["Kooijman Hoortoestellen",3,"Unitron","T Stride 500 M","UNI-0304",{"$f":"IF(ISBLANK('Assortiment Hoortoestellen'!$B$26),1,IF(ISERROR(SEARCH(PROPER('Assortiment Hoortoestellen'!$B$26),PROPER('Dataset hoortoestellen'!D15330))),0,1))","v":1}]
["Kooijman Hoortoestellen",4,"Unitron","DX Insera 5 312 Omni","UNI-0438",{"$f":"IF(ISBLANK('Assortiment Hoortoestellen'!$B$26),1,IF(ISERROR(SEARCH(PROPER('Assortiment Hoortoestellen'!$B$26),PROPER('Dataset hoortoestellen'!D15350))),0,1))","v":1}]
["Kooijman Hoortoestellen",4,"Unitron","DX Stride P R 3","UNI-0455",{"$f":"IF(ISBLANK('Assortiment Hoortoestellen'!$B$26),1,IF(ISERROR(SEARCH(PROPER('Assortiment Hoortoestellen'!$B$26),PROPER('Dataset hoortoestellen'!D15363))),0,1))","v":1}]
["Kooijman Hoortoestellen",3,"Widex","U110-FP","WID-0410",{"$f":"IF(ISBLANK('Assortiment Hoortoestellen'!$B$26),1,IF(ISERROR(SEARCH(PROPER('Assortiment Hoortoestellen'!$B$26),PROPER('Dataset hoortoestellen'!D15374))),0,1))","v":1}]
["Kooijman Hoortoestellen",3,"Widex","U220-PA (M-tel)","WID-0428",{"$f":"IF(ISBLANK('Assortiment Hoortoestellen'!$B$26),1,IF(ISERROR(SEARCH(PROPER('Assortiment Hoortoestellen'!$B$26),PROPER('Dataset hoortoestellen'!D15392))),0,1))","v":1}]
["Kooijman Hoortoestellen",4,"Widex","U330-CIC-M TR","WID-0434",{"$f":"IF(ISBLANK('Assortiment Hoortoestellen'!$B$26),1,IF(ISERROR(SEARCH(PROPER('Assortiment Hoortoestellen'!$B$26),PROPER('Dataset hoortoestellen'!D15398))),0,1))","v":1}]
["Kooijman Hoortoestellen",5,"Widex","U440-CIC-M TR","WID-0447",{"$f":"IF(ISBLANK('Assortiment Hoortoestellen'!$B$26),1,IF(ISERROR(SEARCH(PROPER('Assortiment Hoortoestellen'!$B$26),PROPER('Dataset hoortoestellen'!D15411))),0,1))","v":1}]
["Kooijman Hoortoestellen",4,"Widex","U330-FP","WID-0458",{"$f":"IF(ISBLANK('Assortiment Hoortoestellen'!$B$26),1,IF(ISERROR(SEARCH(PROPER('Assortiment Hoortoestellen'!$B$26),PROPER('Dataset hoortoestellen'!D15422))),0,1))","v":1}]
["Kooijman Hoortoestellen",4,"Widex","Enjoy E-F2 220 (P-tel)","WID-0584",{"$f":"IF(ISBLANK('Assortiment Hoortoestellen'!$B$26),1,IF(ISERROR(SEARCH(PROPER('Assortiment Hoortoestellen'!$B$26),PROPER('Dataset hoortoestellen'!D15444))),0,1))","v":1}]
["Kooijman Hoortoestellen",2,"Widex","Enjoy E-F2 50 (HP-tel)","WID-0594",{"$f":"IF(ISBLANK('Assortiment Hoortoestellen'!$B$26),1,IF(ISERROR(SEARCH(PROPER('Assortiment Hoortoestellen'!$B$26),PROPER('Dataset hoortoestellen'!D15450))),0,1))","v":1}]
["Kooijman Hoortoestellen",4,"Widex","Enjoy E-FP 220","WID-0612",{"$f":"IF(ISBLANK('Assortiment Hoortoestellen'!$B$26),1,IF(ISERROR(SEARCH(PROPER('Assortiment Hoortoestellen'!$B$26),PROPER('Dataset hoortoestellen'!D15463))),0,1))","v":1}]
["Kooijman Hoortoestellen",5,"Widex","Enjoy E-FS 330 (HP-tel)","WID-0628",{"$f":"IF(ISBLANK('Assortiment Hoortoestellen'!$B$26),1,IF(ISERROR(SEARCH(PROPER('Assortiment Hoortoestellen'!$B$26),PROPER('Dataset hoortoestellen'!D15474))),0,1))","v":1}]
["Kooijman Hoortoestellen",4,"Widex","Enjoy E-CIC TR 220 Rechts","WID-0662",{"$f":"IF(ISBLANK('Assortiment Hoortoestellen'!$B$26),1,IF(ISERROR(SEARCH(PROPER('Assortiment Hoortoestellen'!$B$26),PROPER('Dataset hoortoestellen'!D15494))),0,1))","v":1}]
["Krijnen HoorVisie ",5,"Bernafon","Zerena 7 MNR","BER-0645",{"$f":"IF(ISBLANK('Assortiment Hoortoestellen'!$B$26),1,IF(ISERROR(SEARCH(PROPER('Assortiment Hoortoestellen'!$B$26),PROPER('Dataset hoortoestellen'!D15510))),0,1))","v":1}]
["Krijnen HoorVisie ",1,"Oticon","Get","OTI-0064",{"$f":"IF(ISBLANK('Assortiment Hoortoestellen'!$B$26),1,IF(ISERROR(SEARCH(PROPER('Assortiment Hoortoestellen'!$B$26),PROPER('Dataset hoortoestellen'!D15518))),0,1))","v":1}]
["Krijnen HoorVisie ",3,"Starkey","Muse iQ i1000 CIC","STA-0352",{"$f":"IF(ISBLANK('Assortiment Hoortoestellen'!$B$26),1,IF(ISERROR(SEARCH(PROPER('Assortiment Hoortoestellen'!$B$26),PROPER('Dataset hoortoestellen'!D15529))),0,1))","v":1}]
["Krijnen HoorVisie ",3,"Widex","U220-PA (M-tel)","WID-0428",{"$f":"IF(ISBLANK('Assortiment Hoortoestellen'!$B$26),1,IF(ISERROR(SEARCH(PROPER('Assortiment Hoortoestellen'!$B$26),PROPER('Dataset hoortoestellen'!D15542))),0,1))","v":1}]
["Krijnen HoorVisie ",4,"Widex","Enjoy E-F2 220 (M-tel)","WID-0583",{"$f":"IF(ISBLANK('Assortiment Hoortoestellen'!$B$26),1,IF(ISERROR(SEARCH(PROPER('Assortiment Hoortoestellen'!$B$26),PROPER('Dataset hoortoestellen'!D15558))),0,1))","v":1}]
["Lens de Meern BV",5,"Bernafon","Zerena 7 CIC","BER-0640",{"$f":"IF(ISBLANK('Assortiment Hoortoestellen'!$B$26),1,IF(ISERROR(SEARCH(PROPER('Assortiment Hoortoestellen'!$B$26),PROPER('Dataset hoortoestellen'!D15579))),0,1))","v":1}]
["Lens de Meern BV",2,"Coselgi","U6-FA","COS-0243",{"$f":"IF(ISBLANK('Assortiment Hoortoestellen'!$B$26),1,IF(ISERROR(SEARCH(PROPER('Assortiment Hoortoestellen'!$B$26),PROPER('Dataset hoortoestellen'!D15591))),0,1))","v":1}]
["Lens de Meern BV",2,"Coselgi","Effect EF2-CIC TR Rechts","COS-0289",{"$f":"IF(ISBLANK('Assortiment Hoortoestellen'!$B$26),1,IF(ISERROR(SEARCH(PROPER('Assortiment Hoortoestellen'!$B$26),PROPER('Dataset hoortoestellen'!D15603))),0,1))","v":1}]
["Lens de Meern BV",3,"Coselgi","Effect EF4-F2 (S-tel)","COS-0297",{"$f":"IF(ISBLANK('Assortiment Hoortoestellen'!$B$26),1,IF(ISERROR(SEARCH(PROPER('Assortiment Hoortoestellen'!$B$26),PROPER('Dataset hoortoestellen'!D15610))),0,1))","v":1}]
["Lens de Meern BV",4,"Coselgi","Effect EF5-FS (P-tel)","COS-0322",{"$f":"IF(ISBLANK('Assortiment Hoortoestellen'!$B$26),1,IF(ISERROR(SEARCH(PROPER('Assortiment Hoortoestellen'!$B$26),PROPER('Dataset hoortoestellen'!D15631))),0,1))","v":1}]
["Lens de Meern BV",4,"Coselgi","Effect EF5-XP","COS-0335",{"$f":"IF(ISBLANK('Assortiment Hoortoestellen'!$B$26),1,IF(ISERROR(SEARCH(PROPER('Assortiment Hoortoestellen'!$B$26),PROPER('Dataset hoortoestellen'!D15643))),0,1))","v":1}]
["Lens de Meern BV",5,"Coselgi","Effect EF6-CIC Rechts","COS-0350",{"$f":"IF(ISBLANK('Assortiment Hoortoestellen'!$B$26),1,IF(ISERROR(SEARCH(PROPER('Assortiment Hoortoestellen'!$B$26),PROPER('Dataset hoortoestellen'!D15655))),0,1))","v":1}]
["Lens de Meern BV",4,"Oticon","Siya 1 miniRITE T 60 - 105","OTI-0344",{"$f":"IF(ISBLANK('Assortiment Hoortoestellen'!$B$26),1,IF(ISERROR(SEARCH(PROPER('Assortiment Hoortoestellen'!$B$26),PROPER('Dataset hoortoestellen'!D15672))),0,1))","v":1}]
["Lens de Meern BV",4,"Oticon","Ruby 2 miniRITE R 60 - 105","OTI-0373",{"$f":"IF(ISBLANK('Assortiment Hoortoestellen'!$B$26),1,IF(ISERROR(SEARCH(PROPER('Assortiment Hoortoestellen'!$B$26),PROPER('Dataset hoortoestellen'!D15679))),0,1))","v":1}]
["Lens de Meern BV",3,"Phonak","Audeo B 30 312 T","PHO-0272",{"$f":"IF(ISBLANK('Assortiment Hoortoestellen'!$B$26),1,IF(ISERROR(SEARCH(PROPER('Assortiment Hoortoestellen'!$B$26),PROPER('Dataset hoortoestellen'!D15691))),0,1))","v":1}]
["Lens de Meern BV",4,"Phonak","Bolero B 50 P","PHO-0287",{"$f":"IF(ISBLANK('Assortiment Hoortoestellen'!$B$26),1,IF(ISERROR(SEARCH(PROPER('Assortiment Hoortoestellen'!$B$26),PROPER('Dataset hoortoestellen'!D15703))),0,1))","v":1}]
["Lens de Meern BV",5,"Phonak","Sky B 70 M","PHO-0318",{"$f":"IF(ISBLANK('Assortiment Hoortoestellen'!$B$26),1,IF(ISERROR(SEARCH(PROPER('Assortiment Hoortoestellen'!$B$26),PROPER('Dataset hoortoestellen'!D15724))),0,1))","v":1}]
["Lens de Meern BV",3,"Phonak","Virto B 30 312","PHO-0326",{"$f":"IF(ISBLANK('Assortiment Hoortoestellen'!$B$26),1,IF(ISERROR(SEARCH(PROPER('Assortiment Hoortoestellen'!$B$26),PROPER('Dataset hoortoestellen'!D15731))),0,1))","v":1}]
["Lens de Meern BV",1,"Starkey","Muse i1000 BTE312","STA-0278",{"$f":"IF(ISBLANK('Assortiment Hoortoestellen'!$B$26),1,IF(ISERROR(SEARCH(PROPER('Assortiment Hoortoestellen'!$B$26),PROPER('Dataset hoortoestellen'!D15743))),0,1))","v":1}]
["Lens de Meern BV",3,"Starkey","Livio 1000 BTE 13","STA-0380",{"$f":"IF(ISBLANK('Assortiment Hoortoestellen'!$B$26),1,IF(ISERROR(SEARCH(PROPER('Assortiment Hoortoestellen'!$B$26),PROPER('Dataset hoortoestellen'!D15768))),0,1))","v":1}]
["Lens de Meern BV",4,"Starkey","Livio 1200 BTE 13","STA-0384",{"$f":"IF(ISBLANK('Assortiment Hoortoestellen'!$B$26),1,IF(ISERROR(SEARCH(PROPER('Assortiment Hoortoestellen'!$B$26),PROPER('Dataset hoortoestellen'!D15772))),0,1))","v":1}]
["Lens de Meern BV",3,"Widex","U110-FS (P-tel)","WID-0413",{"$f":"IF(ISBLANK('Assortiment Hoortoestellen'!$B$26),1,IF(ISERROR(SEARCH(PROPER('Assortiment Hoortoestellen'!$B$26),PROPER('Dataset hoortoestellen'!D15792))),0,1))","v":1}]
["Lens de Meern BV",3,"Widex","U220-FS (P-tel)","WID-0426",{"$f":"IF(ISBLANK('Assortiment Hoortoestellen'!$B$26),1,IF(ISERROR(SEARCH(PROPER('Assortiment Hoortoestellen'!$B$26),PROPER('Dataset hoortoestellen'!D15805))),0,1))","v":1}]
["Lens de Meern BV",4,"Widex","U330-FS (HP-tel)","WID-0437",{"$f":"IF(ISBLANK('Assortiment Hoortoestellen'!$B$26),1,IF(ISERROR(SEARCH(PROPER('Assortiment Hoortoestellen'!$B$26),PROPER('Dataset hoortoestellen'!D15816))),0,1))","v":1}]
["Lens de Meern BV",5,"Widex","U440-CIC TR","WID-0445",{"$f":"IF(ISBLANK('Assortiment Hoortoestellen'!$B$26),1,IF(ISERROR(SEARCH(PROPER('Assortiment Hoortoestellen'!$B$26),PROPER('Dataset hoortoestellen'!D15824))),0,1))","v":1}]
["Lens de Meern BV",4,"Widex","Enjoy E-CIC 220 Links","WID-0552",{"$f":"IF(ISBLANK('Assortiment Hoortoestellen'!$B$26),1,IF(ISERROR(SEARCH(PROPER('Assortiment Hoortoestellen'!$B$26),PROPER('Dataset hoortoestellen'!D15844))),0,1))","v":1}]
["Lens de Meern BV",4,"Widex","Enjoy E-F2 220 (HP-tel)","WID-0582",{"$f":"IF(ISBLANK('Assortiment Hoortoestellen'!$B$26),1,IF(ISERROR(SEARCH(PROPER('Assortiment Hoortoestellen'!$B$26),PROPER('Dataset hoortoestellen'!D15857))),0,1))","v":1}]
["Lens de Meern BV",2,"Widex","Enjoy E-F2 50 (S-tel)","WID-0597",{"$f":"IF(ISBLANK('Assortiment Hoortoestellen'!$B$26),1,IF(ISERROR(SEARCH(PROPER('Assortiment Hoortoestellen'!$B$26),PROPER('Dataset hoortoestellen'!D15868))),0,1))","v":1}]
["Lens de Meern BV",5,"Widex","Enjoy E-FS 330 (M-tel)","WID-0629",{"$f":"IF(ISBLANK('Assortiment Hoortoestellen'!$B$26),1,IF(ISERROR(SEARCH(PROPER('Assortiment Hoortoestellen'!$B$26),PROPER('Dataset hoortoestellen'!D15890))),0,1))","v":1}]
["Lens de Meern BV",5,"Widex","Enjoy E-FS 330 (S-tel)","WID-0631",{"$f":"IF(ISBLANK('Assortiment Hoortoestellen'!$B$26),1,IF(ISERROR(SEARCH(PROPER('Assortiment Hoortoestellen'!$B$26),PROPER('Dataset hoortoestellen'!D15892))),0,1))","v":1}]
["Lens de Meern BV",5,"Widex","Enjoy E-XP 330","WID-0653",{"$f":"IF(ISBLANK('Assortiment Hoortoestellen'!$B$26),1,IF(ISERROR(SEARCH(PROPER('Assortiment Hoortoestellen'!$B$26),PROPER('Dataset hoortoestellen'!D15905))),0,1))","v":1}]
["Lens Rotterdam BV",2,"Coselgi","U6-CIC (links)","COS-0241",{"$f":"IF(ISBLANK('Assortiment Hoortoestellen'!$B$26),1,IF(ISERROR(SEARCH(PROPER('Assortiment Hoortoestellen'!$B$26),PROPER('Dataset hoortoestellen'!D15929))),0,1))","v":1}]
["Lens Rotterdam BV",2,"Coselgi","Effect EF2-FS (S-tel)","COS-0283",{"$f":"IF(ISBLANK('Assortiment Hoortoestellen'!$B$26),1,IF(ISERROR(SEARCH(PROPER('Assortiment Hoortoestellen'!$B$26),PROPER('Dataset hoortoestellen'!D15938))),0,1))","v":1}]
["Lens Rotterdam BV",3,"Coselgi","Effect EF4-CIC Links","COS-0305",{"$f":"IF(ISBLANK('Assortiment Hoortoestellen'!$B$26),1,IF(ISERROR(SEARCH(PROPER('Assortiment Hoortoestellen'!$B$26),PROPER('Dataset hoortoestellen'!D15957))),0,1))","v":1}]
["Lens Rotterdam BV",4,"Coselgi","Effect EF5-FS (P-tel)","COS-0322",{"$f":"IF(ISBLANK('Assortiment Hoortoestellen'!$B$26),1,IF(ISERROR(SEARCH(PROPER('Assortiment Hoortoestellen'!$B$26),PROPER('Dataset hoortoestellen'!D15971))),0,1))","v":1}]
["Lens Rotterdam BV",4,"Coselgi","Effect EF5-FM","COS-0333",{"$f":"IF(ISBLANK('Assortiment Hoortoestellen'!$B$26),1,IF(ISERROR(SEARCH(PROPER('Assortiment Hoortoestellen'!$B$26),PROPER('Dataset hoortoestellen'!D15981))),0,1))","v":1}]
["Lens Rotterdam BV",5,"Coselgi","Effect EF6-CIC TR Rechts","COS-0352",{"$f":"IF(ISBLANK('Assortiment Hoortoestellen'!$B$26),1,IF(ISERROR(SEARCH(PROPER('Assortiment Hoortoestellen'!$B$26),PROPER('Dataset hoortoestellen'!D15997))),0,1))","v":1}]
["Lens Rotterdam BV",4,"Coselgi","MOJO MRR2D M4 (m-tel)","COS-0359",{"$f":"IF(ISBLANK('Assortiment Hoortoestellen'!$B$26),1,IF(ISERROR(SEARCH(PROPER('Assortiment Hoortoestellen'!$B$26),PROPER('Dataset hoortoestellen'!D16004))),0,1))","v":1}]
["Lens Rotterdam BV",2,"Phonak","Vitus BTE-micro","PHO-0260",{"$f":"IF(ISBLANK('Assortiment Hoortoestellen'!$B$26),1,IF(ISERROR(SEARCH(PROPER('Assortiment Hoortoestellen'!$B$26),PROPER('Dataset hoortoestellen'!D16025))),0,1))","v":1}]
["Lens Rotterdam BV",5,"Phonak","Audeo B 70 13","PHO-0279",{"$f":"IF(ISBLANK('Assortiment Hoortoestellen'!$B$26),1,IF(ISERROR(SEARCH(PROPER('Assortiment Hoortoestellen'!$B$26),PROPER('Dataset hoortoestellen'!D16037))),0,1))","v":1}]
["Lens Rotterdam BV",3,"Phonak","Naida B 30 UP","PHO-0300",{"$f":"IF(ISBLANK('Assortiment Hoortoestellen'!$B$26),1,IF(ISERROR(SEARCH(PROPER('Assortiment Hoortoestellen'!$B$26),PROPER('Dataset hoortoestellen'!D16049))),0,1))","v":1}]
["Lens Rotterdam BV",3,"Phonak","Sky B 30 RIC","PHO-0309",{"$f":"IF(ISBLANK('Assortiment Hoortoestellen'!$B$26),1,IF(ISERROR(SEARCH(PROPER('Assortiment Hoortoestellen'!$B$26),PROPER('Dataset hoortoestellen'!D16056))),0,1))","v":1}]
["Lens Rotterdam BV",4,"Phonak","Virto B 50 13","PHO-0328",{"$f":"IF(ISBLANK('Assortiment Hoortoestellen'!$B$26),1,IF(ISERROR(SEARCH(PROPER('Assortiment Hoortoestellen'!$B$26),PROPER('Dataset hoortoestellen'!D16073))),0,1))","v":1}]
["Lens Rotterdam BV",1,"Starkey","Muse i1000 mRIC 312","STA-0280",{"$f":"IF(ISBLANK('Assortiment Hoortoestellen'!$B$26),1,IF(ISERROR(SEARCH(PROPER('Assortiment Hoortoestellen'!$B$26),PROPER('Dataset hoortoestellen'!D16085))),0,1))","v":1}]
["Lens Rotterdam BV",3,"Starkey","Muse iQ i1000 CIC","STA-0352\n",{"$f":"IF(ISBLANK('Assortiment Hoortoestellen'!$B$26),1,IF(ISERROR(SEARCH(PROPER('Assortiment Hoortoestellen'!$B$26),PROPER('Dataset hoortoestellen'!D16097))),0,1))","v":1}]
["Lens Rotterdam BV",5,"Starkey","Livio 1600 RIC 312","STA-0390",{"$f":"IF(ISBLANK('Assortiment Hoortoestellen'!$B$26),1,IF(ISERROR(SEARCH(PROPER('Assortiment Hoortoestellen'!$B$26),PROPER('Dataset hoortoestellen'!D16118))),0,1))","v":1}]
["Lens Rotterdam BV",3,"Widex","U110-CIC-M","WID-0406",{"$f":"IF(ISBLANK('Assortiment Hoortoestellen'!$B$26),1,IF(ISERROR(SEARCH(PROPER('Assortiment Hoortoestellen'!$B$26),PROPER('Dataset hoortoestellen'!D16125))),0,1))","v":1}]
["Lens Rotterdam BV",3,"Widex","U220-CIC","WID-0418",{"$f":"IF(ISBLANK('Assortiment Hoortoestellen'!$B$26),1,IF(ISERROR(SEARCH(PROPER('Assortiment Hoortoestellen'!$B$26),PROPER('Dataset hoortoestellen'!D16137))),0,1))","v":1}]
["Lens Rotterdam BV",3,"Widex","U220-XP","WID-0430",{"$f":"IF(ISBLANK('Assortiment Hoortoestellen'!$B$26),1,IF(ISERROR(SEARCH(PROPER('Assortiment Hoortoestellen'!$B$26),PROPER('Dataset hoortoestellen'!D16149))),0,1))","v":1}]
["Lens Rotterdam BV",5,"Widex","U440-FS (M-tel)","WID-0451",{"$f":"IF(ISBLANK('Assortiment Hoortoestellen'!$B$26),1,IF(ISERROR(SEARCH(PROPER('Assortiment Hoortoestellen'!$B$26),PROPER('Dataset hoortoestellen'!D16170))),0,1))","v":1}]
["Lens Rotterdam BV",3,"Widex","Enjoy E-CIC M 110","WID-0557",{"$f":"IF(ISBLANK('Assortiment Hoortoestellen'!$B$26),1,IF(ISERROR(SEARCH(PROPER('Assortiment Hoortoestellen'!$B$26),PROPER('Dataset hoortoestellen'!D16186))),0,1))","v":1}]
["Lens Rotterdam BV",4,"Widex","Enjoy E-F2 220 (P-tel)","WID-0584",{"$f":"IF(ISBLANK('Assortiment Hoortoestellen'!$B$26),1,IF(ISERROR(SEARCH(PROPER('Assortiment Hoortoestellen'!$B$26),PROPER('Dataset hoortoestellen'!D16199))),0,1))","v":1}]
["Lens Rotterdam BV",4,"Widex","Enjoy E-FA 220","WID-0600",{"$f":"IF(ISBLANK('Assortiment Hoortoestellen'!$B$26),1,IF(ISERROR(SEARCH(PROPER('Assortiment Hoortoestellen'!$B$26),PROPER('Dataset hoortoestellen'!D16210))),0,1))","v":1}]
["Lens Rotterdam BV",4,"Widex","Enjoy E-FP 220","WID-0612",{"$f":"IF(ISBLANK('Assortiment Hoortoestellen'!$B$26),1,IF(ISERROR(SEARCH(PROPER('Assortiment Hoortoestellen'!$B$26),PROPER('Dataset hoortoestellen'!D16218))),0,1))","v":1}]
["Lens Rotterdam BV",3,"Widex","Enjoy E-PA 110 (S-tel)","WID-0643",{"$f":"IF(ISBLANK('Assortiment Hoortoestellen'!$B$26),1,IF(ISERROR(SEARCH(PROPER('Assortiment Hoortoestellen'!$B$26),PROPER('Dataset hoortoestellen'!D16238))),0,1))","v":1}]
["Makker Hoortoestellen & Makker Hoortoestellen Retail BV",5,"Audio Service","Duo 12 G4","AUS-0129",{"$f":"IF(ISBLANK('Assortiment Hoortoestellen'!$B$26),1,IF(ISERROR(SEARCH(PROPER('Assortiment Hoortoestellen'!$B$26),PROPER('Dataset hoortoestellen'!D16251))),0,1))","v":1}]
["Makker Hoortoestellen & Makker Hoortoestellen Retail BV",4,"Audio Service","IHO 8 G5","AUS-0183",{"$f":"IF(ISBLANK('Assortiment Hoortoestellen'!$B$26),1,IF(ISERROR(SEARCH(PROPER('Assortiment Hoortoestellen'!$B$26),PROPER('Dataset hoortoestellen'!D16262))),0,1))","v":1}]
["Makker Hoortoestellen & Makker Hoortoestellen Retail BV",5,"Audio Service","quiX 12 G5 Rechts","AUS-0192",{"$f":"IF(ISBLANK('Assortiment Hoortoestellen'!$B$26),1,IF(ISERROR(SEARCH(PROPER('Assortiment Hoortoestellen'!$B$26),PROPER('Dataset hoortoestellen'!D16270))),0,1))","v":1}]
["Makker Hoortoestellen & Makker Hoortoestellen Retail BV",3,"Audio Service","quiX 6  G5 Links","AUS-0214",{"$f":"IF(ISBLANK('Assortiment Hoortoestellen'!$B$26),1,IF(ISERROR(SEARCH(PROPER('Assortiment Hoortoestellen'!$B$26),PROPER('Dataset hoortoestellen'!D16286))),0,1))","v":1}]
["Makker Hoortoestellen & Makker Hoortoestellen Retail BV",5,"Beltone","TST 976-DW","BEL-0123",{"$f":"IF(ISBLANK('Assortiment Hoortoestellen'!$B$26),1,IF(ISERROR(SEARCH(PROPER('Assortiment Hoortoestellen'!$B$26),PROPER('Dataset hoortoestellen'!D16299))),0,1))","v":1}]
["Makker Hoortoestellen & Makker Hoortoestellen Retail BV",4,"Bernafon","Zerena 5 CIC","BER-0632",{"$f":"IF(ISBLANK('Assortiment Hoortoestellen'!$B$26),1,IF(ISERROR(SEARCH(PROPER('Assortiment Hoortoestellen'!$B$26),PROPER('Dataset hoortoestellen'!D16310))),0,1))","v":1}]
["Makker Hoortoestellen & Makker Hoortoestellen Retail BV",2,"Coselgi","Effect EF2-CIC Links","COS-0284",{"$f":"IF(ISBLANK('Assortiment Hoortoestellen'!$B$26),1,IF(ISERROR(SEARCH(PROPER('Assortiment Hoortoestellen'!$B$26),PROPER('Dataset hoortoestellen'!D16332))),0,1))","v":1}]
["Makker Hoortoestellen & Makker Hoortoestellen Retail BV",3,"Coselgi","Effect EF4-FS (P-tel)","COS-0301",{"$f":"IF(ISBLANK('Assortiment Hoortoestellen'!$B$26),1,IF(ISERROR(SEARCH(PROPER('Assortiment Hoortoestellen'!$B$26),PROPER('Dataset hoortoestellen'!D16347))),0,1))","v":1}]
["Makker Hoortoestellen & Makker Hoortoestellen Retail BV",3,"Coselgi","Effect EF4-CIC M","COS-0306",{"$f":"IF(ISBLANK('Assortiment Hoortoestellen'!$B$26),1,IF(ISERROR(SEARCH(PROPER('Assortiment Hoortoestellen'!$B$26),PROPER('Dataset hoortoestellen'!D16351))),0,1))","v":1}]
["Makker Hoortoestellen & Makker Hoortoestellen Retail BV",4,"Coselgi","Effect EF5-FP","COS-0334",{"$f":"IF(ISBLANK('Assortiment Hoortoestellen'!$B$26),1,IF(ISERROR(SEARCH(PROPER('Assortiment Hoortoestellen'!$B$26),PROPER('Dataset hoortoestellen'!D16375))),0,1))","v":1}]
["Makker Hoortoestellen & Makker Hoortoestellen Retail BV",5,"Coselgi","Effect EF6-FS (S-tel)","COS-0344",{"$f":"IF(ISBLANK('Assortiment Hoortoestellen'!$B$26),1,IF(ISERROR(SEARCH(PROPER('Assortiment Hoortoestellen'!$B$26),PROPER('Dataset hoortoestellen'!D16384))),0,1))","v":1}]
["Makker Hoortoestellen & Makker Hoortoestellen Retail BV",5,"Coselgi","MOJO MRR2D M5 (m-tel)","COS-0361",{"$f":"IF(ISBLANK('Assortiment Hoortoestellen'!$B$26),1,IF(ISERROR(SEARCH(PROPER('Assortiment Hoortoestellen'!$B$26),PROPER('Dataset hoortoestellen'!D16399))),0,1))","v":1}]
["Makker Hoortoestellen & Makker Hoortoestellen Retail BV",3,"Interton","MOVE 462-DRW","INT-0068",{"$f":"IF(ISBLANK('Assortiment Hoortoestellen'!$B$26),1,IF(ISERROR(SEARCH(PROPER('Assortiment Hoortoestellen'!$B$26),PROPER('Dataset hoortoestellen'!D16413))),0,1))","v":1}]
["Makker Hoortoestellen & Makker Hoortoestellen Retail BV",4,"Interton","MOVE 665-DW","INT-0078",{"$f":"IF(ISBLANK('Assortiment Hoortoestellen'!$B$26),1,IF(ISERROR(SEARCH(PROPER('Assortiment Hoortoestellen'!$B$26),PROPER('Dataset hoortoestellen'!D16423))),0,1))","v":1}]
["Makker Hoortoestellen & Makker Hoortoestellen Retail BV",4,"Oticon","Siya 1 ITE 75 - 100","OTI-0342",{"$f":"IF(ISBLANK('Assortiment Hoortoestellen'!$B$26),1,IF(ISERROR(SEARCH(PROPER('Assortiment Hoortoestellen'!$B$26),PROPER('Dataset hoortoestellen'!D16432))),0,1))","v":1}]
["Makker Hoortoestellen & Makker Hoortoestellen Retail BV",2,"Phonak","Vitus BTE-P","PHO-0261",{"$f":"IF(ISBLANK('Assortiment Hoortoestellen'!$B$26),1,IF(ISERROR(SEARCH(PROPER('Assortiment Hoortoestellen'!$B$26),PROPER('Dataset hoortoestellen'!D16447))),0,1))","v":1}]
["Makker Hoortoestellen & Makker Hoortoestellen Retail BV",4,"Phonak","Bolero B 50 SP","PHO-0289",{"$f":"IF(ISBLANK('Assortiment Hoortoestellen'!$B$26),1,IF(ISERROR(SEARCH(PROPER('Assortiment Hoortoestellen'!$B$26),PROPER('Dataset hoortoestellen'!D16465))),0,1))","v":1}]
["Makker Hoortoestellen & Makker Hoortoestellen Retail BV",3,"Phonak","Sky B 30 M","PHO-0307",{"$f":"IF(ISBLANK('Assortiment Hoortoestellen'!$B$26),1,IF(ISERROR(SEARCH(PROPER('Assortiment Hoortoestellen'!$B$26),PROPER('Dataset hoortoestellen'!D16475))),0,1))","v":1}]
["Makker Hoortoestellen & Makker Hoortoestellen Retail BV",3,"Phonak","Virto B 30 13","PHO-0325",{"$f":"IF(ISBLANK('Assortiment Hoortoestellen'!$B$26),1,IF(ISERROR(SEARCH(PROPER('Assortiment Hoortoestellen'!$B$26),PROPER('Dataset hoortoestellen'!D16491))),0,1))","v":1}]
["Makker Hoortoestellen & Makker Hoortoestellen Retail BV",5,"Phonak","Sky M30-PR","PHO-0334",{"$f":"IF(ISBLANK('Assortiment Hoortoestellen'!$B$26),1,IF(ISERROR(SEARCH(PROPER('Assortiment Hoortoestellen'!$B$26),PROPER('Dataset hoortoestellen'!D16498))),0,1))","v":1}]
["Makker Hoortoestellen & Makker Hoortoestellen Retail BV",2,"ReSound","KEY 288-DWH","RES-0314",{"$f":"IF(ISBLANK('Assortiment Hoortoestellen'!$B$26),1,IF(ISERROR(SEARCH(PROPER('Assortiment Hoortoestellen'!$B$26),PROPER('Dataset hoortoestellen'!D16519))),0,1))","v":1}]
["Makker Hoortoestellen & Makker Hoortoestellen Retail BV",4,"ReSound","KEY 461-DRWC","RES-0326",{"$f":"IF(ISBLANK('Assortiment Hoortoestellen'!$B$26),1,IF(ISERROR(SEARCH(PROPER('Assortiment Hoortoestellen'!$B$26),PROPER('Dataset hoortoestellen'!D16531))),0,1))","v":1}]
["Makker Hoortoestellen & Makker Hoortoestellen Retail BV",1,"Starkey","Muse i1000 BTE 13","STA-0308",{"$f":"IF(ISBLANK('Assortiment Hoortoestellen'!$B$26),1,IF(ISERROR(SEARCH(PROPER('Assortiment Hoortoestellen'!$B$26),PROPER('Dataset hoortoestellen'!D16543))),0,1))","v":1}]
["Makker Hoortoestellen & Makker Hoortoestellen Retail BV",5,"Starkey","Muse iQ i1600 ITE","STA-0374",{"$f":"IF(ISBLANK('Assortiment Hoortoestellen'!$B$26),1,IF(ISERROR(SEARCH(PROPER('Assortiment Hoortoestellen'!$B$26),PROPER('Dataset hoortoestellen'!D16564))),0,1))","v":1}]
["Makker Hoortoestellen & Makker Hoortoestellen Retail BV",3,"Starkey","Livio 1000 RIC 312","STA-0382",{"$f":"IF(ISBLANK('Assortiment Hoortoestellen'!$B$26),1,IF(ISERROR(SEARCH(PROPER('Assortiment Hoortoestellen'!$B$26),PROPER('Dataset hoortoestellen'!D16567))),0,1))","v":1}]
["Makker Hoortoestellen & Makker Hoortoestellen Retail BV",5,"Starkey","Livio 1600 BTE R","STA-0394",{"$f":"IF(ISBLANK('Assortiment Hoortoestellen'!$B$26),1,IF(ISERROR(SEARCH(PROPER('Assortiment Hoortoestellen'!$B$26),PROPER('Dataset hoortoestellen'!D16579))),0,1))","v":1}]
["Makker Hoortoestellen & Makker Hoortoestellen Retail BV",3,"Unitron","DX Insera 3 W 312 Dir","UNI-0436",{"$f":"IF(ISBLANK('Assortiment Hoortoestellen'!$B$26),1,IF(ISERROR(SEARCH(PROPER('Assortiment Hoortoestellen'!$B$26),PROPER('Dataset hoortoestellen'!D16604))),0,1))","v":1}]
["Makker Hoortoestellen & Makker Hoortoestellen Retail BV",4,"Unitron","DX Moxi Jump R T 3","UNI-0446",{"$f":"IF(ISBLANK('Assortiment Hoortoestellen'!$B$26),1,IF(ISERROR(SEARCH(PROPER('Assortiment Hoortoestellen'!$B$26),PROPER('Dataset hoortoestellen'!D16612))),0,1))","v":1}]
["Makker Hoortoestellen & Makker Hoortoestellen Retail BV",3,"Widex","U110-FA","WID-0408",{"$f":"IF(ISBLANK('Assortiment Hoortoestellen'!$B$26),1,IF(ISERROR(SEARCH(PROPER('Assortiment Hoortoestellen'!$B$26),PROPER('Dataset hoortoestellen'!D16628))),0,1))","v":1}]
["Makker Hoortoestellen & Makker Hoortoestellen Retail BV",3,"Widex","U220-FS (M-tel)","WID-0425",{"$f":"IF(ISBLANK('Assortiment Hoortoestellen'!$B$26),1,IF(ISERROR(SEARCH(PROPER('Assortiment Hoortoestellen'!$B$26),PROPER('Dataset hoortoestellen'!D16645))),0,1))","v":1}]
["Makker Hoortoestellen & Makker Hoortoestellen Retail BV",4,"Widex","U330-FM","WID-0436",{"$f":"IF(ISBLANK('Assortiment Hoortoestellen'!$B$26),1,IF(ISERROR(SEARCH(PROPER('Assortiment Hoortoestellen'!$B$26),PROPER('Dataset hoortoestellen'!D16656))),0,1))","v":1}]
["Makker Hoortoestellen & Makker Hoortoestellen Retail BV",5,"Widex","U440-CIC","WID-0444",{"$f":"IF(ISBLANK('Assortiment Hoortoestellen'!$B$26),1,IF(ISERROR(SEARCH(PROPER('Assortiment Hoortoestellen'!$B$26),PROPER('Dataset hoortoestellen'!D16664))),0,1))","v":1}]
["Makker Hoortoestellen & Makker Hoortoestellen Retail BV",3,"Widex","Enjoy E-BTE 13D 110","WID-0545",{"$f":"IF(ISBLANK('Assortiment Hoortoestellen'!$B$26),1,IF(ISERROR(SEARCH(PROPER('Assortiment Hoortoestellen'!$B$26),PROPER('Dataset hoortoestellen'!D16680))),0,1))","v":1}]
["Makker Hoortoestellen & Makker Hoortoestellen Retail BV",5,"Widex","Enjoy E-CIC TR 330 Links","WID-0571",{"$f":"IF(ISBLANK('Assortiment Hoortoestellen'!$B$26),1,IF(ISERROR(SEARCH(PROPER('Assortiment Hoortoestellen'!$B$26),PROPER('Dataset hoortoestellen'!D16693))),0,1))","v":1}]
["Makker Hoortoestellen & Makker Hoortoestellen Retail BV",5,"Widex","Enjoy E-F2 330 (P-tel)","WID-0588",{"$f":"IF(ISBLANK('Assortiment Hoortoestellen'!$B$26),1,IF(ISERROR(SEARCH(PROPER('Assortiment Hoortoestellen'!$B$26),PROPER('Dataset hoortoestellen'!D16704))),0,1))","v":1}]
["Makker Hoortoestellen & Makker Hoortoestellen Retail BV",4,"Widex","Enjoy E-FS 220 (HP-tel)","WID-0624",{"$f":"IF(ISBLANK('Assortiment Hoortoestellen'!$B$26),1,IF(ISERROR(SEARCH(PROPER('Assortiment Hoortoestellen'!$B$26),PROPER('Dataset hoortoestellen'!D16726))),0,1))","v":1}]
["Makker Hoortoestellen & Makker Hoortoestellen Retail BV",4,"Widex","Enjoy E-FS 220 (P-tel)","WID-0626",{"$f":"IF(ISBLANK('Assortiment Hoortoestellen'!$B$26),1,IF(ISERROR(SEARCH(PROPER('Assortiment Hoortoestellen'!$B$26),PROPER('Dataset hoortoestellen'!D16728))),0,1))","v":1}]
["Makker Hoortoestellen & Makker Hoortoestellen Retail BV",4,"Widex","Enjoy E-XP 220","WID-0652",{"$f":"IF(ISBLANK('Assortiment Hoortoestellen'!$B$26),1,IF(ISERROR(SEARCH(PROPER('Assortiment Hoortoestellen'!$B$26),PROPER('Dataset hoortoestellen'!D16745))),0,1))","v":1}]
["Melens Optiek",4,"Audio Service","quiX 8 G5 Links","AUS-0193",{"$f":"IF(ISBLANK('Assortiment Hoortoestellen'!$B$26),1,IF(ISERROR(SEARCH(PROPER('Assortiment Hoortoestellen'!$B$26),PROPER('Dataset hoortoestellen'!D16756))),0,1))","v":1}]
["Melens Optiek",3,"Audio Service","P 6 G5","AUS-0210",{"$f":"IF(ISBLANK('Assortiment Hoortoestellen'!$B$26),1,IF(ISERROR(SEARCH(PROPER('Assortiment Hoortoestellen'!$B$26),PROPER('Dataset hoortoestellen'!D16778))),0,1))","v":1}]
["Melens Optiek",1,"Audio Service ","Volta XS C","AUS-0225",{"$f":"IF(ISBLANK('Assortiment Hoortoestellen'!$B$26),1,IF(ISERROR(SEARCH(PROPER('Assortiment Hoortoestellen'!$B$26),PROPER('Dataset hoortoestellen'!D16793))),0,1))","v":1}]
["Melens Optiek",5,"Beltone","TST 9CIC","BEL-0125",{"$f":"IF(ISBLANK('Assortiment Hoortoestellen'!$B$26),1,IF(ISERROR(SEARCH(PROPER('Assortiment Hoortoestellen'!$B$26),PROPER('Dataset hoortoestellen'!D16797))),0,1))","v":1}]
["Melens Optiek",3,"Bernafon","Viron 3 BTE 105","BER-0663",{"$f":"IF(ISBLANK('Assortiment Hoortoestellen'!$B$26),1,IF(ISERROR(SEARCH(PROPER('Assortiment Hoortoestellen'!$B$26),PROPER('Dataset hoortoestellen'!D16817))),0,1))","v":1}]
["Melens Optiek",2,"Coselgi","Effect EF2-CIC TR Rechts","COS-0289",{"$f":"IF(ISBLANK('Assortiment Hoortoestellen'!$B$26),1,IF(ISERROR(SEARCH(PROPER('Assortiment Hoortoestellen'!$B$26),PROPER('Dataset hoortoestellen'!D16826))),0,1))","v":1}]
["Melens Optiek",5,"Coselgi","Effect EF6-CIC TR Rechts","COS-0352",{"$f":"IF(ISBLANK('Assortiment Hoortoestellen'!$B$26),1,IF(ISERROR(SEARCH(PROPER('Assortiment Hoortoestellen'!$B$26),PROPER('Dataset hoortoestellen'!D16841))),0,1))","v":1}]
["Melens Optiek",4,"Coselgi","Effect EF5-F2 (M-tel)","COS-0317",{"$f":"IF(ISBLANK('Assortiment Hoortoestellen'!$B$26),1,IF(ISERROR(SEARCH(PROPER('Assortiment Hoortoestellen'!$B$26),PROPER('Dataset hoortoestellen'!D16859))),0,1))","v":1}]
["Melens Optiek",2,"Coselgi","Effect EF2-FS (M-tel)","COS-0281",{"$f":"IF(ISBLANK('Assortiment Hoortoestellen'!$B$26),1,IF(ISERROR(SEARCH(PROPER('Assortiment Hoortoestellen'!$B$26),PROPER('Dataset hoortoestellen'!D16869))),0,1))","v":1}]
["Melens Optiek",4,"Coselgi","Effect EF5-FS (HP-tel)","COS-0320",{"$f":"IF(ISBLANK('Assortiment Hoortoestellen'!$B$26),1,IF(ISERROR(SEARCH(PROPER('Assortiment Hoortoestellen'!$B$26),PROPER('Dataset hoortoestellen'!D16878))),0,1))","v":1}]
["Melens Optiek",4,"Coselgi","Effect EF5-RIC 10 (S-tel)","COS-0325",{"$f":"IF(ISBLANK('Assortiment Hoortoestellen'!$B$26),1,IF(ISERROR(SEARCH(PROPER('Assortiment Hoortoestellen'!$B$26),PROPER('Dataset hoortoestellen'!D16893))),0,1))","v":1}]
["Melens Optiek",4,"Interton","MOVE 470-DW","INT-0070",{"$f":"IF(ISBLANK('Assortiment Hoortoestellen'!$B$26),1,IF(ISERROR(SEARCH(PROPER('Assortiment Hoortoestellen'!$B$26),PROPER('Dataset hoortoestellen'!D16911))),0,1))","v":1}]
["Melens Optiek",1,"Interton","Move 180-DWH","INT-0051",{"$f":"IF(ISBLANK('Assortiment Hoortoestellen'!$B$26),1,IF(ISERROR(SEARCH(PROPER('Assortiment Hoortoestellen'!$B$26),PROPER('Dataset hoortoestellen'!D16917))),0,1))","v":1}]
["Melens Optiek",2,"ReSound","KEY 262-DRW","RES-0311",{"$f":"IF(ISBLANK('Assortiment Hoortoestellen'!$B$26),1,IF(ISERROR(SEARCH(PROPER('Assortiment Hoortoestellen'!$B$26),PROPER('Dataset hoortoestellen'!D16940))),0,1))","v":1}]
["Melens Optiek",1,"Oticon","Get","OTI-0065",{"$f":"IF(ISBLANK('Assortiment Hoortoestellen'!$B$26),1,IF(ISERROR(SEARCH(PROPER('Assortiment Hoortoestellen'!$B$26),PROPER('Dataset hoortoestellen'!D16954))),0,1))","v":1}]
["Melens Optiek",5,"Oticon","Opn 3 miniRITE T 60 - 105","OTI-0364",{"$f":"IF(ISBLANK('Assortiment Hoortoestellen'!$B$26),1,IF(ISERROR(SEARCH(PROPER('Assortiment Hoortoestellen'!$B$26),PROPER('Dataset hoortoestellen'!D16959))),0,1))","v":1}]
["Melens Optiek",4,"Phonak","Sky M30-M","PHO-0333",{"$f":"IF(ISBLANK('Assortiment Hoortoestellen'!$B$26),1,IF(ISERROR(SEARCH(PROPER('Assortiment Hoortoestellen'!$B$26),PROPER('Dataset hoortoestellen'!D16982))),0,1))","v":1}]
["Melens Optiek",1,"ReSound","KEY 2 ITE-DW","RES-0336",{"$f":"IF(ISBLANK('Assortiment Hoortoestellen'!$B$26),1,IF(ISERROR(SEARCH(PROPER('Assortiment Hoortoestellen'!$B$26),PROPER('Dataset hoortoestellen'!D16985))),0,1))","v":1}]
["Melens Optiek",5,"ReSound","LiNX Quattro 567-DW","RES-0340",{"$f":"IF(ISBLANK('Assortiment Hoortoestellen'!$B$26),1,IF(ISERROR(SEARCH(PROPER('Assortiment Hoortoestellen'!$B$26),PROPER('Dataset hoortoestellen'!D17006))),0,1))","v":1}]
["Melens Optiek",3,"Starkey","Muse iQ i1000 ITC","STA-0353",{"$f":"IF(ISBLANK('Assortiment Hoortoestellen'!$B$26),1,IF(ISERROR(SEARCH(PROPER('Assortiment Hoortoestellen'!$B$26),PROPER('Dataset hoortoestellen'!D17022))),0,1))","v":1}]
["Melens Optiek",2,"Starkey","Muse iQ 1000 ITE","STA-0342",{"$f":"IF(ISBLANK('Assortiment Hoortoestellen'!$B$26),1,IF(ISERROR(SEARCH(PROPER('Assortiment Hoortoestellen'!$B$26),PROPER('Dataset hoortoestellen'!D17025))),0,1))","v":1}]
["Melens Optiek",1,"Starkey","Muse i1000 RIC 312","STA-0309",{"$f":"IF(ISBLANK('Assortiment Hoortoestellen'!$B$26),1,IF(ISERROR(SEARCH(PROPER('Assortiment Hoortoestellen'!$B$26),PROPER('Dataset hoortoestellen'!D17050))),0,1))","v":1}]
["Melens Optiek",5,"Unitron","Insera B5-312","UNI-0537",{"$f":"IF(ISBLANK('Assortiment Hoortoestellen'!$B$26),1,IF(ISERROR(SEARCH(PROPER('Assortiment Hoortoestellen'!$B$26),PROPER('Dataset hoortoestellen'!D17058))),0,1))","v":1}]
["Melens Optiek",4,"Unitron","Moxi B3-312","UNI-0519",{"$f":"IF(ISBLANK('Assortiment Hoortoestellen'!$B$26),1,IF(ISERROR(SEARCH(PROPER('Assortiment Hoortoestellen'!$B$26),PROPER('Dataset hoortoestellen'!D17074))),0,1))","v":1}]
["Melens Optiek",3,"Widex","Enjoy E-CIC M TR 110","WID-0563",{"$f":"IF(ISBLANK('Assortiment Hoortoestellen'!$B$26),1,IF(ISERROR(SEARCH(PROPER('Assortiment Hoortoestellen'!$B$26),PROPER('Dataset hoortoestellen'!D17091))),0,1))","v":1}]
["Melens Optiek",4,"Widex","Enjoy E-CIC TR 220 Links","WID-0570",{"$f":"IF(ISBLANK('Assortiment Hoortoestellen'!$B$26),1,IF(ISERROR(SEARCH(PROPER('Assortiment Hoortoestellen'!$B$26),PROPER('Dataset hoortoestellen'!D17098))),0,1))","v":1}]
["Melens Optiek",3,"Widex","U110-CIC TR","WID-0405",{"$f":"IF(ISBLANK('Assortiment Hoortoestellen'!$B$26),1,IF(ISERROR(SEARCH(PROPER('Assortiment Hoortoestellen'!$B$26),PROPER('Dataset hoortoestellen'!D17106))),0,1))","v":1}]
["Melens Optiek",2,"Widex","Enjoy E-F2 50 (HP-tel)","WID-0594",{"$f":"IF(ISBLANK('Assortiment Hoortoestellen'!$B$26),1,IF(ISERROR(SEARCH(PROPER('Assortiment Hoortoestellen'!$B$26),PROPER('Dataset hoortoestellen'!D17122))),0,1))","v":1}]
["Melens Optiek",2,"Widex","Enjoy E-FS 50 (M-tel)","WID-0637",{"$f":"IF(ISBLANK('Assortiment Hoortoestellen'!$B$26),1,IF(ISERROR(SEARCH(PROPER('Assortiment Hoortoestellen'!$B$26),PROPER('Dataset hoortoestellen'!D17139))),0,1))","v":1}]
["Melens Optiek",5,"Widex","Enjoy E-BTE 13D 330","WID-0547",{"$f":"IF(ISBLANK('Assortiment Hoortoestellen'!$B$26),1,IF(ISERROR(SEARCH(PROPER('Assortiment Hoortoestellen'!$B$26),PROPER('Dataset hoortoestellen'!D17150))),0,1))","v":1}]
["Melens Optiek",3,"Widex","U110-FS (HP-tel)","WID-0411",{"$f":"IF(ISBLANK('Assortiment Hoortoestellen'!$B$26),1,IF(ISERROR(SEARCH(PROPER('Assortiment Hoortoestellen'!$B$26),PROPER('Dataset hoortoestellen'!D17172))),0,1))","v":1}]
["Melens Optiek",5,"Widex","Enjoy E-FS 330 (HP-tel)","WID-0628",{"$f":"IF(ISBLANK('Assortiment Hoortoestellen'!$B$26),1,IF(ISERROR(SEARCH(PROPER('Assortiment Hoortoestellen'!$B$26),PROPER('Dataset hoortoestellen'!D17174))),0,1))","v":1}]
["Melens Optiek",4,"Widex","U330-FS (S-tel)","WID-0440",{"$f":"IF(ISBLANK('Assortiment Hoortoestellen'!$B$26),1,IF(ISERROR(SEARCH(PROPER('Assortiment Hoortoestellen'!$B$26),PROPER('Dataset hoortoestellen'!D17191))),0,1))","v":1}]
["Mijn Horen ",3,"Audio Service","quiX 6  G5 Links","AUS-0214",{"$f":"IF(ISBLANK('Assortiment Hoortoestellen'!$B$26),1,IF(ISERROR(SEARCH(PROPER('Assortiment Hoortoestellen'!$B$26),PROPER('Dataset hoortoestellen'!D17211))),0,1))","v":1}]
["Mijn Horen ",5,"Audio Service","quiX 8 G6 rechts","AUS-0258",{"$f":"IF(ISBLANK('Assortiment Hoortoestellen'!$B$26),1,IF(ISERROR(SEARCH(PROPER('Assortiment Hoortoestellen'!$B$26),PROPER('Dataset hoortoestellen'!D17220))),0,1))","v":1}]
["Mijn Horen ",2,"Audio Service","Duo 4 G5","AUS-0205",{"$f":"IF(ISBLANK('Assortiment Hoortoestellen'!$B$26),1,IF(ISERROR(SEARCH(PROPER('Assortiment Hoortoestellen'!$B$26),PROPER('Dataset hoortoestellen'!D17235))),0,1))","v":1}]
["Mijn Horen ",1,"Audio Service ","Volta HP C","AUS-0219",{"$f":"IF(ISBLANK('Assortiment Hoortoestellen'!$B$26),1,IF(ISERROR(SEARCH(PROPER('Assortiment Hoortoestellen'!$B$26),PROPER('Dataset hoortoestellen'!D17253))),0,1))","v":1}]
["Mijn Horen ",5,"Beltone","TST 964-DRW","BEL-0121",{"$f":"IF(ISBLANK('Assortiment Hoortoestellen'!$B$26),1,IF(ISERROR(SEARCH(PROPER('Assortiment Hoortoestellen'!$B$26),PROPER('Dataset hoortoestellen'!D17259))),0,1))","v":1}]
["Mijn Horen ",2,"Bernafon","Viron 1 MNR T R","BER-0662",{"$f":"IF(ISBLANK('Assortiment Hoortoestellen'!$B$26),1,IF(ISERROR(SEARCH(PROPER('Assortiment Hoortoestellen'!$B$26),PROPER('Dataset hoortoestellen'!D17272))),0,1))","v":1}]
["Mijn Horen ",3,"Coselgi","Effect EF4-CIC Links","COS-0305",{"$f":"IF(ISBLANK('Assortiment Hoortoestellen'!$B$26),1,IF(ISERROR(SEARCH(PROPER('Assortiment Hoortoestellen'!$B$26),PROPER('Dataset hoortoestellen'!D17287))),0,1))","v":1}]
["Mijn Horen ",4,"Coselgi","Effect EF5-CIC TR Rechts","COS-0331",{"$f":"IF(ISBLANK('Assortiment Hoortoestellen'!$B$26),1,IF(ISERROR(SEARCH(PROPER('Assortiment Hoortoestellen'!$B$26),PROPER('Dataset hoortoestellen'!D17305))),0,1))","v":1}]
["Mijn Horen ",3,"Coselgi","Effect EF4-F2 (P-tel)","COS-0296",{"$f":"IF(ISBLANK('Assortiment Hoortoestellen'!$B$26),1,IF(ISERROR(SEARCH(PROPER('Assortiment Hoortoestellen'!$B$26),PROPER('Dataset hoortoestellen'!D17311))),0,1))","v":1}]
["Mijn Horen ",2,"Coselgi","Effect EF2-FS (S-tel)","COS-0283",{"$f":"IF(ISBLANK('Assortiment Hoortoestellen'!$B$26),1,IF(ISERROR(SEARCH(PROPER('Assortiment Hoortoestellen'!$B$26),PROPER('Dataset hoortoestellen'!D17334))),0,1))","v":1}]
["Mijn Horen ",3,"Coselgi","Effect EF4-FS (P-tel)","COS-0301",{"$f":"IF(ISBLANK('Assortiment Hoortoestellen'!$B$26),1,IF(ISERROR(SEARCH(PROPER('Assortiment Hoortoestellen'!$B$26),PROPER('Dataset hoortoestellen'!D17335))),0,1))","v":1}]
["Mijn Horen ",4,"Coselgi","MOJO MRR2D M4 (m-tel)","COS-0359",{"$f":"IF(ISBLANK('Assortiment Hoortoestellen'!$B$26),1,IF(ISERROR(SEARCH(PROPER('Assortiment Hoortoestellen'!$B$26),PROPER('Dataset hoortoestellen'!D17353))),0,1))","v":1}]
["Mijn Horen ",1,"Interton","Move 170-DW","INT-0050",{"$f":"IF(ISBLANK('Assortiment Hoortoestellen'!$B$26),1,IF(ISERROR(SEARCH(PROPER('Assortiment Hoortoestellen'!$B$26),PROPER('Dataset hoortoestellen'!D17372))),0,1))","v":1}]
["Mijn Horen ",2,"Interton","Move 3CIC-W","INT-0064",{"$f":"IF(ISBLANK('Assortiment Hoortoestellen'!$B$26),1,IF(ISERROR(SEARCH(PROPER('Assortiment Hoortoestellen'!$B$26),PROPER('Dataset hoortoestellen'!D17386))),0,1))","v":1}]
["Mijn Horen ",2,"ReSound","KEY 277-DW","RES-0313",{"$f":"IF(ISBLANK('Assortiment Hoortoestellen'!$B$26),1,IF(ISERROR(SEARCH(PROPER('Assortiment Hoortoestellen'!$B$26),PROPER('Dataset hoortoestellen'!D17400))),0,1))","v":1}]
["Mijn Horen ",5,"Oticon","Opn 3 CIC 75 - 85","OTI-0360",{"$f":"IF(ISBLANK('Assortiment Hoortoestellen'!$B$26),1,IF(ISERROR(SEARCH(PROPER('Assortiment Hoortoestellen'!$B$26),PROPER('Dataset hoortoestellen'!D17405))),0,1))","v":1}]
["Mijn Horen ",4,"Phonak","Audéo M30-R","PHO-0344",{"$f":"IF(ISBLANK('Assortiment Hoortoestellen'!$B$26),1,IF(ISERROR(SEARCH(PROPER('Assortiment Hoortoestellen'!$B$26),PROPER('Dataset hoortoestellen'!D17424))),0,1))","v":1}]
["Mijn Horen ",4,"Phonak","Naida M30-SP","PHO-0355",{"$f":"IF(ISBLANK('Assortiment Hoortoestellen'!$B$26),1,IF(ISERROR(SEARCH(PROPER('Assortiment Hoortoestellen'!$B$26),PROPER('Dataset hoortoestellen'!D17434))),0,1))","v":1}]
["Mijn Horen ",3,"ReSound","KEY 3CIC-W","RES-0323",{"$f":"IF(ISBLANK('Assortiment Hoortoestellen'!$B$26),1,IF(ISERROR(SEARCH(PROPER('Assortiment Hoortoestellen'!$B$26),PROPER('Dataset hoortoestellen'!D17448))),0,1))","v":1}]
["Mijn Horen ",5,"ReSound","LiNX Quattro 577-DW","RES-0341",{"$f":"IF(ISBLANK('Assortiment Hoortoestellen'!$B$26),1,IF(ISERROR(SEARCH(PROPER('Assortiment Hoortoestellen'!$B$26),PROPER('Dataset hoortoestellen'!D17467))),0,1))","v":1}]
["Mijn Horen ",4,"ReSound","KEY 461-DRWC","RES-0326",{"$f":"IF(ISBLANK('Assortiment Hoortoestellen'!$B$26),1,IF(ISERROR(SEARCH(PROPER('Assortiment Hoortoestellen'!$B$26),PROPER('Dataset hoortoestellen'!D17472))),0,1))","v":1}]
["Mijn Horen ",5,"Starkey","Livio AI 1600 BTE 13","STA-0405",{"$f":"IF(ISBLANK('Assortiment Hoortoestellen'!$B$26),1,IF(ISERROR(SEARCH(PROPER('Assortiment Hoortoestellen'!$B$26),PROPER('Dataset hoortoestellen'!D17492))),0,1))","v":1}]
["Mijn Horen ",3,"Starkey","Livio AI 1200 mRIC 312","STA-0398",{"$f":"IF(ISBLANK('Assortiment Hoortoestellen'!$B$26),1,IF(ISERROR(SEARCH(PROPER('Assortiment Hoortoestellen'!$B$26),PROPER('Dataset hoortoestellen'!D17500))),0,1))","v":1}]
["Mijn Horen ",5,"Unitron","Insera B5-312","UNI-0537",{"$f":"IF(ISBLANK('Assortiment Hoortoestellen'!$B$26),1,IF(ISERROR(SEARCH(PROPER('Assortiment Hoortoestellen'!$B$26),PROPER('Dataset hoortoestellen'!D17516))),0,1))","v":1}]
["Mijn Horen ",5,"Unitron","Moxi B5-312","UNI-0522",{"$f":"IF(ISBLANK('Assortiment Hoortoestellen'!$B$26),1,IF(ISERROR(SEARCH(PROPER('Assortiment Hoortoestellen'!$B$26),PROPER('Dataset hoortoestellen'!D17533))),0,1))","v":1}]
["Mijn Horen ",3,"Unitron","Stride B1-PR","UNI-0511",{"$f":"IF(ISBLANK('Assortiment Hoortoestellen'!$B$26),1,IF(ISERROR(SEARCH(PROPER('Assortiment Hoortoestellen'!$B$26),PROPER('Dataset hoortoestellen'!D17540))),0,1))","v":1}]
["Mijn Horen ",3,"Widex","Enjoy E-CIC TR 110 Links","WID-0569",{"$f":"IF(ISBLANK('Assortiment Hoortoestellen'!$B$26),1,IF(ISERROR(SEARCH(PROPER('Assortiment Hoortoestellen'!$B$26),PROPER('Dataset hoortoestellen'!D17552))),0,1))","v":1}]
["Mijn Horen ",4,"Widex","U330-CIC-M","WID-0433",{"$f":"IF(ISBLANK('Assortiment Hoortoestellen'!$B$26),1,IF(ISERROR(SEARCH(PROPER('Assortiment Hoortoestellen'!$B$26),PROPER('Dataset hoortoestellen'!D17568))),0,1))","v":1}]
["Mijn Horen ",3,"Widex","Enjoy E-F2 110 (HP-tel)","WID-0578",{"$f":"IF(ISBLANK('Assortiment Hoortoestellen'!$B$26),1,IF(ISERROR(SEARCH(PROPER('Assortiment Hoortoestellen'!$B$26),PROPER('Dataset hoortoestellen'!D17585))),0,1))","v":1}]
["Mijn Horen ",3,"Widex","Enjoy E-F2 110 (S-tel)","WID-0581",{"$f":"IF(ISBLANK('Assortiment Hoortoestellen'!$B$26),1,IF(ISERROR(SEARCH(PROPER('Assortiment Hoortoestellen'!$B$26),PROPER('Dataset hoortoestellen'!D17592))),0,1))","v":1}]
["Mijn Horen ",5,"Widex","Enjoy E-F2 330 (M-tel)","WID-0587",{"$f":"IF(ISBLANK('Assortiment Hoortoestellen'!$B$26),1,IF(ISERROR(SEARCH(PROPER('Assortiment Hoortoestellen'!$B$26),PROPER('Dataset hoortoestellen'!D17614))),0,1))","v":1}]
["Mijn Horen ",5,"Widex","Enjoy E-FP 330","WID-0613",{"$f":"IF(ISBLANK('Assortiment Hoortoestellen'!$B$26),1,IF(ISERROR(SEARCH(PROPER('Assortiment Hoortoestellen'!$B$26),PROPER('Dataset hoortoestellen'!D17629))),0,1))","v":1}]
["Mijn Horen ",3,"Widex","U110-FS (M-tel)","WID-0412",{"$f":"IF(ISBLANK('Assortiment Hoortoestellen'!$B$26),1,IF(ISERROR(SEARCH(PROPER('Assortiment Hoortoestellen'!$B$26),PROPER('Dataset hoortoestellen'!D17633))),0,1))","v":1}]
["Mijn Horen ",5,"Widex","U440-FM","WID-0449",{"$f":"IF(ISBLANK('Assortiment Hoortoestellen'!$B$26),1,IF(ISERROR(SEARCH(PROPER('Assortiment Hoortoestellen'!$B$26),PROPER('Dataset hoortoestellen'!D17653))),0,1))","v":1}]
["Mijn Horen ",5,"Widex","U440-PA (M-tel)","WID-0454",{"$f":"IF(ISBLANK('Assortiment Hoortoestellen'!$B$26),1,IF(ISERROR(SEARCH(PROPER('Assortiment Hoortoestellen'!$B$26),PROPER('Dataset hoortoestellen'!D17666))),0,1))","v":1}]
["Nico-Optiek",4,"Oticon","Siya 1 CIC 75 - 85","OTI-0340",{"$f":"IF(ISBLANK('Assortiment Hoortoestellen'!$B$26),1,IF(ISERROR(SEARCH(PROPER('Assortiment Hoortoestellen'!$B$26),PROPER('Dataset hoortoestellen'!D17681))),0,1))","v":1}]
["Nico-Optiek",5,"Oticon","Opn 3 ITE 75 - 100","OTI-0362",{"$f":"IF(ISBLANK('Assortiment Hoortoestellen'!$B$26),1,IF(ISERROR(SEARCH(PROPER('Assortiment Hoortoestellen'!$B$26),PROPER('Dataset hoortoestellen'!D17685))),0,1))","v":1}]
["Oog en Oorzorgcentrum Noordwest Veluwe",5,"Phonak","Bolero B 70 M","PHO-0290",{"$f":"IF(ISBLANK('Assortiment Hoortoestellen'!$B$26),1,IF(ISERROR(SEARCH(PROPER('Assortiment Hoortoestellen'!$B$26),PROPER('Dataset hoortoestellen'!D17705))),0,1))","v":1}]
["Oog en Oorzorgcentrum Noordwest Veluwe",4,"Phonak","Virto B 50 312","PHO-0329",{"$f":"IF(ISBLANK('Assortiment Hoortoestellen'!$B$26),1,IF(ISERROR(SEARCH(PROPER('Assortiment Hoortoestellen'!$B$26),PROPER('Dataset hoortoestellen'!D17714))),0,1))","v":1}]
["Oog en Oorzorgcentrum Noordwest Veluwe",1,"Starkey","Muse i1000 RIC 312","STA-0309",{"$f":"IF(ISBLANK('Assortiment Hoortoestellen'!$B$26),1,IF(ISERROR(SEARCH(PROPER('Assortiment Hoortoestellen'!$B$26),PROPER('Dataset hoortoestellen'!D17729))),0,1))","v":1}]
["Oog en Oorzorgcentrum Noordwest Veluwe",4,"Starkey","Muse iQ i1200 ITE","STA-0364",{"$f":"IF(ISBLANK('Assortiment Hoortoestellen'!$B$26),1,IF(ISERROR(SEARCH(PROPER('Assortiment Hoortoestellen'!$B$26),PROPER('Dataset hoortoestellen'!D17747))),0,1))","v":1}]
["Oog en Oorzorgcentrum Noordwest Veluwe",3,"Starkey","Livio 1000 RIC R","STA-0383",{"$f":"IF(ISBLANK('Assortiment Hoortoestellen'!$B$26),1,IF(ISERROR(SEARCH(PROPER('Assortiment Hoortoestellen'!$B$26),PROPER('Dataset hoortoestellen'!D17753))),0,1))","v":1}]
["Oogvoororen.nl",1,"Starkey","Muse i1000 CIC","STA-0277",{"$f":"IF(ISBLANK('Assortiment Hoortoestellen'!$B$26),1,IF(ISERROR(SEARCH(PROPER('Assortiment Hoortoestellen'!$B$26),PROPER('Dataset hoortoestellen'!D17766))),0,1))","v":1}]
["Oogvoororen.nl",5,"Starkey","Muse iQ i1600 ITE","STA-0374",{"$f":"IF(ISBLANK('Assortiment Hoortoestellen'!$B$26),1,IF(ISERROR(SEARCH(PROPER('Assortiment Hoortoestellen'!$B$26),PROPER('Dataset hoortoestellen'!D17781))),0,1))","v":1}]
["Oorwerk",5,"Audio Service","quiX 12 G5 Rechts","AUS-0192",{"$f":"IF(ISBLANK('Assortiment Hoortoestellen'!$B$26),1,IF(ISERROR(SEARCH(PROPER('Assortiment Hoortoestellen'!$B$26),PROPER('Dataset hoortoestellen'!D17799))),0,1))","v":1}]
["Oorwerk",2,"Audio Service","Sun 4 G5","AUS-0217",{"$f":"IF(ISBLANK('Assortiment Hoortoestellen'!$B$26),1,IF(ISERROR(SEARCH(PROPER('Assortiment Hoortoestellen'!$B$26),PROPER('Dataset hoortoestellen'!D17818))),0,1))","v":1}]
["Oorwerk",3,"Coselgi","U10-PA (S-tel)","COS-0147",{"$f":"IF(ISBLANK('Assortiment Hoortoestellen'!$B$26),1,IF(ISERROR(SEARCH(PROPER('Assortiment Hoortoestellen'!$B$26),PROPER('Dataset hoortoestellen'!D17832))),0,1))","v":1}]
["Oorwerk",4,"Coselgi","U10E-FS (S-tel)","COS-0157",{"$f":"IF(ISBLANK('Assortiment Hoortoestellen'!$B$26),1,IF(ISERROR(SEARCH(PROPER('Assortiment Hoortoestellen'!$B$26),PROPER('Dataset hoortoestellen'!D17842))),0,1))","v":1}]
["Oorwerk",5,"Coselgi","U15-CIC TR (links)","COS-0162",{"$f":"IF(ISBLANK('Assortiment Hoortoestellen'!$B$26),1,IF(ISERROR(SEARCH(PROPER('Assortiment Hoortoestellen'!$B$26),PROPER('Dataset hoortoestellen'!D17847))),0,1))","v":1}]
["Oorwerk",2,"Coselgi","U6-PA (M-tel)","COS-0250",{"$f":"IF(ISBLANK('Assortiment Hoortoestellen'!$B$26),1,IF(ISERROR(SEARCH(PROPER('Assortiment Hoortoestellen'!$B$26),PROPER('Dataset hoortoestellen'!D17866))),0,1))","v":1}]
["Oorwerk",3,"Coselgi","U6-CIC TR (rechts)","COS-0272",{"$f":"IF(ISBLANK('Assortiment Hoortoestellen'!$B$26),1,IF(ISERROR(SEARCH(PROPER('Assortiment Hoortoestellen'!$B$26),PROPER('Dataset hoortoestellen'!D17880))),0,1))","v":1}]
["Oorwerk",3,"ReSound","Ligo 467-DW","RES-0266",{"$f":"IF(ISBLANK('Assortiment Hoortoestellen'!$B$26),1,IF(ISERROR(SEARCH(PROPER('Assortiment Hoortoestellen'!$B$26),PROPER('Dataset hoortoestellen'!D17894))),0,1))","v":1}]
["Oorwerk",5,"ReSound","Ligo 798-DW","RES-0285",{"$f":"IF(ISBLANK('Assortiment Hoortoestellen'!$B$26),1,IF(ISERROR(SEARCH(PROPER('Assortiment Hoortoestellen'!$B$26),PROPER('Dataset hoortoestellen'!D17913))),0,1))","v":1}]
["Oorwerk",3,"Widex","U110-FA","WID-0408",{"$f":"IF(ISBLANK('Assortiment Hoortoestellen'!$B$26),1,IF(ISERROR(SEARCH(PROPER('Assortiment Hoortoestellen'!$B$26),PROPER('Dataset hoortoestellen'!D17918))),0,1))","v":1}]
["Oorwerk",3,"Widex","U220-FA","WID-0422",{"$f":"IF(ISBLANK('Assortiment Hoortoestellen'!$B$26),1,IF(ISERROR(SEARCH(PROPER('Assortiment Hoortoestellen'!$B$26),PROPER('Dataset hoortoestellen'!D17932))),0,1))","v":1}]
["Oorwerk",4,"Widex","U330-CIC TR","WID-0432",{"$f":"IF(ISBLANK('Assortiment Hoortoestellen'!$B$26),1,IF(ISERROR(SEARCH(PROPER('Assortiment Hoortoestellen'!$B$26),PROPER('Dataset hoortoestellen'!D17942))),0,1))","v":1}]
["Oorwerk",5,"Widex","U440-FS (M-tel)","WID-0451",{"$f":"IF(ISBLANK('Assortiment Hoortoestellen'!$B$26),1,IF(ISERROR(SEARCH(PROPER('Assortiment Hoortoestellen'!$B$26),PROPER('Dataset hoortoestellen'!D17961))),0,1))","v":1}]
["Oorwerk",5,"Widex","Enjoy E-CIC M 330","WID-0559",{"$f":"IF(ISBLANK('Assortiment Hoortoestellen'!$B$26),1,IF(ISERROR(SEARCH(PROPER('Assortiment Hoortoestellen'!$B$26),PROPER('Dataset hoortoestellen'!D17979))),0,1))","v":1}]
["Oorwerk",3,"Widex","Enjoy E-F2 110 (P-tel)","WID-0580",{"$f":"IF(ISBLANK('Assortiment Hoortoestellen'!$B$26),1,IF(ISERROR(SEARCH(PROPER('Assortiment Hoortoestellen'!$B$26),PROPER('Dataset hoortoestellen'!D17986))),0,1))","v":1}]
["Oorwerk",2,"Widex","Enjoy E-F2 50 (P-tel)","WID-0596",{"$f":"IF(ISBLANK('Assortiment Hoortoestellen'!$B$26),1,IF(ISERROR(SEARCH(PROPER('Assortiment Hoortoestellen'!$B$26),PROPER('Dataset hoortoestellen'!D17998))),0,1))","v":1}]
["Oorwerk",5,"Widex","Enjoy E-FP 330","WID-0613",{"$f":"IF(ISBLANK('Assortiment Hoortoestellen'!$B$26),1,IF(ISERROR(SEARCH(PROPER('Assortiment Hoortoestellen'!$B$26),PROPER('Dataset hoortoestellen'!D18010))),0,1))","v":1}]
["Oorwerk",2,"Widex","Enjoy E-FS 50 (S-tel)","WID-0639",{"$f":"IF(ISBLANK('Assortiment Hoortoestellen'!$B$26),1,IF(ISERROR(SEARCH(PROPER('Assortiment Hoortoestellen'!$B$26),PROPER('Dataset hoortoestellen'!D18027))),0,1))","v":1}]
["Oorzaak Hoorkliniek",2,"Coselgi","U6-CIC (links)","COS-0241",{"$f":"IF(ISBLANK('Assortiment Hoortoestellen'!$B$26),1,IF(ISERROR(SEARCH(PROPER('Assortiment Hoortoestellen'!$B$26),PROPER('Dataset hoortoestellen'!D18047))),0,1))","v":1}]
["Oorzaak Hoorkliniek",3,"Widex","U220-CIC TR","WID-0419",{"$f":"IF(ISBLANK('Assortiment Hoortoestellen'!$B$26),1,IF(ISERROR(SEARCH(PROPER('Assortiment Hoortoestellen'!$B$26),PROPER('Dataset hoortoestellen'!D18060))),0,1))","v":1}]
["Oosterhoff Hoortoestellen BV",1,"Oticon","Get","OTI-0064",{"$f":"IF(ISBLANK('Assortiment Hoortoestellen'!$B$26),1,IF(ISERROR(SEARCH(PROPER('Assortiment Hoortoestellen'!$B$26),PROPER('Dataset hoortoestellen'!D18075))),0,1))","v":1}]
["Oosterhoff Hoortoestellen BV",5,"Oticon","Opn 3 ITE 75 - 100","OTI-0362",{"$f":"IF(ISBLANK('Assortiment Hoortoestellen'!$B$26),1,IF(ISERROR(SEARCH(PROPER('Assortiment Hoortoestellen'!$B$26),PROPER('Dataset hoortoestellen'!D18079))),0,1))","v":1}]
["Ophof Optiek BV",5,"Oticon","Opn 3 ITE 75 - 100","OTI-0362",{"$f":"IF(ISBLANK('Assortiment Hoortoestellen'!$B$26),1,IF(ISERROR(SEARCH(PROPER('Assortiment Hoortoestellen'!$B$26),PROPER('Dataset hoortoestellen'!D18099))),0,1))","v":1}]
["OPTIEK GROESBEEK opticiens & Audiciens",3,"Audio Service","Sun 6 G5","AUS-0218",{"$f":"IF(ISBLANK('Assortiment Hoortoestellen'!$B$26),1,IF(ISERROR(SEARCH(PROPER('Assortiment Hoortoestellen'!$B$26),PROPER('Dataset hoortoestellen'!D18112))),0,1))","v":1}]
["OPTIEK GROESBEEK opticiens & Audiciens",4,"Audio Service","P 8 G5","AUS-0190",{"$f":"IF(ISBLANK('Assortiment Hoortoestellen'!$B$26),1,IF(ISERROR(SEARCH(PROPER('Assortiment Hoortoestellen'!$B$26),PROPER('Dataset hoortoestellen'!D18123))),0,1))","v":1}]
["OPTIEK GROESBEEK opticiens & Audiciens",1,"Audio Service ","Volta XS C","AUS-0225",{"$f":"IF(ISBLANK('Assortiment Hoortoestellen'!$B$26),1,IF(ISERROR(SEARCH(PROPER('Assortiment Hoortoestellen'!$B$26),PROPER('Dataset hoortoestellen'!D18141))),0,1))","v":1}]
["OPTIEK GROESBEEK opticiens & Audiciens",5,"Beltone","TST 986-DW","BEL-0124",{"$f":"IF(ISBLANK('Assortiment Hoortoestellen'!$B$26),1,IF(ISERROR(SEARCH(PROPER('Assortiment Hoortoestellen'!$B$26),PROPER('Dataset hoortoestellen'!D18147))),0,1))","v":1}]
["OPTIEK GROESBEEK opticiens & Audiciens",3,"Bernafon","Viron 3 MNR T R","BER-0666",{"$f":"IF(ISBLANK('Assortiment Hoortoestellen'!$B$26),1,IF(ISERROR(SEARCH(PROPER('Assortiment Hoortoestellen'!$B$26),PROPER('Dataset hoortoestellen'!D18160))),0,1))","v":1}]
["OPTIEK GROESBEEK opticiens & Audiciens",2,"Coselgi","Effect EF2-XP","COS-0293",{"$f":"IF(ISBLANK('Assortiment Hoortoestellen'!$B$26),1,IF(ISERROR(SEARCH(PROPER('Assortiment Hoortoestellen'!$B$26),PROPER('Dataset hoortoestellen'!D18175))),0,1))","v":1}]
["OPTIEK GROESBEEK opticiens & Audiciens",3,"Coselgi","Effect EF4-CIC TR Links","COS-0309",{"$f":"IF(ISBLANK('Assortiment Hoortoestellen'!$B$26),1,IF(ISERROR(SEARCH(PROPER('Assortiment Hoortoestellen'!$B$26),PROPER('Dataset hoortoestellen'!D18193))),0,1))","v":1}]
["OPTIEK GROESBEEK opticiens & Audiciens",3,"Coselgi","Effect EF4-F2 (S-tel)","COS-0297",{"$f":"IF(ISBLANK('Assortiment Hoortoestellen'!$B$26),1,IF(ISERROR(SEARCH(PROPER('Assortiment Hoortoestellen'!$B$26),PROPER('Dataset hoortoestellen'!D18199))),0,1))","v":1}]
["OPTIEK GROESBEEK opticiens & Audiciens",4,"Coselgi","Effect EF5-CIC Rechts","COS-0329",{"$f":"IF(ISBLANK('Assortiment Hoortoestellen'!$B$26),1,IF(ISERROR(SEARCH(PROPER('Assortiment Hoortoestellen'!$B$26),PROPER('Dataset hoortoestellen'!D18212))),0,1))","v":1}]
["OPTIEK GROESBEEK opticiens & Audiciens",5,"Coselgi","Effect EF6-CIC TR Rechts","COS-0352",{"$f":"IF(ISBLANK('Assortiment Hoortoestellen'!$B$26),1,IF(ISERROR(SEARCH(PROPER('Assortiment Hoortoestellen'!$B$26),PROPER('Dataset hoortoestellen'!D18236))),0,1))","v":1}]
["OPTIEK GROESBEEK opticiens & Audiciens",5,"Coselgi","Effect EF6-F2 (S-tel)","COS-0340",{"$f":"IF(ISBLANK('Assortiment Hoortoestellen'!$B$26),1,IF(ISERROR(SEARCH(PROPER('Assortiment Hoortoestellen'!$B$26),PROPER('Dataset hoortoestellen'!D18241))),0,1))","v":1}]
["OPTIEK GROESBEEK opticiens & Audiciens",2,"Interton","MOVE 362-DRW","INT-0059",{"$f":"IF(ISBLANK('Assortiment Hoortoestellen'!$B$26),1,IF(ISERROR(SEARCH(PROPER('Assortiment Hoortoestellen'!$B$26),PROPER('Dataset hoortoestellen'!D18260))),0,1))","v":1}]
["OPTIEK GROESBEEK opticiens & Audiciens",4,"Interton","MOVE 670-DW","INT-0079",{"$f":"IF(ISBLANK('Assortiment Hoortoestellen'!$B$26),1,IF(ISERROR(SEARCH(PROPER('Assortiment Hoortoestellen'!$B$26),PROPER('Dataset hoortoestellen'!D18274))),0,1))","v":1}]
["OPTIEK GROESBEEK opticiens & Audiciens",2,"Oticon","Geno 2 Custom 75 - 100","OTI-0385",{"$f":"IF(ISBLANK('Assortiment Hoortoestellen'!$B$26),1,IF(ISERROR(SEARCH(PROPER('Assortiment Hoortoestellen'!$B$26),PROPER('Dataset hoortoestellen'!D18284))),0,1))","v":1}]
["OPTIEK GROESBEEK opticiens & Audiciens",4,"Oticon","Siya 1 miniRITE T 60 - 105","OTI-0344",{"$f":"IF(ISBLANK('Assortiment Hoortoestellen'!$B$26),1,IF(ISERROR(SEARCH(PROPER('Assortiment Hoortoestellen'!$B$26),PROPER('Dataset hoortoestellen'!D18293))),0,1))","v":1}]
["OPTIEK GROESBEEK opticiens & Audiciens",3,"Phonak","Sky B 30 UP","PHO-0311",{"$f":"IF(ISBLANK('Assortiment Hoortoestellen'!$B$26),1,IF(ISERROR(SEARCH(PROPER('Assortiment Hoortoestellen'!$B$26),PROPER('Dataset hoortoestellen'!D18312))),0,1))","v":1}]
["OPTIEK GROESBEEK opticiens & Audiciens",4,"Phonak","Sky M30-SP","PHO-0335",{"$f":"IF(ISBLANK('Assortiment Hoortoestellen'!$B$26),1,IF(ISERROR(SEARCH(PROPER('Assortiment Hoortoestellen'!$B$26),PROPER('Dataset hoortoestellen'!D18326))),0,1))","v":1}]
["OPTIEK GROESBEEK opticiens & Audiciens",5,"Phonak","Sky M50-M","PHO-0336",{"$f":"IF(ISBLANK('Assortiment Hoortoestellen'!$B$26),1,IF(ISERROR(SEARCH(PROPER('Assortiment Hoortoestellen'!$B$26),PROPER('Dataset hoortoestellen'!D18336))),0,1))","v":1}]
["OPTIEK GROESBEEK opticiens & Audiciens",4,"ReSound","KEY 4CIC-W","RES-0332",{"$f":"IF(ISBLANK('Assortiment Hoortoestellen'!$B$26),1,IF(ISERROR(SEARCH(PROPER('Assortiment Hoortoestellen'!$B$26),PROPER('Dataset hoortoestellen'!D18355))),0,1))","v":1}]
["OPTIEK GROESBEEK opticiens & Audiciens",4,"ReSound","KEY 461-DRW","RES-0325",{"$f":"IF(ISBLANK('Assortiment Hoortoestellen'!$B$26),1,IF(ISERROR(SEARCH(PROPER('Assortiment Hoortoestellen'!$B$26),PROPER('Dataset hoortoestellen'!D18360))),0,1))","v":1}]
["OPTIEK GROESBEEK opticiens & Audiciens",1,"Starkey","Muse i1000 ITC","STA-0279",{"$f":"IF(ISBLANK('Assortiment Hoortoestellen'!$B$26),1,IF(ISERROR(SEARCH(PROPER('Assortiment Hoortoestellen'!$B$26),PROPER('Dataset hoortoestellen'!D18374))),0,1))","v":1}]
["OPTIEK GROESBEEK opticiens & Audiciens",4,"Starkey","Muse iQ i1200 CIC","STA-0362",{"$f":"IF(ISBLANK('Assortiment Hoortoestellen'!$B$26),1,IF(ISERROR(SEARCH(PROPER('Assortiment Hoortoestellen'!$B$26),PROPER('Dataset hoortoestellen'!D18397))),0,1))","v":1}]
["OPTIEK GROESBEEK opticiens & Audiciens",5,"Starkey","Muse iQ i1600 ITC","STA-0373",{"$f":"IF(ISBLANK('Assortiment Hoortoestellen'!$B$26),1,IF(ISERROR(SEARCH(PROPER('Assortiment Hoortoestellen'!$B$26),PROPER('Dataset hoortoestellen'!D18407))),0,1))","v":1}]
["OPTIEK GROESBEEK opticiens & Audiciens",3,"Unitron","T Insera 500 W 13 Dir","UNI-0325",{"$f":"IF(ISBLANK('Assortiment Hoortoestellen'!$B$26),1,IF(ISERROR(SEARCH(PROPER('Assortiment Hoortoestellen'!$B$26),PROPER('Dataset hoortoestellen'!D18425))),0,1))","v":1}]
["OPTIEK GROESBEEK opticiens & Audiciens",4,"Unitron","T Insera 600 W 13 Dir","UNI-0330",{"$f":"IF(ISBLANK('Assortiment Hoortoestellen'!$B$26),1,IF(ISERROR(SEARCH(PROPER('Assortiment Hoortoestellen'!$B$26),PROPER('Dataset hoortoestellen'!D18440))),0,1))","v":1}]
["OPTIEK GROESBEEK opticiens & Audiciens",5,"Unitron","T Insera 800 10A Omni","UNI-2080",{"$f":"IF(ISBLANK('Assortiment Hoortoestellen'!$B$26),1,IF(ISERROR(SEARCH(PROPER('Assortiment Hoortoestellen'!$B$26),PROPER('Dataset hoortoestellen'!D18449))),0,1))","v":1}]
["OPTIEK GROESBEEK opticiens & Audiciens",5,"Unitron","DX Stride M 7","UNI-0454",{"$f":"IF(ISBLANK('Assortiment Hoortoestellen'!$B$26),1,IF(ISERROR(SEARCH(PROPER('Assortiment Hoortoestellen'!$B$26),PROPER('Dataset hoortoestellen'!D18455))),0,1))","v":1}]
["OPTIEK GROESBEEK opticiens & Audiciens",2,"Widex","Enjoy E-FS 50 (S-tel)","WID-0639",{"$f":"IF(ISBLANK('Assortiment Hoortoestellen'!$B$26),1,IF(ISERROR(SEARCH(PROPER('Assortiment Hoortoestellen'!$B$26),PROPER('Dataset hoortoestellen'!D18473))),0,1))","v":1}]
["OPTIEK GROESBEEK opticiens & Audiciens",3,"Widex","Enjoy E-F2 110 (P-tel)","WID-0580",{"$f":"IF(ISBLANK('Assortiment Hoortoestellen'!$B$26),1,IF(ISERROR(SEARCH(PROPER('Assortiment Hoortoestellen'!$B$26),PROPER('Dataset hoortoestellen'!D18493))),0,1))","v":1}]
["OPTIEK GROESBEEK opticiens & Audiciens",3,"Widex","U110-FP","WID-0410",{"$f":"IF(ISBLANK('Assortiment Hoortoestellen'!$B$26),1,IF(ISERROR(SEARCH(PROPER('Assortiment Hoortoestellen'!$B$26),PROPER('Dataset hoortoestellen'!D18506))),0,1))","v":1}]
["OPTIEK GROESBEEK opticiens & Audiciens",3,"Widex","U220-FS (M-tel)","WID-0425",{"$f":"IF(ISBLANK('Assortiment Hoortoestellen'!$B$26),1,IF(ISERROR(SEARCH(PROPER('Assortiment Hoortoestellen'!$B$26),PROPER('Dataset hoortoestellen'!D18517))),0,1))","v":1}]
["OPTIEK GROESBEEK opticiens & Audiciens",3,"Widex","U220-PA (S-tel)","WID-0429",{"$f":"IF(ISBLANK('Assortiment Hoortoestellen'!$B$26),1,IF(ISERROR(SEARCH(PROPER('Assortiment Hoortoestellen'!$B$26),PROPER('Dataset hoortoestellen'!D18521))),0,1))","v":1}]
["OPTIEK GROESBEEK opticiens & Audiciens",4,"Widex","Enjoy E-FS 220 (HP-tel)","WID-0624",{"$f":"IF(ISBLANK('Assortiment Hoortoestellen'!$B$26),1,IF(ISERROR(SEARCH(PROPER('Assortiment Hoortoestellen'!$B$26),PROPER('Dataset hoortoestellen'!D18541))),0,1))","v":1}]
["OPTIEK GROESBEEK opticiens & Audiciens",4,"Widex","U330-PA (M-tel)","WID-0441",{"$f":"IF(ISBLANK('Assortiment Hoortoestellen'!$B$26),1,IF(ISERROR(SEARCH(PROPER('Assortiment Hoortoestellen'!$B$26),PROPER('Dataset hoortoestellen'!D18554))),0,1))","v":1}]
["OPTIEK GROESBEEK opticiens & Audiciens",5,"Widex","U440-CIC-M TR","WID-0447",{"$f":"IF(ISBLANK('Assortiment Hoortoestellen'!$B$26),1,IF(ISERROR(SEARCH(PROPER('Assortiment Hoortoestellen'!$B$26),PROPER('Dataset hoortoestellen'!D18565))),0,1))","v":1}]
["OPTIEK GROESBEEK opticiens & Audiciens",5,"Widex","U440-FS (S-tel)","WID-0453",{"$f":"IF(ISBLANK('Assortiment Hoortoestellen'!$B$26),1,IF(ISERROR(SEARCH(PROPER('Assortiment Hoortoestellen'!$B$26),PROPER('Dataset hoortoestellen'!D18587))),0,1))","v":1}]
["Optiek Moonen ",4,"Audio Service","HP 8 G4","AUS-0132",{"$f":"IF(ISBLANK('Assortiment Hoortoestellen'!$B$26),1,IF(ISERROR(SEARCH(PROPER('Assortiment Hoortoestellen'!$B$26),PROPER('Dataset hoortoestellen'!D18593))),0,1))","v":1}]
["Optiek Moonen ",5,"Audio Service","quiX 12 G5 Links","AUS-0191",{"$f":"IF(ISBLANK('Assortiment Hoortoestellen'!$B$26),1,IF(ISERROR(SEARCH(PROPER('Assortiment Hoortoestellen'!$B$26),PROPER('Dataset hoortoestellen'!D18606))),0,1))","v":1}]
["Optiek Moonen ",3,"Audio Service","Mood 6 G5","AUS-0208",{"$f":"IF(ISBLANK('Assortiment Hoortoestellen'!$B$26),1,IF(ISERROR(SEARCH(PROPER('Assortiment Hoortoestellen'!$B$26),PROPER('Dataset hoortoestellen'!D18617))),0,1))","v":1}]
["Optiek Moonen ",2,"Bernafon","Zerena 1 MNR","BER-0621",{"$f":"IF(ISBLANK('Assortiment Hoortoestellen'!$B$26),1,IF(ISERROR(SEARCH(PROPER('Assortiment Hoortoestellen'!$B$26),PROPER('Dataset hoortoestellen'!D18635))),0,1))","v":1}]
["Optiek Moonen ",4,"Oticon","Siya 1 miniRITE T 60 - 105","OTI-0344",{"$f":"IF(ISBLANK('Assortiment Hoortoestellen'!$B$26),1,IF(ISERROR(SEARCH(PROPER('Assortiment Hoortoestellen'!$B$26),PROPER('Dataset hoortoestellen'!D18654))),0,1))","v":1}]
["Optiek Moonen ",4,"Phonak","Audeo B 50 13","PHO-0274",{"$f":"IF(ISBLANK('Assortiment Hoortoestellen'!$B$26),1,IF(ISERROR(SEARCH(PROPER('Assortiment Hoortoestellen'!$B$26),PROPER('Dataset hoortoestellen'!D18668))),0,1))","v":1}]
["Optiek Moonen ",4,"Phonak","Bolero B 50 P","PHO-0287",{"$f":"IF(ISBLANK('Assortiment Hoortoestellen'!$B$26),1,IF(ISERROR(SEARCH(PROPER('Assortiment Hoortoestellen'!$B$26),PROPER('Dataset hoortoestellen'!D18678))),0,1))","v":1}]
["Optiek Moonen ",5,"Phonak","Naida B 70 SP","PHO-0305",{"$f":"IF(ISBLANK('Assortiment Hoortoestellen'!$B$26),1,IF(ISERROR(SEARCH(PROPER('Assortiment Hoortoestellen'!$B$26),PROPER('Dataset hoortoestellen'!D18687))),0,1))","v":1}]
["Optiek Moonen ",3,"Phonak","Virto B 30 312","PHO-0326",{"$f":"IF(ISBLANK('Assortiment Hoortoestellen'!$B$26),1,IF(ISERROR(SEARCH(PROPER('Assortiment Hoortoestellen'!$B$26),PROPER('Dataset hoortoestellen'!D18706))),0,1))","v":1}]
["Optiek Moonen ",2,"ReSound","MagnaSP 490 DVI","RES-0227",{"$f":"IF(ISBLANK('Assortiment Hoortoestellen'!$B$26),1,IF(ISERROR(SEARCH(PROPER('Assortiment Hoortoestellen'!$B$26),PROPER('Dataset hoortoestellen'!D18720))),0,1))","v":1}]
["Optiek Moonen ",4,"ReSound","Ligo 5 ITC-DW","RES-0271",{"$f":"IF(ISBLANK('Assortiment Hoortoestellen'!$B$26),1,IF(ISERROR(SEARCH(PROPER('Assortiment Hoortoestellen'!$B$26),PROPER('Dataset hoortoestellen'!D18730))),0,1))","v":1}]
["Optiek Moonen ",5,"ReSound","Ligo 761-DRW","RES-0280",{"$f":"IF(ISBLANK('Assortiment Hoortoestellen'!$B$26),1,IF(ISERROR(SEARCH(PROPER('Assortiment Hoortoestellen'!$B$26),PROPER('Dataset hoortoestellen'!D18739))),0,1))","v":1}]
["Optiek Moonen ",5,"Unitron","T Max UP 800","UNI-0279",{"$f":"IF(ISBLANK('Assortiment Hoortoestellen'!$B$26),1,IF(ISERROR(SEARCH(PROPER('Assortiment Hoortoestellen'!$B$26),PROPER('Dataset hoortoestellen'!D18754))),0,1))","v":1}]
["Optiek Moonen ",4,"Unitron","T Stride Dura 600 P","UNI-0313",{"$f":"IF(ISBLANK('Assortiment Hoortoestellen'!$B$26),1,IF(ISERROR(SEARCH(PROPER('Assortiment Hoortoestellen'!$B$26),PROPER('Dataset hoortoestellen'!D18768))),0,1))","v":1}]
["Optiek Moonen ",4,"Unitron","T Insera 600 W 10A Dir","UNI-0328",{"$f":"IF(ISBLANK('Assortiment Hoortoestellen'!$B$26),1,IF(ISERROR(SEARCH(PROPER('Assortiment Hoortoestellen'!$B$26),PROPER('Dataset hoortoestellen'!D18778))),0,1))","v":1}]
["Optiek Moonen ",3,"Widex","U220-CIC TR","WID-0419",{"$f":"IF(ISBLANK('Assortiment Hoortoestellen'!$B$26),1,IF(ISERROR(SEARCH(PROPER('Assortiment Hoortoestellen'!$B$26),PROPER('Dataset hoortoestellen'!D18801))),0,1))","v":1}]
["Optiek Moonen ",3,"Widex","U220-FS (HP-tel)","WID-0424",{"$f":"IF(ISBLANK('Assortiment Hoortoestellen'!$B$26),1,IF(ISERROR(SEARCH(PROPER('Assortiment Hoortoestellen'!$B$26),PROPER('Dataset hoortoestellen'!D18806))),0,1))","v":1}]
["Optiek Moonen ",4,"Widex","U330-FS (M-tel)","WID-0438",{"$f":"IF(ISBLANK('Assortiment Hoortoestellen'!$B$26),1,IF(ISERROR(SEARCH(PROPER('Assortiment Hoortoestellen'!$B$26),PROPER('Dataset hoortoestellen'!D18820))),0,1))","v":1}]
["Optiek Moonen ",4,"Widex","Enjoy E-BTE 13D 220","WID-0546",{"$f":"IF(ISBLANK('Assortiment Hoortoestellen'!$B$26),1,IF(ISERROR(SEARCH(PROPER('Assortiment Hoortoestellen'!$B$26),PROPER('Dataset hoortoestellen'!D18843))),0,1))","v":1}]
["Optiek Moonen ",3,"Widex","Enjoy E-CIC TR 110 Links","WID-0569",{"$f":"IF(ISBLANK('Assortiment Hoortoestellen'!$B$26),1,IF(ISERROR(SEARCH(PROPER('Assortiment Hoortoestellen'!$B$26),PROPER('Dataset hoortoestellen'!D18853))),0,1))","v":1}]
["Optiek Moonen ",5,"Widex","Enjoy E-F2 330 (S-tel)","WID-0589",{"$f":"IF(ISBLANK('Assortiment Hoortoestellen'!$B$26),1,IF(ISERROR(SEARCH(PROPER('Assortiment Hoortoestellen'!$B$26),PROPER('Dataset hoortoestellen'!D18867))),0,1))","v":1}]
["Optiek Moonen ",5,"Widex","Enjoy E-FP 330","WID-0613",{"$f":"IF(ISBLANK('Assortiment Hoortoestellen'!$B$26),1,IF(ISERROR(SEARCH(PROPER('Assortiment Hoortoestellen'!$B$26),PROPER('Dataset hoortoestellen'!D18882))),0,1))","v":1}]
["Optiek Moonen ",4,"Widex","Enjoy E-FS 220 (S-tel)","WID-0627",{"$f":"IF(ISBLANK('Assortiment Hoortoestellen'!$B$26),1,IF(ISERROR(SEARCH(PROPER('Assortiment Hoortoestellen'!$B$26),PROPER('Dataset hoortoestellen'!D18891))),0,1))","v":1}]
["Optiek Moonen ",3,"Widex","Enjoy E-PA 110 (S-tel)","WID-0643",{"$f":"IF(ISBLANK('Assortiment Hoortoestellen'!$B$26),1,IF(ISERROR(SEARCH(PROPER('Assortiment Hoortoestellen'!$B$26),PROPER('Dataset hoortoestellen'!D18901))),0,1))","v":1}]
["Optiek Swemmer",2,"ReSound","MagnaSP 490 DVI","RES-0227",{"$f":"IF(ISBLANK('Assortiment Hoortoestellen'!$B$26),1,IF(ISERROR(SEARCH(PROPER('Assortiment Hoortoestellen'!$B$26),PROPER('Dataset hoortoestellen'!D18919))),0,1))","v":1}]
["Optiek Swemmer",1,"Starkey","Muse i1000 RIC 312","STA-0309",{"$f":"IF(ISBLANK('Assortiment Hoortoestellen'!$B$26),1,IF(ISERROR(SEARCH(PROPER('Assortiment Hoortoestellen'!$B$26),PROPER('Dataset hoortoestellen'!D18934))),0,1))","v":1}]
["Optiek Swemmer",2,"Starkey","Muse iQ i1000 BTE 312","STA-0351",{"$f":"IF(ISBLANK('Assortiment Hoortoestellen'!$B$26),1,IF(ISERROR(SEARCH(PROPER('Assortiment Hoortoestellen'!$B$26),PROPER('Dataset hoortoestellen'!D18943))),0,1))","v":1}]
["Optiek Swemmer",5,"Starkey","Muse iQ i1600 ITC","STA-0373",{"$f":"IF(ISBLANK('Assortiment Hoortoestellen'!$B$26),1,IF(ISERROR(SEARCH(PROPER('Assortiment Hoortoestellen'!$B$26),PROPER('Dataset hoortoestellen'!D18953))),0,1))","v":1}]
["Optiek Swemmer",3,"Starkey","Livio 1000 BTE R","STA-0392",{"$f":"IF(ISBLANK('Assortiment Hoortoestellen'!$B$26),1,IF(ISERROR(SEARCH(PROPER('Assortiment Hoortoestellen'!$B$26),PROPER('Dataset hoortoestellen'!D18967))),0,1))","v":1}]
["Optiek Verhoeven / Ear to Ear",2,"Bernafon","Zerena 1 BTE 105","BER-0615",{"$f":"IF(ISBLANK('Assortiment Hoortoestellen'!$B$26),1,IF(ISERROR(SEARCH(PROPER('Assortiment Hoortoestellen'!$B$26),PROPER('Dataset hoortoestellen'!D18987))),0,1))","v":1}]
["Optiek Verhoeven / Ear to Ear",3,"Oticon","Siya 2 ITE 75 - 100","OTI-0349",{"$f":"IF(ISBLANK('Assortiment Hoortoestellen'!$B$26),1,IF(ISERROR(SEARCH(PROPER('Assortiment Hoortoestellen'!$B$26),PROPER('Dataset hoortoestellen'!D19000))),0,1))","v":1}]
["PC van Gent Hoortoestellen BV",2,"Audio Service","HP 4 G4","AUS-0153",{"$f":"IF(ISBLANK('Assortiment Hoortoestellen'!$B$26),1,IF(ISERROR(SEARCH(PROPER('Assortiment Hoortoestellen'!$B$26),PROPER('Dataset hoortoestellen'!D19011))),0,1))","v":1}]
["PC van Gent Hoortoestellen BV",2,"Audio Service","Duo 4 G5","AUS-0205",{"$f":"IF(ISBLANK('Assortiment Hoortoestellen'!$B$26),1,IF(ISERROR(SEARCH(PROPER('Assortiment Hoortoestellen'!$B$26),PROPER('Dataset hoortoestellen'!D19033))),0,1))","v":1}]
["PC van Gent Hoortoestellen BV",2,"Audio Service","Mood 4 G5","AUS-0207",{"$f":"IF(ISBLANK('Assortiment Hoortoestellen'!$B$26),1,IF(ISERROR(SEARCH(PROPER('Assortiment Hoortoestellen'!$B$26),PROPER('Dataset hoortoestellen'!D19035))),0,1))","v":1}]
["PC van Gent Hoortoestellen BV",1,"Audio Service ","Volta P C","AUS-0220",{"$f":"IF(ISBLANK('Assortiment Hoortoestellen'!$B$26),1,IF(ISERROR(SEARCH(PROPER('Assortiment Hoortoestellen'!$B$26),PROPER('Dataset hoortoestellen'!D19048))),0,1))","v":1}]
["PC van Gent Hoortoestellen BV",3,"Bernafon","Viron 3 BTE 105","BER-0663",{"$f":"IF(ISBLANK('Assortiment Hoortoestellen'!$B$26),1,IF(ISERROR(SEARCH(PROPER('Assortiment Hoortoestellen'!$B$26),PROPER('Dataset hoortoestellen'!D19072))),0,1))","v":1}]
["PC van Gent Hoortoestellen BV",2,"Coselgi","Effect EF2-F2 (HP-tel)","COS-0276",{"$f":"IF(ISBLANK('Assortiment Hoortoestellen'!$B$26),1,IF(ISERROR(SEARCH(PROPER('Assortiment Hoortoestellen'!$B$26),PROPER('Dataset hoortoestellen'!D19081))),0,1))","v":1}]
["PC van Gent Hoortoestellen BV",3,"Coselgi","Effect EF4 F2(HP-tel)","COS-0298",{"$f":"IF(ISBLANK('Assortiment Hoortoestellen'!$B$26),1,IF(ISERROR(SEARCH(PROPER('Assortiment Hoortoestellen'!$B$26),PROPER('Dataset hoortoestellen'!D19100))),0,1))","v":1}]
["PC van Gent Hoortoestellen BV",3,"Coselgi","Effect EF4-XP","COS-0314",{"$f":"IF(ISBLANK('Assortiment Hoortoestellen'!$B$26),1,IF(ISERROR(SEARCH(PROPER('Assortiment Hoortoestellen'!$B$26),PROPER('Dataset hoortoestellen'!D19114))),0,1))","v":1}]
["PC van Gent Hoortoestellen BV",4,"Coselgi","Effect EF5-CIC Links","COS-0326",{"$f":"IF(ISBLANK('Assortiment Hoortoestellen'!$B$26),1,IF(ISERROR(SEARCH(PROPER('Assortiment Hoortoestellen'!$B$26),PROPER('Dataset hoortoestellen'!D19124))),0,1))","v":1}]
["PC van Gent Hoortoestellen BV",5,"Coselgi","Effect EF6-F2 (HP-tel)","COS-0337",{"$f":"IF(ISBLANK('Assortiment Hoortoestellen'!$B$26),1,IF(ISERROR(SEARCH(PROPER('Assortiment Hoortoestellen'!$B$26),PROPER('Dataset hoortoestellen'!D19133))),0,1))","v":1}]
["PC van Gent Hoortoestellen BV",5,"Coselgi","Effect EF6-FM","COS-0354",{"$f":"IF(ISBLANK('Assortiment Hoortoestellen'!$B$26),1,IF(ISERROR(SEARCH(PROPER('Assortiment Hoortoestellen'!$B$26),PROPER('Dataset hoortoestellen'!D19148))),0,1))","v":1}]
["PC van Gent Hoortoestellen BV",2,"Interton","MOVE 362-DRW","INT-0059",{"$f":"IF(ISBLANK('Assortiment Hoortoestellen'!$B$26),1,IF(ISERROR(SEARCH(PROPER('Assortiment Hoortoestellen'!$B$26),PROPER('Dataset hoortoestellen'!D19162))),0,1))","v":1}]
["PC van Gent Hoortoestellen BV",3,"Interton","MOVE 480-DWH","INT-0071",{"$f":"IF(ISBLANK('Assortiment Hoortoestellen'!$B$26),1,IF(ISERROR(SEARCH(PROPER('Assortiment Hoortoestellen'!$B$26),PROPER('Dataset hoortoestellen'!D19172))),0,1))","v":1}]
["PC van Gent Hoortoestellen BV",5,"Oticon","Ruby 1 miniRITE R 60 - 105","OTI-0368",{"$f":"IF(ISBLANK('Assortiment Hoortoestellen'!$B$26),1,IF(ISERROR(SEARCH(PROPER('Assortiment Hoortoestellen'!$B$26),PROPER('Dataset hoortoestellen'!D19195))),0,1))","v":1}]
["PC van Gent Hoortoestellen BV",4,"Oticon","Ruby 2 miniRITE R 60 - 105","OTI-0373",{"$f":"IF(ISBLANK('Assortiment Hoortoestellen'!$B$26),1,IF(ISERROR(SEARCH(PROPER('Assortiment Hoortoestellen'!$B$26),PROPER('Dataset hoortoestellen'!D19196))),0,1))","v":1}]
["PC van Gent Hoortoestellen BV",5,"Phonak","Audeo B 70 13","PHO-0279",{"$f":"IF(ISBLANK('Assortiment Hoortoestellen'!$B$26),1,IF(ISERROR(SEARCH(PROPER('Assortiment Hoortoestellen'!$B$26),PROPER('Dataset hoortoestellen'!D19214))),0,1))","v":1}]
["PC van Gent Hoortoestellen BV",5,"Phonak","Bolero B 70 SP","PHO-0293",{"$f":"IF(ISBLANK('Assortiment Hoortoestellen'!$B$26),1,IF(ISERROR(SEARCH(PROPER('Assortiment Hoortoestellen'!$B$26),PROPER('Dataset hoortoestellen'!D19224))),0,1))","v":1}]
["PC van Gent Hoortoestellen BV",3,"Phonak","Virto B 30 13","PHO-0325",{"$f":"IF(ISBLANK('Assortiment Hoortoestellen'!$B$26),1,IF(ISERROR(SEARCH(PROPER('Assortiment Hoortoestellen'!$B$26),PROPER('Dataset hoortoestellen'!D19247))),0,1))","v":1}]
["PC van Gent Hoortoestellen BV",2,"ReSound","MagnaSP 490 DVI","RES-0227",{"$f":"IF(ISBLANK('Assortiment Hoortoestellen'!$B$26),1,IF(ISERROR(SEARCH(PROPER('Assortiment Hoortoestellen'!$B$26),PROPER('Dataset hoortoestellen'!D19261))),0,1))","v":1}]
["PC van Gent Hoortoestellen BV",2,"ReSound","KEY 298-DW","RES-0315",{"$f":"IF(ISBLANK('Assortiment Hoortoestellen'!$B$26),1,IF(ISERROR(SEARCH(PROPER('Assortiment Hoortoestellen'!$B$26),PROPER('Dataset hoortoestellen'!D19276))),0,1))","v":1}]
["PC van Gent Hoortoestellen BV",3,"ReSound","KEY 3ITC-DW","RES-0324",{"$f":"IF(ISBLANK('Assortiment Hoortoestellen'!$B$26),1,IF(ISERROR(SEARCH(PROPER('Assortiment Hoortoestellen'!$B$26),PROPER('Dataset hoortoestellen'!D19285))),0,1))","v":1}]
["PC van Gent Hoortoestellen BV",1,"Starkey","Muse i1000 CIC","STA-0277",{"$f":"IF(ISBLANK('Assortiment Hoortoestellen'!$B$26),1,IF(ISERROR(SEARCH(PROPER('Assortiment Hoortoestellen'!$B$26),PROPER('Dataset hoortoestellen'!D19295))),0,1))","v":1}]
["PC van Gent Hoortoestellen BV",2,"Starkey","Muse iQ i1000 BTE 312","STA-0351",{"$f":"IF(ISBLANK('Assortiment Hoortoestellen'!$B$26),1,IF(ISERROR(SEARCH(PROPER('Assortiment Hoortoestellen'!$B$26),PROPER('Dataset hoortoestellen'!D19309))),0,1))","v":1}]
["PC van Gent Hoortoestellen BV",4,"Starkey","Livio 1200 RIC R","STA-0387",{"$f":"IF(ISBLANK('Assortiment Hoortoestellen'!$B$26),1,IF(ISERROR(SEARCH(PROPER('Assortiment Hoortoestellen'!$B$26),PROPER('Dataset hoortoestellen'!D19328))),0,1))","v":1}]
["PC van Gent Hoortoestellen BV",4,"Unitron","T Max SP 600","UNI-0273",{"$f":"IF(ISBLANK('Assortiment Hoortoestellen'!$B$26),1,IF(ISERROR(SEARCH(PROPER('Assortiment Hoortoestellen'!$B$26),PROPER('Dataset hoortoestellen'!D19337))),0,1))","v":1}]
["PC van Gent Hoortoestellen BV",4,"Unitron","T Insera 600 W 10A Dir","UNI-0328",{"$f":"IF(ISBLANK('Assortiment Hoortoestellen'!$B$26),1,IF(ISERROR(SEARCH(PROPER('Assortiment Hoortoestellen'!$B$26),PROPER('Dataset hoortoestellen'!D19347))),0,1))","v":1}]
["PC van Gent Hoortoestellen BV",4,"Unitron","DX Insera 5 10A Omni","UNI-0437",{"$f":"IF(ISBLANK('Assortiment Hoortoestellen'!$B$26),1,IF(ISERROR(SEARCH(PROPER('Assortiment Hoortoestellen'!$B$26),PROPER('Dataset hoortoestellen'!D19361))),0,1))","v":1}]
["PC van Gent Hoortoestellen BV",5,"Unitron","DX Stride P R 5","UNI-0456",{"$f":"IF(ISBLANK('Assortiment Hoortoestellen'!$B$26),1,IF(ISERROR(SEARCH(PROPER('Assortiment Hoortoestellen'!$B$26),PROPER('Dataset hoortoestellen'!D19376))),0,1))","v":1}]
["PC van Gent Hoortoestellen BV",3,"Widex","U110-FM","WID-0409",{"$f":"IF(ISBLANK('Assortiment Hoortoestellen'!$B$26),1,IF(ISERROR(SEARCH(PROPER('Assortiment Hoortoestellen'!$B$26),PROPER('Dataset hoortoestellen'!D19385))),0,1))","v":1}]
["PC van Gent Hoortoestellen BV",4,"Widex","U330-CIC-M","WID-0433",{"$f":"IF(ISBLANK('Assortiment Hoortoestellen'!$B$26),1,IF(ISERROR(SEARCH(PROPER('Assortiment Hoortoestellen'!$B$26),PROPER('Dataset hoortoestellen'!D19409))),0,1))","v":1}]
["PC van Gent Hoortoestellen BV",5,"Widex","U440-CIC-M","WID-0446",{"$f":"IF(ISBLANK('Assortiment Hoortoestellen'!$B$26),1,IF(ISERROR(SEARCH(PROPER('Assortiment Hoortoestellen'!$B$26),PROPER('Dataset hoortoestellen'!D19422))),0,1))","v":1}]
["PC van Gent Hoortoestellen BV",5,"Widex","U440-FS (P-tel)","WID-0452",{"$f":"IF(ISBLANK('Assortiment Hoortoestellen'!$B$26),1,IF(ISERROR(SEARCH(PROPER('Assortiment Hoortoestellen'!$B$26),PROPER('Dataset hoortoestellen'!D19428))),0,1))","v":1}]
["PC van Gent Hoortoestellen BV",3,"Widex","Enjoy E-F2 110 (HP-tel)","WID-0578",{"$f":"IF(ISBLANK('Assortiment Hoortoestellen'!$B$26),1,IF(ISERROR(SEARCH(PROPER('Assortiment Hoortoestellen'!$B$26),PROPER('Dataset hoortoestellen'!D19450))),0,1))","v":1}]
["PC van Gent Hoortoestellen BV",5,"Widex","Enjoy E-F2 330 (S-tel)","WID-0589",{"$f":"IF(ISBLANK('Assortiment Hoortoestellen'!$B$26),1,IF(ISERROR(SEARCH(PROPER('Assortiment Hoortoestellen'!$B$26),PROPER('Dataset hoortoestellen'!D19461))),0,1))","v":1}]
["PC van Gent Hoortoestellen BV",3,"Widex","Enjoy E-FP 110","WID-0611",{"$f":"IF(ISBLANK('Assortiment Hoortoestellen'!$B$26),1,IF(ISERROR(SEARCH(PROPER('Assortiment Hoortoestellen'!$B$26),PROPER('Dataset hoortoestellen'!D19474))),0,1))","v":1}]
["PC van Gent Hoortoestellen BV",2,"Widex","Enjoy E-FS 50 (HP-tel)","WID-0636",{"$f":"IF(ISBLANK('Assortiment Hoortoestellen'!$B$26),1,IF(ISERROR(SEARCH(PROPER('Assortiment Hoortoestellen'!$B$26),PROPER('Dataset hoortoestellen'!D19490))),0,1))","v":1}]
["PC van Gent Hoortoestellen BV",3,"Widex","Enjoy E-PA 110 (M-tel)","WID-0642",{"$f":"IF(ISBLANK('Assortiment Hoortoestellen'!$B$26),1,IF(ISERROR(SEARCH(PROPER('Assortiment Hoortoestellen'!$B$26),PROPER('Dataset hoortoestellen'!D19494))),0,1))","v":1}]
["Peeters Horen",4,"Audio Service","IHO 8 G5","AUS-0183",{"$f":"IF(ISBLANK('Assortiment Hoortoestellen'!$B$26),1,IF(ISERROR(SEARCH(PROPER('Assortiment Hoortoestellen'!$B$26),PROPER('Dataset hoortoestellen'!D19518))),0,1))","v":1}]
["Peeters Horen",5,"Audio Service","Rixx 12 G5","AUS-0195",{"$f":"IF(ISBLANK('Assortiment Hoortoestellen'!$B$26),1,IF(ISERROR(SEARCH(PROPER('Assortiment Hoortoestellen'!$B$26),PROPER('Dataset hoortoestellen'!D19527))),0,1))","v":1}]
["Peeters Horen",3,"Audio Service","Rixx 6 G5","AUS-0216",{"$f":"IF(ISBLANK('Assortiment Hoortoestellen'!$B$26),1,IF(ISERROR(SEARCH(PROPER('Assortiment Hoortoestellen'!$B$26),PROPER('Dataset hoortoestellen'!D19542))),0,1))","v":1}]
["Peeters Horen",2,"Bernafon","Zerena 1 MNR","BER-0621",{"$f":"IF(ISBLANK('Assortiment Hoortoestellen'!$B$26),1,IF(ISERROR(SEARCH(PROPER('Assortiment Hoortoestellen'!$B$26),PROPER('Dataset hoortoestellen'!D19556))),0,1))","v":1}]
["Peeters Horen",5,"Bernafon","Zerena 7 CIC","BER-0640",{"$f":"IF(ISBLANK('Assortiment Hoortoestellen'!$B$26),1,IF(ISERROR(SEARCH(PROPER('Assortiment Hoortoestellen'!$B$26),PROPER('Dataset hoortoestellen'!D19566))),0,1))","v":1}]
["Peeters Horen",3,"Coselgi","U10-FS (M-tel)","COS-0143",{"$f":"IF(ISBLANK('Assortiment Hoortoestellen'!$B$26),1,IF(ISERROR(SEARCH(PROPER('Assortiment Hoortoestellen'!$B$26),PROPER('Dataset hoortoestellen'!D19575))),0,1))","v":1}]
["Peeters Horen",4,"Coselgi","U10E-PA (M-tel)","COS-0158",{"$f":"IF(ISBLANK('Assortiment Hoortoestellen'!$B$26),1,IF(ISERROR(SEARCH(PROPER('Assortiment Hoortoestellen'!$B$26),PROPER('Dataset hoortoestellen'!D19590))),0,1))","v":1}]
["Peeters Horen",2,"Coselgi","U6-FP","COS-0245",{"$f":"IF(ISBLANK('Assortiment Hoortoestellen'!$B$26),1,IF(ISERROR(SEARCH(PROPER('Assortiment Hoortoestellen'!$B$26),PROPER('Dataset hoortoestellen'!D19608))),0,1))","v":1}]
["Peeters Horen",3,"Coselgi","U6E-FP","COS-0257",{"$f":"IF(ISBLANK('Assortiment Hoortoestellen'!$B$26),1,IF(ISERROR(SEARCH(PROPER('Assortiment Hoortoestellen'!$B$26),PROPER('Dataset hoortoestellen'!D19618))),0,1))","v":1}]
["Peeters Horen",3,"Coselgi","U6-CIC TR (rechts)","COS-0272",{"$f":"IF(ISBLANK('Assortiment Hoortoestellen'!$B$26),1,IF(ISERROR(SEARCH(PROPER('Assortiment Hoortoestellen'!$B$26),PROPER('Dataset hoortoestellen'!D19627))),0,1))","v":1}]
["Peeters Horen",2,"Coselgi","Effect EF2-FP","COS-0292",{"$f":"IF(ISBLANK('Assortiment Hoortoestellen'!$B$26),1,IF(ISERROR(SEARCH(PROPER('Assortiment Hoortoestellen'!$B$26),PROPER('Dataset hoortoestellen'!D19642))),0,1))","v":1}]
["Peeters Horen",3,"Coselgi","Effect EF4-CIC TR Links","COS-0309",{"$f":"IF(ISBLANK('Assortiment Hoortoestellen'!$B$26),1,IF(ISERROR(SEARCH(PROPER('Assortiment Hoortoestellen'!$B$26),PROPER('Dataset hoortoestellen'!D19656))),0,1))","v":1}]
["Peeters Horen",4,"Coselgi","Effect EF5-XP","COS-0335",{"$f":"IF(ISBLANK('Assortiment Hoortoestellen'!$B$26),1,IF(ISERROR(SEARCH(PROPER('Assortiment Hoortoestellen'!$B$26),PROPER('Dataset hoortoestellen'!D19679))),0,1))","v":1}]
["Peeters Horen",5,"Coselgi","Effect EF6-CIC Links","COS-0347",{"$f":"IF(ISBLANK('Assortiment Hoortoestellen'!$B$26),1,IF(ISERROR(SEARCH(PROPER('Assortiment Hoortoestellen'!$B$26),PROPER('Dataset hoortoestellen'!D19689))),0,1))","v":1}]
["Peeters Horen",2,"Interton","RD362-DRW","INT-0033",{"$f":"IF(ISBLANK('Assortiment Hoortoestellen'!$B$26),1,IF(ISERROR(SEARCH(PROPER('Assortiment Hoortoestellen'!$B$26),PROPER('Dataset hoortoestellen'!D19703))),0,1))","v":1}]
["Peeters Horen",3,"Interton","RD461-DRW","INT-0038",{"$f":"IF(ISBLANK('Assortiment Hoortoestellen'!$B$26),1,IF(ISERROR(SEARCH(PROPER('Assortiment Hoortoestellen'!$B$26),PROPER('Dataset hoortoestellen'!D19708))),0,1))","v":1}]
["Peeters Horen",5,"Oticon","Opn 3 miniRITE T 60 - 105","OTI-0364",{"$f":"IF(ISBLANK('Assortiment Hoortoestellen'!$B$26),1,IF(ISERROR(SEARCH(PROPER('Assortiment Hoortoestellen'!$B$26),PROPER('Dataset hoortoestellen'!D19731))),0,1))","v":1}]
["Peeters Horen",2,"Phonak","Vitus BTE-UP","PHO-0262",{"$f":"IF(ISBLANK('Assortiment Hoortoestellen'!$B$26),1,IF(ISERROR(SEARCH(PROPER('Assortiment Hoortoestellen'!$B$26),PROPER('Dataset hoortoestellen'!D19741))),0,1))","v":1}]
["Peeters Horen",3,"Phonak","Bolero B 30 SP","PHO-0285",{"$f":"IF(ISBLANK('Assortiment Hoortoestellen'!$B$26),1,IF(ISERROR(SEARCH(PROPER('Assortiment Hoortoestellen'!$B$26),PROPER('Dataset hoortoestellen'!D19755))),0,1))","v":1}]
["Peeters Horen",4,"Phonak","Sky B 50 P","PHO-0313",{"$f":"IF(ISBLANK('Assortiment Hoortoestellen'!$B$26),1,IF(ISERROR(SEARCH(PROPER('Assortiment Hoortoestellen'!$B$26),PROPER('Dataset hoortoestellen'!D19774))),0,1))","v":1}]
["Peeters Horen",5,"Phonak","Sky B 70 P","PHO-0319",{"$f":"IF(ISBLANK('Assortiment Hoortoestellen'!$B$26),1,IF(ISERROR(SEARCH(PROPER('Assortiment Hoortoestellen'!$B$26),PROPER('Dataset hoortoestellen'!D19779))),0,1))","v":1}]
["Peeters Horen",5,"Phonak","Virto B 70 10","PHO-0330",{"$f":"IF(ISBLANK('Assortiment Hoortoestellen'!$B$26),1,IF(ISERROR(SEARCH(PROPER('Assortiment Hoortoestellen'!$B$26),PROPER('Dataset hoortoestellen'!D19789))),0,1))","v":1}]
["Peeters Horen",2,"ReSound","Enya 388-DW","RES-0216",{"$f":"IF(ISBLANK('Assortiment Hoortoestellen'!$B$26),1,IF(ISERROR(SEARCH(PROPER('Assortiment Hoortoestellen'!$B$26),PROPER('Dataset hoortoestellen'!D19803))),0,1))","v":1}]
["Peeters Horen",5,"ReSound","LiNX 3D 7 CIC","RES-0299",{"$f":"IF(ISBLANK('Assortiment Hoortoestellen'!$B$26),1,IF(ISERROR(SEARCH(PROPER('Assortiment Hoortoestellen'!$B$26),PROPER('Dataset hoortoestellen'!D19822))),0,1))","v":1}]
["Peeters Horen",1,"Starkey","Muse i1000 BTE312","STA-0278",{"$f":"IF(ISBLANK('Assortiment Hoortoestellen'!$B$26),1,IF(ISERROR(SEARCH(PROPER('Assortiment Hoortoestellen'!$B$26),PROPER('Dataset hoortoestellen'!D19831))),0,1))","v":1}]
["Peeters Horen",5,"Starkey","Muse iQ i1600 ITE","STA-0374",{"$f":"IF(ISBLANK('Assortiment Hoortoestellen'!$B$26),1,IF(ISERROR(SEARCH(PROPER('Assortiment Hoortoestellen'!$B$26),PROPER('Dataset hoortoestellen'!D19855))),0,1))","v":1}]
["Peeters Horen",3,"Starkey","Livio 1000 BTE R","STA-0392",{"$f":"IF(ISBLANK('Assortiment Hoortoestellen'!$B$26),1,IF(ISERROR(SEARCH(PROPER('Assortiment Hoortoestellen'!$B$26),PROPER('Dataset hoortoestellen'!D19868))),0,1))","v":1}]
["Peeters Horen",3,"Unitron","T Max UP 500","UNI-0276",{"$f":"IF(ISBLANK('Assortiment Hoortoestellen'!$B$26),1,IF(ISERROR(SEARCH(PROPER('Assortiment Hoortoestellen'!$B$26),PROPER('Dataset hoortoestellen'!D19874))),0,1))","v":1}]
["Peeters Horen",2,"Unitron ","Shine Rev+ UP","UNI-0433",{"$f":"IF(ISBLANK('Assortiment Hoortoestellen'!$B$26),1,IF(ISERROR(SEARCH(PROPER('Assortiment Hoortoestellen'!$B$26),PROPER('Dataset hoortoestellen'!D19892))),0,1))","v":1}]
["Peeters Horen",4,"Unitron","DX Moxi Jump R T 3","UNI-0446",{"$f":"IF(ISBLANK('Assortiment Hoortoestellen'!$B$26),1,IF(ISERROR(SEARCH(PROPER('Assortiment Hoortoestellen'!$B$26),PROPER('Dataset hoortoestellen'!D19903))),0,1))","v":1}]
["Peeters Horen",3,"Widex","U110-CIC TR","WID-0405",{"$f":"IF(ISBLANK('Assortiment Hoortoestellen'!$B$26),1,IF(ISERROR(SEARCH(PROPER('Assortiment Hoortoestellen'!$B$26),PROPER('Dataset hoortoestellen'!D19916))),0,1))","v":1}]
["Peeters Horen",3,"Widex","U220-FS (M-tel)","WID-0425",{"$f":"IF(ISBLANK('Assortiment Hoortoestellen'!$B$26),1,IF(ISERROR(SEARCH(PROPER('Assortiment Hoortoestellen'!$B$26),PROPER('Dataset hoortoestellen'!D19936))),0,1))","v":1}]
["Peeters Horen",3,"Widex","U220-PA (S-tel)","WID-0429",{"$f":"IF(ISBLANK('Assortiment Hoortoestellen'!$B$26),1,IF(ISERROR(SEARCH(PROPER('Assortiment Hoortoestellen'!$B$26),PROPER('Dataset hoortoestellen'!D19940))),0,1))","v":1}]
["Peeters Horen",5,"Widex","U440-CIC","WID-0444",{"$f":"IF(ISBLANK('Assortiment Hoortoestellen'!$B$26),1,IF(ISERROR(SEARCH(PROPER('Assortiment Hoortoestellen'!$B$26),PROPER('Dataset hoortoestellen'!D19955))),0,1))","v":1}]
["Peeters Horen",4,"Widex","U330-FP","WID-0458",{"$f":"IF(ISBLANK('Assortiment Hoortoestellen'!$B$26),1,IF(ISERROR(SEARCH(PROPER('Assortiment Hoortoestellen'!$B$26),PROPER('Dataset hoortoestellen'!D19968))),0,1))","v":1}]
["Peeters Horen",3,"Widex","Enjoy E-F2 110 (HP-tel)","WID-0578",{"$f":"IF(ISBLANK('Assortiment Hoortoestellen'!$B$26),1,IF(ISERROR(SEARCH(PROPER('Assortiment Hoortoestellen'!$B$26),PROPER('Dataset hoortoestellen'!D19984))),0,1))","v":1}]
["Peeters Horen",5,"Widex","Enjoy E-FA 330","WID-0601",{"$f":"IF(ISBLANK('Assortiment Hoortoestellen'!$B$26),1,IF(ISERROR(SEARCH(PROPER('Assortiment Hoortoestellen'!$B$26),PROPER('Dataset hoortoestellen'!D20002))),0,1))","v":1}]
["Peeters Horen",3,"Widex","Enjoy E-FS 110 (HP-tel)","WID-0620",{"$f":"IF(ISBLANK('Assortiment Hoortoestellen'!$B$26),1,IF(ISERROR(SEARCH(PROPER('Assortiment Hoortoestellen'!$B$26),PROPER('Dataset hoortoestellen'!D20012))),0,1))","v":1}]
["Peeters Horen",5,"Widex","Enjoy E-FS 330 (M-tel)","WID-0629",{"$f":"IF(ISBLANK('Assortiment Hoortoestellen'!$B$26),1,IF(ISERROR(SEARCH(PROPER('Assortiment Hoortoestellen'!$B$26),PROPER('Dataset hoortoestellen'!D20021))),0,1))","v":1}]
["Peeters Horen",5,"Widex","Enjoy E-XP 330","WID-0653",{"$f":"IF(ISBLANK('Assortiment Hoortoestellen'!$B$26),1,IF(ISERROR(SEARCH(PROPER('Assortiment Hoortoestellen'!$B$26),PROPER('Dataset hoortoestellen'!D20036))),0,1))","v":1}]
["Roos Hoortoestellen",1,"Oticon","Get","OTI-0064",{"$f":"IF(ISBLANK('Assortiment Hoortoestellen'!$B$26),1,IF(ISERROR(SEARCH(PROPER('Assortiment Hoortoestellen'!$B$26),PROPER('Dataset hoortoestellen'!D20054))),0,1))","v":1}]
["Roos Hoortoestellen",5,"Oticon","Opn 3 ITE 75 - 100","OTI-0362",{"$f":"IF(ISBLANK('Assortiment Hoortoestellen'!$B$26),1,IF(ISERROR(SEARCH(PROPER('Assortiment Hoortoestellen'!$B$26),PROPER('Dataset hoortoestellen'!D20060))),0,1))","v":1}]
["Rutgers Hoortechniek",5,"Audio Service","Duo 12 G4","AUS-0129",{"$f":"IF(ISBLANK('Assortiment Hoortoestellen'!$B$26),1,IF(ISERROR(SEARCH(PROPER('Assortiment Hoortoestellen'!$B$26),PROPER('Dataset hoortoestellen'!D20083))),0,1))","v":1}]
["Rutgers Hoortechniek",5,"Audio Service","P 12 G5","AUS-0189",{"$f":"IF(ISBLANK('Assortiment Hoortoestellen'!$B$26),1,IF(ISERROR(SEARCH(PROPER('Assortiment Hoortoestellen'!$B$26),PROPER('Dataset hoortoestellen'!D20097))),0,1))","v":1}]
["Rutgers Hoortechniek",4,"Audio Service","quiX 8 G5 Rechts","AUS-0194",{"$f":"IF(ISBLANK('Assortiment Hoortoestellen'!$B$26),1,IF(ISERROR(SEARCH(PROPER('Assortiment Hoortoestellen'!$B$26),PROPER('Dataset hoortoestellen'!D20102))),0,1))","v":1}]
["Rutgers Hoortechniek",2,"Bernafon","Zerena 1 BTE 105","BER-0615",{"$f":"IF(ISBLANK('Assortiment Hoortoestellen'!$B$26),1,IF(ISERROR(SEARCH(PROPER('Assortiment Hoortoestellen'!$B$26),PROPER('Dataset hoortoestellen'!D20125))),0,1))","v":1}]
["Rutgers Hoortechniek",4,"Bernafon","Zerena 5 IIC","BER-0633",{"$f":"IF(ISBLANK('Assortiment Hoortoestellen'!$B$26),1,IF(ISERROR(SEARCH(PROPER('Assortiment Hoortoestellen'!$B$26),PROPER('Dataset hoortoestellen'!D20135))),0,1))","v":1}]
["Rutgers Hoortechniek",3,"Coselgi","U10-FS (S-tel)","COS-0145",{"$f":"IF(ISBLANK('Assortiment Hoortoestellen'!$B$26),1,IF(ISERROR(SEARCH(PROPER('Assortiment Hoortoestellen'!$B$26),PROPER('Dataset hoortoestellen'!D20149))),0,1))","v":1}]
["Rutgers Hoortechniek",4,"Coselgi","U10E-CIC TR (links)","COS-0150",{"$f":"IF(ISBLANK('Assortiment Hoortoestellen'!$B$26),1,IF(ISERROR(SEARCH(PROPER('Assortiment Hoortoestellen'!$B$26),PROPER('Dataset hoortoestellen'!D20154))),0,1))","v":1}]
["Rutgers Hoortechniek",5,"Coselgi","U15-FS (S-tel)","COS-0169",{"$f":"IF(ISBLANK('Assortiment Hoortoestellen'!$B$26),1,IF(ISERROR(SEARCH(PROPER('Assortiment Hoortoestellen'!$B$26),PROPER('Dataset hoortoestellen'!D20173))),0,1))","v":1}]
["Rutgers Hoortechniek",2,"Coselgi","U6-FS (P-tel)","COS-0248",{"$f":"IF(ISBLANK('Assortiment Hoortoestellen'!$B$26),1,IF(ISERROR(SEARCH(PROPER('Assortiment Hoortoestellen'!$B$26),PROPER('Dataset hoortoestellen'!D20183))),0,1))","v":1}]
["Rutgers Hoortechniek",3,"Coselgi","U6E-XP","COS-0264",{"$f":"IF(ISBLANK('Assortiment Hoortoestellen'!$B$26),1,IF(ISERROR(SEARCH(PROPER('Assortiment Hoortoestellen'!$B$26),PROPER('Dataset hoortoestellen'!D20197))),0,1))","v":1}]
["Rutgers Hoortechniek",3,"Coselgi","Effect EF4-F2 (M-tel)","COS-0295",{"$f":"IF(ISBLANK('Assortiment Hoortoestellen'!$B$26),1,IF(ISERROR(SEARCH(PROPER('Assortiment Hoortoestellen'!$B$26),PROPER('Dataset hoortoestellen'!D20216))),0,1))","v":1}]
["Rutgers Hoortechniek",3,"Coselgi","Effect EF4-FS (M-tel)","COS-0300",{"$f":"IF(ISBLANK('Assortiment Hoortoestellen'!$B$26),1,IF(ISERROR(SEARCH(PROPER('Assortiment Hoortoestellen'!$B$26),PROPER('Dataset hoortoestellen'!D20221))),0,1))","v":1}]
["Rutgers Hoortechniek",4,"Coselgi","Effect EF5-F2 (M-tel)","COS-0317",{"$f":"IF(ISBLANK('Assortiment Hoortoestellen'!$B$26),1,IF(ISERROR(SEARCH(PROPER('Assortiment Hoortoestellen'!$B$26),PROPER('Dataset hoortoestellen'!D20235))),0,1))","v":1}]
["Rutgers Hoortechniek",4,"Coselgi","Effect EF5-FM","COS-0333",{"$f":"IF(ISBLANK('Assortiment Hoortoestellen'!$B$26),1,IF(ISERROR(SEARCH(PROPER('Assortiment Hoortoestellen'!$B$26),PROPER('Dataset hoortoestellen'!D20249))),0,1))","v":1}]
["Rutgers Hoortechniek",5,"Coselgi","Effect EF6-FP","COS-0355",{"$f":"IF(ISBLANK('Assortiment Hoortoestellen'!$B$26),1,IF(ISERROR(SEARCH(PROPER('Assortiment Hoortoestellen'!$B$26),PROPER('Dataset hoortoestellen'!D20268))),0,1))","v":1}]
["Rutgers Hoortechniek",4,"Interton","RD661-DRW","INT-0044",{"$f":"IF(ISBLANK('Assortiment Hoortoestellen'!$B$26),1,IF(ISERROR(SEARCH(PROPER('Assortiment Hoortoestellen'!$B$26),PROPER('Dataset hoortoestellen'!D20286))),0,1))","v":1}]
["Rutgers Hoortechniek",4,"Oticon","Siya 1 ITE 75 - 100","OTI-0342",{"$f":"IF(ISBLANK('Assortiment Hoortoestellen'!$B$26),1,IF(ISERROR(SEARCH(PROPER('Assortiment Hoortoestellen'!$B$26),PROPER('Dataset hoortoestellen'!D20297))),0,1))","v":1}]
["Rutgers Hoortechniek",3,"Phonak","Audeo B 30 312 T","PHO-0272",{"$f":"IF(ISBLANK('Assortiment Hoortoestellen'!$B$26),1,IF(ISERROR(SEARCH(PROPER('Assortiment Hoortoestellen'!$B$26),PROPER('Dataset hoortoestellen'!D20310))),0,1))","v":1}]
["Rutgers Hoortechniek",5,"Phonak","Audeo B 70 13","PHO-0279",{"$f":"IF(ISBLANK('Assortiment Hoortoestellen'!$B$26),1,IF(ISERROR(SEARCH(PROPER('Assortiment Hoortoestellen'!$B$26),PROPER('Dataset hoortoestellen'!D20316))),0,1))","v":1}]
["Rutgers Hoortechniek",3,"Phonak","Sky B 30 P","PHO-0308",{"$f":"IF(ISBLANK('Assortiment Hoortoestellen'!$B$26),1,IF(ISERROR(SEARCH(PROPER('Assortiment Hoortoestellen'!$B$26),PROPER('Dataset hoortoestellen'!D20334))),0,1))","v":1}]
["Rutgers Hoortechniek",3,"Phonak","Virto B 30 13","PHO-0325",{"$f":"IF(ISBLANK('Assortiment Hoortoestellen'!$B$26),1,IF(ISERROR(SEARCH(PROPER('Assortiment Hoortoestellen'!$B$26),PROPER('Dataset hoortoestellen'!D20349))),0,1))","v":1}]
["Rutgers Hoortechniek",2,"ReSound","Enya 377-DW","RES-0215",{"$f":"IF(ISBLANK('Assortiment Hoortoestellen'!$B$26),1,IF(ISERROR(SEARCH(PROPER('Assortiment Hoortoestellen'!$B$26),PROPER('Dataset hoortoestellen'!D20362))),0,1))","v":1}]
["Rutgers Hoortechniek",5,"ReSound","Ligo 7 ITC-DW","RES-0279",{"$f":"IF(ISBLANK('Assortiment Hoortoestellen'!$B$26),1,IF(ISERROR(SEARCH(PROPER('Assortiment Hoortoestellen'!$B$26),PROPER('Dataset hoortoestellen'!D20382))),0,1))","v":1}]
["Rutgers Hoortechniek",5,"ReSound","Ligo 777-DW","RES-0283",{"$f":"IF(ISBLANK('Assortiment Hoortoestellen'!$B$26),1,IF(ISERROR(SEARCH(PROPER('Assortiment Hoortoestellen'!$B$26),PROPER('Dataset hoortoestellen'!D20386))),0,1))","v":1}]
["Rutgers Hoortechniek",2,"Starkey","Muse iQ i1000 BTE 13 PP","STA-0350",{"$f":"IF(ISBLANK('Assortiment Hoortoestellen'!$B$26),1,IF(ISERROR(SEARCH(PROPER('Assortiment Hoortoestellen'!$B$26),PROPER('Dataset hoortoestellen'!D20401))),0,1))","v":1}]
["Rutgers Hoortechniek",4,"Starkey","Muse iQ i1200 CIC","STA-0362",{"$f":"IF(ISBLANK('Assortiment Hoortoestellen'!$B$26),1,IF(ISERROR(SEARCH(PROPER('Assortiment Hoortoestellen'!$B$26),PROPER('Dataset hoortoestellen'!D20410))),0,1))","v":1}]
["Rutgers Hoortechniek",2,"Unitron","Shine Rev 3 S","UNI-0177",{"$f":"IF(ISBLANK('Assortiment Hoortoestellen'!$B$26),1,IF(ISERROR(SEARCH(PROPER('Assortiment Hoortoestellen'!$B$26),PROPER('Dataset hoortoestellen'!D20430))),0,1))","v":1}]
["Rutgers Hoortechniek",5,"Unitron","T Stride 800 M","UNI-0310",{"$f":"IF(ISBLANK('Assortiment Hoortoestellen'!$B$26),1,IF(ISERROR(SEARCH(PROPER('Assortiment Hoortoestellen'!$B$26),PROPER('Dataset hoortoestellen'!D20447))),0,1))","v":1}]
["Rutgers Hoortechniek",4,"Unitron","T Insera 600 W 312 Dir","UNI-0331",{"$f":"IF(ISBLANK('Assortiment Hoortoestellen'!$B$26),1,IF(ISERROR(SEARCH(PROPER('Assortiment Hoortoestellen'!$B$26),PROPER('Dataset hoortoestellen'!D20463))),0,1))","v":1}]
["Rutgers Hoortechniek",3,"Widex","U110-FS (HP-tel)","WID-0411",{"$f":"IF(ISBLANK('Assortiment Hoortoestellen'!$B$26),1,IF(ISERROR(SEARCH(PROPER('Assortiment Hoortoestellen'!$B$26),PROPER('Dataset hoortoestellen'!D20475))),0,1))","v":1}]
["Rutgers Hoortechniek",3,"Widex","U110-FS (S-tel)","WID-0414",{"$f":"IF(ISBLANK('Assortiment Hoortoestellen'!$B$26),1,IF(ISERROR(SEARCH(PROPER('Assortiment Hoortoestellen'!$B$26),PROPER('Dataset hoortoestellen'!D20478))),0,1))","v":1}]
["Rutgers Hoortechniek",4,"Widex","U330-CIC TR","WID-0432",{"$f":"IF(ISBLANK('Assortiment Hoortoestellen'!$B$26),1,IF(ISERROR(SEARCH(PROPER('Assortiment Hoortoestellen'!$B$26),PROPER('Dataset hoortoestellen'!D20496))),0,1))","v":1}]
["Rutgers Hoortechniek",5,"Widex","U440-FS (M-tel)","WID-0451",{"$f":"IF(ISBLANK('Assortiment Hoortoestellen'!$B$26),1,IF(ISERROR(SEARCH(PROPER('Assortiment Hoortoestellen'!$B$26),PROPER('Dataset hoortoestellen'!D20515))),0,1))","v":1}]
["Rutgers Hoortechniek",4,"Widex","Enjoy E-CIC 220 Links","WID-0552",{"$f":"IF(ISBLANK('Assortiment Hoortoestellen'!$B$26),1,IF(ISERROR(SEARCH(PROPER('Assortiment Hoortoestellen'!$B$26),PROPER('Dataset hoortoestellen'!D20529))),0,1))","v":1}]
["Rutgers Hoortechniek",4,"Widex","Enjoy E-F2 220 (M-tel)","WID-0583",{"$f":"IF(ISBLANK('Assortiment Hoortoestellen'!$B$26),1,IF(ISERROR(SEARCH(PROPER('Assortiment Hoortoestellen'!$B$26),PROPER('Dataset hoortoestellen'!D20543))),0,1))","v":1}]
["Rutgers Hoortechniek",5,"Widex","Enjoy E-F2 330 (P-tel)","WID-0588",{"$f":"IF(ISBLANK('Assortiment Hoortoestellen'!$B$26),1,IF(ISERROR(SEARCH(PROPER('Assortiment Hoortoestellen'!$B$26),PROPER('Dataset hoortoestellen'!D20548))),0,1))","v":1}]
["Rutgers Hoortechniek",3,"Widex","Enjoy E-FS 110 (M-tel)","WID-0621",{"$f":"IF(ISBLANK('Assortiment Hoortoestellen'!$B$26),1,IF(ISERROR(SEARCH(PROPER('Assortiment Hoortoestellen'!$B$26),PROPER('Dataset hoortoestellen'!D20567))),0,1))","v":1}]
["Rutgers Hoortechniek",5,"Widex","Enjoy E-FS 330 (S-tel)","WID-0631",{"$f":"IF(ISBLANK('Assortiment Hoortoestellen'!$B$26),1,IF(ISERROR(SEARCH(PROPER('Assortiment Hoortoestellen'!$B$26),PROPER('Dataset hoortoestellen'!D20577))),0,1))","v":1}]
["Rutgers Hoortechniek",3,"Widex","Enjoy E-CIC 110 Rechts","WID-0656",{"$f":"IF(ISBLANK('Assortiment Hoortoestellen'!$B$26),1,IF(ISERROR(SEARCH(PROPER('Assortiment Hoortoestellen'!$B$26),PROPER('Dataset hoortoestellen'!D20591))),0,1))","v":1}]
["Schelfhout Audiciens",5,"Audio Service","quiX 12 G5 Links","AUS-0191",{"$f":"IF(ISBLANK('Assortiment Hoortoestellen'!$B$26),1,IF(ISERROR(SEARCH(PROPER('Assortiment Hoortoestellen'!$B$26),PROPER('Dataset hoortoestellen'!D20610))),0,1))","v":1}]
["Schelfhout Audiciens",4,"Audio Service","Rixx 8 G5","AUS-0196",{"$f":"IF(ISBLANK('Assortiment Hoortoestellen'!$B$26),1,IF(ISERROR(SEARCH(PROPER('Assortiment Hoortoestellen'!$B$26),PROPER('Dataset hoortoestellen'!D20615))),0,1))","v":1}]
["Schelfhout Audiciens",3,"Audio Service","Rixx 6 G5","AUS-0216",{"$f":"IF(ISBLANK('Assortiment Hoortoestellen'!$B$26),1,IF(ISERROR(SEARCH(PROPER('Assortiment Hoortoestellen'!$B$26),PROPER('Dataset hoortoestellen'!D20629))),0,1))","v":1}]
["Schelfhout Audiciens",2,"Bernafon","Zerena 1 MNR","BER-0621",{"$f":"IF(ISBLANK('Assortiment Hoortoestellen'!$B$26),1,IF(ISERROR(SEARCH(PROPER('Assortiment Hoortoestellen'!$B$26),PROPER('Dataset hoortoestellen'!D20643))),0,1))","v":1}]
["Schelfhout Audiciens",3,"Coselgi","U10-FS (M-tel)","COS-0143",{"$f":"IF(ISBLANK('Assortiment Hoortoestellen'!$B$26),1,IF(ISERROR(SEARCH(PROPER('Assortiment Hoortoestellen'!$B$26),PROPER('Dataset hoortoestellen'!D20662))),0,1))","v":1}]
["Schelfhout Audiciens",3,"Coselgi","U10-XP","COS-0148",{"$f":"IF(ISBLANK('Assortiment Hoortoestellen'!$B$26),1,IF(ISERROR(SEARCH(PROPER('Assortiment Hoortoestellen'!$B$26),PROPER('Dataset hoortoestellen'!D20667))),0,1))","v":1}]
["Schelfhout Audiciens",5,"Coselgi","U15-CIC TR (links)","COS-0162",{"$f":"IF(ISBLANK('Assortiment Hoortoestellen'!$B$26),1,IF(ISERROR(SEARCH(PROPER('Assortiment Hoortoestellen'!$B$26),PROPER('Dataset hoortoestellen'!D20681))),0,1))","v":1}]
["Schelfhout Audiciens",3,"Coselgi","U6E-FM","COS-0256",{"$f":"IF(ISBLANK('Assortiment Hoortoestellen'!$B$26),1,IF(ISERROR(SEARCH(PROPER('Assortiment Hoortoestellen'!$B$26),PROPER('Dataset hoortoestellen'!D20704))),0,1))","v":1}]
["Schelfhout Audiciens",3,"Coselgi","U6E-PA (M-tel)","COS-0262",{"$f":"IF(ISBLANK('Assortiment Hoortoestellen'!$B$26),1,IF(ISERROR(SEARCH(PROPER('Assortiment Hoortoestellen'!$B$26),PROPER('Dataset hoortoestellen'!D20710))),0,1))","v":1}]
["Schelfhout Audiciens",2,"Coselgi","Effect EF2-FM","COS-0291",{"$f":"IF(ISBLANK('Assortiment Hoortoestellen'!$B$26),1,IF(ISERROR(SEARCH(PROPER('Assortiment Hoortoestellen'!$B$26),PROPER('Dataset hoortoestellen'!D20728))),0,1))","v":1}]
["Schelfhout Audiciens",3,"Coselgi","Effect EF4-CIC TR Links","COS-0309",{"$f":"IF(ISBLANK('Assortiment Hoortoestellen'!$B$26),1,IF(ISERROR(SEARCH(PROPER('Assortiment Hoortoestellen'!$B$26),PROPER('Dataset hoortoestellen'!D20743))),0,1))","v":1}]
["Schelfhout Audiciens",4,"Coselgi","Effect EF5-RIC 10 (M-tel)","COS-0324",{"$f":"IF(ISBLANK('Assortiment Hoortoestellen'!$B$26),1,IF(ISERROR(SEARCH(PROPER('Assortiment Hoortoestellen'!$B$26),PROPER('Dataset hoortoestellen'!D20756))),0,1))","v":1}]
["Schelfhout Audiciens",4,"Coselgi","Effect EF5-CIC TR Rechts","COS-0331",{"$f":"IF(ISBLANK('Assortiment Hoortoestellen'!$B$26),1,IF(ISERROR(SEARCH(PROPER('Assortiment Hoortoestellen'!$B$26),PROPER('Dataset hoortoestellen'!D20762))),0,1))","v":1}]
["Schelfhout Audiciens",5,"Coselgi","Effect EF6-CIC TR Rechts","COS-0352",{"$f":"IF(ISBLANK('Assortiment Hoortoestellen'!$B$26),1,IF(ISERROR(SEARCH(PROPER('Assortiment Hoortoestellen'!$B$26),PROPER('Dataset hoortoestellen'!D20780))),0,1))","v":1}]
["Schelfhout Audiciens",3,"Interton","RD461-DRW","INT-0038",{"$f":"IF(ISBLANK('Assortiment Hoortoestellen'!$B$26),1,IF(ISERROR(SEARCH(PROPER('Assortiment Hoortoestellen'!$B$26),PROPER('Dataset hoortoestellen'!D20795))),0,1))","v":1}]
["Schelfhout Audiciens",4,"Interton","RD680-DW","INT-0047",{"$f":"IF(ISBLANK('Assortiment Hoortoestellen'!$B$26),1,IF(ISERROR(SEARCH(PROPER('Assortiment Hoortoestellen'!$B$26),PROPER('Dataset hoortoestellen'!D20804))),0,1))","v":1}]
["Schelfhout Audiciens",2,"Oticon","Geno 2 Custom 75 - 100","OTI-0385",{"$f":"IF(ISBLANK('Assortiment Hoortoestellen'!$B$26),1,IF(ISERROR(SEARCH(PROPER('Assortiment Hoortoestellen'!$B$26),PROPER('Dataset hoortoestellen'!D20824))),0,1))","v":1}]
["Schelfhout Audiciens",2,"Phonak","Vitus BTE-UP","PHO-0262",{"$f":"IF(ISBLANK('Assortiment Hoortoestellen'!$B$26),1,IF(ISERROR(SEARCH(PROPER('Assortiment Hoortoestellen'!$B$26),PROPER('Dataset hoortoestellen'!D20828))),0,1))","v":1}]
["Schelfhout Audiciens",4,"Phonak","Bolero B 50 M","PHO-0286",{"$f":"IF(ISBLANK('Assortiment Hoortoestellen'!$B$26),1,IF(ISERROR(SEARCH(PROPER('Assortiment Hoortoestellen'!$B$26),PROPER('Dataset hoortoestellen'!D20843))),0,1))","v":1}]
["Schelfhout Audiciens",3,"Phonak","Sky B 30 P","PHO-0308",{"$f":"IF(ISBLANK('Assortiment Hoortoestellen'!$B$26),1,IF(ISERROR(SEARCH(PROPER('Assortiment Hoortoestellen'!$B$26),PROPER('Dataset hoortoestellen'!D20856))),0,1))","v":1}]
["Schelfhout Audiciens",5,"Phonak","Virto B 70 10","PHO-0330",{"$f":"IF(ISBLANK('Assortiment Hoortoestellen'!$B$26),1,IF(ISERROR(SEARCH(PROPER('Assortiment Hoortoestellen'!$B$26),PROPER('Dataset hoortoestellen'!D20876))),0,1))","v":1}]
["Schelfhout Audiciens",3,"ReSound","Ligo 4 ITC-DW","RES-0263",{"$f":"IF(ISBLANK('Assortiment Hoortoestellen'!$B$26),1,IF(ISERROR(SEARCH(PROPER('Assortiment Hoortoestellen'!$B$26),PROPER('Dataset hoortoestellen'!D20893))),0,1))","v":1}]
["Schelfhout Audiciens",3,"ReSound","Ligo 462-DRW","RES-0265",{"$f":"IF(ISBLANK('Assortiment Hoortoestellen'!$B$26),1,IF(ISERROR(SEARCH(PROPER('Assortiment Hoortoestellen'!$B$26),PROPER('Dataset hoortoestellen'!D20895))),0,1))","v":1}]
["Schelfhout Audiciens",1,"Starkey","Muse i1000 CIC","STA-0277",{"$f":"IF(ISBLANK('Assortiment Hoortoestellen'!$B$26),1,IF(ISERROR(SEARCH(PROPER('Assortiment Hoortoestellen'!$B$26),PROPER('Dataset hoortoestellen'!D20917))),0,1))","v":1}]
["Schelfhout Audiciens",1,"Starkey","Muse i1000 BTE 13 PP","STA-0331",{"$f":"IF(ISBLANK('Assortiment Hoortoestellen'!$B$26),1,IF(ISERROR(SEARCH(PROPER('Assortiment Hoortoestellen'!$B$26),PROPER('Dataset hoortoestellen'!D20924))),0,1))","v":1}]
["Schelfhout Audiciens",5,"Starkey","Muse iQ i1600 ITC","STA-0373",{"$f":"IF(ISBLANK('Assortiment Hoortoestellen'!$B$26),1,IF(ISERROR(SEARCH(PROPER('Assortiment Hoortoestellen'!$B$26),PROPER('Dataset hoortoestellen'!D20941))),0,1))","v":1}]
["Schelfhout Audiciens",5,"Starkey","Livio 1600 BTE R","STA-0394",{"$f":"IF(ISBLANK('Assortiment Hoortoestellen'!$B$26),1,IF(ISERROR(SEARCH(PROPER('Assortiment Hoortoestellen'!$B$26),PROPER('Dataset hoortoestellen'!D20957))),0,1))","v":1}]
["Schelfhout Audiciens",3,"Unitron","T Stride 500 P","UNI-0305",{"$f":"IF(ISBLANK('Assortiment Hoortoestellen'!$B$26),1,IF(ISERROR(SEARCH(PROPER('Assortiment Hoortoestellen'!$B$26),PROPER('Dataset hoortoestellen'!D20965))),0,1))","v":1}]
["Schelfhout Audiciens",4,"Unitron","DX Insera 5 W 312 Dir","UNI-0439",{"$f":"IF(ISBLANK('Assortiment Hoortoestellen'!$B$26),1,IF(ISERROR(SEARCH(PROPER('Assortiment Hoortoestellen'!$B$26),PROPER('Dataset hoortoestellen'!D20985))),0,1))","v":1}]
["Schelfhout Audiciens",4,"Unitron","DX Moxi Jump R T 3","UNI-0446",{"$f":"IF(ISBLANK('Assortiment Hoortoestellen'!$B$26),1,IF(ISERROR(SEARCH(PROPER('Assortiment Hoortoestellen'!$B$26),PROPER('Dataset hoortoestellen'!D20990))),0,1))","v":1}]
["Schelfhout Audiciens",3,"Widex","U110-FS (HP-tel)","WID-0411",{"$f":"IF(ISBLANK('Assortiment Hoortoestellen'!$B$26),1,IF(ISERROR(SEARCH(PROPER('Assortiment Hoortoestellen'!$B$26),PROPER('Dataset hoortoestellen'!D21009))),0,1))","v":1}]
["Schelfhout Audiciens",3,"Widex","U220-FS (M-tel)","WID-0425",{"$f":"IF(ISBLANK('Assortiment Hoortoestellen'!$B$26),1,IF(ISERROR(SEARCH(PROPER('Assortiment Hoortoestellen'!$B$26),PROPER('Dataset hoortoestellen'!D21023))),0,1))","v":1}]
["Schelfhout Audiciens",4,"Widex","U330-FS (P-tel)","WID-0439",{"$f":"IF(ISBLANK('Assortiment Hoortoestellen'!$B$26),1,IF(ISERROR(SEARCH(PROPER('Assortiment Hoortoestellen'!$B$26),PROPER('Dataset hoortoestellen'!D21037))),0,1))","v":1}]
["Schelfhout Audiciens",5,"Widex","U440-FP","WID-0459",{"$f":"IF(ISBLANK('Assortiment Hoortoestellen'!$B$26),1,IF(ISERROR(SEARCH(PROPER('Assortiment Hoortoestellen'!$B$26),PROPER('Dataset hoortoestellen'!D21056))),0,1))","v":1}]
["Schelfhout Audiciens",3,"Widex","Enjoy E-CIC 110 Links","WID-0551",{"$f":"IF(ISBLANK('Assortiment Hoortoestellen'!$B$26),1,IF(ISERROR(SEARCH(PROPER('Assortiment Hoortoestellen'!$B$26),PROPER('Dataset hoortoestellen'!D21061))),0,1))","v":1}]
["Schelfhout Audiciens",4,"Widex","Enjoy E-F2 220 (HP-tel)","WID-0582",{"$f":"IF(ISBLANK('Assortiment Hoortoestellen'!$B$26),1,IF(ISERROR(SEARCH(PROPER('Assortiment Hoortoestellen'!$B$26),PROPER('Dataset hoortoestellen'!D21075))),0,1))","v":1}]
["Schelfhout Audiciens",2,"Widex","Enjoy E-F2 50 (P-tel)","WID-0596",{"$f":"IF(ISBLANK('Assortiment Hoortoestellen'!$B$26),1,IF(ISERROR(SEARCH(PROPER('Assortiment Hoortoestellen'!$B$26),PROPER('Dataset hoortoestellen'!D21085))),0,1))","v":1}]
["Schelfhout Audiciens",4,"Widex","Enjoy E-FS 220 (M-tel)","WID-0625",{"$f":"IF(ISBLANK('Assortiment Hoortoestellen'!$B$26),1,IF(ISERROR(SEARCH(PROPER('Assortiment Hoortoestellen'!$B$26),PROPER('Dataset hoortoestellen'!D21104))),0,1))","v":1}]
["Schelfhout Audiciens",4,"Widex","Enjoy E-XP 220","WID-0652",{"$f":"IF(ISBLANK('Assortiment Hoortoestellen'!$B$26),1,IF(ISERROR(SEARCH(PROPER('Assortiment Hoortoestellen'!$B$26),PROPER('Dataset hoortoestellen'!D21122))),0,1))","v":1}]
["Schiks Hoortechniek",2,"Bernafon","Zerena 1 MNR","BER-0621",{"$f":"IF(ISBLANK('Assortiment Hoortoestellen'!$B$26),1,IF(ISERROR(SEARCH(PROPER('Assortiment Hoortoestellen'!$B$26),PROPER('Dataset hoortoestellen'!D21137))),0,1))","v":1}]
["Schiks Hoortechniek",4,"Interton","RD662-DRW","INT-0045",{"$f":"IF(ISBLANK('Assortiment Hoortoestellen'!$B$26),1,IF(ISERROR(SEARCH(PROPER('Assortiment Hoortoestellen'!$B$26),PROPER('Dataset hoortoestellen'!D21146))),0,1))","v":1}]
["Schoonenberg",2,"AudioNova","Basic+ P 13","UNI-0422",{"$f":"IF(ISBLANK('Assortiment Hoortoestellen'!$B$26),1,IF(ISERROR(SEARCH(PROPER('Assortiment Hoortoestellen'!$B$26),PROPER('Dataset hoortoestellen'!D21156))),0,1))","v":1}]
["Specsavers",5,"Advance","619 IF CIC links","WSA-0013",{"$f":"IF(ISBLANK('Assortiment Hoortoestellen'!$B$26),1,IF(ISERROR(SEARCH(PROPER('Assortiment Hoortoestellen'!$B$26),PROPER('Dataset hoortoestellen'!D21174))),0,1))","v":1}]
["Specsavers",4,"Advance","OTE LI 419","WSA-0023",{"$f":"IF(ISBLANK('Assortiment Hoortoestellen'!$B$26),1,IF(ISERROR(SEARCH(PROPER('Assortiment Hoortoestellen'!$B$26),PROPER('Dataset hoortoestellen'!D21189))),0,1))","v":1}]
["Specsavers",3,"Advance","Specsavers 290 AO1 MNR T","ADV-0004",{"$f":"IF(ISBLANK('Assortiment Hoortoestellen'!$B$26),1,IF(ISERROR(SEARCH(PROPER('Assortiment Hoortoestellen'!$B$26),PROPER('Dataset hoortoestellen'!D21198))),0,1))","v":1}]
["Specsavers",5,"Phonak","Naida B 70 UP","PHO-0306",{"$f":"IF(ISBLANK('Assortiment Hoortoestellen'!$B$26),1,IF(ISERROR(SEARCH(PROPER('Assortiment Hoortoestellen'!$B$26),PROPER('Dataset hoortoestellen'!D21218))),0,1))","v":1}]
["Specsavers",5,"Phonak","Sky M50-PR","PHO-0337",{"$f":"IF(ISBLANK('Assortiment Hoortoestellen'!$B$26),1,IF(ISERROR(SEARCH(PROPER('Assortiment Hoortoestellen'!$B$26),PROPER('Dataset hoortoestellen'!D21222))),0,1))","v":1}]
["Struijk Acousticon",4,"Audio Service","Duo 8 G5","AUS-0178",{"$f":"IF(ISBLANK('Assortiment Hoortoestellen'!$B$26),1,IF(ISERROR(SEARCH(PROPER('Assortiment Hoortoestellen'!$B$26),PROPER('Dataset hoortoestellen'!D21237))),0,1))","v":1}]
["Struijk Acousticon",4,"Audio Service","quiX 8 G5 Links","AUS-0193",{"$f":"IF(ISBLANK('Assortiment Hoortoestellen'!$B$26),1,IF(ISERROR(SEARCH(PROPER('Assortiment Hoortoestellen'!$B$26),PROPER('Dataset hoortoestellen'!D21246))),0,1))","v":1}]
["Struijk Acousticon",2,"Bernafon","Zerena 1 BTE 105","BER-0615",{"$f":"IF(ISBLANK('Assortiment Hoortoestellen'!$B$26),1,IF(ISERROR(SEARCH(PROPER('Assortiment Hoortoestellen'!$B$26),PROPER('Dataset hoortoestellen'!D21270))),0,1))","v":1}]
["Struijk Acousticon",3,"Bernafon","Zerena 3 BTE 105","BER-0623",{"$f":"IF(ISBLANK('Assortiment Hoortoestellen'!$B$26),1,IF(ISERROR(SEARCH(PROPER('Assortiment Hoortoestellen'!$B$26),PROPER('Dataset hoortoestellen'!D21274))),0,1))","v":1}]
["Struijk Acousticon",3,"Coselgi","U10-FM","COS-0140",{"$f":"IF(ISBLANK('Assortiment Hoortoestellen'!$B$26),1,IF(ISERROR(SEARCH(PROPER('Assortiment Hoortoestellen'!$B$26),PROPER('Dataset hoortoestellen'!D21289))),0,1))","v":1}]
["Struijk Acousticon",5,"Coselgi","U15-CIC TR (links)","COS-0162",{"$f":"IF(ISBLANK('Assortiment Hoortoestellen'!$B$26),1,IF(ISERROR(SEARCH(PROPER('Assortiment Hoortoestellen'!$B$26),PROPER('Dataset hoortoestellen'!D21311))),0,1))","v":1}]
["Struijk Acousticon",5,"Coselgi","U15-FS (S-tel)","COS-0169",{"$f":"IF(ISBLANK('Assortiment Hoortoestellen'!$B$26),1,IF(ISERROR(SEARCH(PROPER('Assortiment Hoortoestellen'!$B$26),PROPER('Dataset hoortoestellen'!D21318))),0,1))","v":1}]
["Struijk Acousticon",3,"Coselgi","U6E-FP","COS-0257",{"$f":"IF(ISBLANK('Assortiment Hoortoestellen'!$B$26),1,IF(ISERROR(SEARCH(PROPER('Assortiment Hoortoestellen'!$B$26),PROPER('Dataset hoortoestellen'!D21335))),0,1))","v":1}]
["Struijk Acousticon",2,"Coselgi","Effect EF2-FS (S-tel)","COS-0283",{"$f":"IF(ISBLANK('Assortiment Hoortoestellen'!$B$26),1,IF(ISERROR(SEARCH(PROPER('Assortiment Hoortoestellen'!$B$26),PROPER('Dataset hoortoestellen'!D21351))),0,1))","v":1}]
["Struijk Acousticon",2,"Coselgi","Effect EF2-FP","COS-0292",{"$f":"IF(ISBLANK('Assortiment Hoortoestellen'!$B$26),1,IF(ISERROR(SEARCH(PROPER('Assortiment Hoortoestellen'!$B$26),PROPER('Dataset hoortoestellen'!D21359))),0,1))","v":1}]
["Struijk Acousticon",3,"Coselgi","Effect EF4-CIC Links","COS-0305",{"$f":"IF(ISBLANK('Assortiment Hoortoestellen'!$B$26),1,IF(ISERROR(SEARCH(PROPER('Assortiment Hoortoestellen'!$B$26),PROPER('Dataset hoortoestellen'!D21370))),0,1))","v":1}]
["Struijk Acousticon",4,"Coselgi","Effect EF5-RIC 10 (S-tel)","COS-0325",{"$f":"IF(ISBLANK('Assortiment Hoortoestellen'!$B$26),1,IF(ISERROR(SEARCH(PROPER('Assortiment Hoortoestellen'!$B$26),PROPER('Dataset hoortoestellen'!D21387))),0,1))","v":1}]
["Struijk Acousticon",5,"Coselgi","Effect EF6-FS (P-tel)","COS-0343",{"$f":"IF(ISBLANK('Assortiment Hoortoestellen'!$B$26),1,IF(ISERROR(SEARCH(PROPER('Assortiment Hoortoestellen'!$B$26),PROPER('Dataset hoortoestellen'!D21403))),0,1))","v":1}]
["Struijk Acousticon",5,"Coselgi","Effect EF6-FA","COS-0353",{"$f":"IF(ISBLANK('Assortiment Hoortoestellen'!$B$26),1,IF(ISERROR(SEARCH(PROPER('Assortiment Hoortoestellen'!$B$26),PROPER('Dataset hoortoestellen'!D21411))),0,1))","v":1}]
["Struijk Acousticon",2,"Interton","RD380-DW","INT-0035",{"$f":"IF(ISBLANK('Assortiment Hoortoestellen'!$B$26),1,IF(ISERROR(SEARCH(PROPER('Assortiment Hoortoestellen'!$B$26),PROPER('Dataset hoortoestellen'!D21422))),0,1))","v":1}]
["Struijk Acousticon",5,"Interton","RD6CIC","INT-0048",{"$f":"IF(ISBLANK('Assortiment Hoortoestellen'!$B$26),1,IF(ISERROR(SEARCH(PROPER('Assortiment Hoortoestellen'!$B$26),PROPER('Dataset hoortoestellen'!D21435))),0,1))","v":1}]
["Struijk Acousticon",2,"Phonak","Vitus BTE-UP","PHO-0262",{"$f":"IF(ISBLANK('Assortiment Hoortoestellen'!$B$26),1,IF(ISERROR(SEARCH(PROPER('Assortiment Hoortoestellen'!$B$26),PROPER('Dataset hoortoestellen'!D21451))),0,1))","v":1}]
["Struijk Acousticon",3,"Phonak","Naida B 30 SP","PHO-0299",{"$f":"IF(ISBLANK('Assortiment Hoortoestellen'!$B$26),1,IF(ISERROR(SEARCH(PROPER('Assortiment Hoortoestellen'!$B$26),PROPER('Dataset hoortoestellen'!D21472))),0,1))","v":1}]
["Struijk Acousticon",3,"Phonak","Sky B 30 P","PHO-0308",{"$f":"IF(ISBLANK('Assortiment Hoortoestellen'!$B$26),1,IF(ISERROR(SEARCH(PROPER('Assortiment Hoortoestellen'!$B$26),PROPER('Dataset hoortoestellen'!D21479))),0,1))","v":1}]
["Struijk Acousticon",4,"Phonak","Virto B 50 312","PHO-0329",{"$f":"IF(ISBLANK('Assortiment Hoortoestellen'!$B$26),1,IF(ISERROR(SEARCH(PROPER('Assortiment Hoortoestellen'!$B$26),PROPER('Dataset hoortoestellen'!D21498))),0,1))","v":1}]
["Struijk Acousticon",1,"ReSound","Vea 130 -/P","RES-0011",{"$f":"IF(ISBLANK('Assortiment Hoortoestellen'!$B$26),1,IF(ISERROR(SEARCH(PROPER('Assortiment Hoortoestellen'!$B$26),PROPER('Dataset hoortoestellen'!D21503))),0,1))","v":1}]
["Struijk Acousticon",3,"ReSound","Ligo 498-DW","RES-0269",{"$f":"IF(ISBLANK('Assortiment Hoortoestellen'!$B$26),1,IF(ISERROR(SEARCH(PROPER('Assortiment Hoortoestellen'!$B$26),PROPER('Dataset hoortoestellen'!D21517))),0,1))","v":1}]
["Struijk Acousticon",5,"Starkey","Muse i1600  CIC","STA-0330",{"$f":"IF(ISBLANK('Assortiment Hoortoestellen'!$B$26),1,IF(ISERROR(SEARCH(PROPER('Assortiment Hoortoestellen'!$B$26),PROPER('Dataset hoortoestellen'!D21540))),0,1))","v":1}]
["Struijk Acousticon",3,"Starkey","Muse iQ i1000 ITC","STA-0353",{"$f":"IF(ISBLANK('Assortiment Hoortoestellen'!$B$26),1,IF(ISERROR(SEARCH(PROPER('Assortiment Hoortoestellen'!$B$26),PROPER('Dataset hoortoestellen'!D21550))),0,1))","v":1}]
["Struijk Acousticon",5,"Starkey","Livio 1600 BTE 13","STA-0388",{"$f":"IF(ISBLANK('Assortiment Hoortoestellen'!$B$26),1,IF(ISERROR(SEARCH(PROPER('Assortiment Hoortoestellen'!$B$26),PROPER('Dataset hoortoestellen'!D21568))),0,1))","v":1}]
["Struijk Acousticon",5,"Starkey","Livio 1600 mRIC 312","STA-0389",{"$f":"IF(ISBLANK('Assortiment Hoortoestellen'!$B$26),1,IF(ISERROR(SEARCH(PROPER('Assortiment Hoortoestellen'!$B$26),PROPER('Dataset hoortoestellen'!D21569))),0,1))","v":1}]
["Struijk Acousticon",5,"Unitron","T Stride 800 M","UNI-0310",{"$f":"IF(ISBLANK('Assortiment Hoortoestellen'!$B$26),1,IF(ISERROR(SEARCH(PROPER('Assortiment Hoortoestellen'!$B$26),PROPER('Dataset hoortoestellen'!D21592))),0,1))","v":1}]
["Struijk Acousticon",4,"Unitron","T Moxi Now 600","UNI-0321",{"$f":"IF(ISBLANK('Assortiment Hoortoestellen'!$B$26),1,IF(ISERROR(SEARCH(PROPER('Assortiment Hoortoestellen'!$B$26),PROPER('Dataset hoortoestellen'!D21598))),0,1))","v":1}]
["Struijk Acousticon",3,"Widex","U110-CIC-M TR","WID-0407",{"$f":"IF(ISBLANK('Assortiment Hoortoestellen'!$B$26),1,IF(ISERROR(SEARCH(PROPER('Assortiment Hoortoestellen'!$B$26),PROPER('Dataset hoortoestellen'!D21616))),0,1))","v":1}]
["Struijk Acousticon",3,"Widex","U220-FA","WID-0422",{"$f":"IF(ISBLANK('Assortiment Hoortoestellen'!$B$26),1,IF(ISERROR(SEARCH(PROPER('Assortiment Hoortoestellen'!$B$26),PROPER('Dataset hoortoestellen'!D21631))),0,1))","v":1}]
["Struijk Acousticon",4,"Widex","U330-CIC","WID-0431",{"$f":"IF(ISBLANK('Assortiment Hoortoestellen'!$B$26),1,IF(ISERROR(SEARCH(PROPER('Assortiment Hoortoestellen'!$B$26),PROPER('Dataset hoortoestellen'!D21640))),0,1))","v":1}]
["Struijk Acousticon",4,"Widex","U330-PA (M-tel)","WID-0441",{"$f":"IF(ISBLANK('Assortiment Hoortoestellen'!$B$26),1,IF(ISERROR(SEARCH(PROPER('Assortiment Hoortoestellen'!$B$26),PROPER('Dataset hoortoestellen'!D21650))),0,1))","v":1}]
["Struijk Acousticon",5,"Widex","U440-FP","WID-0459",{"$f":"IF(ISBLANK('Assortiment Hoortoestellen'!$B$26),1,IF(ISERROR(SEARCH(PROPER('Assortiment Hoortoestellen'!$B$26),PROPER('Dataset hoortoestellen'!D21668))),0,1))","v":1}]
["Struijk Acousticon",3,"Widex","Enjoy E-F2 110 (HP-tel)","WID-0578",{"$f":"IF(ISBLANK('Assortiment Hoortoestellen'!$B$26),1,IF(ISERROR(SEARCH(PROPER('Assortiment Hoortoestellen'!$B$26),PROPER('Dataset hoortoestellen'!D21683))),0,1))","v":1}]
["Struijk Acousticon",5,"Widex","Enjoy E-F2 330 (M-tel)","WID-0587",{"$f":"IF(ISBLANK('Assortiment Hoortoestellen'!$B$26),1,IF(ISERROR(SEARCH(PROPER('Assortiment Hoortoestellen'!$B$26),PROPER('Dataset hoortoestellen'!D21692))),0,1))","v":1}]
["Struijk Acousticon",4,"Widex","Enjoy E-FS 220 (M-tel)","WID-0625",{"$f":"IF(ISBLANK('Assortiment Hoortoestellen'!$B$26),1,IF(ISERROR(SEARCH(PROPER('Assortiment Hoortoestellen'!$B$26),PROPER('Dataset hoortoestellen'!D21716))),0,1))","v":1}]
["Struijk Acousticon",4,"Widex","Enjoy E-PA 220 (M-tel)","WID-0644",{"$f":"IF(ISBLANK('Assortiment Hoortoestellen'!$B$26),1,IF(ISERROR(SEARCH(PROPER('Assortiment Hoortoestellen'!$B$26),PROPER('Dataset hoortoestellen'!D21729))),0,1))","v":1}]
["Struijk Acousticon",5,"Widex","Enjoy E-PA 330 (M-tel)","WID-0646",{"$f":"IF(ISBLANK('Assortiment Hoortoestellen'!$B$26),1,IF(ISERROR(SEARCH(PROPER('Assortiment Hoortoestellen'!$B$26),PROPER('Dataset hoortoestellen'!D21731))),0,1))","v":1}]
["Struijk Audiciens BV",5,"Audio Service","Mood 12 G5","AUS-0184",{"$f":"IF(ISBLANK('Assortiment Hoortoestellen'!$B$26),1,IF(ISERROR(SEARCH(PROPER('Assortiment Hoortoestellen'!$B$26),PROPER('Dataset hoortoestellen'!D21753))),0,1))","v":1}]
["Struijk Audiciens BV",4,"Audio Service","Sun 8 G5","AUS-0198",{"$f":"IF(ISBLANK('Assortiment Hoortoestellen'!$B$26),1,IF(ISERROR(SEARCH(PROPER('Assortiment Hoortoestellen'!$B$26),PROPER('Dataset hoortoestellen'!D21764))),0,1))","v":1}]
["Struijk Audiciens BV",1,"Bernafon","Nevara 1 P","BER-0460",{"$f":"IF(ISBLANK('Assortiment Hoortoestellen'!$B$26),1,IF(ISERROR(SEARCH(PROPER('Assortiment Hoortoestellen'!$B$26),PROPER('Dataset hoortoestellen'!D21781))),0,1))","v":1}]
["Struijk Audiciens BV",5,"Bernafon","Zerena 7 IIC","BER-0641",{"$f":"IF(ISBLANK('Assortiment Hoortoestellen'!$B$26),1,IF(ISERROR(SEARCH(PROPER('Assortiment Hoortoestellen'!$B$26),PROPER('Dataset hoortoestellen'!D21797))),0,1))","v":1}]
["Struijk Audiciens BV",3,"Coselgi","U10-FS (M-tel)","COS-0143",{"$f":"IF(ISBLANK('Assortiment Hoortoestellen'!$B$26),1,IF(ISERROR(SEARCH(PROPER('Assortiment Hoortoestellen'!$B$26),PROPER('Dataset hoortoestellen'!D21805))),0,1))","v":1}]
["Struijk Audiciens BV",4,"Coselgi","U10E-FS (HP-tel)","COS-0154",{"$f":"IF(ISBLANK('Assortiment Hoortoestellen'!$B$26),1,IF(ISERROR(SEARCH(PROPER('Assortiment Hoortoestellen'!$B$26),PROPER('Dataset hoortoestellen'!D21816))),0,1))","v":1}]
["Struijk Audiciens BV",5,"Coselgi","U15-FS (M-tel)","COS-0167",{"$f":"IF(ISBLANK('Assortiment Hoortoestellen'!$B$26),1,IF(ISERROR(SEARCH(PROPER('Assortiment Hoortoestellen'!$B$26),PROPER('Dataset hoortoestellen'!D21829))),0,1))","v":1}]
["Struijk Audiciens BV",2,"Coselgi","U6-XP","COS-0252",{"$f":"IF(ISBLANK('Assortiment Hoortoestellen'!$B$26),1,IF(ISERROR(SEARCH(PROPER('Assortiment Hoortoestellen'!$B$26),PROPER('Dataset hoortoestellen'!D21845))),0,1))","v":1}]
["Struijk Audiciens BV",3,"Coselgi","U6E-PA (M-tel)","COS-0262",{"$f":"IF(ISBLANK('Assortiment Hoortoestellen'!$B$26),1,IF(ISERROR(SEARCH(PROPER('Assortiment Hoortoestellen'!$B$26),PROPER('Dataset hoortoestellen'!D21853))),0,1))","v":1}]
["Struijk Audiciens BV",3,"Coselgi","Effect EF4-FS (HP-tel)","COS-0299",{"$f":"IF(ISBLANK('Assortiment Hoortoestellen'!$B$26),1,IF(ISERROR(SEARCH(PROPER('Assortiment Hoortoestellen'!$B$26),PROPER('Dataset hoortoestellen'!D21878))),0,1))","v":1}]
["Struijk Audiciens BV",3,"Coselgi","Effect EF4-FP","COS-0313",{"$f":"IF(ISBLANK('Assortiment Hoortoestellen'!$B$26),1,IF(ISERROR(SEARCH(PROPER('Assortiment Hoortoestellen'!$B$26),PROPER('Dataset hoortoestellen'!D21890))),0,1))","v":1}]
["Struijk Audiciens BV",4,"Coselgi","Effect EF5-FS (P-tel)","COS-0322",{"$f":"IF(ISBLANK('Assortiment Hoortoestellen'!$B$26),1,IF(ISERROR(SEARCH(PROPER('Assortiment Hoortoestellen'!$B$26),PROPER('Dataset hoortoestellen'!D21897))),0,1))","v":1}]
["Struijk Audiciens BV",5,"Coselgi","Effect EF6-RIC 10 (M-tel)","COS-0345",{"$f":"IF(ISBLANK('Assortiment Hoortoestellen'!$B$26),1,IF(ISERROR(SEARCH(PROPER('Assortiment Hoortoestellen'!$B$26),PROPER('Dataset hoortoestellen'!D21918))),0,1))","v":1}]
["Struijk Audiciens BV",1,"Interton","RD270-DW","INT-0028",{"$f":"IF(ISBLANK('Assortiment Hoortoestellen'!$B$26),1,IF(ISERROR(SEARCH(PROPER('Assortiment Hoortoestellen'!$B$26),PROPER('Dataset hoortoestellen'!D21930))),0,1))","v":1}]
["Struijk Audiciens BV",3,"Interton","RD4CIC","INT-0042",{"$f":"IF(ISBLANK('Assortiment Hoortoestellen'!$B$26),1,IF(ISERROR(SEARCH(PROPER('Assortiment Hoortoestellen'!$B$26),PROPER('Dataset hoortoestellen'!D21942))),0,1))","v":1}]
["Struijk Audiciens BV",5,"Oticon","Opn 3 CIC 75 - 85","OTI-0360",{"$f":"IF(ISBLANK('Assortiment Hoortoestellen'!$B$26),1,IF(ISERROR(SEARCH(PROPER('Assortiment Hoortoestellen'!$B$26),PROPER('Dataset hoortoestellen'!D21959))),0,1))","v":1}]
["Struijk Audiciens BV",3,"Phonak","Audeo B 30 13","PHO-0270",{"$f":"IF(ISBLANK('Assortiment Hoortoestellen'!$B$26),1,IF(ISERROR(SEARCH(PROPER('Assortiment Hoortoestellen'!$B$26),PROPER('Dataset hoortoestellen'!D21966))),0,1))","v":1}]
["Struijk Audiciens BV",3,"Phonak","Naida B 30 UP","PHO-0300",{"$f":"IF(ISBLANK('Assortiment Hoortoestellen'!$B$26),1,IF(ISERROR(SEARCH(PROPER('Assortiment Hoortoestellen'!$B$26),PROPER('Dataset hoortoestellen'!D21986))),0,1))","v":1}]
["Struijk Audiciens BV",4,"Phonak","Sky B 50 M","PHO-0312",{"$f":"IF(ISBLANK('Assortiment Hoortoestellen'!$B$26),1,IF(ISERROR(SEARCH(PROPER('Assortiment Hoortoestellen'!$B$26),PROPER('Dataset hoortoestellen'!D21996))),0,1))","v":1}]
["Struijk Audiciens BV",4,"Phonak","Virto B 50 13","PHO-0328",{"$f":"IF(ISBLANK('Assortiment Hoortoestellen'!$B$26),1,IF(ISERROR(SEARCH(PROPER('Assortiment Hoortoestellen'!$B$26),PROPER('Dataset hoortoestellen'!D22010))),0,1))","v":1}]
["Struijk Audiciens BV",3,"ReSound","Ligo 461-DRW","RES-0264",{"$f":"IF(ISBLANK('Assortiment Hoortoestellen'!$B$26),1,IF(ISERROR(SEARCH(PROPER('Assortiment Hoortoestellen'!$B$26),PROPER('Dataset hoortoestellen'!D22025))),0,1))","v":1}]
["Struijk Audiciens BV",4,"ReSound","Ligo 562-DRW","RES-0273",{"$f":"IF(ISBLANK('Assortiment Hoortoestellen'!$B$26),1,IF(ISERROR(SEARCH(PROPER('Assortiment Hoortoestellen'!$B$26),PROPER('Dataset hoortoestellen'!D22034))),0,1))","v":1}]
["Struijk Audiciens BV",5,"ReSound","Ligo 777-DW","RES-0283",{"$f":"IF(ISBLANK('Assortiment Hoortoestellen'!$B$26),1,IF(ISERROR(SEARCH(PROPER('Assortiment Hoortoestellen'!$B$26),PROPER('Dataset hoortoestellen'!D22044))),0,1))","v":1}]
["Struijk Audiciens BV",2,"Starkey","Muse iQ i1000 ITC","STA-0353",{"$f":"IF(ISBLANK('Assortiment Hoortoestellen'!$B$26),1,IF(ISERROR(SEARCH(PROPER('Assortiment Hoortoestellen'!$B$26),PROPER('Dataset hoortoestellen'!D22062))),0,1))","v":1}]
["Struijk Audiciens BV",4,"Starkey","Livio 1200 BTE 13","STA-0384",{"$f":"IF(ISBLANK('Assortiment Hoortoestellen'!$B$26),1,IF(ISERROR(SEARCH(PROPER('Assortiment Hoortoestellen'!$B$26),PROPER('Dataset hoortoestellen'!D22077))),0,1))","v":1}]
["Struijk Audiciens BV",2,"Unitron","Shine Rev 3 HPm","UNI-0175",{"$f":"IF(ISBLANK('Assortiment Hoortoestellen'!$B$26),1,IF(ISERROR(SEARCH(PROPER('Assortiment Hoortoestellen'!$B$26),PROPER('Dataset hoortoestellen'!D22086))),0,1))","v":1}]
["Struijk Audiciens BV",4,"Unitron","T Insera 600 10A Omni","UNI-0282",{"$f":"IF(ISBLANK('Assortiment Hoortoestellen'!$B$26),1,IF(ISERROR(SEARCH(PROPER('Assortiment Hoortoestellen'!$B$26),PROPER('Dataset hoortoestellen'!D22096))),0,1))","v":1}]
["Struijk Audiciens BV",3,"Unitron","T Moxi Now 500","UNI-0320",{"$f":"IF(ISBLANK('Assortiment Hoortoestellen'!$B$26),1,IF(ISERROR(SEARCH(PROPER('Assortiment Hoortoestellen'!$B$26),PROPER('Dataset hoortoestellen'!D22110))),0,1))","v":1}]
["Struijk Audiciens BV",5,"Unitron","T Insera 800 W 312 Dir","UNI-0341",{"$f":"IF(ISBLANK('Assortiment Hoortoestellen'!$B$26),1,IF(ISERROR(SEARCH(PROPER('Assortiment Hoortoestellen'!$B$26),PROPER('Dataset hoortoestellen'!D22125))),0,1))","v":1}]
["Struijk Audiciens BV",3,"Widex","U220-FS (M-tel)","WID-0425",{"$f":"IF(ISBLANK('Assortiment Hoortoestellen'!$B$26),1,IF(ISERROR(SEARCH(PROPER('Assortiment Hoortoestellen'!$B$26),PROPER('Dataset hoortoestellen'!D22147))),0,1))","v":1}]
["Struijk Audiciens BV",4,"Widex","U330-FM","WID-0436",{"$f":"IF(ISBLANK('Assortiment Hoortoestellen'!$B$26),1,IF(ISERROR(SEARCH(PROPER('Assortiment Hoortoestellen'!$B$26),PROPER('Dataset hoortoestellen'!D22158))),0,1))","v":1}]
["Struijk Audiciens BV",5,"Widex","U440-FM","WID-0449",{"$f":"IF(ISBLANK('Assortiment Hoortoestellen'!$B$26),1,IF(ISERROR(SEARCH(PROPER('Assortiment Hoortoestellen'!$B$26),PROPER('Dataset hoortoestellen'!D22171))),0,1))","v":1}]
["Struijk Audiciens BV",5,"Widex","U440-PA (S-tel)","WID-0455",{"$f":"IF(ISBLANK('Assortiment Hoortoestellen'!$B$26),1,IF(ISERROR(SEARCH(PROPER('Assortiment Hoortoestellen'!$B$26),PROPER('Dataset hoortoestellen'!D22177))),0,1))","v":1}]
["Struijk Audiciens BV",3,"Widex","Enjoy E-F2 110 (S-tel)","WID-0581",{"$f":"IF(ISBLANK('Assortiment Hoortoestellen'!$B$26),1,IF(ISERROR(SEARCH(PROPER('Assortiment Hoortoestellen'!$B$26),PROPER('Dataset hoortoestellen'!D22199))),0,1))","v":1}]
["Struijk Audiciens BV",2,"Widex","Enjoy E-F2 50 (P-tel)","WID-0596",{"$f":"IF(ISBLANK('Assortiment Hoortoestellen'!$B$26),1,IF(ISERROR(SEARCH(PROPER('Assortiment Hoortoestellen'!$B$26),PROPER('Dataset hoortoestellen'!D22210))),0,1))","v":1}]
["Struijk Audiciens BV",2,"Widex","Enjoy E-FP 50","WID-0615",{"$f":"IF(ISBLANK('Assortiment Hoortoestellen'!$B$26),1,IF(ISERROR(SEARCH(PROPER('Assortiment Hoortoestellen'!$B$26),PROPER('Dataset hoortoestellen'!D22223))),0,1))","v":1}]
["Struijk Audiciens BV",2,"Widex","Enjoy E-FS 50 (S-tel)","WID-0639",{"$f":"IF(ISBLANK('Assortiment Hoortoestellen'!$B$26),1,IF(ISERROR(SEARCH(PROPER('Assortiment Hoortoestellen'!$B$26),PROPER('Dataset hoortoestellen'!D22239))),0,1))","v":1}]
["Struijk Audiciens BV",4,"Widex","Enjoy E-XP 220","WID-0652",{"$f":"IF(ISBLANK('Assortiment Hoortoestellen'!$B$26),1,IF(ISERROR(SEARCH(PROPER('Assortiment Hoortoestellen'!$B$26),PROPER('Dataset hoortoestellen'!D22247))),0,1))","v":1}]
["Struijk Audiciens Geldermalsen BV",5,"Audio Service","Sun 12 G4","AUS-0146",{"$f":"IF(ISBLANK('Assortiment Hoortoestellen'!$B$26),1,IF(ISERROR(SEARCH(PROPER('Assortiment Hoortoestellen'!$B$26),PROPER('Dataset hoortoestellen'!D22258))),0,1))","v":1}]
["Struijk Audiciens Geldermalsen BV",5,"Audio Service","quiX 12 G5 Rechts","AUS-0192",{"$f":"IF(ISBLANK('Assortiment Hoortoestellen'!$B$26),1,IF(ISERROR(SEARCH(PROPER('Assortiment Hoortoestellen'!$B$26),PROPER('Dataset hoortoestellen'!D22271))),0,1))","v":1}]
["Struijk Audiciens Geldermalsen BV",3,"Audio Service","Sun 6 G5","AUS-0218",{"$f":"IF(ISBLANK('Assortiment Hoortoestellen'!$B$26),1,IF(ISERROR(SEARCH(PROPER('Assortiment Hoortoestellen'!$B$26),PROPER('Dataset hoortoestellen'!D22291))),0,1))","v":1}]
["Struijk Audiciens Geldermalsen BV",2,"Bernafon","Zerena 1 MNR","BER-0621",{"$f":"IF(ISBLANK('Assortiment Hoortoestellen'!$B$26),1,IF(ISERROR(SEARCH(PROPER('Assortiment Hoortoestellen'!$B$26),PROPER('Dataset hoortoestellen'!D22299))),0,1))","v":1}]
["Struijk Audiciens Geldermalsen BV",4,"Coselgi","U10E-CIC (links)","COS-0149",{"$f":"IF(ISBLANK('Assortiment Hoortoestellen'!$B$26),1,IF(ISERROR(SEARCH(PROPER('Assortiment Hoortoestellen'!$B$26),PROPER('Dataset hoortoestellen'!D22324))),0,1))","v":1}]
["Struijk Audiciens Geldermalsen BV",5,"Coselgi","U15-CIC (links)","COS-0161",{"$f":"IF(ISBLANK('Assortiment Hoortoestellen'!$B$26),1,IF(ISERROR(SEARCH(PROPER('Assortiment Hoortoestellen'!$B$26),PROPER('Dataset hoortoestellen'!D22336))),0,1))","v":1}]
["Struijk Audiciens Geldermalsen BV",5,"Coselgi","U15-FS (P-tel)","COS-0168",{"$f":"IF(ISBLANK('Assortiment Hoortoestellen'!$B$26),1,IF(ISERROR(SEARCH(PROPER('Assortiment Hoortoestellen'!$B$26),PROPER('Dataset hoortoestellen'!D22343))),0,1))","v":1}]
["Struijk Audiciens Geldermalsen BV",3,"Coselgi","U6E-FM","COS-0256",{"$f":"IF(ISBLANK('Assortiment Hoortoestellen'!$B$26),1,IF(ISERROR(SEARCH(PROPER('Assortiment Hoortoestellen'!$B$26),PROPER('Dataset hoortoestellen'!D22360))),0,1))","v":1}]
["Struijk Audiciens Geldermalsen BV",2,"Coselgi","Effect EF2-F2 (M-tel)","COS-0277",{"$f":"IF(ISBLANK('Assortiment Hoortoestellen'!$B$26),1,IF(ISERROR(SEARCH(PROPER('Assortiment Hoortoestellen'!$B$26),PROPER('Dataset hoortoestellen'!D22372))),0,1))","v":1}]
["Struijk Audiciens Geldermalsen BV",2,"Coselgi","Effect EF2-FM","COS-0291",{"$f":"IF(ISBLANK('Assortiment Hoortoestellen'!$B$26),1,IF(ISERROR(SEARCH(PROPER('Assortiment Hoortoestellen'!$B$26),PROPER('Dataset hoortoestellen'!D22384))),0,1))","v":1}]
["Struijk Audiciens Geldermalsen BV",4,"Coselgi","Effect EF5-F2 (HP-tel)","COS-0316",{"$f":"IF(ISBLANK('Assortiment Hoortoestellen'!$B$26),1,IF(ISERROR(SEARCH(PROPER('Assortiment Hoortoestellen'!$B$26),PROPER('Dataset hoortoestellen'!D22405))),0,1))","v":1}]
["Struijk Audiciens Geldermalsen BV",4,"Coselgi","Effect EF5-RIC 10 (M-tel)","COS-0324",{"$f":"IF(ISBLANK('Assortiment Hoortoestellen'!$B$26),1,IF(ISERROR(SEARCH(PROPER('Assortiment Hoortoestellen'!$B$26),PROPER('Dataset hoortoestellen'!D22412))),0,1))","v":1}]
["Struijk Audiciens Geldermalsen BV",5,"Coselgi","Effect EF6-F2 (M-tel)","COS-0338",{"$f":"IF(ISBLANK('Assortiment Hoortoestellen'!$B$26),1,IF(ISERROR(SEARCH(PROPER('Assortiment Hoortoestellen'!$B$26),PROPER('Dataset hoortoestellen'!D22424))),0,1))","v":1}]
["Struijk Audiciens Geldermalsen BV",5,"Coselgi","Effect EF6-CIC TR Rechts","COS-0352",{"$f":"IF(ISBLANK('Assortiment Hoortoestellen'!$B$26),1,IF(ISERROR(SEARCH(PROPER('Assortiment Hoortoestellen'!$B$26),PROPER('Dataset hoortoestellen'!D22436))),0,1))","v":1}]
["Struijk Audiciens Geldermalsen BV",4,"Interton","RD661-DRW","INT-0044",{"$f":"IF(ISBLANK('Assortiment Hoortoestellen'!$B$26),1,IF(ISERROR(SEARCH(PROPER('Assortiment Hoortoestellen'!$B$26),PROPER('Dataset hoortoestellen'!D22457))),0,1))","v":1}]
["Struijk Audiciens Geldermalsen BV",4,"Interton","RD680-DW","INT-0047",{"$f":"IF(ISBLANK('Assortiment Hoortoestellen'!$B$26),1,IF(ISERROR(SEARCH(PROPER('Assortiment Hoortoestellen'!$B$26),PROPER('Dataset hoortoestellen'!D22460))),0,1))","v":1}]
["Struijk Audiciens Geldermalsen BV",3,"Phonak","Audeo B 30 312","PHO-0271",{"$f":"IF(ISBLANK('Assortiment Hoortoestellen'!$B$26),1,IF(ISERROR(SEARCH(PROPER('Assortiment Hoortoestellen'!$B$26),PROPER('Dataset hoortoestellen'!D22480))),0,1))","v":1}]
["Struijk Audiciens Geldermalsen BV",3,"Phonak","Bolero B 30 P","PHO-0284",{"$f":"IF(ISBLANK('Assortiment Hoortoestellen'!$B$26),1,IF(ISERROR(SEARCH(PROPER('Assortiment Hoortoestellen'!$B$26),PROPER('Dataset hoortoestellen'!D22490))),0,1))","v":1}]
["Struijk Audiciens Geldermalsen BV",3,"Phonak","Sky B 30 M","PHO-0307",{"$f":"IF(ISBLANK('Assortiment Hoortoestellen'!$B$26),1,IF(ISERROR(SEARCH(PROPER('Assortiment Hoortoestellen'!$B$26),PROPER('Dataset hoortoestellen'!D22504))),0,1))","v":1}]
["Struijk Audiciens Geldermalsen BV",3,"Phonak","Virto B 30 10","PHO-0324",{"$f":"IF(ISBLANK('Assortiment Hoortoestellen'!$B$26),1,IF(ISERROR(SEARCH(PROPER('Assortiment Hoortoestellen'!$B$26),PROPER('Dataset hoortoestellen'!D22519))),0,1))","v":1}]
["Struijk Audiciens Geldermalsen BV",1,"ReSound","Vea 170 VI","RES-0010",{"$f":"IF(ISBLANK('Assortiment Hoortoestellen'!$B$26),1,IF(ISERROR(SEARCH(PROPER('Assortiment Hoortoestellen'!$B$26),PROPER('Dataset hoortoestellen'!D22528))),0,1))","v":1}]
["Struijk Audiciens Geldermalsen BV",5,"ReSound","Ligo 7 CIC","RES-0278",{"$f":"IF(ISBLANK('Assortiment Hoortoestellen'!$B$26),1,IF(ISERROR(SEARCH(PROPER('Assortiment Hoortoestellen'!$B$26),PROPER('Dataset hoortoestellen'!D22552))),0,1))","v":1}]
["Struijk Audiciens Geldermalsen BV",1,"Starkey","Muse i1000 RIC 312","STA-0309",{"$f":"IF(ISBLANK('Assortiment Hoortoestellen'!$B$26),1,IF(ISERROR(SEARCH(PROPER('Assortiment Hoortoestellen'!$B$26),PROPER('Dataset hoortoestellen'!D22565))),0,1))","v":1}]
["Struijk Audiciens Geldermalsen BV",2,"Starkey","Muse iQ i1000 BTE 13","STA-0349",{"$f":"IF(ISBLANK('Assortiment Hoortoestellen'!$B$26),1,IF(ISERROR(SEARCH(PROPER('Assortiment Hoortoestellen'!$B$26),PROPER('Dataset hoortoestellen'!D22571))),0,1))","v":1}]
["Struijk Audiciens Geldermalsen BV",4,"Starkey","Livio 1200 RIC R","STA-0387",{"$f":"IF(ISBLANK('Assortiment Hoortoestellen'!$B$26),1,IF(ISERROR(SEARCH(PROPER('Assortiment Hoortoestellen'!$B$26),PROPER('Dataset hoortoestellen'!D22593))),0,1))","v":1}]
["Struijk Audiciens Geldermalsen BV",5,"Unitron","T Max SP 800","UNI-0275",{"$f":"IF(ISBLANK('Assortiment Hoortoestellen'!$B$26),1,IF(ISERROR(SEARCH(PROPER('Assortiment Hoortoestellen'!$B$26),PROPER('Dataset hoortoestellen'!D22604))),0,1))","v":1}]
["Struijk Audiciens Geldermalsen BV",4,"Unitron","T Stride 600 P","UNI-0307",{"$f":"IF(ISBLANK('Assortiment Hoortoestellen'!$B$26),1,IF(ISERROR(SEARCH(PROPER('Assortiment Hoortoestellen'!$B$26),PROPER('Dataset hoortoestellen'!D22617))),0,1))","v":1}]
["Struijk Audiciens Geldermalsen BV",3,"Unitron","T Moxi Now 500","UNI-0320",{"$f":"IF(ISBLANK('Assortiment Hoortoestellen'!$B$26),1,IF(ISERROR(SEARCH(PROPER('Assortiment Hoortoestellen'!$B$26),PROPER('Dataset hoortoestellen'!D22623))),0,1))","v":1}]
["Struijk Audiciens Geldermalsen BV",3,"Widex","U110-CIC-M","WID-0406",{"$f":"IF(ISBLANK('Assortiment Hoortoestellen'!$B$26),1,IF(ISERROR(SEARCH(PROPER('Assortiment Hoortoestellen'!$B$26),PROPER('Dataset hoortoestellen'!D22641))),0,1))","v":1}]
["Struijk Audiciens Geldermalsen BV",3,"Widex","U110-XP","WID-0417",{"$f":"IF(ISBLANK('Assortiment Hoortoestellen'!$B$26),1,IF(ISERROR(SEARCH(PROPER('Assortiment Hoortoestellen'!$B$26),PROPER('Dataset hoortoestellen'!D22652))),0,1))","v":1}]
["Struijk Audiciens Geldermalsen BV",3,"Widex","U220-XP","WID-0430",{"$f":"IF(ISBLANK('Assortiment Hoortoestellen'!$B$26),1,IF(ISERROR(SEARCH(PROPER('Assortiment Hoortoestellen'!$B$26),PROPER('Dataset hoortoestellen'!D22665))),0,1))","v":1}]
["Struijk Audiciens Geldermalsen BV",5,"Widex","U440-FS (HP-tel)","WID-0450",{"$f":"IF(ISBLANK('Assortiment Hoortoestellen'!$B$26),1,IF(ISERROR(SEARCH(PROPER('Assortiment Hoortoestellen'!$B$26),PROPER('Dataset hoortoestellen'!D22685))),0,1))","v":1}]
["Struijk Audiciens Geldermalsen BV",4,"Widex","U330-FP","WID-0458",{"$f":"IF(ISBLANK('Assortiment Hoortoestellen'!$B$26),1,IF(ISERROR(SEARCH(PROPER('Assortiment Hoortoestellen'!$B$26),PROPER('Dataset hoortoestellen'!D22693))),0,1))","v":1}]
["Struijk Audiciens Geldermalsen BV",5,"Widex","Enjoy E-CIC M 330","WID-0559",{"$f":"IF(ISBLANK('Assortiment Hoortoestellen'!$B$26),1,IF(ISERROR(SEARCH(PROPER('Assortiment Hoortoestellen'!$B$26),PROPER('Dataset hoortoestellen'!D22704))),0,1))","v":1}]
["Struijk Audiciens Geldermalsen BV",5,"Widex","Enjoy E-F2 330 (HP-tel)","WID-0586",{"$f":"IF(ISBLANK('Assortiment Hoortoestellen'!$B$26),1,IF(ISERROR(SEARCH(PROPER('Assortiment Hoortoestellen'!$B$26),PROPER('Dataset hoortoestellen'!D22717))),0,1))","v":1}]
["Struijk Audiciens Geldermalsen BV",3,"Widex","Enjoy E-FS 110 (HP-tel)","WID-0620",{"$f":"IF(ISBLANK('Assortiment Hoortoestellen'!$B$26),1,IF(ISERROR(SEARCH(PROPER('Assortiment Hoortoestellen'!$B$26),PROPER('Dataset hoortoestellen'!D22737))),0,1))","v":1}]
["Struijk Audiciens Geldermalsen BV",3,"Widex","Enjoy E-PA 110 (S-tel)","WID-0643",{"$f":"IF(ISBLANK('Assortiment Hoortoestellen'!$B$26),1,IF(ISERROR(SEARCH(PROPER('Assortiment Hoortoestellen'!$B$26),PROPER('Dataset hoortoestellen'!D22754))),0,1))","v":1}]
["Struijk Audiciens Geldermalsen BV",5,"Widex","Enjoy E-CIC TR 330 Rechts","WID-0663",{"$f":"IF(ISBLANK('Assortiment Hoortoestellen'!$B$26),1,IF(ISERROR(SEARCH(PROPER('Assortiment Hoortoestellen'!$B$26),PROPER('Dataset hoortoestellen'!D22766))),0,1))","v":1}]
["Struijk Hoortechniek",4,"Audio Service","IHO 8 G5","AUS-0183",{"$f":"IF(ISBLANK('Assortiment Hoortoestellen'!$B$26),1,IF(ISERROR(SEARCH(PROPER('Assortiment Hoortoestellen'!$B$26),PROPER('Dataset hoortoestellen'!D22778))),0,1))","v":1}]
["Struijk Hoortechniek",4,"Audio Service","quiX 8 G5 Links","AUS-0193",{"$f":"IF(ISBLANK('Assortiment Hoortoestellen'!$B$26),1,IF(ISERROR(SEARCH(PROPER('Assortiment Hoortoestellen'!$B$26),PROPER('Dataset hoortoestellen'!D22785))),0,1))","v":1}]
["Struijk Hoortechniek",1,"Bernafon","Nevara 1 ITC","BER-0455",{"$f":"IF(ISBLANK('Assortiment Hoortoestellen'!$B$26),1,IF(ISERROR(SEARCH(PROPER('Assortiment Hoortoestellen'!$B$26),PROPER('Dataset hoortoestellen'!D22806))),0,1))","v":1}]
["Struijk Hoortechniek",4,"Bernafon","Zerena 5 CIC","BER-0632",{"$f":"IF(ISBLANK('Assortiment Hoortoestellen'!$B$26),1,IF(ISERROR(SEARCH(PROPER('Assortiment Hoortoestellen'!$B$26),PROPER('Dataset hoortoestellen'!D22818))),0,1))","v":1}]
["Struijk Hoortechniek",3,"Coselgi","U10-FS (HP-tel)","COS-0142",{"$f":"IF(ISBLANK('Assortiment Hoortoestellen'!$B$26),1,IF(ISERROR(SEARCH(PROPER('Assortiment Hoortoestellen'!$B$26),PROPER('Dataset hoortoestellen'!D22830))),0,1))","v":1}]
["Struijk Hoortechniek",4,"Coselgi","U10E-CIC (links)","COS-0149",{"$f":"IF(ISBLANK('Assortiment Hoortoestellen'!$B$26),1,IF(ISERROR(SEARCH(PROPER('Assortiment Hoortoestellen'!$B$26),PROPER('Dataset hoortoestellen'!D22837))),0,1))","v":1}]
["Struijk Hoortechniek",5,"Coselgi","U15-FS (HP-tel)","COS-0166",{"$f":"IF(ISBLANK('Assortiment Hoortoestellen'!$B$26),1,IF(ISERROR(SEARCH(PROPER('Assortiment Hoortoestellen'!$B$26),PROPER('Dataset hoortoestellen'!D22854))),0,1))","v":1}]
["Struijk Hoortechniek",2,"Coselgi","U6-FS (M-tel)","COS-0247",{"$f":"IF(ISBLANK('Assortiment Hoortoestellen'!$B$26),1,IF(ISERROR(SEARCH(PROPER('Assortiment Hoortoestellen'!$B$26),PROPER('Dataset hoortoestellen'!D22866))),0,1))","v":1}]
["Struijk Hoortechniek",3,"Coselgi","U6E-FS (S-tel)","COS-0261",{"$f":"IF(ISBLANK('Assortiment Hoortoestellen'!$B$26),1,IF(ISERROR(SEARCH(PROPER('Assortiment Hoortoestellen'!$B$26),PROPER('Dataset hoortoestellen'!D22878))),0,1))","v":1}]
["Struijk Hoortechniek",2,"Coselgi","Effect EF2-XP","COS-0293",{"$f":"IF(ISBLANK('Assortiment Hoortoestellen'!$B$26),1,IF(ISERROR(SEARCH(PROPER('Assortiment Hoortoestellen'!$B$26),PROPER('Dataset hoortoestellen'!D22899))),0,1))","v":1}]
["Struijk Hoortechniek",3,"Coselgi","Effect EF4-FM","COS-0312",{"$f":"IF(ISBLANK('Assortiment Hoortoestellen'!$B$26),1,IF(ISERROR(SEARCH(PROPER('Assortiment Hoortoestellen'!$B$26),PROPER('Dataset hoortoestellen'!D22915))),0,1))","v":1}]
["Struijk Hoortechniek",4,"Coselgi","Effect EF5-F2 (HP-tel)","COS-0316",{"$f":"IF(ISBLANK('Assortiment Hoortoestellen'!$B$26),1,IF(ISERROR(SEARCH(PROPER('Assortiment Hoortoestellen'!$B$26),PROPER('Dataset hoortoestellen'!D22918))),0,1))","v":1}]
["Struijk Hoortechniek",5,"Coselgi","Effect EF6-FS (S-tel)","COS-0344",{"$f":"IF(ISBLANK('Assortiment Hoortoestellen'!$B$26),1,IF(ISERROR(SEARCH(PROPER('Assortiment Hoortoestellen'!$B$26),PROPER('Dataset hoortoestellen'!D22943))),0,1))","v":1}]
["Struijk Hoortechniek",5,"Coselgi","Effect EF6-FM","COS-0354",{"$f":"IF(ISBLANK('Assortiment Hoortoestellen'!$B$26),1,IF(ISERROR(SEARCH(PROPER('Assortiment Hoortoestellen'!$B$26),PROPER('Dataset hoortoestellen'!D22951))),0,1))","v":1}]
["Struijk Hoortechniek",3,"Interton","RD480-DW","INT-0041",{"$f":"IF(ISBLANK('Assortiment Hoortoestellen'!$B$26),1,IF(ISERROR(SEARCH(PROPER('Assortiment Hoortoestellen'!$B$26),PROPER('Dataset hoortoestellen'!D22967))),0,1))","v":1}]
["Struijk Hoortechniek",5,"Interton","RD6CIC","INT-0048",{"$f":"IF(ISBLANK('Assortiment Hoortoestellen'!$B$26),1,IF(ISERROR(SEARCH(PROPER('Assortiment Hoortoestellen'!$B$26),PROPER('Dataset hoortoestellen'!D22974))),0,1))","v":1}]
["Struijk Hoortechniek",4,"Phonak","Audeo B 50 312 T","PHO-0276",{"$f":"IF(ISBLANK('Assortiment Hoortoestellen'!$B$26),1,IF(ISERROR(SEARCH(PROPER('Assortiment Hoortoestellen'!$B$26),PROPER('Dataset hoortoestellen'!D22998))),0,1))","v":1}]
["Struijk Hoortechniek",3,"Phonak","Naida B 30 SP","PHO-0299",{"$f":"IF(ISBLANK('Assortiment Hoortoestellen'!$B$26),1,IF(ISERROR(SEARCH(PROPER('Assortiment Hoortoestellen'!$B$26),PROPER('Dataset hoortoestellen'!D23011))),0,1))","v":1}]
["Struijk Hoortechniek",3,"Phonak","Sky B 30 M","PHO-0307",{"$f":"IF(ISBLANK('Assortiment Hoortoestellen'!$B$26),1,IF(ISERROR(SEARCH(PROPER('Assortiment Hoortoestellen'!$B$26),PROPER('Dataset hoortoestellen'!D23017))),0,1))","v":1}]
["Struijk Hoortechniek",4,"Phonak","Virto B 50 10","PHO-0327",{"$f":"IF(ISBLANK('Assortiment Hoortoestellen'!$B$26),1,IF(ISERROR(SEARCH(PROPER('Assortiment Hoortoestellen'!$B$26),PROPER('Dataset hoortoestellen'!D23035))),0,1))","v":1}]
["Struijk Hoortechniek",2,"ReSound","Enya 377-DW","RES-0215",{"$f":"IF(ISBLANK('Assortiment Hoortoestellen'!$B$26),1,IF(ISERROR(SEARCH(PROPER('Assortiment Hoortoestellen'!$B$26),PROPER('Dataset hoortoestellen'!D23046))),0,1))","v":1}]
["Struijk Hoortechniek",4,"ReSound","Ligo 561-DRW","RES-0272",{"$f":"IF(ISBLANK('Assortiment Hoortoestellen'!$B$26),1,IF(ISERROR(SEARCH(PROPER('Assortiment Hoortoestellen'!$B$26),PROPER('Dataset hoortoestellen'!D23059))),0,1))","v":1}]
["Struijk Hoortechniek",5,"Starkey","Muse i1600  CIC","STA-0330",{"$f":"IF(ISBLANK('Assortiment Hoortoestellen'!$B$26),1,IF(ISERROR(SEARCH(PROPER('Assortiment Hoortoestellen'!$B$26),PROPER('Dataset hoortoestellen'!D23079))),0,1))","v":1}]
["Struijk Hoortechniek",4,"Starkey","Muse iQ 1200 CIC","STA-0343",{"$f":"IF(ISBLANK('Assortiment Hoortoestellen'!$B$26),1,IF(ISERROR(SEARCH(PROPER('Assortiment Hoortoestellen'!$B$26),PROPER('Dataset hoortoestellen'!D23083))),0,1))","v":1}]
["Struijk Hoortechniek",5,"Starkey","Muse iQ i1600 ITC","STA-0373",{"$f":"IF(ISBLANK('Assortiment Hoortoestellen'!$B$26),1,IF(ISERROR(SEARCH(PROPER('Assortiment Hoortoestellen'!$B$26),PROPER('Dataset hoortoestellen'!D23098))),0,1))","v":1}]
["Struijk Hoortechniek",2,"Unitron","Shine Rev 3 Concha","UNI-0173",{"$f":"IF(ISBLANK('Assortiment Hoortoestellen'!$B$26),1,IF(ISERROR(SEARCH(PROPER('Assortiment Hoortoestellen'!$B$26),PROPER('Dataset hoortoestellen'!D23111))),0,1))","v":1}]
["Struijk Hoortechniek",5,"Unitron","T Stride 800 M","UNI-0310",{"$f":"IF(ISBLANK('Assortiment Hoortoestellen'!$B$26),1,IF(ISERROR(SEARCH(PROPER('Assortiment Hoortoestellen'!$B$26),PROPER('Dataset hoortoestellen'!D23131))),0,1))","v":1}]
["Struijk Hoortechniek",5,"Unitron","T Stride Dura 800 P","UNI-0315",{"$f":"IF(ISBLANK('Assortiment Hoortoestellen'!$B$26),1,IF(ISERROR(SEARCH(PROPER('Assortiment Hoortoestellen'!$B$26),PROPER('Dataset hoortoestellen'!D23135))),0,1))","v":1}]
["Struijk Hoortechniek",3,"Widex","U110-FS (M-tel)","WID-0412",{"$f":"IF(ISBLANK('Assortiment Hoortoestellen'!$B$26),1,IF(ISERROR(SEARCH(PROPER('Assortiment Hoortoestellen'!$B$26),PROPER('Dataset hoortoestellen'!D23160))),0,1))","v":1}]
["Struijk Hoortechniek",3,"Widex","U220-FS (HP-tel)","WID-0424",{"$f":"IF(ISBLANK('Assortiment Hoortoestellen'!$B$26),1,IF(ISERROR(SEARCH(PROPER('Assortiment Hoortoestellen'!$B$26),PROPER('Dataset hoortoestellen'!D23172))),0,1))","v":1}]
["Struijk Hoortechniek",4,"Widex","U330-CIC","WID-0431",{"$f":"IF(ISBLANK('Assortiment Hoortoestellen'!$B$26),1,IF(ISERROR(SEARCH(PROPER('Assortiment Hoortoestellen'!$B$26),PROPER('Dataset hoortoestellen'!D23179))),0,1))","v":1}]
["Struijk Hoortechniek",5,"Widex","U440-FA","WID-0448",{"$f":"IF(ISBLANK('Assortiment Hoortoestellen'!$B$26),1,IF(ISERROR(SEARCH(PROPER('Assortiment Hoortoestellen'!$B$26),PROPER('Dataset hoortoestellen'!D23196))),0,1))","v":1}]
["Struijk Hoortechniek",3,"Widex","Enjoy E-CIC 110 Links","WID-0551",{"$f":"IF(ISBLANK('Assortiment Hoortoestellen'!$B$26),1,IF(ISERROR(SEARCH(PROPER('Assortiment Hoortoestellen'!$B$26),PROPER('Dataset hoortoestellen'!D23212))),0,1))","v":1}]
["Struijk Hoortechniek",3,"Widex","Enjoy E-F2 110 (P-tel)","WID-0580",{"$f":"IF(ISBLANK('Assortiment Hoortoestellen'!$B$26),1,IF(ISERROR(SEARCH(PROPER('Assortiment Hoortoestellen'!$B$26),PROPER('Dataset hoortoestellen'!D23224))),0,1))","v":1}]
["Struijk Hoortechniek",5,"Widex","Enjoy E-F2 330 (M-tel)","WID-0587",{"$f":"IF(ISBLANK('Assortiment Hoortoestellen'!$B$26),1,IF(ISERROR(SEARCH(PROPER('Assortiment Hoortoestellen'!$B$26),PROPER('Dataset hoortoestellen'!D23231))),0,1))","v":1}]
["Struijk Hoortechniek",5,"Widex","Enjoy E-FP 330","WID-0613",{"$f":"IF(ISBLANK('Assortiment Hoortoestellen'!$B$26),1,IF(ISERROR(SEARCH(PROPER('Assortiment Hoortoestellen'!$B$26),PROPER('Dataset hoortoestellen'!D23248))),0,1))","v":1}]
["Struijk Hoortechniek",5,"Widex","Enjoy E-FS 330 (P-tel)","WID-0630",{"$f":"IF(ISBLANK('Assortiment Hoortoestellen'!$B$26),1,IF(ISERROR(SEARCH(PROPER('Assortiment Hoortoestellen'!$B$26),PROPER('Dataset hoortoestellen'!D23260))),0,1))","v":1}]
["Struijk Hoortechniek",3,"Widex","Enjoy E-XP 110","WID-0651",{"$f":"IF(ISBLANK('Assortiment Hoortoestellen'!$B$26),1,IF(ISERROR(SEARCH(PROPER('Assortiment Hoortoestellen'!$B$26),PROPER('Dataset hoortoestellen'!D23272))),0,1))","v":1}]
["Struijk Leerdam",4,"Audio Service","Mood 8 G5","AUS-0185",{"$f":"IF(ISBLANK('Assortiment Hoortoestellen'!$B$26),1,IF(ISERROR(SEARCH(PROPER('Assortiment Hoortoestellen'!$B$26),PROPER('Dataset hoortoestellen'!D23293))),0,1))","v":1}]
["Struijk Leerdam",5,"Audio Service","quiX 12 G5 Links","AUS-0191",{"$f":"IF(ISBLANK('Assortiment Hoortoestellen'!$B$26),1,IF(ISERROR(SEARCH(PROPER('Assortiment Hoortoestellen'!$B$26),PROPER('Dataset hoortoestellen'!D23296))),0,1))","v":1}]
["Struijk Leerdam",3,"Audio Service","quiX 6  G5 Rechts","AUS-0213",{"$f":"IF(ISBLANK('Assortiment Hoortoestellen'!$B$26),1,IF(ISERROR(SEARCH(PROPER('Assortiment Hoortoestellen'!$B$26),PROPER('Dataset hoortoestellen'!D23312))),0,1))","v":1}]
["Struijk Leerdam",2,"Bernafon","Zerena 1 IIC","BER-0617",{"$f":"IF(ISBLANK('Assortiment Hoortoestellen'!$B$26),1,IF(ISERROR(SEARCH(PROPER('Assortiment Hoortoestellen'!$B$26),PROPER('Dataset hoortoestellen'!D23324))),0,1))","v":1}]
["Struijk Leerdam",3,"Coselgi","U10-FS (P-tel)","COS-0144",{"$f":"IF(ISBLANK('Assortiment Hoortoestellen'!$B$26),1,IF(ISERROR(SEARCH(PROPER('Assortiment Hoortoestellen'!$B$26),PROPER('Dataset hoortoestellen'!D23345))),0,1))","v":1}]
["Struijk Leerdam",4,"Coselgi","U10E-XP","COS-0160",{"$f":"IF(ISBLANK('Assortiment Hoortoestellen'!$B$26),1,IF(ISERROR(SEARCH(PROPER('Assortiment Hoortoestellen'!$B$26),PROPER('Dataset hoortoestellen'!D23361))),0,1))","v":1}]
["Struijk Leerdam",5,"Coselgi","U15-FA","COS-0163",{"$f":"IF(ISBLANK('Assortiment Hoortoestellen'!$B$26),1,IF(ISERROR(SEARCH(PROPER('Assortiment Hoortoestellen'!$B$26),PROPER('Dataset hoortoestellen'!D23364))),0,1))","v":1}]
["Struijk Leerdam",3,"Coselgi","U6E-FA","COS-0255",{"$f":"IF(ISBLANK('Assortiment Hoortoestellen'!$B$26),1,IF(ISERROR(SEARCH(PROPER('Assortiment Hoortoestellen'!$B$26),PROPER('Dataset hoortoestellen'!D23385))),0,1))","v":1}]
["Struijk Leerdam",3,"Coselgi","U6E-PA (S-tel)","COS-0263",{"$f":"IF(ISBLANK('Assortiment Hoortoestellen'!$B$26),1,IF(ISERROR(SEARCH(PROPER('Assortiment Hoortoestellen'!$B$26),PROPER('Dataset hoortoestellen'!D23393))),0,1))","v":1}]
["Struijk Leerdam",2,"Coselgi","Effect EF2-FA","COS-0290",{"$f":"IF(ISBLANK('Assortiment Hoortoestellen'!$B$26),1,IF(ISERROR(SEARCH(PROPER('Assortiment Hoortoestellen'!$B$26),PROPER('Dataset hoortoestellen'!D23409))),0,1))","v":1}]
["Struijk Leerdam",3,"Coselgi","Effect EF4-CIC TR Rechts","COS-0310",{"$f":"IF(ISBLANK('Assortiment Hoortoestellen'!$B$26),1,IF(ISERROR(SEARCH(PROPER('Assortiment Hoortoestellen'!$B$26),PROPER('Dataset hoortoestellen'!D23426))),0,1))","v":1}]
["Struijk Leerdam",4,"Coselgi","Effect EF5-FS (S-tel)","COS-0323",{"$f":"IF(ISBLANK('Assortiment Hoortoestellen'!$B$26),1,IF(ISERROR(SEARCH(PROPER('Assortiment Hoortoestellen'!$B$26),PROPER('Dataset hoortoestellen'!D23437))),0,1))","v":1}]
["Struijk Leerdam",4,"Coselgi","Effect EF5-FA","COS-0332",{"$f":"IF(ISBLANK('Assortiment Hoortoestellen'!$B$26),1,IF(ISERROR(SEARCH(PROPER('Assortiment Hoortoestellen'!$B$26),PROPER('Dataset hoortoestellen'!D23445))),0,1))","v":1}]
["Struijk Leerdam",5,"Coselgi","Effect EF6-CIC TR Links","COS-0351",{"$f":"IF(ISBLANK('Assortiment Hoortoestellen'!$B$26),1,IF(ISERROR(SEARCH(PROPER('Assortiment Hoortoestellen'!$B$26),PROPER('Dataset hoortoestellen'!D23461))),0,1))","v":1}]
["Struijk Leerdam",3,"Interton","RD461-DRW","INT-0038",{"$f":"IF(ISBLANK('Assortiment Hoortoestellen'!$B$26),1,IF(ISERROR(SEARCH(PROPER('Assortiment Hoortoestellen'!$B$26),PROPER('Dataset hoortoestellen'!D23477))),0,1))","v":1}]
["Struijk Leerdam",1,"Oticon","Get","OTI-0068",{"$f":"IF(ISBLANK('Assortiment Hoortoestellen'!$B$26),1,IF(ISERROR(SEARCH(PROPER('Assortiment Hoortoestellen'!$B$26),PROPER('Dataset hoortoestellen'!D23492))),0,1))","v":1}]
["Struijk Leerdam",3,"Phonak","Audeo B 30 13","PHO-0270",{"$f":"IF(ISBLANK('Assortiment Hoortoestellen'!$B$26),1,IF(ISERROR(SEARCH(PROPER('Assortiment Hoortoestellen'!$B$26),PROPER('Dataset hoortoestellen'!D23505))),0,1))","v":1}]
["Struijk Leerdam",4,"Phonak","Audeo B 50 312 T","PHO-0276",{"$f":"IF(ISBLANK('Assortiment Hoortoestellen'!$B$26),1,IF(ISERROR(SEARCH(PROPER('Assortiment Hoortoestellen'!$B$26),PROPER('Dataset hoortoestellen'!D23511))),0,1))","v":1}]
["Struijk Leerdam",5,"Phonak","Naida B 70 UP","PHO-0306",{"$f":"IF(ISBLANK('Assortiment Hoortoestellen'!$B$26),1,IF(ISERROR(SEARCH(PROPER('Assortiment Hoortoestellen'!$B$26),PROPER('Dataset hoortoestellen'!D23529))),0,1))","v":1}]
["Struijk Leerdam",5,"Phonak","Sky B 70 M","PHO-0318",{"$f":"IF(ISBLANK('Assortiment Hoortoestellen'!$B$26),1,IF(ISERROR(SEARCH(PROPER('Assortiment Hoortoestellen'!$B$26),PROPER('Dataset hoortoestellen'!D23540))),0,1))","v":1}]
["Struijk Leerdam",1,"ReSound","Vea 180 VI","RES-0009",{"$f":"IF(ISBLANK('Assortiment Hoortoestellen'!$B$26),1,IF(ISERROR(SEARCH(PROPER('Assortiment Hoortoestellen'!$B$26),PROPER('Dataset hoortoestellen'!D23553))),0,1))","v":1}]
["Struijk Leerdam",4,"ReSound","Ligo 562-DRW","RES-0273",{"$f":"IF(ISBLANK('Assortiment Hoortoestellen'!$B$26),1,IF(ISERROR(SEARCH(PROPER('Assortiment Hoortoestellen'!$B$26),PROPER('Dataset hoortoestellen'!D23573))),0,1))","v":1}]
["Struijk Leerdam",1,"Starkey","Muse i1000 BTE 13","STA-0308",{"$f":"IF(ISBLANK('Assortiment Hoortoestellen'!$B$26),1,IF(ISERROR(SEARCH(PROPER('Assortiment Hoortoestellen'!$B$26),PROPER('Dataset hoortoestellen'!D23590))),0,1))","v":1}]
["Struijk Leerdam",5,"Starkey","Muse i1600  CIC","STA-0330",{"$f":"IF(ISBLANK('Assortiment Hoortoestellen'!$B$26),1,IF(ISERROR(SEARCH(PROPER('Assortiment Hoortoestellen'!$B$26),PROPER('Dataset hoortoestellen'!D23592))),0,1))","v":1}]
["Struijk Leerdam",4,"Starkey","Livio 1200 RIC 312","STA-0386",{"$f":"IF(ISBLANK('Assortiment Hoortoestellen'!$B$26),1,IF(ISERROR(SEARCH(PROPER('Assortiment Hoortoestellen'!$B$26),PROPER('Dataset hoortoestellen'!D23618))),0,1))","v":1}]
["Struijk Leerdam",2,"Unitron","Shine Rev 3 HPm","UNI-0175",{"$f":"IF(ISBLANK('Assortiment Hoortoestellen'!$B$26),1,IF(ISERROR(SEARCH(PROPER('Assortiment Hoortoestellen'!$B$26),PROPER('Dataset hoortoestellen'!D23625))),0,1))","v":1}]
["Struijk Leerdam",4,"Unitron","T Stride 600 M","UNI-0306",{"$f":"IF(ISBLANK('Assortiment Hoortoestellen'!$B$26),1,IF(ISERROR(SEARCH(PROPER('Assortiment Hoortoestellen'!$B$26),PROPER('Dataset hoortoestellen'!D23642))),0,1))","v":1}]
["Struijk Leerdam",4,"Unitron","T Insera 600 W 10A Omni","UNI-0329",{"$f":"IF(ISBLANK('Assortiment Hoortoestellen'!$B$26),1,IF(ISERROR(SEARCH(PROPER('Assortiment Hoortoestellen'!$B$26),PROPER('Dataset hoortoestellen'!D23658))),0,1))","v":1}]
["Struijk Leerdam",3,"Widex","U110-CIC TR","WID-0405",{"$f":"IF(ISBLANK('Assortiment Hoortoestellen'!$B$26),1,IF(ISERROR(SEARCH(PROPER('Assortiment Hoortoestellen'!$B$26),PROPER('Dataset hoortoestellen'!D23666))),0,1))","v":1}]
["Struijk Leerdam",3,"Widex","U110-FS (M-tel)","WID-0412",{"$f":"IF(ISBLANK('Assortiment Hoortoestellen'!$B$26),1,IF(ISERROR(SEARCH(PROPER('Assortiment Hoortoestellen'!$B$26),PROPER('Dataset hoortoestellen'!D23673))),0,1))","v":1}]
["Struijk Leerdam",3,"Widex","U220-PA (S-tel)","WID-0429",{"$f":"IF(ISBLANK('Assortiment Hoortoestellen'!$B$26),1,IF(ISERROR(SEARCH(PROPER('Assortiment Hoortoestellen'!$B$26),PROPER('Dataset hoortoestellen'!D23690))),0,1))","v":1}]
["Struijk Leerdam",5,"Widex","U440-CIC TR","WID-0445",{"$f":"IF(ISBLANK('Assortiment Hoortoestellen'!$B$26),1,IF(ISERROR(SEARCH(PROPER('Assortiment Hoortoestellen'!$B$26),PROPER('Dataset hoortoestellen'!D23706))),0,1))","v":1}]
["Struijk Leerdam",3,"Widex","U220-FP","WID-0457",{"$f":"IF(ISBLANK('Assortiment Hoortoestellen'!$B$26),1,IF(ISERROR(SEARCH(PROPER('Assortiment Hoortoestellen'!$B$26),PROPER('Dataset hoortoestellen'!D23718))),0,1))","v":1}]
["Struijk Leerdam",4,"Widex","Enjoy E-F2 220 (HP-tel)","WID-0582",{"$f":"IF(ISBLANK('Assortiment Hoortoestellen'!$B$26),1,IF(ISERROR(SEARCH(PROPER('Assortiment Hoortoestellen'!$B$26),PROPER('Dataset hoortoestellen'!D23739))),0,1))","v":1}]
["Struijk Leerdam",4,"Widex","Enjoy E-F2 220 (S-tel)","WID-0585",{"$f":"IF(ISBLANK('Assortiment Hoortoestellen'!$B$26),1,IF(ISERROR(SEARCH(PROPER('Assortiment Hoortoestellen'!$B$26),PROPER('Dataset hoortoestellen'!D23742))),0,1))","v":1}]
["Struijk Leerdam",2,"Widex","Enjoy E-FM 50","WID-0609",{"$f":"IF(ISBLANK('Assortiment Hoortoestellen'!$B$26),1,IF(ISERROR(SEARCH(PROPER('Assortiment Hoortoestellen'!$B$26),PROPER('Dataset hoortoestellen'!D23758))),0,1))","v":1}]
["Struijk Leerdam",3,"Widex","Enjoy E-PA 110 (M-tel)","WID-0642",{"$f":"IF(ISBLANK('Assortiment Hoortoestellen'!$B$26),1,IF(ISERROR(SEARCH(PROPER('Assortiment Hoortoestellen'!$B$26),PROPER('Dataset hoortoestellen'!D23779))),0,1))","v":1}]
["Struijk Leerdam",5,"Widex","Enjoy E-XP 330","WID-0653",{"$f":"IF(ISBLANK('Assortiment Hoortoestellen'!$B$26),1,IF(ISERROR(SEARCH(PROPER('Assortiment Hoortoestellen'!$B$26),PROPER('Dataset hoortoestellen'!D23787))),0,1))","v":1}]
["Stufkens Hoorcentrum, Beste Oor, Kruytzer en Gijsen",4,"Oticon","Siya 1 miniRITE T 60 - 105","OTI-0344",{"$f":"IF(ISBLANK('Assortiment Hoortoestellen'!$B$26),1,IF(ISERROR(SEARCH(PROPER('Assortiment Hoortoestellen'!$B$26),PROPER('Dataset hoortoestellen'!D23803))),0,1))","v":1}]
["Stufkens Hoorcentrum, Beste Oor, Kruytzer en Gijsen",4,"Phonak","Virto B 50 10","PHO-0327",{"$f":"IF(ISBLANK('Assortiment Hoortoestellen'!$B$26),1,IF(ISERROR(SEARCH(PROPER('Assortiment Hoortoestellen'!$B$26),PROPER('Dataset hoortoestellen'!D23820))),0,1))","v":1}]
["Stufkens Hoorspecialist Tiel",1,"Bernafon","Nevara 1 CICx","BER-0453",{"$f":"IF(ISBLANK('Assortiment Hoortoestellen'!$B$26),1,IF(ISERROR(SEARCH(PROPER('Assortiment Hoortoestellen'!$B$26),PROPER('Dataset hoortoestellen'!D23827))),0,1))","v":1}]
["Stufkens Hoorspecialist Tiel",4,"Bernafon","Zerena 5 BTE 105","BER-0631",{"$f":"IF(ISBLANK('Assortiment Hoortoestellen'!$B$26),1,IF(ISERROR(SEARCH(PROPER('Assortiment Hoortoestellen'!$B$26),PROPER('Dataset hoortoestellen'!D23839))),0,1))","v":1}]
["Stufkens Hoorspecialist Tiel",3,"Interton","RD3CIC","INT-0036",{"$f":"IF(ISBLANK('Assortiment Hoortoestellen'!$B$26),1,IF(ISERROR(SEARCH(PROPER('Assortiment Hoortoestellen'!$B$26),PROPER('Dataset hoortoestellen'!D23855))),0,1))","v":1}]
["Stufkens Hoorspecialist Tiel",1,"Oticon","Get","OTI-0068",{"$f":"IF(ISBLANK('Assortiment Hoortoestellen'!$B$26),1,IF(ISERROR(SEARCH(PROPER('Assortiment Hoortoestellen'!$B$26),PROPER('Dataset hoortoestellen'!D23872))),0,1))","v":1}]
["Stufkens Hoorspecialist Tiel",5,"Oticon","Opn 3 ITE 75 - 100","OTI-0362",{"$f":"IF(ISBLANK('Assortiment Hoortoestellen'!$B$26),1,IF(ISERROR(SEARCH(PROPER('Assortiment Hoortoestellen'!$B$26),PROPER('Dataset hoortoestellen'!D23879))),0,1))","v":1}]
["Stufkens Hoorspecialist Tiel",5,"Phonak","Audeo B 70 312 T","PHO-0281",{"$f":"IF(ISBLANK('Assortiment Hoortoestellen'!$B$26),1,IF(ISERROR(SEARCH(PROPER('Assortiment Hoortoestellen'!$B$26),PROPER('Dataset hoortoestellen'!D23901))),0,1))","v":1}]
["Stufkens Hoorspecialist Tiel",3,"Phonak","Bolero B 30 P","PHO-0284",{"$f":"IF(ISBLANK('Assortiment Hoortoestellen'!$B$26),1,IF(ISERROR(SEARCH(PROPER('Assortiment Hoortoestellen'!$B$26),PROPER('Dataset hoortoestellen'!D23903))),0,1))","v":1}]
["Stufkens Hoorspecialist Tiel",3,"Phonak","Sky B 30 SP","PHO-0310",{"$f":"IF(ISBLANK('Assortiment Hoortoestellen'!$B$26),1,IF(ISERROR(SEARCH(PROPER('Assortiment Hoortoestellen'!$B$26),PROPER('Dataset hoortoestellen'!D23920))),0,1))","v":1}]
["Stufkens Hoorspecialist Tiel",4,"Phonak","Sky M30-M","PHO-0333",{"$f":"IF(ISBLANK('Assortiment Hoortoestellen'!$B$26),1,IF(ISERROR(SEARCH(PROPER('Assortiment Hoortoestellen'!$B$26),PROPER('Dataset hoortoestellen'!D23940))),0,1))","v":1}]
["Stufkens Hoorspecialist Tiel",3,"ReSound","Ligo 4 CIC","RES-0262",{"$f":"IF(ISBLANK('Assortiment Hoortoestellen'!$B$26),1,IF(ISERROR(SEARCH(PROPER('Assortiment Hoortoestellen'!$B$26),PROPER('Dataset hoortoestellen'!D23953))),0,1))","v":1}]
["Stufkens Hoorspecialist Tiel",4,"ReSound","LiNX 3D 577-DW","RES-0297",{"$f":"IF(ISBLANK('Assortiment Hoortoestellen'!$B$26),1,IF(ISERROR(SEARCH(PROPER('Assortiment Hoortoestellen'!$B$26),PROPER('Dataset hoortoestellen'!D23968))),0,1))","v":1}]
["Stufkens Hoorspecialist Tiel",5,"ReSound","LiNX 3D 7 ITC-DW","RES-0300",{"$f":"IF(ISBLANK('Assortiment Hoortoestellen'!$B$26),1,IF(ISERROR(SEARCH(PROPER('Assortiment Hoortoestellen'!$B$26),PROPER('Dataset hoortoestellen'!D23971))),0,1))","v":1}]
["Stufkens Hoorspecialist Tiel",3,"Widex","U110-FS (M-tel)","WID-0412",{"$f":"IF(ISBLANK('Assortiment Hoortoestellen'!$B$26),1,IF(ISERROR(SEARCH(PROPER('Assortiment Hoortoestellen'!$B$26),PROPER('Dataset hoortoestellen'!D23986))),0,1))","v":1}]
["Stufkens Hoorspecialist Tiel",3,"Widex","U220-FS (M-tel)","WID-0425",{"$f":"IF(ISBLANK('Assortiment Hoortoestellen'!$B$26),1,IF(ISERROR(SEARCH(PROPER('Assortiment Hoortoestellen'!$B$26),PROPER('Dataset hoortoestellen'!D23999))),0,1))","v":1}]
["Stufkens Hoorspecialist Tiel",5,"Widex","U440-CIC-M","WID-0446",{"$f":"IF(ISBLANK('Assortiment Hoortoestellen'!$B$26),1,IF(ISERROR(SEARCH(PROPER('Assortiment Hoortoestellen'!$B$26),PROPER('Dataset hoortoestellen'!D24019))),0,1))","v":1}]
["Stufkens Hoorspecialist Tiel",2,"Widex","Enjoy E-BTE 13D 50","WID-0549",{"$f":"IF(ISBLANK('Assortiment Hoortoestellen'!$B$26),1,IF(ISERROR(SEARCH(PROPER('Assortiment Hoortoestellen'!$B$26),PROPER('Dataset hoortoestellen'!D24036))),0,1))","v":1}]
["Stufkens Hoorspecialist Tiel",4,"Widex","Enjoy E-CIC 220 Links","WID-0552",{"$f":"IF(ISBLANK('Assortiment Hoortoestellen'!$B$26),1,IF(ISERROR(SEARCH(PROPER('Assortiment Hoortoestellen'!$B$26),PROPER('Dataset hoortoestellen'!D24038))),0,1))","v":1}]
["Stufkens Hoorspecialist Tiel",2,"Widex","Enjoy E-F2 50 (M-tel)","WID-0595",{"$f":"IF(ISBLANK('Assortiment Hoortoestellen'!$B$26),1,IF(ISERROR(SEARCH(PROPER('Assortiment Hoortoestellen'!$B$26),PROPER('Dataset hoortoestellen'!D24060))),0,1))","v":1}]
["Stufkens Hoorspecialist Tiel",3,"Widex","Enjoy E-FM 110","WID-0605",{"$f":"IF(ISBLANK('Assortiment Hoortoestellen'!$B$26),1,IF(ISERROR(SEARCH(PROPER('Assortiment Hoortoestellen'!$B$26),PROPER('Dataset hoortoestellen'!D24067))),0,1))","v":1}]
["Stufkens Hoorspecialist Tiel",5,"Widex","Enjoy E-FS 330 (M-tel)","WID-0629",{"$f":"IF(ISBLANK('Assortiment Hoortoestellen'!$B$26),1,IF(ISERROR(SEARCH(PROPER('Assortiment Hoortoestellen'!$B$26),PROPER('Dataset hoortoestellen'!D24084))),0,1))","v":1}]
["Stufkens Hoorspecialist Tiel",3,"Widex","Enjoy E-CIC 110 Rechts","WID-0656",{"$f":"IF(ISBLANK('Assortiment Hoortoestellen'!$B$26),1,IF(ISERROR(SEARCH(PROPER('Assortiment Hoortoestellen'!$B$26),PROPER('Dataset hoortoestellen'!D24100))),0,1))","v":1}]
["Stutvoet Optiek",5,"Audio Service","HP 12 G4","AUS-0131",{"$f":"IF(ISBLANK('Assortiment Hoortoestellen'!$B$26),1,IF(ISERROR(SEARCH(PROPER('Assortiment Hoortoestellen'!$B$26),PROPER('Dataset hoortoestellen'!D24108))),0,1))","v":1}]
["Stutvoet Optiek",4,"Audio Service","Mood 8 G5","AUS-0185",{"$f":"IF(ISBLANK('Assortiment Hoortoestellen'!$B$26),1,IF(ISERROR(SEARCH(PROPER('Assortiment Hoortoestellen'!$B$26),PROPER('Dataset hoortoestellen'!D24119))),0,1))","v":1}]
["Stutvoet Optiek",2,"Audio Service","P 4 G5","AUS-0209",{"$f":"IF(ISBLANK('Assortiment Hoortoestellen'!$B$26),1,IF(ISERROR(SEARCH(PROPER('Assortiment Hoortoestellen'!$B$26),PROPER('Dataset hoortoestellen'!D24136))),0,1))","v":1}]
["Stutvoet Optiek",5,"Beltone","TST 964-DRW","BEL-0121",{"$f":"IF(ISBLANK('Assortiment Hoortoestellen'!$B$26),1,IF(ISERROR(SEARCH(PROPER('Assortiment Hoortoestellen'!$B$26),PROPER('Dataset hoortoestellen'!D24152))),0,1))","v":1}]
["Stutvoet Optiek",1,"Bernafon","Nevara 1 PR","BER-0486",{"$f":"IF(ISBLANK('Assortiment Hoortoestellen'!$B$26),1,IF(ISERROR(SEARCH(PROPER('Assortiment Hoortoestellen'!$B$26),PROPER('Dataset hoortoestellen'!D24160))),0,1))","v":1}]
["Stutvoet Optiek",2,"Coselgi","Effect EF2-F2 (M-tel)","COS-0277",{"$f":"IF(ISBLANK('Assortiment Hoortoestellen'!$B$26),1,IF(ISERROR(SEARCH(PROPER('Assortiment Hoortoestellen'!$B$26),PROPER('Dataset hoortoestellen'!D24181))),0,1))","v":1}]
["Stutvoet Optiek",3,"Coselgi","Effect EF4-F2 (P-tel)","COS-0296",{"$f":"IF(ISBLANK('Assortiment Hoortoestellen'!$B$26),1,IF(ISERROR(SEARCH(PROPER('Assortiment Hoortoestellen'!$B$26),PROPER('Dataset hoortoestellen'!D24197))),0,1))","v":1}]
["Stutvoet Optiek",3,"Coselgi","Effect EF4-FS (HP-tel)","COS-0299",{"$f":"IF(ISBLANK('Assortiment Hoortoestellen'!$B$26),1,IF(ISERROR(SEARCH(PROPER('Assortiment Hoortoestellen'!$B$26),PROPER('Dataset hoortoestellen'!D24200))),0,1))","v":1}]
["Stutvoet Optiek",4,"Coselgi","Effect EF5-RIC 10 (M-tel)","COS-0324",{"$f":"IF(ISBLANK('Assortiment Hoortoestellen'!$B$26),1,IF(ISERROR(SEARCH(PROPER('Assortiment Hoortoestellen'!$B$26),PROPER('Dataset hoortoestellen'!D24221))),0,1))","v":1}]
["Stutvoet Optiek",5,"Coselgi","Effect EF6-F2 (M-tel)","COS-0338",{"$f":"IF(ISBLANK('Assortiment Hoortoestellen'!$B$26),1,IF(ISERROR(SEARCH(PROPER('Assortiment Hoortoestellen'!$B$26),PROPER('Dataset hoortoestellen'!D24233))),0,1))","v":1}]
["Stutvoet Optiek",5,"Coselgi","Effect EF6-XP","COS-0356",{"$f":"IF(ISBLANK('Assortiment Hoortoestellen'!$B$26),1,IF(ISERROR(SEARCH(PROPER('Assortiment Hoortoestellen'!$B$26),PROPER('Dataset hoortoestellen'!D24249))),0,1))","v":1}]
["Stutvoet Optiek",3,"Interton","MOVE 461-DRW","INT-0066",{"$f":"IF(ISBLANK('Assortiment Hoortoestellen'!$B$26),1,IF(ISERROR(SEARCH(PROPER('Assortiment Hoortoestellen'!$B$26),PROPER('Dataset hoortoestellen'!D24266))),0,1))","v":1}]
["Stutvoet Optiek",3,"Interton","MOVE 4CIC-W","INT-0073",{"$f":"IF(ISBLANK('Assortiment Hoortoestellen'!$B$26),1,IF(ISERROR(SEARCH(PROPER('Assortiment Hoortoestellen'!$B$26),PROPER('Dataset hoortoestellen'!D24273))),0,1))","v":1}]
["Stutvoet Optiek",1,"Oticon","Get","OTI-0065",{"$f":"IF(ISBLANK('Assortiment Hoortoestellen'!$B$26),1,IF(ISERROR(SEARCH(PROPER('Assortiment Hoortoestellen'!$B$26),PROPER('Dataset hoortoestellen'!D24285))),0,1))","v":1}]
["Stutvoet Optiek",3,"Oticon","Geno 1 Custom 75 - 100","OTI-0378",{"$f":"IF(ISBLANK('Assortiment Hoortoestellen'!$B$26),1,IF(ISERROR(SEARCH(PROPER('Assortiment Hoortoestellen'!$B$26),PROPER('Dataset hoortoestellen'!D24297))),0,1))","v":1}]
["Stutvoet Optiek",5,"Phonak","Audeo B 70 312 T","PHO-0281",{"$f":"IF(ISBLANK('Assortiment Hoortoestellen'!$B$26),1,IF(ISERROR(SEARCH(PROPER('Assortiment Hoortoestellen'!$B$26),PROPER('Dataset hoortoestellen'!D24314))),0,1))","v":1}]
["Stutvoet Optiek",5,"Phonak","Bolero B 70 M","PHO-0290",{"$f":"IF(ISBLANK('Assortiment Hoortoestellen'!$B$26),1,IF(ISERROR(SEARCH(PROPER('Assortiment Hoortoestellen'!$B$26),PROPER('Dataset hoortoestellen'!D24321))),0,1))","v":1}]
["Stutvoet Optiek",4,"Phonak","Virto B 50 10","PHO-0327",{"$f":"IF(ISBLANK('Assortiment Hoortoestellen'!$B$26),1,IF(ISERROR(SEARCH(PROPER('Assortiment Hoortoestellen'!$B$26),PROPER('Dataset hoortoestellen'!D24347))),0,1))","v":1}]
["Stutvoet Optiek",4,"Phonak","Virto B 50 312","PHO-0329",{"$f":"IF(ISBLANK('Assortiment Hoortoestellen'!$B$26),1,IF(ISERROR(SEARCH(PROPER('Assortiment Hoortoestellen'!$B$26),PROPER('Dataset hoortoestellen'!D24349))),0,1))","v":1}]
["Stutvoet Optiek",5,"ReSound","LiNX 3D 767-DW","RES-0303",{"$f":"IF(ISBLANK('Assortiment Hoortoestellen'!$B$26),1,IF(ISERROR(SEARCH(PROPER('Assortiment Hoortoestellen'!$B$26),PROPER('Dataset hoortoestellen'!D24366))),0,1))","v":1}]
["Stutvoet Optiek",4,"ReSound","KEY 461-DRWC","RES-0326",{"$f":"IF(ISBLANK('Assortiment Hoortoestellen'!$B$26),1,IF(ISERROR(SEARCH(PROPER('Assortiment Hoortoestellen'!$B$26),PROPER('Dataset hoortoestellen'!D24386))),0,1))","v":1}]
["Stutvoet Optiek",1,"Starkey","Muse i1000 RIC 312","STA-0309",{"$f":"IF(ISBLANK('Assortiment Hoortoestellen'!$B$26),1,IF(ISERROR(SEARCH(PROPER('Assortiment Hoortoestellen'!$B$26),PROPER('Dataset hoortoestellen'!D24399))),0,1))","v":1}]
["Stutvoet Optiek",3,"Starkey","Muse iQ i1000 ITC","STA-0353",{"$f":"IF(ISBLANK('Assortiment Hoortoestellen'!$B$26),1,IF(ISERROR(SEARCH(PROPER('Assortiment Hoortoestellen'!$B$26),PROPER('Dataset hoortoestellen'!D24410))),0,1))","v":1}]
["Stutvoet Optiek",5,"Starkey","Livio 1600 BTE 13","STA-0388",{"$f":"IF(ISBLANK('Assortiment Hoortoestellen'!$B$26),1,IF(ISERROR(SEARCH(PROPER('Assortiment Hoortoestellen'!$B$26),PROPER('Dataset hoortoestellen'!D24428))),0,1))","v":1}]
["Stutvoet Optiek",5,"Starkey","Livio 1600 BTE R","STA-0394",{"$f":"IF(ISBLANK('Assortiment Hoortoestellen'!$B$26),1,IF(ISERROR(SEARCH(PROPER('Assortiment Hoortoestellen'!$B$26),PROPER('Dataset hoortoestellen'!D24434))),0,1))","v":1}]
["Stutvoet Optiek",4,"Unitron","T Insera 600 W 13 Dir","UNI-0330",{"$f":"IF(ISBLANK('Assortiment Hoortoestellen'!$B$26),1,IF(ISERROR(SEARCH(PROPER('Assortiment Hoortoestellen'!$B$26),PROPER('Dataset hoortoestellen'!D24447))),0,1))","v":1}]
["Stutvoet Optiek",4,"Unitron","DX Insera 5 W 312 Dir","UNI-0439",{"$f":"IF(ISBLANK('Assortiment Hoortoestellen'!$B$26),1,IF(ISERROR(SEARCH(PROPER('Assortiment Hoortoestellen'!$B$26),PROPER('Dataset hoortoestellen'!D24462))),0,1))","v":1}]
["Stutvoet Optiek",2,"Unitron","Shine Rev+ W 312 Dir","UNI-0475",{"$f":"IF(ISBLANK('Assortiment Hoortoestellen'!$B$26),1,IF(ISERROR(SEARCH(PROPER('Assortiment Hoortoestellen'!$B$26),PROPER('Dataset hoortoestellen'!D24478))),0,1))","v":1}]
["Stutvoet Optiek",3,"Widex","U220-CIC TR","WID-0419",{"$f":"IF(ISBLANK('Assortiment Hoortoestellen'!$B$26),1,IF(ISERROR(SEARCH(PROPER('Assortiment Hoortoestellen'!$B$26),PROPER('Dataset hoortoestellen'!D24494))),0,1))","v":1}]
["Stutvoet Optiek",3,"Widex","U220-FS (S-tel)","WID-0427",{"$f":"IF(ISBLANK('Assortiment Hoortoestellen'!$B$26),1,IF(ISERROR(SEARCH(PROPER('Assortiment Hoortoestellen'!$B$26),PROPER('Dataset hoortoestellen'!D24502))),0,1))","v":1}]
["Stutvoet Optiek",4,"Widex","U330-FS (M-tel)","WID-0438",{"$f":"IF(ISBLANK('Assortiment Hoortoestellen'!$B$26),1,IF(ISERROR(SEARCH(PROPER('Assortiment Hoortoestellen'!$B$26),PROPER('Dataset hoortoestellen'!D24513))),0,1))","v":1}]
["Stutvoet Optiek",5,"Widex","U440-PA (S-tel)","WID-0455",{"$f":"IF(ISBLANK('Assortiment Hoortoestellen'!$B$26),1,IF(ISERROR(SEARCH(PROPER('Assortiment Hoortoestellen'!$B$26),PROPER('Dataset hoortoestellen'!D24530))),0,1))","v":1}]
["Stutvoet Optiek",3,"Widex","Enjoy E-CIC TR 110 Links","WID-0569",{"$f":"IF(ISBLANK('Assortiment Hoortoestellen'!$B$26),1,IF(ISERROR(SEARCH(PROPER('Assortiment Hoortoestellen'!$B$26),PROPER('Dataset hoortoestellen'!D24546))),0,1))","v":1}]
["Stutvoet Optiek",4,"Widex","Enjoy E-F2 220 (M-tel)","WID-0583",{"$f":"IF(ISBLANK('Assortiment Hoortoestellen'!$B$26),1,IF(ISERROR(SEARCH(PROPER('Assortiment Hoortoestellen'!$B$26),PROPER('Dataset hoortoestellen'!D24554))),0,1))","v":1}]
["Stutvoet Optiek",3,"Widex","Enjoy E-FA 110","WID-0599",{"$f":"IF(ISBLANK('Assortiment Hoortoestellen'!$B$26),1,IF(ISERROR(SEARCH(PROPER('Assortiment Hoortoestellen'!$B$26),PROPER('Dataset hoortoestellen'!D24565))),0,1))","v":1}]
["Stutvoet Optiek",3,"Widex","Enjoy E-FS 110 (M-tel)","WID-0621",{"$f":"IF(ISBLANK('Assortiment Hoortoestellen'!$B$26),1,IF(ISERROR(SEARCH(PROPER('Assortiment Hoortoestellen'!$B$26),PROPER('Dataset hoortoestellen'!D24578))),0,1))","v":1}]
["Stutvoet Optiek",3,"Widex","Enjoy E-PA 110 (S-tel)","WID-0643",{"$f":"IF(ISBLANK('Assortiment Hoortoestellen'!$B$26),1,IF(ISERROR(SEARCH(PROPER('Assortiment Hoortoestellen'!$B$26),PROPER('Dataset hoortoestellen'!D24594))),0,1))","v":1}]
["'t Hoorhuys",3,"Bernafon","Zerena 3 CIC","BER-0624",{"$f":"IF(ISBLANK('Assortiment Hoortoestellen'!$B$26),1,IF(ISERROR(SEARCH(PROPER('Assortiment Hoortoestellen'!$B$26),PROPER('Dataset hoortoestellen'!D24615))),0,1))","v":1}]
["'t Hoorhuys",3,"Coselgi","U10-CIC TR (links)","COS-0138",{"$f":"IF(ISBLANK('Assortiment Hoortoestellen'!$B$26),1,IF(ISERROR(SEARCH(PROPER('Assortiment Hoortoestellen'!$B$26),PROPER('Dataset hoortoestellen'!D24627))),0,1))","v":1}]
["'t Hoorhuys",4,"Coselgi","U10E-FS (HP-tel)","COS-0154",{"$f":"IF(ISBLANK('Assortiment Hoortoestellen'!$B$26),1,IF(ISERROR(SEARCH(PROPER('Assortiment Hoortoestellen'!$B$26),PROPER('Dataset hoortoestellen'!D24643))),0,1))","v":1}]
["'t Hoorhuys",4,"Coselgi","U10E-FS (S-tel)","COS-0157",{"$f":"IF(ISBLANK('Assortiment Hoortoestellen'!$B$26),1,IF(ISERROR(SEARCH(PROPER('Assortiment Hoortoestellen'!$B$26),PROPER('Dataset hoortoestellen'!D24646))),0,1))","v":1}]
["'t Hoorhuys",2,"Coselgi","U6-FS (M-tel)","COS-0247",{"$f":"IF(ISBLANK('Assortiment Hoortoestellen'!$B$26),1,IF(ISERROR(SEARCH(PROPER('Assortiment Hoortoestellen'!$B$26),PROPER('Dataset hoortoestellen'!D24667))),0,1))","v":1}]
["'t Hoorhuys",3,"Coselgi","U6E-FS (S-tel)","COS-0261",{"$f":"IF(ISBLANK('Assortiment Hoortoestellen'!$B$26),1,IF(ISERROR(SEARCH(PROPER('Assortiment Hoortoestellen'!$B$26),PROPER('Dataset hoortoestellen'!D24679))),0,1))","v":1}]
["'t Hoorhuys",2,"Coselgi","Effect EF2-CIC Links","COS-0284",{"$f":"IF(ISBLANK('Assortiment Hoortoestellen'!$B$26),1,IF(ISERROR(SEARCH(PROPER('Assortiment Hoortoestellen'!$B$26),PROPER('Dataset hoortoestellen'!D24691))),0,1))","v":1}]
["'t Hoorhuys",3,"Coselgi","Effect EF4-CIC Links","COS-0305",{"$f":"IF(ISBLANK('Assortiment Hoortoestellen'!$B$26),1,IF(ISERROR(SEARCH(PROPER('Assortiment Hoortoestellen'!$B$26),PROPER('Dataset hoortoestellen'!D24708))),0,1))","v":1}]
["'t Hoorhuys",3,"Coselgi","Effect EF4-FP","COS-0313",{"$f":"IF(ISBLANK('Assortiment Hoortoestellen'!$B$26),1,IF(ISERROR(SEARCH(PROPER('Assortiment Hoortoestellen'!$B$26),PROPER('Dataset hoortoestellen'!D24715))),0,1))","v":1}]
["'t Hoorhuys",4,"Coselgi","Effect EF5-CIC M","COS-0327",{"$f":"IF(ISBLANK('Assortiment Hoortoestellen'!$B$26),1,IF(ISERROR(SEARCH(PROPER('Assortiment Hoortoestellen'!$B$26),PROPER('Dataset hoortoestellen'!D24727))),0,1))","v":1}]
["'t Hoorhuys",5,"Coselgi","Effect EF6-RIC 10 (M-tel)","COS-0345",{"$f":"IF(ISBLANK('Assortiment Hoortoestellen'!$B$26),1,IF(ISERROR(SEARCH(PROPER('Assortiment Hoortoestellen'!$B$26),PROPER('Dataset hoortoestellen'!D24743))),0,1))","v":1}]
["'t Hoorhuys",1,"Starkey","Muse i1000 BTE 13 PP","STA-0331",{"$f":"IF(ISBLANK('Assortiment Hoortoestellen'!$B$26),1,IF(ISERROR(SEARCH(PROPER('Assortiment Hoortoestellen'!$B$26),PROPER('Dataset hoortoestellen'!D24760))),0,1))","v":1}]
["'t Hoorhuys",2,"Starkey","Muse iQ i1000 BTE 312","STA-0351",{"$f":"IF(ISBLANK('Assortiment Hoortoestellen'!$B$26),1,IF(ISERROR(SEARCH(PROPER('Assortiment Hoortoestellen'!$B$26),PROPER('Dataset hoortoestellen'!D24767))),0,1))","v":1}]
["'t Hoorhuys",3,"Starkey","Livio 1000 BTE 13","STA-0380",{"$f":"IF(ISBLANK('Assortiment Hoortoestellen'!$B$26),1,IF(ISERROR(SEARCH(PROPER('Assortiment Hoortoestellen'!$B$26),PROPER('Dataset hoortoestellen'!D24779))),0,1))","v":1}]
["Thuis in Horen",5,"Audio Service","IHO 12 G5","AUS-0182",{"$f":"IF(ISBLANK('Assortiment Hoortoestellen'!$B$26),1,IF(ISERROR(SEARCH(PROPER('Assortiment Hoortoestellen'!$B$26),PROPER('Dataset hoortoestellen'!D24804))),0,1))","v":1}]
["Thuis in Horen",5,"Audio Service","Mood Li-Ion 12 G5","AUS-0186",{"$f":"IF(ISBLANK('Assortiment Hoortoestellen'!$B$26),1,IF(ISERROR(SEARCH(PROPER('Assortiment Hoortoestellen'!$B$26),PROPER('Dataset hoortoestellen'!D24808))),0,1))","v":1}]
["Thuis in Horen",3,"Audio Service","quiX 6  G5 Rechts","AUS-0213",{"$f":"IF(ISBLANK('Assortiment Hoortoestellen'!$B$26),1,IF(ISERROR(SEARCH(PROPER('Assortiment Hoortoestellen'!$B$26),PROPER('Dataset hoortoestellen'!D24828))),0,1))","v":1}]
["Thuis in Horen",5,"Beltone","TST 966-DW","BEL-0122",{"$f":"IF(ISBLANK('Assortiment Hoortoestellen'!$B$26),1,IF(ISERROR(SEARCH(PROPER('Assortiment Hoortoestellen'!$B$26),PROPER('Dataset hoortoestellen'!D24841))),0,1))","v":1}]
["Thuis in Horen",3,"Bernafon","Zerena 3 IIC","BER-0625",{"$f":"IF(ISBLANK('Assortiment Hoortoestellen'!$B$26),1,IF(ISERROR(SEARCH(PROPER('Assortiment Hoortoestellen'!$B$26),PROPER('Dataset hoortoestellen'!D24852))),0,1))","v":1}]
["Thuis in Horen",3,"Bernafon","Viron 3 MNR T R","BER-0666",{"$f":"IF(ISBLANK('Assortiment Hoortoestellen'!$B$26),1,IF(ISERROR(SEARCH(PROPER('Assortiment Hoortoestellen'!$B$26),PROPER('Dataset hoortoestellen'!D24860))),0,1))","v":1}]
["Thuis in Horen",2,"Coselgi","Effect EF2-FA","COS-0290",{"$f":"IF(ISBLANK('Assortiment Hoortoestellen'!$B$26),1,IF(ISERROR(SEARCH(PROPER('Assortiment Hoortoestellen'!$B$26),PROPER('Dataset hoortoestellen'!D24880))),0,1))","v":1}]
["Thuis in Horen",3,"Coselgi","Effect EF4-CIC Links","COS-0305",{"$f":"IF(ISBLANK('Assortiment Hoortoestellen'!$B$26),1,IF(ISERROR(SEARCH(PROPER('Assortiment Hoortoestellen'!$B$26),PROPER('Dataset hoortoestellen'!D24893))),0,1))","v":1}]
["Thuis in Horen",4,"Coselgi","Effect EF5-F2 (P-tel)","COS-0318",{"$f":"IF(ISBLANK('Assortiment Hoortoestellen'!$B$26),1,IF(ISERROR(SEARCH(PROPER('Assortiment Hoortoestellen'!$B$26),PROPER('Dataset hoortoestellen'!D24904))),0,1))","v":1}]
["Thuis in Horen",5,"Coselgi","Effect EF6-F2 (P-tel)","COS-0339",{"$f":"IF(ISBLANK('Assortiment Hoortoestellen'!$B$26),1,IF(ISERROR(SEARCH(PROPER('Assortiment Hoortoestellen'!$B$26),PROPER('Dataset hoortoestellen'!D24922))),0,1))","v":1}]
["Thuis in Horen",5,"Coselgi","Effect EF6-RIC 10 (M-tel)","COS-0345",{"$f":"IF(ISBLANK('Assortiment Hoortoestellen'!$B$26),1,IF(ISERROR(SEARCH(PROPER('Assortiment Hoortoestellen'!$B$26),PROPER('Dataset hoortoestellen'!D24928))),0,1))","v":1}]
["Thuis in Horen",4,"Coselgi","MOJO MRR2D M4 (p-tel)","COS-0360",{"$f":"IF(ISBLANK('Assortiment Hoortoestellen'!$B$26),1,IF(ISERROR(SEARCH(PROPER('Assortiment Hoortoestellen'!$B$26),PROPER('Dataset hoortoestellen'!D24941))),0,1))","v":1}]
["Thuis in Horen",4,"Interton","MOVE 662-DRW","INT-0077",{"$f":"IF(ISBLANK('Assortiment Hoortoestellen'!$B$26),1,IF(ISERROR(SEARCH(PROPER('Assortiment Hoortoestellen'!$B$26),PROPER('Dataset hoortoestellen'!D24965))),0,1))","v":1}]
["Thuis in Horen",1,"Oticon","Get","OTI-0064",{"$f":"IF(ISBLANK('Assortiment Hoortoestellen'!$B$26),1,IF(ISERROR(SEARCH(PROPER('Assortiment Hoortoestellen'!$B$26),PROPER('Dataset hoortoestellen'!D24972))),0,1))","v":1}]
["Thuis in Horen",2,"Oticon","Geno 2 BTE 85","OTI-384",{"$f":"IF(ISBLANK('Assortiment Hoortoestellen'!$B$26),1,IF(ISERROR(SEARCH(PROPER('Assortiment Hoortoestellen'!$B$26),PROPER('Dataset hoortoestellen'!D24988))),0,1))","v":1}]
["Thuis in Horen",4,"Phonak","Audeo B 50 10","PHO-0273",{"$f":"IF(ISBLANK('Assortiment Hoortoestellen'!$B$26),1,IF(ISERROR(SEARCH(PROPER('Assortiment Hoortoestellen'!$B$26),PROPER('Dataset hoortoestellen'!D24996))),0,1))","v":1}]
["Thuis in Horen",3,"Phonak","Sky B 30 SP","PHO-0310",{"$f":"IF(ISBLANK('Assortiment Hoortoestellen'!$B$26),1,IF(ISERROR(SEARCH(PROPER('Assortiment Hoortoestellen'!$B$26),PROPER('Dataset hoortoestellen'!D25021))),0,1))","v":1}]
["Thuis in Horen",3,"Phonak","Virto B 30 10","PHO-0324",{"$f":"IF(ISBLANK('Assortiment Hoortoestellen'!$B$26),1,IF(ISERROR(SEARCH(PROPER('Assortiment Hoortoestellen'!$B$26),PROPER('Dataset hoortoestellen'!D25033))),0,1))","v":1}]
["Thuis in Horen",4,"Phonak","Sky M30-M","PHO-0333",{"$f":"IF(ISBLANK('Assortiment Hoortoestellen'!$B$26),1,IF(ISERROR(SEARCH(PROPER('Assortiment Hoortoestellen'!$B$26),PROPER('Dataset hoortoestellen'!D25040))),0,1))","v":1}]
["Thuis in Horen",2,"ReSound","KEY 277-DW","RES-0313",{"$f":"IF(ISBLANK('Assortiment Hoortoestellen'!$B$26),1,IF(ISERROR(SEARCH(PROPER('Assortiment Hoortoestellen'!$B$26),PROPER('Dataset hoortoestellen'!D25061))),0,1))","v":1}]
["Thuis in Horen",4,"ReSound","KEY 461-DRW","RES-0325",{"$f":"IF(ISBLANK('Assortiment Hoortoestellen'!$B$26),1,IF(ISERROR(SEARCH(PROPER('Assortiment Hoortoestellen'!$B$26),PROPER('Dataset hoortoestellen'!D25073))),0,1))","v":1}]
["Thuis in Horen",1,"Starkey","Muse i1000 mRIC 312","STA-0280",{"$f":"IF(ISBLANK('Assortiment Hoortoestellen'!$B$26),1,IF(ISERROR(SEARCH(PROPER('Assortiment Hoortoestellen'!$B$26),PROPER('Dataset hoortoestellen'!D25085))),0,1))","v":1}]
["Thuis in Horen",4,"Starkey","Muse iQ i1200 CIC","STA-0362",{"$f":"IF(ISBLANK('Assortiment Hoortoestellen'!$B$26),1,IF(ISERROR(SEARCH(PROPER('Assortiment Hoortoestellen'!$B$26),PROPER('Dataset hoortoestellen'!D25102))),0,1))","v":1}]
["Thuis in Horen",3,"Starkey","Livio 1000 mRIC 312","STA-0381",{"$f":"IF(ISBLANK('Assortiment Hoortoestellen'!$B$26),1,IF(ISERROR(SEARCH(PROPER('Assortiment Hoortoestellen'!$B$26),PROPER('Dataset hoortoestellen'!D25109))),0,1))","v":1}]
["Thuis in Horen",4,"Starkey","Livio 1200 BTE R","STA-0393",{"$f":"IF(ISBLANK('Assortiment Hoortoestellen'!$B$26),1,IF(ISERROR(SEARCH(PROPER('Assortiment Hoortoestellen'!$B$26),PROPER('Dataset hoortoestellen'!D25121))),0,1))","v":1}]
["Thuis in Horen",3,"Unitron","T Insera 500 W 312 Dir","UNI-0326",{"$f":"IF(ISBLANK('Assortiment Hoortoestellen'!$B$26),1,IF(ISERROR(SEARCH(PROPER('Assortiment Hoortoestellen'!$B$26),PROPER('Dataset hoortoestellen'!D25133))),0,1))","v":1}]
["Thuis in Horen",5,"Unitron","DX Moxi Fit 7","UNI-0445",{"$f":"IF(ISBLANK('Assortiment Hoortoestellen'!$B$26),1,IF(ISERROR(SEARCH(PROPER('Assortiment Hoortoestellen'!$B$26),PROPER('Dataset hoortoestellen'!D25154))),0,1))","v":1}]
["Thuis in Horen",5,"Unitron","DX Stride M 7","UNI-0454",{"$f":"IF(ISBLANK('Assortiment Hoortoestellen'!$B$26),1,IF(ISERROR(SEARCH(PROPER('Assortiment Hoortoestellen'!$B$26),PROPER('Dataset hoortoestellen'!D25161))),0,1))","v":1}]
["Thuis in Horen",3,"Widex","U110-FP","WID-0410",{"$f":"IF(ISBLANK('Assortiment Hoortoestellen'!$B$26),1,IF(ISERROR(SEARCH(PROPER('Assortiment Hoortoestellen'!$B$26),PROPER('Dataset hoortoestellen'!D25173))),0,1))","v":1}]
["Thuis in Horen",3,"Widex","U220-FA","WID-0422",{"$f":"IF(ISBLANK('Assortiment Hoortoestellen'!$B$26),1,IF(ISERROR(SEARCH(PROPER('Assortiment Hoortoestellen'!$B$26),PROPER('Dataset hoortoestellen'!D25185))),0,1))","v":1}]
["Thuis in Horen",4,"Widex","U330-FS (P-tel)","WID-0439",{"$f":"IF(ISBLANK('Assortiment Hoortoestellen'!$B$26),1,IF(ISERROR(SEARCH(PROPER('Assortiment Hoortoestellen'!$B$26),PROPER('Dataset hoortoestellen'!D25202))),0,1))","v":1}]
["Thuis in Horen",5,"Widex","U440-FP","WID-0459",{"$f":"IF(ISBLANK('Assortiment Hoortoestellen'!$B$26),1,IF(ISERROR(SEARCH(PROPER('Assortiment Hoortoestellen'!$B$26),PROPER('Dataset hoortoestellen'!D25222))),0,1))","v":1}]
["Thuis in Horen",4,"Widex","Enjoy E-CIC TR 220 Links","WID-0570",{"$f":"IF(ISBLANK('Assortiment Hoortoestellen'!$B$26),1,IF(ISERROR(SEARCH(PROPER('Assortiment Hoortoestellen'!$B$26),PROPER('Dataset hoortoestellen'!D25235))),0,1))","v":1}]
["Thuis in Horen",5,"Widex","Enjoy E-F2 330 (M-tel)","WID-0587",{"$f":"IF(ISBLANK('Assortiment Hoortoestellen'!$B$26),1,IF(ISERROR(SEARCH(PROPER('Assortiment Hoortoestellen'!$B$26),PROPER('Dataset hoortoestellen'!D25246))),0,1))","v":1}]
["Thuis in Horen",4,"Widex","Enjoy E-FA 220","WID-0600",{"$f":"IF(ISBLANK('Assortiment Hoortoestellen'!$B$26),1,IF(ISERROR(SEARCH(PROPER('Assortiment Hoortoestellen'!$B$26),PROPER('Dataset hoortoestellen'!D25254))),0,1))","v":1}]
["Thuis in Horen",5,"Widex","Enjoy E-FS 330 (M-tel)","WID-0629",{"$f":"IF(ISBLANK('Assortiment Hoortoestellen'!$B$26),1,IF(ISERROR(SEARCH(PROPER('Assortiment Hoortoestellen'!$B$26),PROPER('Dataset hoortoestellen'!D25274))),0,1))","v":1}]
["Thuis in Horen",3,"Widex","Enjoy E-XP 110","WID-0651",{"$f":"IF(ISBLANK('Assortiment Hoortoestellen'!$B$26),1,IF(ISERROR(SEARCH(PROPER('Assortiment Hoortoestellen'!$B$26),PROPER('Dataset hoortoestellen'!D25287))),0,1))","v":1}]
["Trend Zien en Horen",2,"Phonak","Vitus+ BTE-UP","PHO-0265",{"$f":"IF(ISBLANK('Assortiment Hoortoestellen'!$B$26),1,IF(ISERROR(SEARCH(PROPER('Assortiment Hoortoestellen'!$B$26),PROPER('Dataset hoortoestellen'!D25298))),0,1))","v":1}]
["Trend Zien en Horen",4,"Phonak","Audeo B 50 312","PHO-0275",{"$f":"IF(ISBLANK('Assortiment Hoortoestellen'!$B$26),1,IF(ISERROR(SEARCH(PROPER('Assortiment Hoortoestellen'!$B$26),PROPER('Dataset hoortoestellen'!D25306))),0,1))","v":1}]
["Trend Zien en Horen",4,"Phonak","Naida B 50 SP","PHO-0302",{"$f":"IF(ISBLANK('Assortiment Hoortoestellen'!$B$26),1,IF(ISERROR(SEARCH(PROPER('Assortiment Hoortoestellen'!$B$26),PROPER('Dataset hoortoestellen'!D25322))),0,1))","v":1}]
["Trend Zien en Horen",3,"Unitron","T Insera 500 10A Omni","UNI-0281",{"$f":"IF(ISBLANK('Assortiment Hoortoestellen'!$B$26),1,IF(ISERROR(SEARCH(PROPER('Assortiment Hoortoestellen'!$B$26),PROPER('Dataset hoortoestellen'!D25335))),0,1))","v":1}]
["Uw audicien aan huis",2,"Coselgi","U6-CIC (links)","COS-0241",{"$f":"IF(ISBLANK('Assortiment Hoortoestellen'!$B$26),1,IF(ISERROR(SEARCH(PROPER('Assortiment Hoortoestellen'!$B$26),PROPER('Dataset hoortoestellen'!D25346))),0,1))","v":1}]
["Uw audicien aan huis",5,"Coselgi","Effect EF6-CIC M","COS-0348",{"$f":"IF(ISBLANK('Assortiment Hoortoestellen'!$B$26),1,IF(ISERROR(SEARCH(PROPER('Assortiment Hoortoestellen'!$B$26),PROPER('Dataset hoortoestellen'!D25368))),0,1))","v":1}]
["Uw audicien aan huis",2,"ReSound","Enya 3 ITC","RES-0212",{"$f":"IF(ISBLANK('Assortiment Hoortoestellen'!$B$26),1,IF(ISERROR(SEARCH(PROPER('Assortiment Hoortoestellen'!$B$26),PROPER('Dataset hoortoestellen'!D25374))),0,1))","v":1}]
["Uw audicien aan huis",4,"Starkey","Muse iQ i1200 ITE","STA-0364",{"$f":"IF(ISBLANK('Assortiment Hoortoestellen'!$B$26),1,IF(ISERROR(SEARCH(PROPER('Assortiment Hoortoestellen'!$B$26),PROPER('Dataset hoortoestellen'!D25387))),0,1))","v":1}]
["Van Boxtel hoorwinkels",3,"Audika","G 100 BTE 85","ADK-0053",{"$f":"IF(ISBLANK('Assortiment Hoortoestellen'!$B$26),1,IF(ISERROR(SEARCH(PROPER('Assortiment Hoortoestellen'!$B$26),PROPER('Dataset hoortoestellen'!D25411))),0,1))","v":1}]
["Van Boxtel hoorwinkels",1,"Bernafon","Nevara 1 PR","BER-0486",{"$f":"IF(ISBLANK('Assortiment Hoortoestellen'!$B$26),1,IF(ISERROR(SEARCH(PROPER('Assortiment Hoortoestellen'!$B$26),PROPER('Dataset hoortoestellen'!D25420))),0,1))","v":1}]
["Van Der Landen Hoortechniek",2,"Audio Service","HP 4 G4","AUS-0153",{"$f":"IF(ISBLANK('Assortiment Hoortoestellen'!$B$26),1,IF(ISERROR(SEARCH(PROPER('Assortiment Hoortoestellen'!$B$26),PROPER('Dataset hoortoestellen'!D25435))),0,1))","v":1}]
["Van Der Landen Hoortechniek",5,"Audio Service","quiX 12 G5 Links","AUS-0191",{"$f":"IF(ISBLANK('Assortiment Hoortoestellen'!$B$26),1,IF(ISERROR(SEARCH(PROPER('Assortiment Hoortoestellen'!$B$26),PROPER('Dataset hoortoestellen'!D25449))),0,1))","v":1}]
["Van Der Landen Hoortechniek",2,"Audio Service","Mood 4 G5","AUS-0207",{"$f":"IF(ISBLANK('Assortiment Hoortoestellen'!$B$26),1,IF(ISERROR(SEARCH(PROPER('Assortiment Hoortoestellen'!$B$26),PROPER('Dataset hoortoestellen'!D25459))),0,1))","v":1}]
["Van Der Landen Hoortechniek",5,"Beltone","TST 976-DW","BEL-0123",{"$f":"IF(ISBLANK('Assortiment Hoortoestellen'!$B$26),1,IF(ISERROR(SEARCH(PROPER('Assortiment Hoortoestellen'!$B$26),PROPER('Dataset hoortoestellen'!D25479))),0,1))","v":1}]
["Van Der Landen Hoortechniek",2,"Bernafon","Zerena 1 CIC","BER-0616",{"$f":"IF(ISBLANK('Assortiment Hoortoestellen'!$B$26),1,IF(ISERROR(SEARCH(PROPER('Assortiment Hoortoestellen'!$B$26),PROPER('Dataset hoortoestellen'!D25486))),0,1))","v":1}]
["Van Der Landen Hoortechniek",2,"Coselgi","U6-CIC TR (links)","COS-0242",{"$f":"IF(ISBLANK('Assortiment Hoortoestellen'!$B$26),1,IF(ISERROR(SEARCH(PROPER('Assortiment Hoortoestellen'!$B$26),PROPER('Dataset hoortoestellen'!D25503))),0,1))","v":1}]
["Van Der Landen Hoortechniek",2,"Coselgi","Effect EF2-CIC TR Links","COS-0288",{"$f":"IF(ISBLANK('Assortiment Hoortoestellen'!$B$26),1,IF(ISERROR(SEARCH(PROPER('Assortiment Hoortoestellen'!$B$26),PROPER('Dataset hoortoestellen'!D25515))),0,1))","v":1}]
["Van Der Landen Hoortechniek",3,"Coselgi","Effect EF4-FS (P-tel)","COS-0301",{"$f":"IF(ISBLANK('Assortiment Hoortoestellen'!$B$26),1,IF(ISERROR(SEARCH(PROPER('Assortiment Hoortoestellen'!$B$26),PROPER('Dataset hoortoestellen'!D25527))),0,1))","v":1}]
["Van Der Landen Hoortechniek",3,"Coselgi","Effect EF4-CIC TR Rechts","COS-0310",{"$f":"IF(ISBLANK('Assortiment Hoortoestellen'!$B$26),1,IF(ISERROR(SEARCH(PROPER('Assortiment Hoortoestellen'!$B$26),PROPER('Dataset hoortoestellen'!D25534))),0,1))","v":1}]
["Van Der Landen Hoortechniek",4,"Coselgi","Effect EF5-FP","COS-0334",{"$f":"IF(ISBLANK('Assortiment Hoortoestellen'!$B$26),1,IF(ISERROR(SEARCH(PROPER('Assortiment Hoortoestellen'!$B$26),PROPER('Dataset hoortoestellen'!D25555))),0,1))","v":1}]
["Van Der Landen Hoortechniek",5,"Coselgi","Effect EF6-CIC M","COS-0348",{"$f":"IF(ISBLANK('Assortiment Hoortoestellen'!$B$26),1,IF(ISERROR(SEARCH(PROPER('Assortiment Hoortoestellen'!$B$26),PROPER('Dataset hoortoestellen'!D25567))),0,1))","v":1}]
["Van Der Landen Hoortechniek",5,"Coselgi","MOJO MRR2D M5 (m-tel)","COS-0361",{"$f":"IF(ISBLANK('Assortiment Hoortoestellen'!$B$26),1,IF(ISERROR(SEARCH(PROPER('Assortiment Hoortoestellen'!$B$26),PROPER('Dataset hoortoestellen'!D25579))),0,1))","v":1}]
["Van Der Landen Hoortechniek",4,"Interton","MOVE 661-DRW","INT-0075",{"$f":"IF(ISBLANK('Assortiment Hoortoestellen'!$B$26),1,IF(ISERROR(SEARCH(PROPER('Assortiment Hoortoestellen'!$B$26),PROPER('Dataset hoortoestellen'!D25600))),0,1))","v":1}]
["Van Der Landen Hoortechniek",4,"Interton","MOVE 665-DW","INT-0078",{"$f":"IF(ISBLANK('Assortiment Hoortoestellen'!$B$26),1,IF(ISERROR(SEARCH(PROPER('Assortiment Hoortoestellen'!$B$26),PROPER('Dataset hoortoestellen'!D25603))),0,1))","v":1}]
["Van Der Landen Hoortechniek",3,"Oticon","Siya 2 miniRITE T 60 - 105","OTI-0351",{"$f":"IF(ISBLANK('Assortiment Hoortoestellen'!$B$26),1,IF(ISERROR(SEARCH(PROPER('Assortiment Hoortoestellen'!$B$26),PROPER('Dataset hoortoestellen'!D25615))),0,1))","v":1}]
["Van Der Landen Hoortechniek",3,"Phonak","Bolero B 30 M","PHO-0283",{"$f":"IF(ISBLANK('Assortiment Hoortoestellen'!$B$26),1,IF(ISERROR(SEARCH(PROPER('Assortiment Hoortoestellen'!$B$26),PROPER('Dataset hoortoestellen'!D25640))),0,1))","v":1}]
["Van Der Landen Hoortechniek",5,"Phonak","Bolero B 70 SP","PHO-0293",{"$f":"IF(ISBLANK('Assortiment Hoortoestellen'!$B$26),1,IF(ISERROR(SEARCH(PROPER('Assortiment Hoortoestellen'!$B$26),PROPER('Dataset hoortoestellen'!D25648))),0,1))","v":1}]
["Van Der Landen Hoortechniek",5,"Phonak","Sky B 70 SP","PHO-0322",{"$f":"IF(ISBLANK('Assortiment Hoortoestellen'!$B$26),1,IF(ISERROR(SEARCH(PROPER('Assortiment Hoortoestellen'!$B$26),PROPER('Dataset hoortoestellen'!D25668))),0,1))","v":1}]
["Van Der Landen Hoortechniek",5,"Phonak","Sky M50-SP","PHO-0338",{"$f":"IF(ISBLANK('Assortiment Hoortoestellen'!$B$26),1,IF(ISERROR(SEARCH(PROPER('Assortiment Hoortoestellen'!$B$26),PROPER('Dataset hoortoestellen'!D25681))),0,1))","v":1}]
["Van Der Landen Hoortechniek",5,"ReSound","LiNX 3D 777-DW","RES-0304",{"$f":"IF(ISBLANK('Assortiment Hoortoestellen'!$B$26),1,IF(ISERROR(SEARCH(PROPER('Assortiment Hoortoestellen'!$B$26),PROPER('Dataset hoortoestellen'!D25692))),0,1))","v":1}]
["Van Der Landen Hoortechniek",2,"ReSound","KEY 298-DW","RES-0315",{"$f":"IF(ISBLANK('Assortiment Hoortoestellen'!$B$26),1,IF(ISERROR(SEARCH(PROPER('Assortiment Hoortoestellen'!$B$26),PROPER('Dataset hoortoestellen'!D25700))),0,1))","v":1}]
["Van Der Landen Hoortechniek",4,"ReSound","KEY 498-DW","RES-0331",{"$f":"IF(ISBLANK('Assortiment Hoortoestellen'!$B$26),1,IF(ISERROR(SEARCH(PROPER('Assortiment Hoortoestellen'!$B$26),PROPER('Dataset hoortoestellen'!D25716))),0,1))","v":1}]
["Van Der Landen Hoortechniek",2,"Starkey","Muse iQ 1000 ITC","STA-0341",{"$f":"IF(ISBLANK('Assortiment Hoortoestellen'!$B$26),1,IF(ISERROR(SEARCH(PROPER('Assortiment Hoortoestellen'!$B$26),PROPER('Dataset hoortoestellen'!D25729))),0,1))","v":1}]
["Van Der Landen Hoortechniek",4,"Starkey","Muse iQ i1200 ITC","STA-0363",{"$f":"IF(ISBLANK('Assortiment Hoortoestellen'!$B$26),1,IF(ISERROR(SEARCH(PROPER('Assortiment Hoortoestellen'!$B$26),PROPER('Dataset hoortoestellen'!D25740))),0,1))","v":1}]
["Van Der Landen Hoortechniek",5,"Unitron","T Max SP 800","UNI-0275",{"$f":"IF(ISBLANK('Assortiment Hoortoestellen'!$B$26),1,IF(ISERROR(SEARCH(PROPER('Assortiment Hoortoestellen'!$B$26),PROPER('Dataset hoortoestellen'!D25762))),0,1))","v":1}]
["Van Der Landen Hoortechniek",4,"Unitron","T Max UP 600","UNI-0277",{"$f":"IF(ISBLANK('Assortiment Hoortoestellen'!$B$26),1,IF(ISERROR(SEARCH(PROPER('Assortiment Hoortoestellen'!$B$26),PROPER('Dataset hoortoestellen'!D25764))),0,1))","v":1}]
["Van Der Landen Hoortechniek",2,"Unitron ","Shine Rev+ UP","UNI-0433",{"$f":"IF(ISBLANK('Assortiment Hoortoestellen'!$B$26),1,IF(ISERROR(SEARCH(PROPER('Assortiment Hoortoestellen'!$B$26),PROPER('Dataset hoortoestellen'!D25781))),0,1))","v":1}]
["Van Der Landen Hoortechniek",4,"Unitron","DX Moxi Jump R T 3","UNI-0446",{"$f":"IF(ISBLANK('Assortiment Hoortoestellen'!$B$26),1,IF(ISERROR(SEARCH(PROPER('Assortiment Hoortoestellen'!$B$26),PROPER('Dataset hoortoestellen'!D25792))),0,1))","v":1}]
["Van Der Landen Hoortechniek",3,"Widex","U110-FS (S-tel)","WID-0414",{"$f":"IF(ISBLANK('Assortiment Hoortoestellen'!$B$26),1,IF(ISERROR(SEARCH(PROPER('Assortiment Hoortoestellen'!$B$26),PROPER('Dataset hoortoestellen'!D25814))),0,1))","v":1}]
["Van Der Landen Hoortechniek",3,"Widex","U220-PA (S-tel)","WID-0429",{"$f":"IF(ISBLANK('Assortiment Hoortoestellen'!$B$26),1,IF(ISERROR(SEARCH(PROPER('Assortiment Hoortoestellen'!$B$26),PROPER('Dataset hoortoestellen'!D25829))),0,1))","v":1}]
["Van Der Landen Hoortechniek",4,"Widex","U330-XP","WID-0443",{"$f":"IF(ISBLANK('Assortiment Hoortoestellen'!$B$26),1,IF(ISERROR(SEARCH(PROPER('Assortiment Hoortoestellen'!$B$26),PROPER('Dataset hoortoestellen'!D25843))),0,1))","v":1}]
["Van Der Landen Hoortechniek",5,"Widex","U440-FS (S-tel)","WID-0453",{"$f":"IF(ISBLANK('Assortiment Hoortoestellen'!$B$26),1,IF(ISERROR(SEARCH(PROPER('Assortiment Hoortoestellen'!$B$26),PROPER('Dataset hoortoestellen'!D25853))),0,1))","v":1}]
["Van Der Landen Hoortechniek",5,"Widex","Enjoy E-BTE 13D 330","WID-0547",{"$f":"IF(ISBLANK('Assortiment Hoortoestellen'!$B$26),1,IF(ISERROR(SEARCH(PROPER('Assortiment Hoortoestellen'!$B$26),PROPER('Dataset hoortoestellen'!D25862))),0,1))","v":1}]
["Van Der Landen Hoortechniek",3,"Widex","Enjoy E-F2 110 (S-tel)","WID-0581",{"$f":"IF(ISBLANK('Assortiment Hoortoestellen'!$B$26),1,IF(ISERROR(SEARCH(PROPER('Assortiment Hoortoestellen'!$B$26),PROPER('Dataset hoortoestellen'!D25877))),0,1))","v":1}]
["Van Der Landen Hoortechniek",4,"Widex","Enjoy E-FM 220","WID-0606",{"$f":"IF(ISBLANK('Assortiment Hoortoestellen'!$B$26),1,IF(ISERROR(SEARCH(PROPER('Assortiment Hoortoestellen'!$B$26),PROPER('Dataset hoortoestellen'!D25895))),0,1))","v":1}]
["Van Der Landen Hoortechniek",3,"Widex","Enjoy E-FS 110 (S-tel)","WID-0623",{"$f":"IF(ISBLANK('Assortiment Hoortoestellen'!$B$26),1,IF(ISERROR(SEARCH(PROPER('Assortiment Hoortoestellen'!$B$26),PROPER('Dataset hoortoestellen'!D25905))),0,1))","v":1}]
["Van Der Landen Hoortechniek",2,"Widex","Enjoy E-FS 50 (HP-tel)","WID-0636",{"$f":"IF(ISBLANK('Assortiment Hoortoestellen'!$B$26),1,IF(ISERROR(SEARCH(PROPER('Assortiment Hoortoestellen'!$B$26),PROPER('Dataset hoortoestellen'!D25914))),0,1))","v":1}]
["Van Der Landen Hoortechniek",5,"Widex","Enjoy E-CIC 330 Rechts","WID-0658",{"$f":"IF(ISBLANK('Assortiment Hoortoestellen'!$B$26),1,IF(ISERROR(SEARCH(PROPER('Assortiment Hoortoestellen'!$B$26),PROPER('Dataset hoortoestellen'!D25929))),0,1))","v":1}]
["Van der Leeuw Horen",5,"Resound","Ligo 7 CIC","RES-0278",{"$f":"IF(ISBLANK('Assortiment Hoortoestellen'!$B$26),1,IF(ISERROR(SEARCH(PROPER('Assortiment Hoortoestellen'!$B$26),PROPER('Dataset hoortoestellen'!D25943))),0,1))","v":1}]
["Van Keulen Walenburgerweg BV ",1,"Bernafon","Nevara 1 P","BER-0460",{"$f":"IF(ISBLANK('Assortiment Hoortoestellen'!$B$26),1,IF(ISERROR(SEARCH(PROPER('Assortiment Hoortoestellen'!$B$26),PROPER('Dataset hoortoestellen'!D25953))),0,1))","v":1}]
["Van Keulen Walenburgerweg BV ",2,"Coselgi","U6-FA","COS-0243",{"$f":"IF(ISBLANK('Assortiment Hoortoestellen'!$B$26),1,IF(ISERROR(SEARCH(PROPER('Assortiment Hoortoestellen'!$B$26),PROPER('Dataset hoortoestellen'!D25973))),0,1))","v":1}]
["Van Keulen Walenburgerweg BV ",2,"Coselgi","Effect EF2-FS (S-tel)","COS-0283",{"$f":"IF(ISBLANK('Assortiment Hoortoestellen'!$B$26),1,IF(ISERROR(SEARCH(PROPER('Assortiment Hoortoestellen'!$B$26),PROPER('Dataset hoortoestellen'!D25980))),0,1))","v":1}]
["Van Keulen Walenburgerweg BV ",3,"Coselgi","Effect EF4-RIC 10 (M-tel)","COS-0303",{"$f":"IF(ISBLANK('Assortiment Hoortoestellen'!$B$26),1,IF(ISERROR(SEARCH(PROPER('Assortiment Hoortoestellen'!$B$26),PROPER('Dataset hoortoestellen'!D25997))),0,1))","v":1}]
["Van Keulen Walenburgerweg BV ",4,"Coselgi","Effect EF5-F2 (M-tel)","COS-0317",{"$f":"IF(ISBLANK('Assortiment Hoortoestellen'!$B$26),1,IF(ISERROR(SEARCH(PROPER('Assortiment Hoortoestellen'!$B$26),PROPER('Dataset hoortoestellen'!D26009))),0,1))","v":1}]
["Van Keulen Walenburgerweg BV ",4,"Coselgi","Effect EF5-CIC TR Rechts","COS-0331",{"$f":"IF(ISBLANK('Assortiment Hoortoestellen'!$B$26),1,IF(ISERROR(SEARCH(PROPER('Assortiment Hoortoestellen'!$B$26),PROPER('Dataset hoortoestellen'!D26021))),0,1))","v":1}]
["Van Keulen Walenburgerweg BV ",5,"Coselgi","Effect EF6-FP","COS-0355",{"$f":"IF(ISBLANK('Assortiment Hoortoestellen'!$B$26),1,IF(ISERROR(SEARCH(PROPER('Assortiment Hoortoestellen'!$B$26),PROPER('Dataset hoortoestellen'!D26042))),0,1))","v":1}]
["Van Keulen Walenburgerweg BV ",5,"Oticon","Opn 3 ITE 75 - 100","OTI-0362",{"$f":"IF(ISBLANK('Assortiment Hoortoestellen'!$B$26),1,IF(ISERROR(SEARCH(PROPER('Assortiment Hoortoestellen'!$B$26),PROPER('Dataset hoortoestellen'!D26058))),0,1))","v":1}]
["Van Keulen Walenburgerweg BV ",4,"Oticon","Ruby 2 miniRITE R 60 - 105","OTI-0373",{"$f":"IF(ISBLANK('Assortiment Hoortoestellen'!$B$26),1,IF(ISERROR(SEARCH(PROPER('Assortiment Hoortoestellen'!$B$26),PROPER('Dataset hoortoestellen'!D26061))),0,1))","v":1}]
["Van Keulen Walenburgerweg BV ",4,"Phonak","Bolero B 50 SP","PHO-0289",{"$f":"IF(ISBLANK('Assortiment Hoortoestellen'!$B$26),1,IF(ISERROR(SEARCH(PROPER('Assortiment Hoortoestellen'!$B$26),PROPER('Dataset hoortoestellen'!D26086))),0,1))","v":1}]
["Van Keulen Walenburgerweg BV ",5,"Phonak","Naida B 70 SP","PHO-0305",{"$f":"IF(ISBLANK('Assortiment Hoortoestellen'!$B$26),1,IF(ISERROR(SEARCH(PROPER('Assortiment Hoortoestellen'!$B$26),PROPER('Dataset hoortoestellen'!D26094))),0,1))","v":1}]
["Van Keulen Walenburgerweg BV ",5,"Phonak","Sky B 70 UP","PHO-0323",{"$f":"IF(ISBLANK('Assortiment Hoortoestellen'!$B$26),1,IF(ISERROR(SEARCH(PROPER('Assortiment Hoortoestellen'!$B$26),PROPER('Dataset hoortoestellen'!D26110))),0,1))","v":1}]
["Van Keulen Walenburgerweg BV ",5,"Phonak","Sky M50-SP","PHO-0338",{"$f":"IF(ISBLANK('Assortiment Hoortoestellen'!$B$26),1,IF(ISERROR(SEARCH(PROPER('Assortiment Hoortoestellen'!$B$26),PROPER('Dataset hoortoestellen'!D26123))),0,1))","v":1}]
["Van Keulen Walenburgerweg BV ",2,"Starkey","Muse iQ 1000 ITC","STA-0341",{"$f":"IF(ISBLANK('Assortiment Hoortoestellen'!$B$26),1,IF(ISERROR(SEARCH(PROPER('Assortiment Hoortoestellen'!$B$26),PROPER('Dataset hoortoestellen'!D26134))),0,1))","v":1}]
["Van Keulen Walenburgerweg BV ",2,"Starkey","Muse iQ i1000 mRIC","STA-0355",{"$f":"IF(ISBLANK('Assortiment Hoortoestellen'!$B$26),1,IF(ISERROR(SEARCH(PROPER('Assortiment Hoortoestellen'!$B$26),PROPER('Dataset hoortoestellen'!D26142))),0,1))","v":1}]
["Van Keulen Walenburgerweg BV ",5,"Starkey","Livio 1600 BTE 13","STA-0388",{"$f":"IF(ISBLANK('Assortiment Hoortoestellen'!$B$26),1,IF(ISERROR(SEARCH(PROPER('Assortiment Hoortoestellen'!$B$26),PROPER('Dataset hoortoestellen'!D26158))),0,1))","v":1}]
["Van Keulen Walenburgerweg BV ",3,"Widex","U110-FS (S-tel)","WID-0414",{"$f":"IF(ISBLANK('Assortiment Hoortoestellen'!$B$26),1,IF(ISERROR(SEARCH(PROPER('Assortiment Hoortoestellen'!$B$26),PROPER('Dataset hoortoestellen'!D26175))),0,1))","v":1}]
["Van Keulen Walenburgerweg BV ",3,"Widex","U220-FS (M-tel)","WID-0425",{"$f":"IF(ISBLANK('Assortiment Hoortoestellen'!$B$26),1,IF(ISERROR(SEARCH(PROPER('Assortiment Hoortoestellen'!$B$26),PROPER('Dataset hoortoestellen'!D26186))),0,1))","v":1}]
["Van Keulen Walenburgerweg BV ",5,"Widex","U440-CIC-M TR","WID-0447",{"$f":"IF(ISBLANK('Assortiment Hoortoestellen'!$B$26),1,IF(ISERROR(SEARCH(PROPER('Assortiment Hoortoestellen'!$B$26),PROPER('Dataset hoortoestellen'!D26208))),0,1))","v":1}]
["Van Keulen Walenburgerweg BV ",5,"Widex","U440-FM","WID-0449",{"$f":"IF(ISBLANK('Assortiment Hoortoestellen'!$B$26),1,IF(ISERROR(SEARCH(PROPER('Assortiment Hoortoestellen'!$B$26),PROPER('Dataset hoortoestellen'!D26210))),0,1))","v":1}]
["Van Keulen Walenburgerweg BV ",5,"Widex","Enjoy E-CIC 330 Links","WID-0553",{"$f":"IF(ISBLANK('Assortiment Hoortoestellen'!$B$26),1,IF(ISERROR(SEARCH(PROPER('Assortiment Hoortoestellen'!$B$26),PROPER('Dataset hoortoestellen'!D26227))),0,1))","v":1}]
["Van Keulen Walenburgerweg BV ",2,"Widex","Enjoy E-F2 50 (HP-tel)","WID-0594",{"$f":"IF(ISBLANK('Assortiment Hoortoestellen'!$B$26),1,IF(ISERROR(SEARCH(PROPER('Assortiment Hoortoestellen'!$B$26),PROPER('Dataset hoortoestellen'!D26247))),0,1))","v":1}]
["Van Keulen Walenburgerweg BV ",4,"Widex","Enjoy E-FM 220","WID-0606",{"$f":"IF(ISBLANK('Assortiment Hoortoestellen'!$B$26),1,IF(ISERROR(SEARCH(PROPER('Assortiment Hoortoestellen'!$B$26),PROPER('Dataset hoortoestellen'!D26256))),0,1))","v":1}]
["Van Keulen Walenburgerweg BV ",5,"Widex","Enjoy E-FS 330 (HP-tel)","WID-0628",{"$f":"IF(ISBLANK('Assortiment Hoortoestellen'!$B$26),1,IF(ISERROR(SEARCH(PROPER('Assortiment Hoortoestellen'!$B$26),PROPER('Dataset hoortoestellen'!D26271))),0,1))","v":1}]
["Van Keulen Walenburgerweg BV ",4,"Widex","Enjoy E-CIC 220 Rechts","WID-0657",{"$f":"IF(ISBLANK('Assortiment Hoortoestellen'!$B$26),1,IF(ISERROR(SEARCH(PROPER('Assortiment Hoortoestellen'!$B$26),PROPER('Dataset hoortoestellen'!D26289))),0,1))","v":1}]
["Van Mossel Hoortoestellen",2,"Audio Service","HP 4 G4","AUS-0153",{"$f":"IF(ISBLANK('Assortiment Hoortoestellen'!$B$26),1,IF(ISERROR(SEARCH(PROPER('Assortiment Hoortoestellen'!$B$26),PROPER('Dataset hoortoestellen'!D26299))),0,1))","v":1}]
["Van Mossel Hoortoestellen",4,"Audio Service","P 8 G5","AUS-0190",{"$f":"IF(ISBLANK('Assortiment Hoortoestellen'!$B$26),1,IF(ISERROR(SEARCH(PROPER('Assortiment Hoortoestellen'!$B$26),PROPER('Dataset hoortoestellen'!D26308))),0,1))","v":1}]
["Van Mossel Hoortoestellen",2,"Audio Service","quiX 4 G5 Links","AUS-0211",{"$f":"IF(ISBLANK('Assortiment Hoortoestellen'!$B$26),1,IF(ISERROR(SEARCH(PROPER('Assortiment Hoortoestellen'!$B$26),PROPER('Dataset hoortoestellen'!D26323))),0,1))","v":1}]
["Van Mossel Hoortoestellen",3,"Bernafon","Zerena 3 IIC","BER-0625",{"$f":"IF(ISBLANK('Assortiment Hoortoestellen'!$B$26),1,IF(ISERROR(SEARCH(PROPER('Assortiment Hoortoestellen'!$B$26),PROPER('Dataset hoortoestellen'!D26341))),0,1))","v":1}]
["Van Mossel Hoortoestellen",5,"Bernafon","Zerena 7 BTE 105","BER-0639",{"$f":"IF(ISBLANK('Assortiment Hoortoestellen'!$B$26),1,IF(ISERROR(SEARCH(PROPER('Assortiment Hoortoestellen'!$B$26),PROPER('Dataset hoortoestellen'!D26347))),0,1))","v":1}]
["Van Mossel Hoortoestellen",4,"Coselgi","U10E-FS (P-tel)","COS-0156",{"$f":"IF(ISBLANK('Assortiment Hoortoestellen'!$B$26),1,IF(ISERROR(SEARCH(PROPER('Assortiment Hoortoestellen'!$B$26),PROPER('Dataset hoortoestellen'!D26370))),0,1))","v":1}]
["Van Mossel Hoortoestellen",4,"Coselgi","U10E-FS (S-tel)","COS-0157",{"$f":"IF(ISBLANK('Assortiment Hoortoestellen'!$B$26),1,IF(ISERROR(SEARCH(PROPER('Assortiment Hoortoestellen'!$B$26),PROPER('Dataset hoortoestellen'!D26371))),0,1))","v":1}]
["Van Mossel Hoortoestellen",2,"Coselgi","U6-FM","COS-0244",{"$f":"IF(ISBLANK('Assortiment Hoortoestellen'!$B$26),1,IF(ISERROR(SEARCH(PROPER('Assortiment Hoortoestellen'!$B$26),PROPER('Dataset hoortoestellen'!D26389))),0,1))","v":1}]
["Van Mossel Hoortoestellen",3,"Coselgi","U6E-FM","COS-0256",{"$f":"IF(ISBLANK('Assortiment Hoortoestellen'!$B$26),1,IF(ISERROR(SEARCH(PROPER('Assortiment Hoortoestellen'!$B$26),PROPER('Dataset hoortoestellen'!D26399))),0,1))","v":1}]
["Van Mossel Hoortoestellen",2,"Coselgi","Effect EF2-FA","COS-0290",{"$f":"IF(ISBLANK('Assortiment Hoortoestellen'!$B$26),1,IF(ISERROR(SEARCH(PROPER('Assortiment Hoortoestellen'!$B$26),PROPER('Dataset hoortoestellen'!D26422))),0,1))","v":1}]
["Van Mossel Hoortoestellen",3,"Coselgi","Effect EF4-CIC M","COS-0306",{"$f":"IF(ISBLANK('Assortiment Hoortoestellen'!$B$26),1,IF(ISERROR(SEARCH(PROPER('Assortiment Hoortoestellen'!$B$26),PROPER('Dataset hoortoestellen'!D26436))),0,1))","v":1}]
["Van Mossel Hoortoestellen",3,"Coselgi","Effect EF4-FM","COS-0312",{"$f":"IF(ISBLANK('Assortiment Hoortoestellen'!$B$26),1,IF(ISERROR(SEARCH(PROPER('Assortiment Hoortoestellen'!$B$26),PROPER('Dataset hoortoestellen'!D26441))),0,1))","v":1}]
["Van Mossel Hoortoestellen",4,"Coselgi","Effect EF5-FP","COS-0334",{"$f":"IF(ISBLANK('Assortiment Hoortoestellen'!$B$26),1,IF(ISERROR(SEARCH(PROPER('Assortiment Hoortoestellen'!$B$26),PROPER('Dataset hoortoestellen'!D26460))),0,1))","v":1}]
["Van Mossel Hoortoestellen",5,"Coselgi","Effect EF6-FS (M-tel)","COS-0342",{"$f":"IF(ISBLANK('Assortiment Hoortoestellen'!$B$26),1,IF(ISERROR(SEARCH(PROPER('Assortiment Hoortoestellen'!$B$26),PROPER('Dataset hoortoestellen'!D26467))),0,1))","v":1}]
["Van Mossel Hoortoestellen",3,"Interton","RD3CIC","INT-0036",{"$f":"IF(ISBLANK('Assortiment Hoortoestellen'!$B$26),1,IF(ISERROR(SEARCH(PROPER('Assortiment Hoortoestellen'!$B$26),PROPER('Dataset hoortoestellen'!D26488))),0,1))","v":1}]
["Van Mossel Hoortoestellen",1,"Oticon","Get","OTI-0066",{"$f":"IF(ISBLANK('Assortiment Hoortoestellen'!$B$26),1,IF(ISERROR(SEARCH(PROPER('Assortiment Hoortoestellen'!$B$26),PROPER('Dataset hoortoestellen'!D26504))),0,1))","v":1}]
["Van Mossel Hoortoestellen",4,"Oticon","Siya 1 ITE 75 - 100","OTI-0342",{"$f":"IF(ISBLANK('Assortiment Hoortoestellen'!$B$26),1,IF(ISERROR(SEARCH(PROPER('Assortiment Hoortoestellen'!$B$26),PROPER('Dataset hoortoestellen'!D26507))),0,1))","v":1}]
["Van Mossel Hoortoestellen",3,"Phonak","Bolero B 30 M","PHO-0283",{"$f":"IF(ISBLANK('Assortiment Hoortoestellen'!$B$26),1,IF(ISERROR(SEARCH(PROPER('Assortiment Hoortoestellen'!$B$26),PROPER('Dataset hoortoestellen'!D26528))),0,1))","v":1}]
["Van Mossel Hoortoestellen",5,"Phonak","Bolero B 70 SP","PHO-0293",{"$f":"IF(ISBLANK('Assortiment Hoortoestellen'!$B$26),1,IF(ISERROR(SEARCH(PROPER('Assortiment Hoortoestellen'!$B$26),PROPER('Dataset hoortoestellen'!D26536))),0,1))","v":1}]
["Van Mossel Hoortoestellen",4,"Phonak","Sky B 50 UP","PHO-0317",{"$f":"IF(ISBLANK('Assortiment Hoortoestellen'!$B$26),1,IF(ISERROR(SEARCH(PROPER('Assortiment Hoortoestellen'!$B$26),PROPER('Dataset hoortoestellen'!D26552))),0,1))","v":1}]
["Van Mossel Hoortoestellen",2,"ReSound","Enya 3 ITC","RES-0212",{"$f":"IF(ISBLANK('Assortiment Hoortoestellen'!$B$26),1,IF(ISERROR(SEARCH(PROPER('Assortiment Hoortoestellen'!$B$26),PROPER('Dataset hoortoestellen'!D26569))),0,1))","v":1}]
["Van Mossel Hoortoestellen",3,"ReSound","Ligo 477-DW","RES-0267",{"$f":"IF(ISBLANK('Assortiment Hoortoestellen'!$B$26),1,IF(ISERROR(SEARCH(PROPER('Assortiment Hoortoestellen'!$B$26),PROPER('Dataset hoortoestellen'!D26580))),0,1))","v":1}]
["Van Mossel Hoortoestellen",4,"ReSound","Ligo 577-DW","RES-0275",{"$f":"IF(ISBLANK('Assortiment Hoortoestellen'!$B$26),1,IF(ISERROR(SEARCH(PROPER('Assortiment Hoortoestellen'!$B$26),PROPER('Dataset hoortoestellen'!D26588))),0,1))","v":1}]
["Van Mossel Hoortoestellen",1,"Starkey","Muse i1000 RIC 312","STA-0309",{"$f":"IF(ISBLANK('Assortiment Hoortoestellen'!$B$26),1,IF(ISERROR(SEARCH(PROPER('Assortiment Hoortoestellen'!$B$26),PROPER('Dataset hoortoestellen'!D26604))),0,1))","v":1}]
["Van Mossel Hoortoestellen",4,"Starkey","Muse iQ i1200 ITC","STA-0363",{"$f":"IF(ISBLANK('Assortiment Hoortoestellen'!$B$26),1,IF(ISERROR(SEARCH(PROPER('Assortiment Hoortoestellen'!$B$26),PROPER('Dataset hoortoestellen'!D26621))),0,1))","v":1}]
["Van Mossel Hoortoestellen",3,"Starkey","Livio 1000 RIC R","STA-0383",{"$f":"IF(ISBLANK('Assortiment Hoortoestellen'!$B$26),1,IF(ISERROR(SEARCH(PROPER('Assortiment Hoortoestellen'!$B$26),PROPER('Dataset hoortoestellen'!D26628))),0,1))","v":1}]
["Van Mossel Hoortoestellen",4,"Unitron","T Moxi Fit 600","UNI-0292",{"$f":"IF(ISBLANK('Assortiment Hoortoestellen'!$B$26),1,IF(ISERROR(SEARCH(PROPER('Assortiment Hoortoestellen'!$B$26),PROPER('Dataset hoortoestellen'!D26650))),0,1))","v":1}]
["Van Mossel Hoortoestellen",3,"Unitron","T Insera 500 W 10A Dir","UNI-0323",{"$f":"IF(ISBLANK('Assortiment Hoortoestellen'!$B$26),1,IF(ISERROR(SEARCH(PROPER('Assortiment Hoortoestellen'!$B$26),PROPER('Dataset hoortoestellen'!D26665))),0,1))","v":1}]
["Van Mossel Hoortoestellen",4,"Unitron","T Insera 600 312 Omni","UNI-0327",{"$f":"IF(ISBLANK('Assortiment Hoortoestellen'!$B$26),1,IF(ISERROR(SEARCH(PROPER('Assortiment Hoortoestellen'!$B$26),PROPER('Dataset hoortoestellen'!D26669))),0,1))","v":1}]
["Van Mossel Hoortoestellen",3,"Widex","U220-CIC TR","WID-0419",{"$f":"IF(ISBLANK('Assortiment Hoortoestellen'!$B$26),1,IF(ISERROR(SEARCH(PROPER('Assortiment Hoortoestellen'!$B$26),PROPER('Dataset hoortoestellen'!D26693))),0,1))","v":1}]
["Van Mossel Hoortoestellen",3,"Widex","U220-PA (M-tel)","WID-0428",{"$f":"IF(ISBLANK('Assortiment Hoortoestellen'!$B$26),1,IF(ISERROR(SEARCH(PROPER('Assortiment Hoortoestellen'!$B$26),PROPER('Dataset hoortoestellen'!D26702))),0,1))","v":1}]
["Van Mossel Hoortoestellen",4,"Widex","U330-XP","WID-0443",{"$f":"IF(ISBLANK('Assortiment Hoortoestellen'!$B$26),1,IF(ISERROR(SEARCH(PROPER('Assortiment Hoortoestellen'!$B$26),PROPER('Dataset hoortoestellen'!D26717))),0,1))","v":1}]
["Van Mossel Hoortoestellen",5,"Widex","U440-CIC-M TR","WID-0447",{"$f":"IF(ISBLANK('Assortiment Hoortoestellen'!$B$26),1,IF(ISERROR(SEARCH(PROPER('Assortiment Hoortoestellen'!$B$26),PROPER('Dataset hoortoestellen'!D26721))),0,1))","v":1}]
["Van Mossel Hoortoestellen",3,"Widex","Enjoy E-CIC M 110","WID-0557",{"$f":"IF(ISBLANK('Assortiment Hoortoestellen'!$B$26),1,IF(ISERROR(SEARCH(PROPER('Assortiment Hoortoestellen'!$B$26),PROPER('Dataset hoortoestellen'!D26741))),0,1))","v":1}]
["Van Mossel Hoortoestellen",3,"Widex","Enjoy E-F2 110 (P-tel)","WID-0580",{"$f":"IF(ISBLANK('Assortiment Hoortoestellen'!$B$26),1,IF(ISERROR(SEARCH(PROPER('Assortiment Hoortoestellen'!$B$26),PROPER('Dataset hoortoestellen'!D26750))),0,1))","v":1}]
["Van Mossel Hoortoestellen",4,"Widex","Enjoy E-FA 220","WID-0600",{"$f":"IF(ISBLANK('Assortiment Hoortoestellen'!$B$26),1,IF(ISERROR(SEARCH(PROPER('Assortiment Hoortoestellen'!$B$26),PROPER('Dataset hoortoestellen'!D26765))),0,1))","v":1}]
["Van Mossel Hoortoestellen",4,"Widex","Enjoy E-FS 220 (S-tel)","WID-0627",{"$f":"IF(ISBLANK('Assortiment Hoortoestellen'!$B$26),1,IF(ISERROR(SEARCH(PROPER('Assortiment Hoortoestellen'!$B$26),PROPER('Dataset hoortoestellen'!D26783))),0,1))","v":1}]
["Van Mossel Hoortoestellen",2,"Widex","Enjoy E-FS 50 (M-tel)","WID-0637",{"$f":"IF(ISBLANK('Assortiment Hoortoestellen'!$B$26),1,IF(ISERROR(SEARCH(PROPER('Assortiment Hoortoestellen'!$B$26),PROPER('Dataset hoortoestellen'!D26789))),0,1))","v":1}]
["Van Mossel Hoortoestellen",4,"Widex","Enjoy E-CIC 220 Rechts","WID-0657",{"$f":"IF(ISBLANK('Assortiment Hoortoestellen'!$B$26),1,IF(ISERROR(SEARCH(PROPER('Assortiment Hoortoestellen'!$B$26),PROPER('Dataset hoortoestellen'!D26802))),0,1))","v":1}]
["Van Rugge optiek",2,"Audio Service","Mood 4 G5","AUS-0207",{"$f":"IF(ISBLANK('Assortiment Hoortoestellen'!$B$26),1,IF(ISERROR(SEARCH(PROPER('Assortiment Hoortoestellen'!$B$26),PROPER('Dataset hoortoestellen'!D26817))),0,1))","v":1}]
["Van Rugge optiek",5,"Audio Service","DUO Li-Ion 12 G5","AUS-0179",{"$f":"IF(ISBLANK('Assortiment Hoortoestellen'!$B$26),1,IF(ISERROR(SEARCH(PROPER('Assortiment Hoortoestellen'!$B$26),PROPER('Dataset hoortoestellen'!D26835))),0,1))","v":1}]
["Van Rugge optiek",3,"Bernafon","Zerena 3 IIC","BER-0625",{"$f":"IF(ISBLANK('Assortiment Hoortoestellen'!$B$26),1,IF(ISERROR(SEARCH(PROPER('Assortiment Hoortoestellen'!$B$26),PROPER('Dataset hoortoestellen'!D26854))),0,1))","v":1}]
["Van Rugge optiek",3,"Bernafon","Viron 3 MNR T R","BER-0666",{"$f":"IF(ISBLANK('Assortiment Hoortoestellen'!$B$26),1,IF(ISERROR(SEARCH(PROPER('Assortiment Hoortoestellen'!$B$26),PROPER('Dataset hoortoestellen'!D26864))),0,1))","v":1}]
["Van Rugge optiek",2,"Coselgi","U6-CIC TR (links)","COS-0242",{"$f":"IF(ISBLANK('Assortiment Hoortoestellen'!$B$26),1,IF(ISERROR(SEARCH(PROPER('Assortiment Hoortoestellen'!$B$26),PROPER('Dataset hoortoestellen'!D26878))),0,1))","v":1}]
["Van Rugge optiek",3,"Coselgi","Effect EF4-CIC TR Links","COS-0309",{"$f":"IF(ISBLANK('Assortiment Hoortoestellen'!$B$26),1,IF(ISERROR(SEARCH(PROPER('Assortiment Hoortoestellen'!$B$26),PROPER('Dataset hoortoestellen'!D26883))),0,1))","v":1}]
["Van Rugge optiek",3,"Coselgi","Effect EF4-FA","COS-0311",{"$f":"IF(ISBLANK('Assortiment Hoortoestellen'!$B$26),1,IF(ISERROR(SEARCH(PROPER('Assortiment Hoortoestellen'!$B$26),PROPER('Dataset hoortoestellen'!D26902))),0,1))","v":1}]
["Van Rugge optiek",2,"Coselgi","Effect EF2-FS (P-tel)","COS-0282",{"$f":"IF(ISBLANK('Assortiment Hoortoestellen'!$B$26),1,IF(ISERROR(SEARCH(PROPER('Assortiment Hoortoestellen'!$B$26),PROPER('Dataset hoortoestellen'!D26916))),0,1))","v":1}]
["Van Rugge optiek",5,"Coselgi","Effect EF6-F2 (S-tel)","COS-0340",{"$f":"IF(ISBLANK('Assortiment Hoortoestellen'!$B$26),1,IF(ISERROR(SEARCH(PROPER('Assortiment Hoortoestellen'!$B$26),PROPER('Dataset hoortoestellen'!D26930))),0,1))","v":1}]
["Van Rugge optiek",3,"Interton","Move 3ITC-DW","INT-0065",{"$f":"IF(ISBLANK('Assortiment Hoortoestellen'!$B$26),1,IF(ISERROR(SEARCH(PROPER('Assortiment Hoortoestellen'!$B$26),PROPER('Dataset hoortoestellen'!D26949))),0,1))","v":1}]
["Van Rugge optiek",5,"Interton","MOVE 6CIC-W","INT-0082",{"$f":"IF(ISBLANK('Assortiment Hoortoestellen'!$B$26),1,IF(ISERROR(SEARCH(PROPER('Assortiment Hoortoestellen'!$B$26),PROPER('Dataset hoortoestellen'!D26954))),0,1))","v":1}]
["Van Rugge optiek",2,"Interton","Move 261-DRW","INT-0052",{"$f":"IF(ISBLANK('Assortiment Hoortoestellen'!$B$26),1,IF(ISERROR(SEARCH(PROPER('Assortiment Hoortoestellen'!$B$26),PROPER('Dataset hoortoestellen'!D26970))),0,1))","v":1}]
["Van Rugge optiek",3,"Interton","MOVE 390-DW","INT-0063",{"$f":"IF(ISBLANK('Assortiment Hoortoestellen'!$B$26),1,IF(ISERROR(SEARCH(PROPER('Assortiment Hoortoestellen'!$B$26),PROPER('Dataset hoortoestellen'!D26982))),0,1))","v":1}]
["Van Rugge optiek",4,"Oticon","Ruby 2 miniRITE R 60 - 105","OTI-0373",{"$f":"IF(ISBLANK('Assortiment Hoortoestellen'!$B$26),1,IF(ISERROR(SEARCH(PROPER('Assortiment Hoortoestellen'!$B$26),PROPER('Dataset hoortoestellen'!D26998))),0,1))","v":1}]
["Van Rugge optiek",5,"Phonak","Sky M50-M","PHO-0336",{"$f":"IF(ISBLANK('Assortiment Hoortoestellen'!$B$26),1,IF(ISERROR(SEARCH(PROPER('Assortiment Hoortoestellen'!$B$26),PROPER('Dataset hoortoestellen'!D27015))),0,1))","v":1}]
["Van Rugge optiek",3,"Phonak","Bolero B 30 P","PHO-0284",{"$f":"IF(ISBLANK('Assortiment Hoortoestellen'!$B$26),1,IF(ISERROR(SEARCH(PROPER('Assortiment Hoortoestellen'!$B$26),PROPER('Dataset hoortoestellen'!D27022))),0,1))","v":1}]
["Van Rugge optiek",2,"ReSound","KEY 277-DW","RES-0313",{"$f":"IF(ISBLANK('Assortiment Hoortoestellen'!$B$26),1,IF(ISERROR(SEARCH(PROPER('Assortiment Hoortoestellen'!$B$26),PROPER('Dataset hoortoestellen'!D27044))),0,1))","v":1}]
["Van Rugge optiek",2,"ReSound","KEY 298-DW","RES-0315",{"$f":"IF(ISBLANK('Assortiment Hoortoestellen'!$B$26),1,IF(ISERROR(SEARCH(PROPER('Assortiment Hoortoestellen'!$B$26),PROPER('Dataset hoortoestellen'!D27046))),0,1))","v":1}]
["Van Rugge optiek",3,"ReSound","KEY 377-DW","RES-0320",{"$f":"IF(ISBLANK('Assortiment Hoortoestellen'!$B$26),1,IF(ISERROR(SEARCH(PROPER('Assortiment Hoortoestellen'!$B$26),PROPER('Dataset hoortoestellen'!D27063))),0,1))","v":1}]
["Van Rugge optiek",1,"Starkey","Livio S2 BTE 13","STA-0413",{"$f":"IF(ISBLANK('Assortiment Hoortoestellen'!$B$26),1,IF(ISERROR(SEARCH(PROPER('Assortiment Hoortoestellen'!$B$26),PROPER('Dataset hoortoestellen'!D27083))),0,1))","v":1}]
["Van Rugge optiek",4,"Starkey","Livio AI 1200 mRIC 312","STA-0402",{"$f":"IF(ISBLANK('Assortiment Hoortoestellen'!$B$26),1,IF(ISERROR(SEARCH(PROPER('Assortiment Hoortoestellen'!$B$26),PROPER('Dataset hoortoestellen'!D27096))),0,1))","v":1}]
["Van Rugge optiek",2,"Unitron","Shine Rev+ 10A Omni","UNI-0473",{"$f":"IF(ISBLANK('Assortiment Hoortoestellen'!$B$26),1,IF(ISERROR(SEARCH(PROPER('Assortiment Hoortoestellen'!$B$26),PROPER('Dataset hoortoestellen'!D27111))),0,1))","v":1}]
["Van Rugge optiek",5,"Unitron","T Insera 800 W 10A Omni","UNI-0339",{"$f":"IF(ISBLANK('Assortiment Hoortoestellen'!$B$26),1,IF(ISERROR(SEARCH(PROPER('Assortiment Hoortoestellen'!$B$26),PROPER('Dataset hoortoestellen'!D27115))),0,1))","v":1}]
["Van Rugge optiek",5,"Unitron","DX Moxi Fit 7","UNI-0445",{"$f":"IF(ISBLANK('Assortiment Hoortoestellen'!$B$26),1,IF(ISERROR(SEARCH(PROPER('Assortiment Hoortoestellen'!$B$26),PROPER('Dataset hoortoestellen'!D27135))),0,1))","v":1}]
["Van Rugge optiek",4,"Unitron","T Max SP 600","UNI-0273",{"$f":"IF(ISBLANK('Assortiment Hoortoestellen'!$B$26),1,IF(ISERROR(SEARCH(PROPER('Assortiment Hoortoestellen'!$B$26),PROPER('Dataset hoortoestellen'!D27144))),0,1))","v":1}]
["Van Rugge optiek",3,"Widex","Enjoy E-CIC 110 Links","WID-0551",{"$f":"IF(ISBLANK('Assortiment Hoortoestellen'!$B$26),1,IF(ISERROR(SEARCH(PROPER('Assortiment Hoortoestellen'!$B$26),PROPER('Dataset hoortoestellen'!D27159))),0,1))","v":1}]
["Van Rugge optiek",5,"Widex","U440-CIC-M","WID-0446",{"$f":"IF(ISBLANK('Assortiment Hoortoestellen'!$B$26),1,IF(ISERROR(SEARCH(PROPER('Assortiment Hoortoestellen'!$B$26),PROPER('Dataset hoortoestellen'!D27177))),0,1))","v":1}]
["Van Rugge optiek",5,"Widex","U440-CIC-M TR","WID-0447",{"$f":"IF(ISBLANK('Assortiment Hoortoestellen'!$B$26),1,IF(ISERROR(SEARCH(PROPER('Assortiment Hoortoestellen'!$B$26),PROPER('Dataset hoortoestellen'!D27183))),0,1))","v":1}]
["Van Rugge optiek",2,"Widex","Enjoy E-BTE 13D 50","WID-0549",{"$f":"IF(ISBLANK('Assortiment Hoortoestellen'!$B$26),1,IF(ISERROR(SEARCH(PROPER('Assortiment Hoortoestellen'!$B$26),PROPER('Dataset hoortoestellen'!D27196))),0,1))","v":1}]
["Van Rugge optiek",2,"Widex","Enjoy E-FS 50 (HP-tel)","WID-0636",{"$f":"IF(ISBLANK('Assortiment Hoortoestellen'!$B$26),1,IF(ISERROR(SEARCH(PROPER('Assortiment Hoortoestellen'!$B$26),PROPER('Dataset hoortoestellen'!D27211))),0,1))","v":1}]
["Van Rugge optiek",3,"Widex","Enjoy E-FS 110 (S-tel)","WID-0623",{"$f":"IF(ISBLANK('Assortiment Hoortoestellen'!$B$26),1,IF(ISERROR(SEARCH(PROPER('Assortiment Hoortoestellen'!$B$26),PROPER('Dataset hoortoestellen'!D27229))),0,1))","v":1}]
["Van Rugge optiek",3,"Widex","Enjoy E-PA 110 (S-tel)","WID-0643",{"$f":"IF(ISBLANK('Assortiment Hoortoestellen'!$B$26),1,IF(ISERROR(SEARCH(PROPER('Assortiment Hoortoestellen'!$B$26),PROPER('Dataset hoortoestellen'!D27235))),0,1))","v":1}]
["Van Rugge optiek",4,"Widex","U330-FA","WID-0435",{"$f":"IF(ISBLANK('Assortiment Hoortoestellen'!$B$26),1,IF(ISERROR(SEARCH(PROPER('Assortiment Hoortoestellen'!$B$26),PROPER('Dataset hoortoestellen'!D27248))),0,1))","v":1}]
["Van Rugge optiek",4,"Widex","U330-PA (S-tel)","WID-0442",{"$f":"IF(ISBLANK('Assortiment Hoortoestellen'!$B$26),1,IF(ISERROR(SEARCH(PROPER('Assortiment Hoortoestellen'!$B$26),PROPER('Dataset hoortoestellen'!D27272))),0,1))","v":1}]
["Van Rugge optiek",5,"Widex","U440-FS (M-tel)","WID-0451",{"$f":"IF(ISBLANK('Assortiment Hoortoestellen'!$B$26),1,IF(ISERROR(SEARCH(PROPER('Assortiment Hoortoestellen'!$B$26),PROPER('Dataset hoortoestellen'!D27277))),0,1))","v":1}]
["Van Schijndel Hoortechniek",3,"Oticon","Siya 2 ITE 75 - 100","OTI-0349",{"$f":"IF(ISBLANK('Assortiment Hoortoestellen'!$B$26),1,IF(ISERROR(SEARCH(PROPER('Assortiment Hoortoestellen'!$B$26),PROPER('Dataset hoortoestellen'!D27296))),0,1))","v":1}]
["van't Wout Hoortoestellen",2,"Audio Service","HP 4 G4","AUS-0153",{"$f":"IF(ISBLANK('Assortiment Hoortoestellen'!$B$26),1,IF(ISERROR(SEARCH(PROPER('Assortiment Hoortoestellen'!$B$26),PROPER('Dataset hoortoestellen'!D27310))),0,1))","v":1}]
["van't Wout Hoortoestellen",5,"Audio Service","P 12 G5","AUS-0189",{"$f":"IF(ISBLANK('Assortiment Hoortoestellen'!$B$26),1,IF(ISERROR(SEARCH(PROPER('Assortiment Hoortoestellen'!$B$26),PROPER('Dataset hoortoestellen'!D27324))),0,1))","v":1}]
["van't Wout Hoortoestellen",4,"Audio Service","quiX 8 G5 Rechts","AUS-0194",{"$f":"IF(ISBLANK('Assortiment Hoortoestellen'!$B$26),1,IF(ISERROR(SEARCH(PROPER('Assortiment Hoortoestellen'!$B$26),PROPER('Dataset hoortoestellen'!D27329))),0,1))","v":1}]
["van't Wout Hoortoestellen",1,"Audio Service ","Volta HP C","AUS-0219",{"$f":"IF(ISBLANK('Assortiment Hoortoestellen'!$B$26),1,IF(ISERROR(SEARCH(PROPER('Assortiment Hoortoestellen'!$B$26),PROPER('Dataset hoortoestellen'!D27348))),0,1))","v":1}]
["van't Wout Hoortoestellen",3,"Bernafon","Zerena 3 CIC","BER-0624",{"$f":"IF(ISBLANK('Assortiment Hoortoestellen'!$B$26),1,IF(ISERROR(SEARCH(PROPER('Assortiment Hoortoestellen'!$B$26),PROPER('Dataset hoortoestellen'!D27362))),0,1))","v":1}]
["van't Wout Hoortoestellen",5,"Bernafon","Zerena 7 MNR","BER-0645",{"$f":"IF(ISBLANK('Assortiment Hoortoestellen'!$B$26),1,IF(ISERROR(SEARCH(PROPER('Assortiment Hoortoestellen'!$B$26),PROPER('Dataset hoortoestellen'!D27372))),0,1))","v":1}]
["van't Wout Hoortoestellen",4,"Coselgi","U10E-FS (M-tel)","COS-0155",{"$f":"IF(ISBLANK('Assortiment Hoortoestellen'!$B$26),1,IF(ISERROR(SEARCH(PROPER('Assortiment Hoortoestellen'!$B$26),PROPER('Dataset hoortoestellen'!D27391))),0,1))","v":1}]
["van't Wout Hoortoestellen",4,"Coselgi","U10E-XP","COS-0160",{"$f":"IF(ISBLANK('Assortiment Hoortoestellen'!$B$26),1,IF(ISERROR(SEARCH(PROPER('Assortiment Hoortoestellen'!$B$26),PROPER('Dataset hoortoestellen'!D27396))),0,1))","v":1}]
["van't Wout Hoortoestellen",2,"Coselgi","U6-FA","COS-0243",{"$f":"IF(ISBLANK('Assortiment Hoortoestellen'!$B$26),1,IF(ISERROR(SEARCH(PROPER('Assortiment Hoortoestellen'!$B$26),PROPER('Dataset hoortoestellen'!D27410))),0,1))","v":1}]
["van't Wout Hoortoestellen",2,"Coselgi","Effect EF2-F2 (M-tel)","COS-0277",{"$f":"IF(ISBLANK('Assortiment Hoortoestellen'!$B$26),1,IF(ISERROR(SEARCH(PROPER('Assortiment Hoortoestellen'!$B$26),PROPER('Dataset hoortoestellen'!D27433))),0,1))","v":1}]
["van't Wout Hoortoestellen",2,"Coselgi","Effect EF2-CIC TR Rechts","COS-0289",{"$f":"IF(ISBLANK('Assortiment Hoortoestellen'!$B$26),1,IF(ISERROR(SEARCH(PROPER('Assortiment Hoortoestellen'!$B$26),PROPER('Dataset hoortoestellen'!D27443))),0,1))","v":1}]
["van't Wout Hoortoestellen",3,"Coselgi","Effect EF4-CIC TR Rechts","COS-0310",{"$f":"IF(ISBLANK('Assortiment Hoortoestellen'!$B$26),1,IF(ISERROR(SEARCH(PROPER('Assortiment Hoortoestellen'!$B$26),PROPER('Dataset hoortoestellen'!D27461))),0,1))","v":1}]
["van't Wout Hoortoestellen",3,"Coselgi","Effect EF4-FP","COS-0313",{"$f":"IF(ISBLANK('Assortiment Hoortoestellen'!$B$26),1,IF(ISERROR(SEARCH(PROPER('Assortiment Hoortoestellen'!$B$26),PROPER('Dataset hoortoestellen'!D27464))),0,1))","v":1}]
["van't Wout Hoortoestellen",4,"Coselgi","Effect EF5-CIC M","COS-0327",{"$f":"IF(ISBLANK('Assortiment Hoortoestellen'!$B$26),1,IF(ISERROR(SEARCH(PROPER('Assortiment Hoortoestellen'!$B$26),PROPER('Dataset hoortoestellen'!D27476))),0,1))","v":1}]
["van't Wout Hoortoestellen",5,"Coselgi","Effect EF6-RIC 10 (M-tel)","COS-0345",{"$f":"IF(ISBLANK('Assortiment Hoortoestellen'!$B$26),1,IF(ISERROR(SEARCH(PROPER('Assortiment Hoortoestellen'!$B$26),PROPER('Dataset hoortoestellen'!D27492))),0,1))","v":1}]
["van't Wout Hoortoestellen",2,"Interton","RD380-DW","INT-0035",{"$f":"IF(ISBLANK('Assortiment Hoortoestellen'!$B$26),1,IF(ISERROR(SEARCH(PROPER('Assortiment Hoortoestellen'!$B$26),PROPER('Dataset hoortoestellen'!D27509))),0,1))","v":1}]
["van't Wout Hoortoestellen",4,"Oticon","Siya 1 ITE 75 - 100","OTI-0342",{"$f":"IF(ISBLANK('Assortiment Hoortoestellen'!$B$26),1,IF(ISERROR(SEARCH(PROPER('Assortiment Hoortoestellen'!$B$26),PROPER('Dataset hoortoestellen'!D27529))),0,1))","v":1}]
["van't Wout Hoortoestellen",2,"Oticon","Geno 2 BTE 85","OTI-384",{"$f":"IF(ISBLANK('Assortiment Hoortoestellen'!$B$26),1,IF(ISERROR(SEARCH(PROPER('Assortiment Hoortoestellen'!$B$26),PROPER('Dataset hoortoestellen'!D27542))),0,1))","v":1}]
["van't Wout Hoortoestellen",4,"Phonak","Audeo B 50 312 T","PHO-0276",{"$f":"IF(ISBLANK('Assortiment Hoortoestellen'!$B$26),1,IF(ISERROR(SEARCH(PROPER('Assortiment Hoortoestellen'!$B$26),PROPER('Dataset hoortoestellen'!D27553))),0,1))","v":1}]
["van't Wout Hoortoestellen",5,"Phonak","Audeo B 70 312 T","PHO-0281",{"$f":"IF(ISBLANK('Assortiment Hoortoestellen'!$B$26),1,IF(ISERROR(SEARCH(PROPER('Assortiment Hoortoestellen'!$B$26),PROPER('Dataset hoortoestellen'!D27557))),0,1))","v":1}]
["van't Wout Hoortoestellen",3,"Phonak","Sky B 30 UP","PHO-0311",{"$f":"IF(ISBLANK('Assortiment Hoortoestellen'!$B$26),1,IF(ISERROR(SEARCH(PROPER('Assortiment Hoortoestellen'!$B$26),PROPER('Dataset hoortoestellen'!D27577))),0,1))","v":1}]
["van't Wout Hoortoestellen",3,"Phonak","Virto B 30 312","PHO-0326",{"$f":"IF(ISBLANK('Assortiment Hoortoestellen'!$B$26),1,IF(ISERROR(SEARCH(PROPER('Assortiment Hoortoestellen'!$B$26),PROPER('Dataset hoortoestellen'!D27590))),0,1))","v":1}]
["van't Wout Hoortoestellen",2,"ReSound","Enya 3 ITC","RES-0212",{"$f":"IF(ISBLANK('Assortiment Hoortoestellen'!$B$26),1,IF(ISERROR(SEARCH(PROPER('Assortiment Hoortoestellen'!$B$26),PROPER('Dataset hoortoestellen'!D27605))),0,1))","v":1}]
["van't Wout Hoortoestellen",4,"ReSound","LiNX 3D 561-DRW","RES-0294",{"$f":"IF(ISBLANK('Assortiment Hoortoestellen'!$B$26),1,IF(ISERROR(SEARCH(PROPER('Assortiment Hoortoestellen'!$B$26),PROPER('Dataset hoortoestellen'!D27623))),0,1))","v":1}]
["van't Wout Hoortoestellen",5,"ReSound","LiNX 3D 7 ITC-DW","RES-0300",{"$f":"IF(ISBLANK('Assortiment Hoortoestellen'!$B$26),1,IF(ISERROR(SEARCH(PROPER('Assortiment Hoortoestellen'!$B$26),PROPER('Dataset hoortoestellen'!D27629))),0,1))","v":1}]
["van't Wout Hoortoestellen",5,"Starkey","Muse i1600  CIC","STA-0330",{"$f":"IF(ISBLANK('Assortiment Hoortoestellen'!$B$26),1,IF(ISERROR(SEARCH(PROPER('Assortiment Hoortoestellen'!$B$26),PROPER('Dataset hoortoestellen'!D27642))),0,1))","v":1}]
["van't Wout Hoortoestellen",3,"Starkey","Muse iQ i1000 ITE","STA-0354",{"$f":"IF(ISBLANK('Assortiment Hoortoestellen'!$B$26),1,IF(ISERROR(SEARCH(PROPER('Assortiment Hoortoestellen'!$B$26),PROPER('Dataset hoortoestellen'!D27653))),0,1))","v":1}]
["van't Wout Hoortoestellen",5,"Starkey","Livio 1600 mRIC 312","STA-0389",{"$f":"IF(ISBLANK('Assortiment Hoortoestellen'!$B$26),1,IF(ISERROR(SEARCH(PROPER('Assortiment Hoortoestellen'!$B$26),PROPER('Dataset hoortoestellen'!D27671))),0,1))","v":1}]
["van't Wout Hoortoestellen",4,"Unitron","T Insera 600 W 312 Dir","UNI-0331",{"$f":"IF(ISBLANK('Assortiment Hoortoestellen'!$B$26),1,IF(ISERROR(SEARCH(PROPER('Assortiment Hoortoestellen'!$B$26),PROPER('Dataset hoortoestellen'!D27690))),0,1))","v":1}]
["van't Wout Hoortoestellen",4,"Unitron","DX Insera 5 W 312 Dir","UNI-0439",{"$f":"IF(ISBLANK('Assortiment Hoortoestellen'!$B$26),1,IF(ISERROR(SEARCH(PROPER('Assortiment Hoortoestellen'!$B$26),PROPER('Dataset hoortoestellen'!D27704))),0,1))","v":1}]
["van't Wout Hoortoestellen",4,"Unitron","DX Stride M 5","UNI-0453",{"$f":"IF(ISBLANK('Assortiment Hoortoestellen'!$B$26),1,IF(ISERROR(SEARCH(PROPER('Assortiment Hoortoestellen'!$B$26),PROPER('Dataset hoortoestellen'!D27714))),0,1))","v":1}]
["van't Wout Hoortoestellen",3,"Widex","U110-CIC-M","WID-0406",{"$f":"IF(ISBLANK('Assortiment Hoortoestellen'!$B$26),1,IF(ISERROR(SEARCH(PROPER('Assortiment Hoortoestellen'!$B$26),PROPER('Dataset hoortoestellen'!D27723))),0,1))","v":1}]
["van't Wout Hoortoestellen",3,"Widex","U220-FS (M-tel)","WID-0425",{"$f":"IF(ISBLANK('Assortiment Hoortoestellen'!$B$26),1,IF(ISERROR(SEARCH(PROPER('Assortiment Hoortoestellen'!$B$26),PROPER('Dataset hoortoestellen'!D27742))),0,1))","v":1}]
["van't Wout Hoortoestellen",4,"Widex","U330-FS (P-tel)","WID-0439",{"$f":"IF(ISBLANK('Assortiment Hoortoestellen'!$B$26),1,IF(ISERROR(SEARCH(PROPER('Assortiment Hoortoestellen'!$B$26),PROPER('Dataset hoortoestellen'!D27756))),0,1))","v":1}]
["van't Wout Hoortoestellen",5,"Widex","U440-FS (HP-tel)","WID-0450",{"$f":"IF(ISBLANK('Assortiment Hoortoestellen'!$B$26),1,IF(ISERROR(SEARCH(PROPER('Assortiment Hoortoestellen'!$B$26),PROPER('Dataset hoortoestellen'!D27766))),0,1))","v":1}]
["van't Wout Hoortoestellen",5,"Widex","Enjoy E-CIC M 330","WID-0559",{"$f":"IF(ISBLANK('Assortiment Hoortoestellen'!$B$26),1,IF(ISERROR(SEARCH(PROPER('Assortiment Hoortoestellen'!$B$26),PROPER('Dataset hoortoestellen'!D27785))),0,1))","v":1}]
["van't Wout Hoortoestellen",3,"Widex","Enjoy E-F2 110 (HP-tel)","WID-0578",{"$f":"IF(ISBLANK('Assortiment Hoortoestellen'!$B$26),1,IF(ISERROR(SEARCH(PROPER('Assortiment Hoortoestellen'!$B$26),PROPER('Dataset hoortoestellen'!D27790))),0,1))","v":1}]
["van't Wout Hoortoestellen",2,"Widex","Enjoy E-F2 50 (P-tel)","WID-0596",{"$f":"IF(ISBLANK('Assortiment Hoortoestellen'!$B$26),1,IF(ISERROR(SEARCH(PROPER('Assortiment Hoortoestellen'!$B$26),PROPER('Dataset hoortoestellen'!D27804))),0,1))","v":1}]
["van't Wout Hoortoestellen",3,"Widex","Enjoy E-FP 110","WID-0611",{"$f":"IF(ISBLANK('Assortiment Hoortoestellen'!$B$26),1,IF(ISERROR(SEARCH(PROPER('Assortiment Hoortoestellen'!$B$26),PROPER('Dataset hoortoestellen'!D27814))),0,1))","v":1}]
["van't Wout Hoortoestellen",4,"Widex","Enjoy E-PA 220 (S-tel)","WID-0645",{"$f":"IF(ISBLANK('Assortiment Hoortoestellen'!$B$26),1,IF(ISERROR(SEARCH(PROPER('Assortiment Hoortoestellen'!$B$26),PROPER('Dataset hoortoestellen'!D27837))),0,1))","v":1}]
["van't Wout Hoortoestellen",5,"Widex","Enjoy E-XP 330","WID-0653",{"$f":"IF(ISBLANK('Assortiment Hoortoestellen'!$B$26),1,IF(ISERROR(SEARCH(PROPER('Assortiment Hoortoestellen'!$B$26),PROPER('Dataset hoortoestellen'!D27842))),0,1))","v":1}]
["Weegels hoorbeleving",4,"Audio Service","Duo 8 G5","AUS-0178",{"$f":"IF(ISBLANK('Assortiment Hoortoestellen'!$B$26),1,IF(ISERROR(SEARCH(PROPER('Assortiment Hoortoestellen'!$B$26),PROPER('Dataset hoortoestellen'!D27856))),0,1))","v":1}]
["Weegels hoorbeleving",2,"Audio Service","P 4 G5","AUS-0209",{"$f":"IF(ISBLANK('Assortiment Hoortoestellen'!$B$26),1,IF(ISERROR(SEARCH(PROPER('Assortiment Hoortoestellen'!$B$26),PROPER('Dataset hoortoestellen'!D27879))),0,1))","v":1}]
["Weegels hoorbeleving",2,"Audio Service","Rixx 4  G5","AUS-0215",{"$f":"IF(ISBLANK('Assortiment Hoortoestellen'!$B$26),1,IF(ISERROR(SEARCH(PROPER('Assortiment Hoortoestellen'!$B$26),PROPER('Dataset hoortoestellen'!D27885))),0,1))","v":1}]
["Weegels hoorbeleving",1,"Bernafon","Nevara 1 PR","BER-0486",{"$f":"IF(ISBLANK('Assortiment Hoortoestellen'!$B$26),1,IF(ISERROR(SEARCH(PROPER('Assortiment Hoortoestellen'!$B$26),PROPER('Dataset hoortoestellen'!D27903))),0,1))","v":1}]
["Weegels hoorbeleving",5,"Bernafon","Viron 7 BTE 105","BER-0671",{"$f":"IF(ISBLANK('Assortiment Hoortoestellen'!$B$26),1,IF(ISERROR(SEARCH(PROPER('Assortiment Hoortoestellen'!$B$26),PROPER('Dataset hoortoestellen'!D27918))),0,1))","v":1}]
["Weegels hoorbeleving",2,"Coselgi","Effect EF2-FS (M-tel)","COS-0281",{"$f":"IF(ISBLANK('Assortiment Hoortoestellen'!$B$26),1,IF(ISERROR(SEARCH(PROPER('Assortiment Hoortoestellen'!$B$26),PROPER('Dataset hoortoestellen'!D27927))),0,1))","v":1}]
["Weegels hoorbeleving",2,"Coselgi","Effect EF2-FP","COS-0292",{"$f":"IF(ISBLANK('Assortiment Hoortoestellen'!$B$26),1,IF(ISERROR(SEARCH(PROPER('Assortiment Hoortoestellen'!$B$26),PROPER('Dataset hoortoestellen'!D27937))),0,1))","v":1}]
["Weegels hoorbeleving",3,"Coselgi","Effect EF4-FP","COS-0313",{"$f":"IF(ISBLANK('Assortiment Hoortoestellen'!$B$26),1,IF(ISERROR(SEARCH(PROPER('Assortiment Hoortoestellen'!$B$26),PROPER('Dataset hoortoestellen'!D27955))),0,1))","v":1}]
["Weegels hoorbeleving",4,"Coselgi","Effect EF5-FA","COS-0332",{"$f":"IF(ISBLANK('Assortiment Hoortoestellen'!$B$26),1,IF(ISERROR(SEARCH(PROPER('Assortiment Hoortoestellen'!$B$26),PROPER('Dataset hoortoestellen'!D27971))),0,1))","v":1}]
["Weegels hoorbeleving",5,"Coselgi","Effect EF6-CIC Links","COS-0347",{"$f":"IF(ISBLANK('Assortiment Hoortoestellen'!$B$26),1,IF(ISERROR(SEARCH(PROPER('Assortiment Hoortoestellen'!$B$26),PROPER('Dataset hoortoestellen'!D27984))),0,1))","v":1}]
["Weegels hoorbeleving",4,"Coselgi","MOJO MRR2D M4 (m-tel)","COS-0359",{"$f":"IF(ISBLANK('Assortiment Hoortoestellen'!$B$26),1,IF(ISERROR(SEARCH(PROPER('Assortiment Hoortoestellen'!$B$26),PROPER('Dataset hoortoestellen'!D27995))),0,1))","v":1}]
["Weegels hoorbeleving",2,"Interton","MOVE 361-DRW","INT-0058",{"$f":"IF(ISBLANK('Assortiment Hoortoestellen'!$B$26),1,IF(ISERROR(SEARCH(PROPER('Assortiment Hoortoestellen'!$B$26),PROPER('Dataset hoortoestellen'!D28003))),0,1))","v":1}]
["Weegels hoorbeleving",4,"Interton","MOVE 680-DWH","INT-0080",{"$f":"IF(ISBLANK('Assortiment Hoortoestellen'!$B$26),1,IF(ISERROR(SEARCH(PROPER('Assortiment Hoortoestellen'!$B$26),PROPER('Dataset hoortoestellen'!D28023))),0,1))","v":1}]
["Weegels hoorbeleving",5,"Oticon","Opn 3 miniRITE T 60 - 105","OTI-0364",{"$f":"IF(ISBLANK('Assortiment Hoortoestellen'!$B$26),1,IF(ISERROR(SEARCH(PROPER('Assortiment Hoortoestellen'!$B$26),PROPER('Dataset hoortoestellen'!D28036))),0,1))","v":1}]
["Weegels hoorbeleving",3,"Phonak","Audeo B 30 10","PHO-0269",{"$f":"IF(ISBLANK('Assortiment Hoortoestellen'!$B$26),1,IF(ISERROR(SEARCH(PROPER('Assortiment Hoortoestellen'!$B$26),PROPER('Dataset hoortoestellen'!D28047))),0,1))","v":1}]
["Weegels hoorbeleving",5,"Phonak","Bolero B 70 P","PHO-0291",{"$f":"IF(ISBLANK('Assortiment Hoortoestellen'!$B$26),1,IF(ISERROR(SEARCH(PROPER('Assortiment Hoortoestellen'!$B$26),PROPER('Dataset hoortoestellen'!D28065))),0,1))","v":1}]
["Weegels hoorbeleving",5,"Phonak","Naida B 70 SP","PHO-0305",{"$f":"IF(ISBLANK('Assortiment Hoortoestellen'!$B$26),1,IF(ISERROR(SEARCH(PROPER('Assortiment Hoortoestellen'!$B$26),PROPER('Dataset hoortoestellen'!D28071))),0,1))","v":1}]
["Weegels hoorbeleving",5,"Phonak","Sky B 70 P","PHO-0319",{"$f":"IF(ISBLANK('Assortiment Hoortoestellen'!$B$26),1,IF(ISERROR(SEARCH(PROPER('Assortiment Hoortoestellen'!$B$26),PROPER('Dataset hoortoestellen'!D28084))),0,1))","v":1}]
["Weegels hoorbeleving",5,"ReSound","LiNX 3D 762-DRW","RES-0302",{"$f":"IF(ISBLANK('Assortiment Hoortoestellen'!$B$26),1,IF(ISERROR(SEARCH(PROPER('Assortiment Hoortoestellen'!$B$26),PROPER('Dataset hoortoestellen'!D28108))),0,1))","v":1}]
["Weegels hoorbeleving",2,"ReSound","KEY 288-DWH","RES-0314",{"$f":"IF(ISBLANK('Assortiment Hoortoestellen'!$B$26),1,IF(ISERROR(SEARCH(PROPER('Assortiment Hoortoestellen'!$B$26),PROPER('Dataset hoortoestellen'!D28117))),0,1))","v":1}]
["Weegels hoorbeleving",4,"ReSound","KEY 4ITC-DW","RES-0333",{"$f":"IF(ISBLANK('Assortiment Hoortoestellen'!$B$26),1,IF(ISERROR(SEARCH(PROPER('Assortiment Hoortoestellen'!$B$26),PROPER('Dataset hoortoestellen'!D28136))),0,1))","v":1}]
["Weegels hoorbeleving",2,"Starkey","Muse iQ i1000 BTE 13 PP","STA-0350",{"$f":"IF(ISBLANK('Assortiment Hoortoestellen'!$B$26),1,IF(ISERROR(SEARCH(PROPER('Assortiment Hoortoestellen'!$B$26),PROPER('Dataset hoortoestellen'!D28150))),0,1))","v":1}]
["Weegels hoorbeleving",5,"Starkey","Muse iQ i1600 CIC","STA-0372\n",{"$f":"IF(ISBLANK('Assortiment Hoortoestellen'!$B$26),1,IF(ISERROR(SEARCH(PROPER('Assortiment Hoortoestellen'!$B$26),PROPER('Dataset hoortoestellen'!D28160))),0,1))","v":1}]
["Weegels hoorbeleving",4,"Starkey","Livio 1200 RIC 312","STA-0386",{"$f":"IF(ISBLANK('Assortiment Hoortoestellen'!$B$26),1,IF(ISERROR(SEARCH(PROPER('Assortiment Hoortoestellen'!$B$26),PROPER('Dataset hoortoestellen'!D28169))),0,1))","v":1}]
["Weegels hoorbeleving",3,"Unitron","T Stride 500 M","UNI-0304",{"$f":"IF(ISBLANK('Assortiment Hoortoestellen'!$B$26),1,IF(ISERROR(SEARCH(PROPER('Assortiment Hoortoestellen'!$B$26),PROPER('Dataset hoortoestellen'!D28184))),0,1))","v":1}]
["Weegels hoorbeleving",2,"Unitron","Shine Rev+ RIC","UNI-0432",{"$f":"IF(ISBLANK('Assortiment Hoortoestellen'!$B$26),1,IF(ISERROR(SEARCH(PROPER('Assortiment Hoortoestellen'!$B$26),PROPER('Dataset hoortoestellen'!D28198))),0,1))","v":1}]
["Weegels hoorbeleving",4,"Unitron","DX Moxi Fit 5","UNI-0444",{"$f":"IF(ISBLANK('Assortiment Hoortoestellen'!$B$26),1,IF(ISERROR(SEARCH(PROPER('Assortiment Hoortoestellen'!$B$26),PROPER('Dataset hoortoestellen'!D28208))),0,1))","v":1}]
["Weegels hoorbeleving",3,"Widex","U110-FS (P-tel)","WID-0413",{"$f":"IF(ISBLANK('Assortiment Hoortoestellen'!$B$26),1,IF(ISERROR(SEARCH(PROPER('Assortiment Hoortoestellen'!$B$26),PROPER('Dataset hoortoestellen'!D28231))),0,1))","v":1}]
["Weegels hoorbeleving",3,"Widex","U220-CIC","WID-0418",{"$f":"IF(ISBLANK('Assortiment Hoortoestellen'!$B$26),1,IF(ISERROR(SEARCH(PROPER('Assortiment Hoortoestellen'!$B$26),PROPER('Dataset hoortoestellen'!D28236))),0,1))","v":1}]
["Weegels hoorbeleving",4,"Widex","U330-CIC TR","WID-0432",{"$f":"IF(ISBLANK('Assortiment Hoortoestellen'!$B$26),1,IF(ISERROR(SEARCH(PROPER('Assortiment Hoortoestellen'!$B$26),PROPER('Dataset hoortoestellen'!D28250))),0,1))","v":1}]
["Weegels hoorbeleving",4,"Widex","U330-PA (S-tel)","WID-0442",{"$f":"IF(ISBLANK('Assortiment Hoortoestellen'!$B$26),1,IF(ISERROR(SEARCH(PROPER('Assortiment Hoortoestellen'!$B$26),PROPER('Dataset hoortoestellen'!D28260))),0,1))","v":1}]
["Weegels hoorbeleving",4,"Widex","Enjoy E-CIC 220 Links","WID-0552",{"$f":"IF(ISBLANK('Assortiment Hoortoestellen'!$B$26),1,IF(ISERROR(SEARCH(PROPER('Assortiment Hoortoestellen'!$B$26),PROPER('Dataset hoortoestellen'!D28283))),0,1))","v":1}]
["Weegels hoorbeleving",4,"Widex","Enjoy E-F2 220 (M-tel)","WID-0583",{"$f":"IF(ISBLANK('Assortiment Hoortoestellen'!$B$26),1,IF(ISERROR(SEARCH(PROPER('Assortiment Hoortoestellen'!$B$26),PROPER('Dataset hoortoestellen'!D28297))),0,1))","v":1}]
["Weegels hoorbeleving",3,"Widex","Enjoy E-FM 110","WID-0605",{"$f":"IF(ISBLANK('Assortiment Hoortoestellen'!$B$26),1,IF(ISERROR(SEARCH(PROPER('Assortiment Hoortoestellen'!$B$26),PROPER('Dataset hoortoestellen'!D28312))),0,1))","v":1}]
["Weegels hoorbeleving",3,"Widex","Enjoy E-FS 110 (M-tel)","WID-0621",{"$f":"IF(ISBLANK('Assortiment Hoortoestellen'!$B$26),1,IF(ISERROR(SEARCH(PROPER('Assortiment Hoortoestellen'!$B$26),PROPER('Dataset hoortoestellen'!D28321))),0,1))","v":1}]
["Weegels hoorbeleving",5,"Widex","Enjoy E-FS 330 (S-tel)","WID-0631",{"$f":"IF(ISBLANK('Assortiment Hoortoestellen'!$B$26),1,IF(ISERROR(SEARCH(PROPER('Assortiment Hoortoestellen'!$B$26),PROPER('Dataset hoortoestellen'!D28331))),0,1))","v":1}]
["Weegels hoorbeleving",5,"Widex","Enjoy E-CIC TR 330 Rechts","WID-0663",{"$f":"IF(ISBLANK('Assortiment Hoortoestellen'!$B$26),1,IF(ISERROR(SEARCH(PROPER('Assortiment Hoortoestellen'!$B$26),PROPER('Dataset hoortoestellen'!D28349))),0,1))","v":1}]
["Zeezicht Optiek en Audiciens",4,"Oticon","Siya 1 ITE 75 - 100","OTI-0342",{"$f":"IF(ISBLANK('Assortiment Hoortoestellen'!$B$26),1,IF(ISERROR(SEARCH(PROPER('Assortiment Hoortoestellen'!$B$26),PROPER('Dataset hoortoestellen'!D28364))),0,1))","v":1}]
["Zweers Hoortoestellen V.O.F. ",3,"Audio Service","quiX 6  G5 Rechts","AUS-0213",{"$f":"IF(ISBLANK('Assortiment Hoortoestellen'!$B$26),1,IF(ISERROR(SEARCH(PROPER('Assortiment Hoortoestellen'!$B$26),PROPER('Dataset hoortoestellen'!D28373))),0,1))","v":1}]
["Zweers Hoortoestellen V.O.F. ",3,"Audio Service","quiX 4 G6 rechts","AUS-0254",{"$f":"IF(ISBLANK('Assortiment Hoortoestellen'!$B$26),1,IF(ISERROR(SEARCH(PROPER('Assortiment Hoortoestellen'!$B$26),PROPER('Dataset hoortoestellen'!D28383))),0,1))","v":1}]
["Zweers Hoortoestellen V.O.F. ",4,"Audio Service","P 8 G5","AUS-0190",{"$f":"IF(ISBLANK('Assortiment Hoortoestellen'!$B$26),1,IF(ISERROR(SEARCH(PROPER('Assortiment Hoortoestellen'!$B$26),PROPER('Dataset hoortoestellen'!D28397))),0,1))","v":1}]
["Zweers Hoortoestellen V.O.F. ",1,"Audio Service ","Volta P C","AUS-0220",{"$f":"IF(ISBLANK('Assortiment Hoortoestellen'!$B$26),1,IF(ISERROR(SEARCH(PROPER('Assortiment Hoortoestellen'!$B$26),PROPER('Dataset hoortoestellen'!D28412))),0,1))","v":1}]
["Zweers Hoortoestellen V.O.F. ",5,"Beltone","Amaze 663-DRWC","BEL-0127",{"$f":"IF(ISBLANK('Assortiment Hoortoestellen'!$B$26),1,IF(ISERROR(SEARCH(PROPER('Assortiment Hoortoestellen'!$B$26),PROPER('Dataset hoortoestellen'!D28421))),0,1))","v":1}]
["Zweers Hoortoestellen V.O.F. ",5,"Coselgi","Effect EF6-CIC Links","COS-0347",{"$f":"IF(ISBLANK('Assortiment Hoortoestellen'!$B$26),1,IF(ISERROR(SEARCH(PROPER('Assortiment Hoortoestellen'!$B$26),PROPER('Dataset hoortoestellen'!D28445))),0,1))","v":1}]
["Zweers Hoortoestellen V.O.F. ",4,"Coselgi","Effect EF5-CIC Rechts","COS-0329",{"$f":"IF(ISBLANK('Assortiment Hoortoestellen'!$B$26),1,IF(ISERROR(SEARCH(PROPER('Assortiment Hoortoestellen'!$B$26),PROPER('Dataset hoortoestellen'!D28458))),0,1))","v":1}]
["Zweers Hoortoestellen V.O.F. ",4,"Coselgi","Effect EF5-CIC TR Rechts","COS-0331",{"$f":"IF(ISBLANK('Assortiment Hoortoestellen'!$B$26),1,IF(ISERROR(SEARCH(PROPER('Assortiment Hoortoestellen'!$B$26),PROPER('Dataset hoortoestellen'!D28465))),0,1))","v":1}]
["Zweers Hoortoestellen V.O.F. ",2,"Coselgi","Effect EF2-FA","COS-0290",{"$f":"IF(ISBLANK('Assortiment Hoortoestellen'!$B$26),1,IF(ISERROR(SEARCH(PROPER('Assortiment Hoortoestellen'!$B$26),PROPER('Dataset hoortoestellen'!D28478))),0,1))","v":1}]
["Zweers Hoortoestellen V.O.F. ",4,"Coselgi","Effect EF5-FM","COS-0333",{"$f":"IF(ISBLANK('Assortiment Hoortoestellen'!$B$26),1,IF(ISERROR(SEARCH(PROPER('Assortiment Hoortoestellen'!$B$26),PROPER('Dataset hoortoestellen'!D28489))),0,1))","v":1}]
["Zweers Hoortoestellen V.O.F. ",4,"Coselgi","Effect EF5-RIC 10 (S-tel)","COS-0325",{"$f":"IF(ISBLANK('Assortiment Hoortoestellen'!$B$26),1,IF(ISERROR(SEARCH(PROPER('Assortiment Hoortoestellen'!$B$26),PROPER('Dataset hoortoestellen'!D28511))),0,1))","v":1}]
["Zweers Hoortoestellen V.O.F. ",5,"Coselgi","Effect EF6-FS (M-tel)","COS-0342",{"$f":"IF(ISBLANK('Assortiment Hoortoestellen'!$B$26),1,IF(ISERROR(SEARCH(PROPER('Assortiment Hoortoestellen'!$B$26),PROPER('Dataset hoortoestellen'!D28517))),0,1))","v":1}]
["Zweers Hoortoestellen V.O.F. ",2,"Interton","MOVE 270-DW","INT-0055",{"$f":"IF(ISBLANK('Assortiment Hoortoestellen'!$B$26),1,IF(ISERROR(SEARCH(PROPER('Assortiment Hoortoestellen'!$B$26),PROPER('Dataset hoortoestellen'!D28530))),0,1))","v":1}]
["Zweers Hoortoestellen V.O.F. ",4,"Interton","MOVE 461-DRWC","INT-0067",{"$f":"IF(ISBLANK('Assortiment Hoortoestellen'!$B$26),1,IF(ISERROR(SEARCH(PROPER('Assortiment Hoortoestellen'!$B$26),PROPER('Dataset hoortoestellen'!D28554))),0,1))","v":1}]
["Zweers Hoortoestellen V.O.F. ",2,"Oticon","Geno 2 Custom 75 - 100","OTI-0385",{"$f":"IF(ISBLANK('Assortiment Hoortoestellen'!$B$26),1,IF(ISERROR(SEARCH(PROPER('Assortiment Hoortoestellen'!$B$26),PROPER('Dataset hoortoestellen'!D28563))),0,1))","v":1}]
["Zweers Hoortoestellen V.O.F. ",4,"Oticon","Siya 1 miniRITE T 60 - 105","OTI-0344",{"$f":"IF(ISBLANK('Assortiment Hoortoestellen'!$B$26),1,IF(ISERROR(SEARCH(PROPER('Assortiment Hoortoestellen'!$B$26),PROPER('Dataset hoortoestellen'!D28578))),0,1))","v":1}]
["Zweers Hoortoestellen V.O.F. ",5,"Phonak","Sky M50-PR","PHO-0337",{"$f":"IF(ISBLANK('Assortiment Hoortoestellen'!$B$26),1,IF(ISERROR(SEARCH(PROPER('Assortiment Hoortoestellen'!$B$26),PROPER('Dataset hoortoestellen'!D28592))),0,1))","v":1}]
["Zweers Hoortoestellen V.O.F. ",4,"Phonak","Sky M30-SP","PHO-0335",{"$f":"IF(ISBLANK('Assortiment Hoortoestellen'!$B$26),1,IF(ISERROR(SEARCH(PROPER('Assortiment Hoortoestellen'!$B$26),PROPER('Dataset hoortoestellen'!D28602))),0,1))","v":1}]
["Zweers Hoortoestellen V.O.F. ",5,"ReSound","LiNX Quattro 561-DRWT","RES-0338",{"$f":"IF(ISBLANK('Assortiment Hoortoestellen'!$B$26),1,IF(ISERROR(SEARCH(PROPER('Assortiment Hoortoestellen'!$B$26),PROPER('Dataset hoortoestellen'!D28611))),0,1))","v":1}]
["Zweers Hoortoestellen V.O.F. ",4,"ReSound","KEY 461-DRW","RES-0325",{"$f":"IF(ISBLANK('Assortiment Hoortoestellen'!$B$26),1,IF(ISERROR(SEARCH(PROPER('Assortiment Hoortoestellen'!$B$26),PROPER('Dataset hoortoestellen'!D28626))),0,1))","v":1}]
["Zweers Hoortoestellen V.O.F. ",3,"Starkey","Muse iQ i1000 ITE","STA-0354",{"$f":"IF(ISBLANK('Assortiment Hoortoestellen'!$B$26),1,IF(ISERROR(SEARCH(PROPER('Assortiment Hoortoestellen'!$B$26),PROPER('Dataset hoortoestellen'!D28644))),0,1))","v":1}]
["Zweers Hoortoestellen V.O.F. ",2,"Starkey","Livio 1000 BTE R","STA-0392",{"$f":"IF(ISBLANK('Assortiment Hoortoestellen'!$B$26),1,IF(ISERROR(SEARCH(PROPER('Assortiment Hoortoestellen'!$B$26),PROPER('Dataset hoortoestellen'!D28654))),0,1))","v":1}]
["Zweers Hoortoestellen V.O.F. ",1,"Starkey","Muse i1000 BTE312","STA-0278",{"$f":"IF(ISBLANK('Assortiment Hoortoestellen'!$B$26),1,IF(ISERROR(SEARCH(PROPER('Assortiment Hoortoestellen'!$B$26),PROPER('Dataset hoortoestellen'!D28663))),0,1))","v":1}]
["Zweers Hoortoestellen V.O.F. ",4,"Unitron","Insera B3-10 NW O","UNI-0533",{"$f":"IF(ISBLANK('Assortiment Hoortoestellen'!$B$26),1,IF(ISERROR(SEARCH(PROPER('Assortiment Hoortoestellen'!$B$26),PROPER('Dataset hoortoestellen'!D28678))),0,1))","v":1}]
["Zweers Hoortoestellen V.O.F. ",4,"Unitron","Moxi B3-312","UNI-0519",{"$f":"IF(ISBLANK('Assortiment Hoortoestellen'!$B$26),1,IF(ISERROR(SEARCH(PROPER('Assortiment Hoortoestellen'!$B$26),PROPER('Dataset hoortoestellen'!D28692))),0,1))","v":1}]
["Zweers Hoortoestellen V.O.F. ",3,"Widex","Enjoy E-XP 110","WID-0651",{"$f":"IF(ISBLANK('Assortiment Hoortoestellen'!$B$26),1,IF(ISERROR(SEARCH(PROPER('Assortiment Hoortoestellen'!$B$26),PROPER('Dataset hoortoestellen'!D28715))),0,1))","v":1}]
["Zweers Hoortoestellen V.O.F. ",4,"Widex","U330-CIC","WID-0431",{"$f":"IF(ISBLANK('Assortiment Hoortoestellen'!$B$26),1,IF(ISERROR(SEARCH(PROPER('Assortiment Hoortoestellen'!$B$26),PROPER('Dataset hoortoestellen'!D28725))),0,1))","v":1}]
["Zweers Hoortoestellen V.O.F. ",2,"Widex","Enjoy E-BTE 13D 50","WID-0549",{"$f":"IF(ISBLANK('Assortiment Hoortoestellen'!$B$26),1,IF(ISERROR(SEARCH(PROPER('Assortiment Hoortoestellen'!$B$26),PROPER('Dataset hoortoestellen'!D28739))),0,1))","v":1}]
["Zweers Hoortoestellen V.O.F. ",2,"Widex","Enjoy E-F2 50 (S-tel)","WID-0597",{"$f":"IF(ISBLANK('Assortiment Hoortoestellen'!$B$26),1,IF(ISERROR(SEARCH(PROPER('Assortiment Hoortoestellen'!$B$26),PROPER('Dataset hoortoestellen'!D28744))),0,1))","v":1}]
["Zweers Hoortoestellen V.O.F. ",4,"Widex","Enjoy E-FM 220","WID-0606",{"$f":"IF(ISBLANK('Assortiment Hoortoestellen'!$B$26),1,IF(ISERROR(SEARCH(PROPER('Assortiment Hoortoestellen'!$B$26),PROPER('Dataset hoortoestellen'!D28767))),0,1))","v":1}]
["Zweers Hoortoestellen V.O.F. ",5,"Widex","Enjoy E-F2 330 (P-tel)","WID-0588",{"$f":"IF(ISBLANK('Assortiment Hoortoestellen'!$B$26),1,IF(ISERROR(SEARCH(PROPER('Assortiment Hoortoestellen'!$B$26),PROPER('Dataset hoortoestellen'!D28777))),0,1))","v":1}]
["Zweers Hoortoestellen V.O.F. ",4,"Widex","U330-FA","WID-0435",{"$f":"IF(ISBLANK('Assortiment Hoortoestellen'!$B$26),1,IF(ISERROR(SEARCH(PROPER('Assortiment Hoortoestellen'!$B$26),PROPER('Dataset hoortoestellen'!D28791))),0,1))","v":1}]
["Zweers Hoortoestellen V.O.F. ",4,"Widex","U330-FS (P-tel)","WID-0439",{"$f":"IF(ISBLANK('Assortiment Hoortoestellen'!$B$26),1,IF(ISERROR(SEARCH(PROPER('Assortiment Hoortoestellen'!$B$26),PROPER('Dataset hoortoestellen'!D28806))),0,1))","v":1}]
["Zweers Hoortoestellen V.O.F. ",4,"Widex","U330-PA (S-tel)","WID-0442",{"$f":"IF(ISBLANK('Assortiment Hoortoestellen'!$B$26),1,IF(ISERROR(SEARCH(PROPER('Assortiment Hoortoestellen'!$B$26),PROPER('Dataset hoortoestellen'!D28815))),0,1))","v":1}]
["Zweers Hoortoestellen V.O.F. ",3,"Widex","U220-PA (M-tel)","WID-0428",{"$f":"IF(ISBLANK('Assortiment Hoortoestellen'!$B$26),1,IF(ISERROR(SEARCH(PROPER('Assortiment Hoortoestellen'!$B$26),PROPER('Dataset hoortoestellen'!D28825))),0,1))","v":1}]
["Kooijman Hoortoestellen",5,"Audio Service","Mood 12 G5","AUS-0184",{"$f":"IF(ISBLANK('Assortiment Hoortoestellen'!$B$26),1,IF(ISERROR(SEARCH(PROPER('Assortiment Hoortoestellen'!$B$26),PROPER('Dataset hoortoestellen'!D28839))),0,1))","v":1}]
["Kooijman Hoortoestellen",4,"Audio Service","HP 8 G4","AUS-0132",{"$f":"IF(ISBLANK('Assortiment Hoortoestellen'!$B$26),1,IF(ISERROR(SEARCH(PROPER('Assortiment Hoortoestellen'!$B$26),PROPER('Dataset hoortoestellen'!D28858))),0,1))","v":1}]
["Kooijman Hoortoestellen",1,"Audio Service ","Volta quiX C rechts","AUS-0222",{"$f":"IF(ISBLANK('Assortiment Hoortoestellen'!$B$26),1,IF(ISERROR(SEARCH(PROPER('Assortiment Hoortoestellen'!$B$26),PROPER('Dataset hoortoestellen'!D28867))),0,1))","v":1}]
["Kooijman Hoortoestellen",4,"Bernafon","Viron 5 MNR T R","BER-0670",{"$f":"IF(ISBLANK('Assortiment Hoortoestellen'!$B$26),1,IF(ISERROR(SEARCH(PROPER('Assortiment Hoortoestellen'!$B$26),PROPER('Dataset hoortoestellen'!D28891))),0,1))","v":1}]
["Kooijman Hoortoestellen",3,"Coselgi","Effect EF4-CIC Links","COS-0305",{"$f":"IF(ISBLANK('Assortiment Hoortoestellen'!$B$26),1,IF(ISERROR(SEARCH(PROPER('Assortiment Hoortoestellen'!$B$26),PROPER('Dataset hoortoestellen'!D28904))),0,1))","v":1}]
["Kooijman Hoortoestellen",2,"Coselgi","U6-CIC TR (links)","COS-0242",{"$f":"IF(ISBLANK('Assortiment Hoortoestellen'!$B$26),1,IF(ISERROR(SEARCH(PROPER('Assortiment Hoortoestellen'!$B$26),PROPER('Dataset hoortoestellen'!D28910))),0,1))","v":1}]
["Kooijman Hoortoestellen",3,"Coselgi","Effect EF4-F2 (P-tel)","COS-0296",{"$f":"IF(ISBLANK('Assortiment Hoortoestellen'!$B$26),1,IF(ISERROR(SEARCH(PROPER('Assortiment Hoortoestellen'!$B$26),PROPER('Dataset hoortoestellen'!D28928))),0,1))","v":1}]
["Kooijman Hoortoestellen",3,"Coselgi","Effect EF4-FP","COS-0313",{"$f":"IF(ISBLANK('Assortiment Hoortoestellen'!$B$26),1,IF(ISERROR(SEARCH(PROPER('Assortiment Hoortoestellen'!$B$26),PROPER('Dataset hoortoestellen'!D28939))),0,1))","v":1}]
["Kooijman Hoortoestellen",3,"Coselgi","Effect EF4-FS (P-tel)","COS-0301",{"$f":"IF(ISBLANK('Assortiment Hoortoestellen'!$B$26),1,IF(ISERROR(SEARCH(PROPER('Assortiment Hoortoestellen'!$B$26),PROPER('Dataset hoortoestellen'!D28952))),0,1))","v":1}]
["Kooijman Hoortoestellen",4,"Coselgi","MOJO MRR2D M4 (p-tel)","COS-0360",{"$f":"IF(ISBLANK('Assortiment Hoortoestellen'!$B$26),1,IF(ISERROR(SEARCH(PROPER('Assortiment Hoortoestellen'!$B$26),PROPER('Dataset hoortoestellen'!D28972))),0,1))","v":1}]
["Kooijman Hoortoestellen",5,"Coselgi","Effect EF6-FS (M-tel)","COS-0342",{"$f":"IF(ISBLANK('Assortiment Hoortoestellen'!$B$26),1,IF(ISERROR(SEARCH(PROPER('Assortiment Hoortoestellen'!$B$26),PROPER('Dataset hoortoestellen'!D28974))),0,1))","v":1}]
["Kooijman Hoortoestellen",5,"Coselgi","Effect EF6-FS (P-tel)","COS-0343",{"$f":"IF(ISBLANK('Assortiment Hoortoestellen'!$B$26),1,IF(ISERROR(SEARCH(PROPER('Assortiment Hoortoestellen'!$B$26),PROPER('Dataset hoortoestellen'!D28975))),0,1))","v":1}]
["Kooijman Hoortoestellen",5,"Coselgi","Effect EF6-FS (S-tel)","COS-0344",{"$f":"IF(ISBLANK('Assortiment Hoortoestellen'!$B$26),1,IF(ISERROR(SEARCH(PROPER('Assortiment Hoortoestellen'!$B$26),PROPER('Dataset hoortoestellen'!D28976))),0,1))","v":1}]
["Kooijman Hoortoestellen",5,"Coselgi","Effect EF6-RIC 10 (M-tel)","COS-0345",{"$f":"IF(ISBLANK('Assortiment Hoortoestellen'!$B$26),1,IF(ISERROR(SEARCH(PROPER('Assortiment Hoortoestellen'!$B$26),PROPER('Dataset hoortoestellen'!D28977))),0,1))","v":1}]
["Kooijman Hoortoestellen",5,"Coselgi","MOJO MRR2D M5 (m-tel)","COS-0361",{"$f":"IF(ISBLANK('Assortiment Hoortoestellen'!$B$26),1,IF(ISERROR(SEARCH(PROPER('Assortiment Hoortoestellen'!$B$26),PROPER('Dataset hoortoestellen'!D28978))),0,1))","v":1}]
["Kooijman Hoortoestellen",5,"Coselgi","MOJO MRR2D M5 (p-tel)","COS-0362",{"$f":"IF(ISBLANK('Assortiment Hoortoestellen'!$B$26),1,IF(ISERROR(SEARCH(PROPER('Assortiment Hoortoestellen'!$B$26),PROPER('Dataset hoortoestellen'!D28979))),0,1))","v":1}]
["Kooijman Hoortoestellen",3,"Interton","MOVE 4ITC-DW","INT-0074",{"$f":"IF(ISBLANK('Assortiment Hoortoestellen'!$B$26),1,IF(ISERROR(SEARCH(PROPER('Assortiment Hoortoestellen'!$B$26),PROPER('Dataset hoortoestellen'!D28980))),0,1))","v":1}]
["Kooijman Hoortoestellen",3,"Interton","MOVE 4CIC-W","INT-0073",{"$f":"IF(ISBLANK('Assortiment Hoortoestellen'!$B$26),1,IF(ISERROR(SEARCH(PROPER('Assortiment Hoortoestellen'!$B$26),PROPER('Dataset hoortoestellen'!D28981))),0,1))","v":1}]
["Kooijman Hoortoestellen",4,"Interton","MOVE 6ITC-DW","INT-0083",{"$f":"IF(ISBLANK('Assortiment Hoortoestellen'!$B$26),1,IF(ISERROR(SEARCH(PROPER('Assortiment Hoortoestellen'!$B$26),PROPER('Dataset hoortoestellen'!D28982))),0,1))","v":1}]
["Kooijman Hoortoestellen",4,"Interton","MOVE 6CIC-W","INT-0082",{"$f":"IF(ISBLANK('Assortiment Hoortoestellen'!$B$26),1,IF(ISERROR(SEARCH(PROPER('Assortiment Hoortoestellen'!$B$26),PROPER('Dataset hoortoestellen'!D28983))),0,1))","v":1}]
["Kooijman Hoortoestellen",2,"Interton","RD3ITC-DW","INT-0037",{"$f":"IF(ISBLANK('Assortiment Hoortoestellen'!$B$26),1,IF(ISERROR(SEARCH(PROPER('Assortiment Hoortoestellen'!$B$26),PROPER('Dataset hoortoestellen'!D28984))),0,1))","v":1}]
["Kooijman Hoortoestellen",2,"Interton","RD3CIC","INT-0036",{"$f":"IF(ISBLANK('Assortiment Hoortoestellen'!$B$26),1,IF(ISERROR(SEARCH(PROPER('Assortiment Hoortoestellen'!$B$26),PROPER('Dataset hoortoestellen'!D28985))),0,1))","v":1}]
["Kooijman Hoortoestellen",1,"Interton","MOVE 270-DW","INT-0055",{"$f":"IF(ISBLANK('Assortiment Hoortoestellen'!$B$26),1,IF(ISERROR(SEARCH(PROPER('Assortiment Hoortoestellen'!$B$26),PROPER('Dataset hoortoestellen'!D28986))),0,1))","v":1}]
["Kooijman Hoortoestellen",1,"Interton","MOVE 290-DW","INT-0057",{"$f":"IF(ISBLANK('Assortiment Hoortoestellen'!$B$26),1,IF(ISERROR(SEARCH(PROPER('Assortiment Hoortoestellen'!$B$26),PROPER('Dataset hoortoestellen'!D28987))),0,1))","v":1}]
["Kooijman Hoortoestellen",2,"Interton","MOVE 370-DW","INT-0061",{"$f":"IF(ISBLANK('Assortiment Hoortoestellen'!$B$26),1,IF(ISERROR(SEARCH(PROPER('Assortiment Hoortoestellen'!$B$26),PROPER('Dataset hoortoestellen'!D28988))),0,1))","v":1}]
["Kooijman Hoortoestellen",2,"Interton","MOVE 380-DWH","INT-0062",{"$f":"IF(ISBLANK('Assortiment Hoortoestellen'!$B$26),1,IF(ISERROR(SEARCH(PROPER('Assortiment Hoortoestellen'!$B$26),PROPER('Dataset hoortoestellen'!D28989))),0,1))","v":1}]
["Kooijman Hoortoestellen",2,"Interton","MOVE 361-DRW","INT-0058",{"$f":"IF(ISBLANK('Assortiment Hoortoestellen'!$B$26),1,IF(ISERROR(SEARCH(PROPER('Assortiment Hoortoestellen'!$B$26),PROPER('Dataset hoortoestellen'!D28990))),0,1))","v":1}]
["Kooijman Hoortoestellen",2,"Interton","MOVE 362-DRW","INT-0059",{"$f":"IF(ISBLANK('Assortiment Hoortoestellen'!$B$26),1,IF(ISERROR(SEARCH(PROPER('Assortiment Hoortoestellen'!$B$26),PROPER('Dataset hoortoestellen'!D28991))),0,1))","v":1}]
["Kooijman Hoortoestellen",2,"Interton","MOVE 365-DW","INT-0060",{"$f":"IF(ISBLANK('Assortiment Hoortoestellen'!$B$26),1,IF(ISERROR(SEARCH(PROPER('Assortiment Hoortoestellen'!$B$26),PROPER('Dataset hoortoestellen'!D28992))),0,1))","v":1}]
["Kooijman Hoortoestellen",2,"Interton","MOVE 390-DW","INT-0063",{"$f":"IF(ISBLANK('Assortiment Hoortoestellen'!$B$26),1,IF(ISERROR(SEARCH(PROPER('Assortiment Hoortoestellen'!$B$26),PROPER('Dataset hoortoestellen'!D28993))),0,1))","v":1}]
["Kooijman Hoortoestellen",4,"Interton","MOVE 670-DW","INT-0079",{"$f":"IF(ISBLANK('Assortiment Hoortoestellen'!$B$26),1,IF(ISERROR(SEARCH(PROPER('Assortiment Hoortoestellen'!$B$26),PROPER('Dataset hoortoestellen'!D28994))),0,1))","v":1}]
["Kooijman Hoortoestellen",4,"Interton","MOVE 680-DWH","INT-0080",{"$f":"IF(ISBLANK('Assortiment Hoortoestellen'!$B$26),1,IF(ISERROR(SEARCH(PROPER('Assortiment Hoortoestellen'!$B$26),PROPER('Dataset hoortoestellen'!D28995))),0,1))","v":1}]
["Kooijman Hoortoestellen",4,"Interton","MOVE 661-DRW","INT-0075",{"$f":"IF(ISBLANK('Assortiment Hoortoestellen'!$B$26),1,IF(ISERROR(SEARCH(PROPER('Assortiment Hoortoestellen'!$B$26),PROPER('Dataset hoortoestellen'!D28996))),0,1))","v":1}]
["Kooijman Hoortoestellen",4,"Interton","MOVE 662-DRW","INT-0077",{"$f":"IF(ISBLANK('Assortiment Hoortoestellen'!$B$26),1,IF(ISERROR(SEARCH(PROPER('Assortiment Hoortoestellen'!$B$26),PROPER('Dataset hoortoestellen'!D28997))),0,1))","v":1}]
["Kooijman Hoortoestellen",4,"Interton","MOVE 665-DW","INT-0078",{"$f":"IF(ISBLANK('Assortiment Hoortoestellen'!$B$26),1,IF(ISERROR(SEARCH(PROPER('Assortiment Hoortoestellen'!$B$26),PROPER('Dataset hoortoestellen'!D28998))),0,1))","v":1}]
["Kooijman Hoortoestellen",4,"Interton","MOVE 690-DW","INT-0081",{"$f":"IF(ISBLANK('Assortiment Hoortoestellen'!$B$26),1,IF(ISERROR(SEARCH(PROPER('Assortiment Hoortoestellen'!$B$26),PROPER('Dataset hoortoestellen'!D28999))),0,1))","v":1}]
["Kooijman Hoortoestellen",4,"Interton","MOVE 661-DRWC","INT-0076",{"$f":"IF(ISBLANK('Assortiment Hoortoestellen'!$B$26),1,IF(ISERROR(SEARCH(PROPER('Assortiment Hoortoestellen'!$B$26),PROPER('Dataset hoortoestellen'!D29000))),0,1))","v":1}]
["Kooijman Hoortoestellen",3,"Interton","MOVE 470-DW","INT-0070",{"$f":"IF(ISBLANK('Assortiment Hoortoestellen'!$B$26),1,IF(ISERROR(SEARCH(PROPER('Assortiment Hoortoestellen'!$B$26),PROPER('Dataset hoortoestellen'!D29001))),0,1))","v":1}]
["Kooijman Hoortoestellen",3,"Interton","MOVE 480-DWH","INT-0071",{"$f":"IF(ISBLANK('Assortiment Hoortoestellen'!$B$26),1,IF(ISERROR(SEARCH(PROPER('Assortiment Hoortoestellen'!$B$26),PROPER('Dataset hoortoestellen'!D29002))),0,1))","v":1}]
["Kooijman Hoortoestellen",3,"Interton","MOVE 461-DRW","INT-0066",{"$f":"IF(ISBLANK('Assortiment Hoortoestellen'!$B$26),1,IF(ISERROR(SEARCH(PROPER('Assortiment Hoortoestellen'!$B$26),PROPER('Dataset hoortoestellen'!D29003))),0,1))","v":1}]
["Kooijman Hoortoestellen",3,"Interton","MOVE 462-DRW","INT-0068",{"$f":"IF(ISBLANK('Assortiment Hoortoestellen'!$B$26),1,IF(ISERROR(SEARCH(PROPER('Assortiment Hoortoestellen'!$B$26),PROPER('Dataset hoortoestellen'!D29004))),0,1))","v":1}]
["Kooijman Hoortoestellen",3,"Interton","MOVE 465-DW","INT-0069",{"$f":"IF(ISBLANK('Assortiment Hoortoestellen'!$B$26),1,IF(ISERROR(SEARCH(PROPER('Assortiment Hoortoestellen'!$B$26),PROPER('Dataset hoortoestellen'!D29005))),0,1))","v":1}]
["Kooijman Hoortoestellen",3,"Interton","MOVE 490-DW","INT-0072",{"$f":"IF(ISBLANK('Assortiment Hoortoestellen'!$B$26),1,IF(ISERROR(SEARCH(PROPER('Assortiment Hoortoestellen'!$B$26),PROPER('Dataset hoortoestellen'!D29006))),0,1))","v":1}]
["Kooijman Hoortoestellen",3,"Interton","MOVE 461-DRWC","INT-0067",{"$f":"IF(ISBLANK('Assortiment Hoortoestellen'!$B$26),1,IF(ISERROR(SEARCH(PROPER('Assortiment Hoortoestellen'!$B$26),PROPER('Dataset hoortoestellen'!D29007))),0,1))","v":1}]
["Kooijman Hoortoestellen",2,"Oticon","Geno 2 Custom 75 - 100","OTI-0385",{"$f":"IF(ISBLANK('Assortiment Hoortoestellen'!$B$26),1,IF(ISERROR(SEARCH(PROPER('Assortiment Hoortoestellen'!$B$26),PROPER('Dataset hoortoestellen'!D29008))),0,1))","v":1}]
["Kooijman Hoortoestellen",2,"Oticon","Geno 2 Custom 75 - 100","OTI-0385",{"$f":"IF(ISBLANK('Assortiment Hoortoestellen'!$B$26),1,IF(ISERROR(SEARCH(PROPER('Assortiment Hoortoestellen'!$B$26),PROPER('Dataset hoortoestellen'!D29009))),0,1))","v":1}]
["Kooijman Hoortoestellen",5,"Oticon","Opn 3 CIC 75 - 85","OTI-0360",{"$f":"IF(ISBLANK('Assortiment Hoortoestellen'!$B$26),1,IF(ISERROR(SEARCH(PROPER('Assortiment Hoortoestellen'!$B$26),PROPER('Dataset hoortoestellen'!D29010))),0,1))","v":1}]
["Kooijman Hoortoestellen",5,"Oticon","Opn 3 ITE 75 - 100","OTI-0362",{"$f":"IF(ISBLANK('Assortiment Hoortoestellen'!$B$26),1,IF(ISERROR(SEARCH(PROPER('Assortiment Hoortoestellen'!$B$26),PROPER('Dataset hoortoestellen'!D29011))),0,1))","v":1}]
["Kooijman Hoortoestellen",4,"Oticon","Siya 1 CIC 75 - 85","OTI-0340",{"$f":"IF(ISBLANK('Assortiment Hoortoestellen'!$B$26),1,IF(ISERROR(SEARCH(PROPER('Assortiment Hoortoestellen'!$B$26),PROPER('Dataset hoortoestellen'!D29012))),0,1))","v":1}]
["Kooijman Hoortoestellen",3,"Oticon","Geno 1 Custom 75 - 100","OTI-0378",{"$f":"IF(ISBLANK('Assortiment Hoortoestellen'!$B$26),1,IF(ISERROR(SEARCH(PROPER('Assortiment Hoortoestellen'!$B$26),PROPER('Dataset hoortoestellen'!D29013))),0,1))","v":1}]
["Kooijman Hoortoestellen",4,"Oticon","Siya 1 ITE 75 - 100","OTI-0342",{"$f":"IF(ISBLANK('Assortiment Hoortoestellen'!$B$26),1,IF(ISERROR(SEARCH(PROPER('Assortiment Hoortoestellen'!$B$26),PROPER('Dataset hoortoestellen'!D29014))),0,1))","v":1}]
["Kooijman Hoortoestellen",3,"Oticon","Siya 2 ITE 75 - 100","OTI-0349",{"$f":"IF(ISBLANK('Assortiment Hoortoestellen'!$B$26),1,IF(ISERROR(SEARCH(PROPER('Assortiment Hoortoestellen'!$B$26),PROPER('Dataset hoortoestellen'!D29015))),0,1))","v":1}]
["Kooijman Hoortoestellen",1,"Oticon","Get","OTI-0064",{"$f":"IF(ISBLANK('Assortiment Hoortoestellen'!$B$26),1,IF(ISERROR(SEARCH(PROPER('Assortiment Hoortoestellen'!$B$26),PROPER('Dataset hoortoestellen'!D29016))),0,1))","v":1}]
["Kooijman Hoortoestellen",1,"Oticon","Get","OTI-0065",{"$f":"IF(ISBLANK('Assortiment Hoortoestellen'!$B$26),1,IF(ISERROR(SEARCH(PROPER('Assortiment Hoortoestellen'!$B$26),PROPER('Dataset hoortoestellen'!D29017))),0,1))","v":1}]
["Kooijman Hoortoestellen",2,"Oticon","Geno 2 BTE 85","OTI-384",{"$f":"IF(ISBLANK('Assortiment Hoortoestellen'!$B$26),1,IF(ISERROR(SEARCH(PROPER('Assortiment Hoortoestellen'!$B$26),PROPER('Dataset hoortoestellen'!D29018))),0,1))","v":1}]
["Kooijman Hoortoestellen",2,"Oticon","Geno 2 BTE 105 PP","OTI-0383",{"$f":"IF(ISBLANK('Assortiment Hoortoestellen'!$B$26),1,IF(ISERROR(SEARCH(PROPER('Assortiment Hoortoestellen'!$B$26),PROPER('Dataset hoortoestellen'!D29019))),0,1))","v":1}]
["Kooijman Hoortoestellen",4,"Oticon","Siya 1 miniRITE T 60 - 105","OTI-0344",{"$f":"IF(ISBLANK('Assortiment Hoortoestellen'!$B$26),1,IF(ISERROR(SEARCH(PROPER('Assortiment Hoortoestellen'!$B$26),PROPER('Dataset hoortoestellen'!D29020))),0,1))","v":1}]
["Kooijman Hoortoestellen",4,"Oticon","Ruby 2 miniRITE R 60 - 105","OTI-0373",{"$f":"IF(ISBLANK('Assortiment Hoortoestellen'!$B$26),1,IF(ISERROR(SEARCH(PROPER('Assortiment Hoortoestellen'!$B$26),PROPER('Dataset hoortoestellen'!D29021))),0,1))","v":1}]
["Kooijman Hoortoestellen",3,"Oticon","Geno 1 BTE 85","OTI-0377",{"$f":"IF(ISBLANK('Assortiment Hoortoestellen'!$B$26),1,IF(ISERROR(SEARCH(PROPER('Assortiment Hoortoestellen'!$B$26),PROPER('Dataset hoortoestellen'!D29022))),0,1))","v":1}]
["Kooijman Hoortoestellen",5,"Oticon","Opn 3 miniRITE T 60 - 105","OTI-0364",{"$f":"IF(ISBLANK('Assortiment Hoortoestellen'!$B$26),1,IF(ISERROR(SEARCH(PROPER('Assortiment Hoortoestellen'!$B$26),PROPER('Dataset hoortoestellen'!D29023))),0,1))","v":1}]
["Kooijman Hoortoestellen",3,"Oticon","Siya 2 miniRITE T 60 - 105","OTI-0351",{"$f":"IF(ISBLANK('Assortiment Hoortoestellen'!$B$26),1,IF(ISERROR(SEARCH(PROPER('Assortiment Hoortoestellen'!$B$26),PROPER('Dataset hoortoestellen'!D29024))),0,1))","v":1}]
["Kooijman Hoortoestellen",5,"Oticon","Ruby 1 miniRITE R 60 - 105","OTI-0368",{"$f":"IF(ISBLANK('Assortiment Hoortoestellen'!$B$26),1,IF(ISERROR(SEARCH(PROPER('Assortiment Hoortoestellen'!$B$26),PROPER('Dataset hoortoestellen'!D29025))),0,1))","v":1}]
["Kooijman Hoortoestellen",4,"Phonak","Virto M30-10 NW O","PHO-0357",{"$f":"IF(ISBLANK('Assortiment Hoortoestellen'!$B$26),1,IF(ISERROR(SEARCH(PROPER('Assortiment Hoortoestellen'!$B$26),PROPER('Dataset hoortoestellen'!D29026))),0,1))","v":1}]
["Kooijman Hoortoestellen",4,"Phonak","Virto M30-312 NW O","PHO-0359",{"$f":"IF(ISBLANK('Assortiment Hoortoestellen'!$B$26),1,IF(ISERROR(SEARCH(PROPER('Assortiment Hoortoestellen'!$B$26),PROPER('Dataset hoortoestellen'!D29027))),0,1))","v":1}]
["Kooijman Hoortoestellen",4,"Phonak","Virto M30-312","PHO-0358",{"$f":"IF(ISBLANK('Assortiment Hoortoestellen'!$B$26),1,IF(ISERROR(SEARCH(PROPER('Assortiment Hoortoestellen'!$B$26),PROPER('Dataset hoortoestellen'!D29028))),0,1))","v":1}]
["Kooijman Hoortoestellen",4,"Phonak","Audéo M30-R","PHO-0344",{"$f":"IF(ISBLANK('Assortiment Hoortoestellen'!$B$26),1,IF(ISERROR(SEARCH(PROPER('Assortiment Hoortoestellen'!$B$26),PROPER('Dataset hoortoestellen'!D29029))),0,1))","v":1}]
["Kooijman Hoortoestellen",4,"Phonak","Audéo M30-RT","PHO-0345",{"$f":"IF(ISBLANK('Assortiment Hoortoestellen'!$B$26),1,IF(ISERROR(SEARCH(PROPER('Assortiment Hoortoestellen'!$B$26),PROPER('Dataset hoortoestellen'!D29030))),0,1))","v":1}]
["Kooijman Hoortoestellen",4,"Phonak","Audéo M30-312","PHO-0342",{"$f":"IF(ISBLANK('Assortiment Hoortoestellen'!$B$26),1,IF(ISERROR(SEARCH(PROPER('Assortiment Hoortoestellen'!$B$26),PROPER('Dataset hoortoestellen'!D29031))),0,1))","v":1}]
["Kooijman Hoortoestellen",4,"Phonak","Audéo M30-312T","PHO-0343",{"$f":"IF(ISBLANK('Assortiment Hoortoestellen'!$B$26),1,IF(ISERROR(SEARCH(PROPER('Assortiment Hoortoestellen'!$B$26),PROPER('Dataset hoortoestellen'!D29032))),0,1))","v":1}]
["Kooijman Hoortoestellen",4,"Phonak","Audéo M30-13T","PHO-0341",{"$f":"IF(ISBLANK('Assortiment Hoortoestellen'!$B$26),1,IF(ISERROR(SEARCH(PROPER('Assortiment Hoortoestellen'!$B$26),PROPER('Dataset hoortoestellen'!D29033))),0,1))","v":1}]
["Kooijman Hoortoestellen",4,"Phonak","Bolero M30-M","PHO-0351",{"$f":"IF(ISBLANK('Assortiment Hoortoestellen'!$B$26),1,IF(ISERROR(SEARCH(PROPER('Assortiment Hoortoestellen'!$B$26),PROPER('Dataset hoortoestellen'!D29034))),0,1))","v":1}]
["Kooijman Hoortoestellen",3,"Phonak","Audeo B 30 10","PHO-0269",{"$f":"IF(ISBLANK('Assortiment Hoortoestellen'!$B$26),1,IF(ISERROR(SEARCH(PROPER('Assortiment Hoortoestellen'!$B$26),PROPER('Dataset hoortoestellen'!D29035))),0,1))","v":1}]
["Kooijman Hoortoestellen",4,"Phonak","Bolero M30-PR","PHO-0352",{"$f":"IF(ISBLANK('Assortiment Hoortoestellen'!$B$26),1,IF(ISERROR(SEARCH(PROPER('Assortiment Hoortoestellen'!$B$26),PROPER('Dataset hoortoestellen'!D29036))),0,1))","v":1}]
["Kooijman Hoortoestellen",5,"Phonak","Audéo M50-R","PHO-0349",{"$f":"IF(ISBLANK('Assortiment Hoortoestellen'!$B$26),1,IF(ISERROR(SEARCH(PROPER('Assortiment Hoortoestellen'!$B$26),PROPER('Dataset hoortoestellen'!D29037))),0,1))","v":1}]
["Kooijman Hoortoestellen",3,"Phonak","Audeo B 30 13","PHO-0270",{"$f":"IF(ISBLANK('Assortiment Hoortoestellen'!$B$26),1,IF(ISERROR(SEARCH(PROPER('Assortiment Hoortoestellen'!$B$26),PROPER('Dataset hoortoestellen'!D29038))),0,1))","v":1}]
["Kooijman Hoortoestellen",4,"Phonak","Naida M30-SP","PHO-0355",{"$f":"IF(ISBLANK('Assortiment Hoortoestellen'!$B$26),1,IF(ISERROR(SEARCH(PROPER('Assortiment Hoortoestellen'!$B$26),PROPER('Dataset hoortoestellen'!D29039))),0,1))","v":1}]
["Kooijman Hoortoestellen",5,"Phonak","Audéo M50-RT","PHO-0350",{"$f":"IF(ISBLANK('Assortiment Hoortoestellen'!$B$26),1,IF(ISERROR(SEARCH(PROPER('Assortiment Hoortoestellen'!$B$26),PROPER('Dataset hoortoestellen'!D29040))),0,1))","v":1}]
["Kooijman Hoortoestellen",3,"Phonak","Audeo B 30 312","PHO-0271",{"$f":"IF(ISBLANK('Assortiment Hoortoestellen'!$B$26),1,IF(ISERROR(SEARCH(PROPER('Assortiment Hoortoestellen'!$B$26),PROPER('Dataset hoortoestellen'!D29041))),0,1))","v":1}]
["Kooijman Hoortoestellen",4,"Phonak","Sky M30-PR","PHO-0334",{"$f":"IF(ISBLANK('Assortiment Hoortoestellen'!$B$26),1,IF(ISERROR(SEARCH(PROPER('Assortiment Hoortoestellen'!$B$26),PROPER('Dataset hoortoestellen'!D29042))),0,1))","v":1}]
["Kooijman Hoortoestellen",5,"Phonak","Audéo M50-312","PHO-0347",{"$f":"IF(ISBLANK('Assortiment Hoortoestellen'!$B$26),1,IF(ISERROR(SEARCH(PROPER('Assortiment Hoortoestellen'!$B$26),PROPER('Dataset hoortoestellen'!D29043))),0,1))","v":1}]
["Kooijman Hoortoestellen",3,"Phonak","Audeo B 30 312 T","PHO-0272",{"$f":"IF(ISBLANK('Assortiment Hoortoestellen'!$B$26),1,IF(ISERROR(SEARCH(PROPER('Assortiment Hoortoestellen'!$B$26),PROPER('Dataset hoortoestellen'!D29044))),0,1))","v":1}]
["Kooijman Hoortoestellen",4,"Phonak","Sky M30-M","PHO-0333",{"$f":"IF(ISBLANK('Assortiment Hoortoestellen'!$B$26),1,IF(ISERROR(SEARCH(PROPER('Assortiment Hoortoestellen'!$B$26),PROPER('Dataset hoortoestellen'!D29045))),0,1))","v":1}]
["Kooijman Hoortoestellen",5,"Phonak","Audéo M50-312T","PHO-0348",{"$f":"IF(ISBLANK('Assortiment Hoortoestellen'!$B$26),1,IF(ISERROR(SEARCH(PROPER('Assortiment Hoortoestellen'!$B$26),PROPER('Dataset hoortoestellen'!D29046))),0,1))","v":1}]
["Kooijman Hoortoestellen",3,"Phonak","Bolero B 30 M","PHO-0283",{"$f":"IF(ISBLANK('Assortiment Hoortoestellen'!$B$26),1,IF(ISERROR(SEARCH(PROPER('Assortiment Hoortoestellen'!$B$26),PROPER('Dataset hoortoestellen'!D29047))),0,1))","v":1}]
["Kooijman Hoortoestellen",5,"Phonak","Audéo M50-13T","PHO-0346",{"$f":"IF(ISBLANK('Assortiment Hoortoestellen'!$B$26),1,IF(ISERROR(SEARCH(PROPER('Assortiment Hoortoestellen'!$B$26),PROPER('Dataset hoortoestellen'!D29048))),0,1))","v":1}]
["Kooijman Hoortoestellen",3,"Phonak","Bolero B 30 P","PHO-0284",{"$f":"IF(ISBLANK('Assortiment Hoortoestellen'!$B$26),1,IF(ISERROR(SEARCH(PROPER('Assortiment Hoortoestellen'!$B$26),PROPER('Dataset hoortoestellen'!D29049))),0,1))","v":1}]
["Kooijman Hoortoestellen",4,"Phonak","Sky M30-SP","PHO-0335",{"$f":"IF(ISBLANK('Assortiment Hoortoestellen'!$B$26),1,IF(ISERROR(SEARCH(PROPER('Assortiment Hoortoestellen'!$B$26),PROPER('Dataset hoortoestellen'!D29050))),0,1))","v":1}]
["Kooijman Hoortoestellen",5,"Phonak","Bolero M50-M","PHO-0353",{"$f":"IF(ISBLANK('Assortiment Hoortoestellen'!$B$26),1,IF(ISERROR(SEARCH(PROPER('Assortiment Hoortoestellen'!$B$26),PROPER('Dataset hoortoestellen'!D29051))),0,1))","v":1}]
["Kooijman Hoortoestellen",3,"Phonak","Bolero B 30 SP","PHO-0285",{"$f":"IF(ISBLANK('Assortiment Hoortoestellen'!$B$26),1,IF(ISERROR(SEARCH(PROPER('Assortiment Hoortoestellen'!$B$26),PROPER('Dataset hoortoestellen'!D29052))),0,1))","v":1}]
["Kooijman Hoortoestellen",5,"Phonak","Bolero M50-PR","PHO-0354",{"$f":"IF(ISBLANK('Assortiment Hoortoestellen'!$B$26),1,IF(ISERROR(SEARCH(PROPER('Assortiment Hoortoestellen'!$B$26),PROPER('Dataset hoortoestellen'!D29053))),0,1))","v":1}]
["Kooijman Hoortoestellen",3,"Phonak","Naida B 30 SP","PHO-0299",{"$f":"IF(ISBLANK('Assortiment Hoortoestellen'!$B$26),1,IF(ISERROR(SEARCH(PROPER('Assortiment Hoortoestellen'!$B$26),PROPER('Dataset hoortoestellen'!D29054))),0,1))","v":1}]
["Kooijman Hoortoestellen",5,"Phonak","Naida M50-SP","PHO-0356",{"$f":"IF(ISBLANK('Assortiment Hoortoestellen'!$B$26),1,IF(ISERROR(SEARCH(PROPER('Assortiment Hoortoestellen'!$B$26),PROPER('Dataset hoortoestellen'!D29055))),0,1))","v":1}]
["Kooijman Hoortoestellen",3,"Phonak","Naida B 30 UP","PHO-0300",{"$f":"IF(ISBLANK('Assortiment Hoortoestellen'!$B$26),1,IF(ISERROR(SEARCH(PROPER('Assortiment Hoortoestellen'!$B$26),PROPER('Dataset hoortoestellen'!D29056))),0,1))","v":1}]
["Kooijman Hoortoestellen",5,"Phonak","Sky M50-PR","PHO-0337",{"$f":"IF(ISBLANK('Assortiment Hoortoestellen'!$B$26),1,IF(ISERROR(SEARCH(PROPER('Assortiment Hoortoestellen'!$B$26),PROPER('Dataset hoortoestellen'!D29057))),0,1))","v":1}]
["Kooijman Hoortoestellen",3,"Phonak","Sky B 30 M","PHO-0307",{"$f":"IF(ISBLANK('Assortiment Hoortoestellen'!$B$26),1,IF(ISERROR(SEARCH(PROPER('Assortiment Hoortoestellen'!$B$26),PROPER('Dataset hoortoestellen'!D29058))),0,1))","v":1}]
["Kooijman Hoortoestellen",5,"Phonak","Sky M50-M","PHO-0336",{"$f":"IF(ISBLANK('Assortiment Hoortoestellen'!$B$26),1,IF(ISERROR(SEARCH(PROPER('Assortiment Hoortoestellen'!$B$26),PROPER('Dataset hoortoestellen'!D29059))),0,1))","v":1}]
["Kooijman Hoortoestellen",3,"Phonak","Sky B 30 P","PHO-0308",{"$f":"IF(ISBLANK('Assortiment Hoortoestellen'!$B$26),1,IF(ISERROR(SEARCH(PROPER('Assortiment Hoortoestellen'!$B$26),PROPER('Dataset hoortoestellen'!D29060))),0,1))","v":1}]
["Kooijman Hoortoestellen",5,"Phonak","Sky M50-SP","PHO-0338",{"$f":"IF(ISBLANK('Assortiment Hoortoestellen'!$B$26),1,IF(ISERROR(SEARCH(PROPER('Assortiment Hoortoestellen'!$B$26),PROPER('Dataset hoortoestellen'!D29061))),0,1))","v":1}]
["Kooijman Hoortoestellen",3,"Phonak","Sky B 30 RIC","PHO-0309",{"$f":"IF(ISBLANK('Assortiment Hoortoestellen'!$B$26),1,IF(ISERROR(SEARCH(PROPER('Assortiment Hoortoestellen'!$B$26),PROPER('Dataset hoortoestellen'!D29062))),0,1))","v":1}]
["Kooijman Hoortoestellen",3,"Phonak","Sky B 30 SP","PHO-0310",{"$f":"IF(ISBLANK('Assortiment Hoortoestellen'!$B$26),1,IF(ISERROR(SEARCH(PROPER('Assortiment Hoortoestellen'!$B$26),PROPER('Dataset hoortoestellen'!D29063))),0,1))","v":1}]
["Kooijman Hoortoestellen",3,"Phonak","Sky B 30 UP","PHO-0311",{"$f":"IF(ISBLANK('Assortiment Hoortoestellen'!$B$26),1,IF(ISERROR(SEARCH(PROPER('Assortiment Hoortoestellen'!$B$26),PROPER('Dataset hoortoestellen'!D29064))),0,1))","v":1}]
["Kooijman Hoortoestellen",1,"ReSound","Vea 130 -/P","RES-0011",{"$f":"IF(ISBLANK('Assortiment Hoortoestellen'!$B$26),1,IF(ISERROR(SEARCH(PROPER('Assortiment Hoortoestellen'!$B$26),PROPER('Dataset hoortoestellen'!D29065))),0,1))","v":1}]
["Kooijman Hoortoestellen",2,"ReSound","KEY 2ITC-DW","RES-0316",{"$f":"IF(ISBLANK('Assortiment Hoortoestellen'!$B$26),1,IF(ISERROR(SEARCH(PROPER('Assortiment Hoortoestellen'!$B$26),PROPER('Dataset hoortoestellen'!D29066))),0,1))","v":1}]
["Kooijman Hoortoestellen",5,"ReSound","LiNX 3D 7 ITC-DW","RES-0300",{"$f":"IF(ISBLANK('Assortiment Hoortoestellen'!$B$26),1,IF(ISERROR(SEARCH(PROPER('Assortiment Hoortoestellen'!$B$26),PROPER('Dataset hoortoestellen'!D29067))),0,1))","v":1}]
["Kooijman Hoortoestellen",3,"ReSound","KEY 3ITC-DW","RES-0324",{"$f":"IF(ISBLANK('Assortiment Hoortoestellen'!$B$26),1,IF(ISERROR(SEARCH(PROPER('Assortiment Hoortoestellen'!$B$26),PROPER('Dataset hoortoestellen'!D29068))),0,1))","v":1}]
["Kooijman Hoortoestellen",5,"ReSound","LiNX 3D 7 CIC","RES-0299",{"$f":"IF(ISBLANK('Assortiment Hoortoestellen'!$B$26),1,IF(ISERROR(SEARCH(PROPER('Assortiment Hoortoestellen'!$B$26),PROPER('Dataset hoortoestellen'!D29069))),0,1))","v":1}]
["Kooijman Hoortoestellen",3,"ReSound","KEY 3CIC-W","RES-0323",{"$f":"IF(ISBLANK('Assortiment Hoortoestellen'!$B$26),1,IF(ISERROR(SEARCH(PROPER('Assortiment Hoortoestellen'!$B$26),PROPER('Dataset hoortoestellen'!D29070))),0,1))","v":1}]
["Kooijman Hoortoestellen",4,"ReSound","KEY 4ITC-DW","RES-0333",{"$f":"IF(ISBLANK('Assortiment Hoortoestellen'!$B$26),1,IF(ISERROR(SEARCH(PROPER('Assortiment Hoortoestellen'!$B$26),PROPER('Dataset hoortoestellen'!D29071))),0,1))","v":1}]
["Kooijman Hoortoestellen",4,"ReSound","KEY 4CIC-W","RES-0332",{"$f":"IF(ISBLANK('Assortiment Hoortoestellen'!$B$26),1,IF(ISERROR(SEARCH(PROPER('Assortiment Hoortoestellen'!$B$26),PROPER('Dataset hoortoestellen'!D29072))),0,1))","v":1}]
["Kooijman Hoortoestellen",5,"ReSound","LiNX 3D 767-DW","RES-0303",{"$f":"IF(ISBLANK('Assortiment Hoortoestellen'!$B$26),1,IF(ISERROR(SEARCH(PROPER('Assortiment Hoortoestellen'!$B$26),PROPER('Dataset hoortoestellen'!D29073))),0,1))","v":1}]
["Kooijman Hoortoestellen",5,"ReSound","LiNX 3D 777-DW","RES-0304",{"$f":"IF(ISBLANK('Assortiment Hoortoestellen'!$B$26),1,IF(ISERROR(SEARCH(PROPER('Assortiment Hoortoestellen'!$B$26),PROPER('Dataset hoortoestellen'!D29074))),0,1))","v":1}]
["Kooijman Hoortoestellen",5,"ReSound","LiNX 3D 788-DW","RES-0305",{"$f":"IF(ISBLANK('Assortiment Hoortoestellen'!$B$26),1,IF(ISERROR(SEARCH(PROPER('Assortiment Hoortoestellen'!$B$26),PROPER('Dataset hoortoestellen'!D29075))),0,1))","v":1}]
["Kooijman Hoortoestellen",5,"ReSound","LiNX 3D 761-DRW","RES-0301",{"$f":"IF(ISBLANK('Assortiment Hoortoestellen'!$B$26),1,IF(ISERROR(SEARCH(PROPER('Assortiment Hoortoestellen'!$B$26),PROPER('Dataset hoortoestellen'!D29076))),0,1))","v":1}]
["Kooijman Hoortoestellen",5,"ReSound","LiNX 3D 762-DRW","RES-0302",{"$f":"IF(ISBLANK('Assortiment Hoortoestellen'!$B$26),1,IF(ISERROR(SEARCH(PROPER('Assortiment Hoortoestellen'!$B$26),PROPER('Dataset hoortoestellen'!D29077))),0,1))","v":1}]
["Kooijman Hoortoestellen",5,"ReSound","LiNX Quattro 561-DRWC","RES-0306",{"$f":"IF(ISBLANK('Assortiment Hoortoestellen'!$B$26),1,IF(ISERROR(SEARCH(PROPER('Assortiment Hoortoestellen'!$B$26),PROPER('Dataset hoortoestellen'!D29078))),0,1))","v":1}]
["Kooijman Hoortoestellen",2,"ReSound","KEY 267-DW","RES-0312",{"$f":"IF(ISBLANK('Assortiment Hoortoestellen'!$B$26),1,IF(ISERROR(SEARCH(PROPER('Assortiment Hoortoestellen'!$B$26),PROPER('Dataset hoortoestellen'!D29079))),0,1))","v":1}]
["Kooijman Hoortoestellen",2,"ReSound","KEY 277-DW","RES-0313",{"$f":"IF(ISBLANK('Assortiment Hoortoestellen'!$B$26),1,IF(ISERROR(SEARCH(PROPER('Assortiment Hoortoestellen'!$B$26),PROPER('Dataset hoortoestellen'!D29080))),0,1))","v":1}]
["Kooijman Hoortoestellen",2,"ReSound","KEY 288-DWH","RES-0314",{"$f":"IF(ISBLANK('Assortiment Hoortoestellen'!$B$26),1,IF(ISERROR(SEARCH(PROPER('Assortiment Hoortoestellen'!$B$26),PROPER('Dataset hoortoestellen'!D29081))),0,1))","v":1}]
["Kooijman Hoortoestellen",2,"ReSound","KEY 298-DW","RES-0315",{"$f":"IF(ISBLANK('Assortiment Hoortoestellen'!$B$26),1,IF(ISERROR(SEARCH(PROPER('Assortiment Hoortoestellen'!$B$26),PROPER('Dataset hoortoestellen'!D29082))),0,1))","v":1}]
["Kooijman Hoortoestellen",2,"ReSound","KEY 261-DRW","RES-0310",{"$f":"IF(ISBLANK('Assortiment Hoortoestellen'!$B$26),1,IF(ISERROR(SEARCH(PROPER('Assortiment Hoortoestellen'!$B$26),PROPER('Dataset hoortoestellen'!D29083))),0,1))","v":1}]
["Kooijman Hoortoestellen",2,"ReSound","KEY 262-DRW","RES-0311",{"$f":"IF(ISBLANK('Assortiment Hoortoestellen'!$B$26),1,IF(ISERROR(SEARCH(PROPER('Assortiment Hoortoestellen'!$B$26),PROPER('Dataset hoortoestellen'!D29084))),0,1))","v":1}]
["Kooijman Hoortoestellen",5,"ReSound","Enzo Q 588-DWHT","RES-0334",{"$f":"IF(ISBLANK('Assortiment Hoortoestellen'!$B$26),1,IF(ISERROR(SEARCH(PROPER('Assortiment Hoortoestellen'!$B$26),PROPER('Dataset hoortoestellen'!D29085))),0,1))","v":1}]
["Kooijman Hoortoestellen",5,"ReSound","Enzo Q 598-DWT","RES-0335",{"$f":"IF(ISBLANK('Assortiment Hoortoestellen'!$B$26),1,IF(ISERROR(SEARCH(PROPER('Assortiment Hoortoestellen'!$B$26),PROPER('Dataset hoortoestellen'!D29086))),0,1))","v":1}]
["Kooijman Hoortoestellen",4,"ReSound","KEY 467-DW","RES-0328",{"$f":"IF(ISBLANK('Assortiment Hoortoestellen'!$B$26),1,IF(ISERROR(SEARCH(PROPER('Assortiment Hoortoestellen'!$B$26),PROPER('Dataset hoortoestellen'!D29087))),0,1))","v":1}]
["Kooijman Hoortoestellen",4,"ReSound","KEY 477-DW","RES-0329",{"$f":"IF(ISBLANK('Assortiment Hoortoestellen'!$B$26),1,IF(ISERROR(SEARCH(PROPER('Assortiment Hoortoestellen'!$B$26),PROPER('Dataset hoortoestellen'!D29088))),0,1))","v":1}]
["Kooijman Hoortoestellen",4,"ReSound","KEY 488-DWH","RES-0330",{"$f":"IF(ISBLANK('Assortiment Hoortoestellen'!$B$26),1,IF(ISERROR(SEARCH(PROPER('Assortiment Hoortoestellen'!$B$26),PROPER('Dataset hoortoestellen'!D29089))),0,1))","v":1}]
["Kooijman Hoortoestellen",4,"ReSound","KEY 498-DW","RES-0331",{"$f":"IF(ISBLANK('Assortiment Hoortoestellen'!$B$26),1,IF(ISERROR(SEARCH(PROPER('Assortiment Hoortoestellen'!$B$26),PROPER('Dataset hoortoestellen'!D29090))),0,1))","v":1}]
["Kooijman Hoortoestellen",4,"ReSound","KEY 461-DRW","RES-0325",{"$f":"IF(ISBLANK('Assortiment Hoortoestellen'!$B$26),1,IF(ISERROR(SEARCH(PROPER('Assortiment Hoortoestellen'!$B$26),PROPER('Dataset hoortoestellen'!D29091))),0,1))","v":1}]
["Kooijman Hoortoestellen",4,"ReSound","KEY 462-DRW","RES-0327",{"$f":"IF(ISBLANK('Assortiment Hoortoestellen'!$B$26),1,IF(ISERROR(SEARCH(PROPER('Assortiment Hoortoestellen'!$B$26),PROPER('Dataset hoortoestellen'!D29092))),0,1))","v":1}]
["Kooijman Hoortoestellen",4,"ReSound","KEY 461-DRWC","RES-0326",{"$f":"IF(ISBLANK('Assortiment Hoortoestellen'!$B$26),1,IF(ISERROR(SEARCH(PROPER('Assortiment Hoortoestellen'!$B$26),PROPER('Dataset hoortoestellen'!D29093))),0,1))","v":1}]
["Kooijman Hoortoestellen",3,"ReSound","KEY 367-DW","RES-0319",{"$f":"IF(ISBLANK('Assortiment Hoortoestellen'!$B$26),1,IF(ISERROR(SEARCH(PROPER('Assortiment Hoortoestellen'!$B$26),PROPER('Dataset hoortoestellen'!D29094))),0,1))","v":1}]
["Kooijman Hoortoestellen",3,"ReSound","KEY 377-DW","RES-0320",{"$f":"IF(ISBLANK('Assortiment Hoortoestellen'!$B$26),1,IF(ISERROR(SEARCH(PROPER('Assortiment Hoortoestellen'!$B$26),PROPER('Dataset hoortoestellen'!D29095))),0,1))","v":1}]
["Kooijman Hoortoestellen",3,"ReSound","KEY 388-DWH","RES-0321",{"$f":"IF(ISBLANK('Assortiment Hoortoestellen'!$B$26),1,IF(ISERROR(SEARCH(PROPER('Assortiment Hoortoestellen'!$B$26),PROPER('Dataset hoortoestellen'!D29096))),0,1))","v":1}]
["Kooijman Hoortoestellen",3,"ReSound","KEY 398-DW","RES-0322",{"$f":"IF(ISBLANK('Assortiment Hoortoestellen'!$B$26),1,IF(ISERROR(SEARCH(PROPER('Assortiment Hoortoestellen'!$B$26),PROPER('Dataset hoortoestellen'!D29097))),0,1))","v":1}]
["Kooijman Hoortoestellen",3,"ReSound","KEY 361-DRW","RES-0317",{"$f":"IF(ISBLANK('Assortiment Hoortoestellen'!$B$26),1,IF(ISERROR(SEARCH(PROPER('Assortiment Hoortoestellen'!$B$26),PROPER('Dataset hoortoestellen'!D29098))),0,1))","v":1}]
["Kooijman Hoortoestellen",3,"ReSound","KEY 362-DRW","RES-0318",{"$f":"IF(ISBLANK('Assortiment Hoortoestellen'!$B$26),1,IF(ISERROR(SEARCH(PROPER('Assortiment Hoortoestellen'!$B$26),PROPER('Dataset hoortoestellen'!D29099))),0,1))","v":1}]
["Kooijman Hoortoestellen",1,"Starkey","Muse i1000 CIC","STA-0277",{"$f":"IF(ISBLANK('Assortiment Hoortoestellen'!$B$26),1,IF(ISERROR(SEARCH(PROPER('Assortiment Hoortoestellen'!$B$26),PROPER('Dataset hoortoestellen'!D29100))),0,1))","v":1}]
["Kooijman Hoortoestellen",2,"Starkey","Muse iQ 1000 CIC","STA-0340",{"$f":"IF(ISBLANK('Assortiment Hoortoestellen'!$B$26),1,IF(ISERROR(SEARCH(PROPER('Assortiment Hoortoestellen'!$B$26),PROPER('Dataset hoortoestellen'!D29101))),0,1))","v":1}]
["Kooijman Hoortoestellen",3,"Starkey","Muse iQ i1000 CIC","STA-0352\n",{"$f":"IF(ISBLANK('Assortiment Hoortoestellen'!$B$26),1,IF(ISERROR(SEARCH(PROPER('Assortiment Hoortoestellen'!$B$26),PROPER('Dataset hoortoestellen'!D29102))),0,1))","v":1}]
["Kooijman Hoortoestellen",4,"Starkey","Muse iQ i1200 CIC","STA-0362",{"$f":"IF(ISBLANK('Assortiment Hoortoestellen'!$B$26),1,IF(ISERROR(SEARCH(PROPER('Assortiment Hoortoestellen'!$B$26),PROPER('Dataset hoortoestellen'!D29103))),0,1))","v":1}]
["Kooijman Hoortoestellen",5,"Starkey","Muse iQ i1600 CIC","STA-0372\n",{"$f":"IF(ISBLANK('Assortiment Hoortoestellen'!$B$26),1,IF(ISERROR(SEARCH(PROPER('Assortiment Hoortoestellen'!$B$26),PROPER('Dataset hoortoestellen'!D29104))),0,1))","v":1}]
["Kooijman Hoortoestellen",1,"Starkey","Muse i1000 ITC","STA-0279",{"$f":"IF(ISBLANK('Assortiment Hoortoestellen'!$B$26),1,IF(ISERROR(SEARCH(PROPER('Assortiment Hoortoestellen'!$B$26),PROPER('Dataset hoortoestellen'!D29105))),0,1))","v":1}]
["Kooijman Hoortoestellen",2,"Starkey","Muse iQ 1000 ITC","STA-0341",{"$f":"IF(ISBLANK('Assortiment Hoortoestellen'!$B$26),1,IF(ISERROR(SEARCH(PROPER('Assortiment Hoortoestellen'!$B$26),PROPER('Dataset hoortoestellen'!D29106))),0,1))","v":1}]
["Kooijman Hoortoestellen",3,"Starkey","Muse iQ i1000 ITC","STA-0353",{"$f":"IF(ISBLANK('Assortiment Hoortoestellen'!$B$26),1,IF(ISERROR(SEARCH(PROPER('Assortiment Hoortoestellen'!$B$26),PROPER('Dataset hoortoestellen'!D29107))),0,1))","v":1}]
["Kooijman Hoortoestellen",4,"Starkey","Muse iQ i1200 ITC","STA-0363",{"$f":"IF(ISBLANK('Assortiment Hoortoestellen'!$B$26),1,IF(ISERROR(SEARCH(PROPER('Assortiment Hoortoestellen'!$B$26),PROPER('Dataset hoortoestellen'!D29108))),0,1))","v":1}]
["Kooijman Hoortoestellen",5,"Starkey","Muse iQ i1600 ITC","STA-0373",{"$f":"IF(ISBLANK('Assortiment Hoortoestellen'!$B$26),1,IF(ISERROR(SEARCH(PROPER('Assortiment Hoortoestellen'!$B$26),PROPER('Dataset hoortoestellen'!D29109))),0,1))","v":1}]
["Kooijman Hoortoestellen",2,"Starkey","Muse iQ 1000 ITE","STA-0342",{"$f":"IF(ISBLANK('Assortiment Hoortoestellen'!$B$26),1,IF(ISERROR(SEARCH(PROPER('Assortiment Hoortoestellen'!$B$26),PROPER('Dataset hoortoestellen'!D29110))),0,1))","v":1}]
["Kooijman Hoortoestellen",3,"Starkey","Muse iQ i1000 ITE","STA-0354",{"$f":"IF(ISBLANK('Assortiment Hoortoestellen'!$B$26),1,IF(ISERROR(SEARCH(PROPER('Assortiment Hoortoestellen'!$B$26),PROPER('Dataset hoortoestellen'!D29111))),0,1))","v":1}]
["Kooijman Hoortoestellen",4,"Starkey","Muse iQ i1200 ITE","STA-0364",{"$f":"IF(ISBLANK('Assortiment Hoortoestellen'!$B$26),1,IF(ISERROR(SEARCH(PROPER('Assortiment Hoortoestellen'!$B$26),PROPER('Dataset hoortoestellen'!D29112))),0,1))","v":1}]
["Kooijman Hoortoestellen",5,"Starkey","Muse iQ i1600 ITE","STA-0374",{"$f":"IF(ISBLANK('Assortiment Hoortoestellen'!$B$26),1,IF(ISERROR(SEARCH(PROPER('Assortiment Hoortoestellen'!$B$26),PROPER('Dataset hoortoestellen'!D29113))),0,1))","v":1}]
["Kooijman Hoortoestellen",1,"Starkey","Livio S2 BTE 13","STA-0413",{"$f":"IF(ISBLANK('Assortiment Hoortoestellen'!$B$26),1,IF(ISERROR(SEARCH(PROPER('Assortiment Hoortoestellen'!$B$26),PROPER('Dataset hoortoestellen'!D29114))),0,1))","v":1}]
["Kooijman Hoortoestellen",2,"Starkey","Livio 1000 BTE 13","STA-0380",{"$f":"IF(ISBLANK('Assortiment Hoortoestellen'!$B$26),1,IF(ISERROR(SEARCH(PROPER('Assortiment Hoortoestellen'!$B$26),PROPER('Dataset hoortoestellen'!D29115))),0,1))","v":1}]
["Kooijman Hoortoestellen",3,"Starkey","Livio AI 1200 BTE 13","STA-0409",{"$f":"IF(ISBLANK('Assortiment Hoortoestellen'!$B$26),1,IF(ISERROR(SEARCH(PROPER('Assortiment Hoortoestellen'!$B$26),PROPER('Dataset hoortoestellen'!D29116))),0,1))","v":1}]
["Kooijman Hoortoestellen",4,"Starkey","Livio AI 1200 BTE 13","STA-0401",{"$f":"IF(ISBLANK('Assortiment Hoortoestellen'!$B$26),1,IF(ISERROR(SEARCH(PROPER('Assortiment Hoortoestellen'!$B$26),PROPER('Dataset hoortoestellen'!D29117))),0,1))","v":1}]
["Kooijman Hoortoestellen",5,"Starkey","Livio AI 1600 BTE 13","STA-0405",{"$f":"IF(ISBLANK('Assortiment Hoortoestellen'!$B$26),1,IF(ISERROR(SEARCH(PROPER('Assortiment Hoortoestellen'!$B$26),PROPER('Dataset hoortoestellen'!D29118))),0,1))","v":1}]
["Kooijman Hoortoestellen",1,"Starkey","Livio S2 RIC 312","STA-0414",{"$f":"IF(ISBLANK('Assortiment Hoortoestellen'!$B$26),1,IF(ISERROR(SEARCH(PROPER('Assortiment Hoortoestellen'!$B$26),PROPER('Dataset hoortoestellen'!D29119))),0,1))","v":1}]
["Kooijman Hoortoestellen",2,"Starkey","Livio 1000 BTE R","STA-0392",{"$f":"IF(ISBLANK('Assortiment Hoortoestellen'!$B$26),1,IF(ISERROR(SEARCH(PROPER('Assortiment Hoortoestellen'!$B$26),PROPER('Dataset hoortoestellen'!D29120))),0,1))","v":1}]
["Kooijman Hoortoestellen",3,"Starkey","Livio AI 1200 BTE R","STA-0412",{"$f":"IF(ISBLANK('Assortiment Hoortoestellen'!$B$26),1,IF(ISERROR(SEARCH(PROPER('Assortiment Hoortoestellen'!$B$26),PROPER('Dataset hoortoestellen'!D29121))),0,1))","v":1}]
["Kooijman Hoortoestellen",4,"Starkey","Livio AI 1200 BTE R","STA-0410",{"$f":"IF(ISBLANK('Assortiment Hoortoestellen'!$B$26),1,IF(ISERROR(SEARCH(PROPER('Assortiment Hoortoestellen'!$B$26),PROPER('Dataset hoortoestellen'!D29122))),0,1))","v":1}]
["Kooijman Hoortoestellen",5,"Starkey","Livio AI 1600 BTE R","STA-0411",{"$f":"IF(ISBLANK('Assortiment Hoortoestellen'!$B$26),1,IF(ISERROR(SEARCH(PROPER('Assortiment Hoortoestellen'!$B$26),PROPER('Dataset hoortoestellen'!D29123))),0,1))","v":1}]
["Kooijman Hoortoestellen",1,"Starkey","Muse i1000 BTE 13","STA-0308",{"$f":"IF(ISBLANK('Assortiment Hoortoestellen'!$B$26),1,IF(ISERROR(SEARCH(PROPER('Assortiment Hoortoestellen'!$B$26),PROPER('Dataset hoortoestellen'!D29124))),0,1))","v":1}]
["Kooijman Hoortoestellen",2,"Starkey","Livio 1000 mRIC 312","STA-0381",{"$f":"IF(ISBLANK('Assortiment Hoortoestellen'!$B$26),1,IF(ISERROR(SEARCH(PROPER('Assortiment Hoortoestellen'!$B$26),PROPER('Dataset hoortoestellen'!D29125))),0,1))","v":1}]
["Kooijman Hoortoestellen",3,"Starkey","Livio AI 1200 mRIC 312","STA-0398",{"$f":"IF(ISBLANK('Assortiment Hoortoestellen'!$B$26),1,IF(ISERROR(SEARCH(PROPER('Assortiment Hoortoestellen'!$B$26),PROPER('Dataset hoortoestellen'!D29126))),0,1))","v":1}]
["Kooijman Hoortoestellen",4,"Starkey","Livio AI 1200 mRIC 312","STA-0402",{"$f":"IF(ISBLANK('Assortiment Hoortoestellen'!$B$26),1,IF(ISERROR(SEARCH(PROPER('Assortiment Hoortoestellen'!$B$26),PROPER('Dataset hoortoestellen'!D29127))),0,1))","v":1}]
["Kooijman Hoortoestellen",5,"Starkey","Livio AI 1600 mRIC 312","STA-0406",{"$f":"IF(ISBLANK('Assortiment Hoortoestellen'!$B$26),1,IF(ISERROR(SEARCH(PROPER('Assortiment Hoortoestellen'!$B$26),PROPER('Dataset hoortoestellen'!D29128))),0,1))","v":1}]
["Kooijman Hoortoestellen",1,"Starkey","Muse i1000 BTE312","STA-0278",{"$f":"IF(ISBLANK('Assortiment Hoortoestellen'!$B$26),1,IF(ISERROR(SEARCH(PROPER('Assortiment Hoortoestellen'!$B$26),PROPER('Dataset hoortoestellen'!D29129))),0,1))","v":1}]
["Kooijman Hoortoestellen",2,"Starkey","Livio 1000 RIC 312","STA-0382",{"$f":"IF(ISBLANK('Assortiment Hoortoestellen'!$B$26),1,IF(ISERROR(SEARCH(PROPER('Assortiment Hoortoestellen'!$B$26),PROPER('Dataset hoortoestellen'!D29130))),0,1))","v":1}]
["Kooijman Hoortoestellen",3,"Starkey","Livio AI 1200 RIC 312","STA-0399",{"$f":"IF(ISBLANK('Assortiment Hoortoestellen'!$B$26),1,IF(ISERROR(SEARCH(PROPER('Assortiment Hoortoestellen'!$B$26),PROPER('Dataset hoortoestellen'!D29131))),0,1))","v":1}]
["Kooijman Hoortoestellen",4,"Starkey","Livio AI 1200 RIC 312","STA-0403",{"$f":"IF(ISBLANK('Assortiment Hoortoestellen'!$B$26),1,IF(ISERROR(SEARCH(PROPER('Assortiment Hoortoestellen'!$B$26),PROPER('Dataset hoortoestellen'!D29132))),0,1))","v":1}]
["Kooijman Hoortoestellen",5,"Starkey","Livio AI 1600 RIC 312","STA-0407",{"$f":"IF(ISBLANK('Assortiment Hoortoestellen'!$B$26),1,IF(ISERROR(SEARCH(PROPER('Assortiment Hoortoestellen'!$B$26),PROPER('Dataset hoortoestellen'!D29133))),0,1))","v":1}]
["Kooijman Hoortoestellen",1,"Starkey","Muse i1000 RIC 312","STA-0309",{"$f":"IF(ISBLANK('Assortiment Hoortoestellen'!$B$26),1,IF(ISERROR(SEARCH(PROPER('Assortiment Hoortoestellen'!$B$26),PROPER('Dataset hoortoestellen'!D29134))),0,1))","v":1}]
["Kooijman Hoortoestellen",2,"Starkey","Livio 1000 RIC R","STA-0383",{"$f":"IF(ISBLANK('Assortiment Hoortoestellen'!$B$26),1,IF(ISERROR(SEARCH(PROPER('Assortiment Hoortoestellen'!$B$26),PROPER('Dataset hoortoestellen'!D29135))),0,1))","v":1}]
["Kooijman Hoortoestellen",3,"Starkey","Livio AI 1200 RIC R","STA-0400",{"$f":"IF(ISBLANK('Assortiment Hoortoestellen'!$B$26),1,IF(ISERROR(SEARCH(PROPER('Assortiment Hoortoestellen'!$B$26),PROPER('Dataset hoortoestellen'!D29136))),0,1))","v":1}]
["Kooijman Hoortoestellen",4,"Starkey","Livio AI 1200 RIC R","STA-0404",{"$f":"IF(ISBLANK('Assortiment Hoortoestellen'!$B$26),1,IF(ISERROR(SEARCH(PROPER('Assortiment Hoortoestellen'!$B$26),PROPER('Dataset hoortoestellen'!D29137))),0,1))","v":1}]
["Kooijman Hoortoestellen",5,"Starkey","Livio AI 1600 RIC R","STA-0408",{"$f":"IF(ISBLANK('Assortiment Hoortoestellen'!$B$26),1,IF(ISERROR(SEARCH(PROPER('Assortiment Hoortoestellen'!$B$26),PROPER('Dataset hoortoestellen'!D29138))),0,1))","v":1}]
["Kooijman Hoortoestellen",2,"Starkey","Muse iQ i1000 BTE 13 PP","STA-0350",{"$f":"IF(ISBLANK('Assortiment Hoortoestellen'!$B$26),1,IF(ISERROR(SEARCH(PROPER('Assortiment Hoortoestellen'!$B$26),PROPER('Dataset hoortoestellen'!D29139))),0,1))","v":1}]
["Kooijman Hoortoestellen",4,"Starkey","Muse iQ i1200 BTE 13 PP","STA-0360",{"$f":"IF(ISBLANK('Assortiment Hoortoestellen'!$B$26),1,IF(ISERROR(SEARCH(PROPER('Assortiment Hoortoestellen'!$B$26),PROPER('Dataset hoortoestellen'!D29140))),0,1))","v":1}]
["Kooijman Hoortoestellen",5,"Starkey","Muse iQ i1600 BTE 13 PP","STA-0370",{"$f":"IF(ISBLANK('Assortiment Hoortoestellen'!$B$26),1,IF(ISERROR(SEARCH(PROPER('Assortiment Hoortoestellen'!$B$26),PROPER('Dataset hoortoestellen'!D29141))),0,1))","v":1}]
["Kooijman Hoortoestellen",2,"Unitron","Shine Rev+ 10A Omni","UNI-0473",{"$f":"IF(ISBLANK('Assortiment Hoortoestellen'!$B$26),1,IF(ISERROR(SEARCH(PROPER('Assortiment Hoortoestellen'!$B$26),PROPER('Dataset hoortoestellen'!D29142))),0,1))","v":1}]
["Kooijman Hoortoestellen",2,"Unitron","Shine Rev+ W 312 Dir","UNI-0475",{"$f":"IF(ISBLANK('Assortiment Hoortoestellen'!$B$26),1,IF(ISERROR(SEARCH(PROPER('Assortiment Hoortoestellen'!$B$26),PROPER('Dataset hoortoestellen'!D29143))),0,1))","v":1}]
["Kooijman Hoortoestellen",5,"Unitron","DX Insera 7 W 312 Dir","UNI-0442",{"$f":"IF(ISBLANK('Assortiment Hoortoestellen'!$B$26),1,IF(ISERROR(SEARCH(PROPER('Assortiment Hoortoestellen'!$B$26),PROPER('Dataset hoortoestellen'!D29144))),0,1))","v":1}]
["Kooijman Hoortoestellen",5,"Unitron","T Insera 800 10A Omni","UNI-2080",{"$f":"IF(ISBLANK('Assortiment Hoortoestellen'!$B$26),1,IF(ISERROR(SEARCH(PROPER('Assortiment Hoortoestellen'!$B$26),PROPER('Dataset hoortoestellen'!D29145))),0,1))","v":1}]
["Kooijman Hoortoestellen",5,"Unitron","T Insera 800 W 10A Omni","UNI-0339",{"$f":"IF(ISBLANK('Assortiment Hoortoestellen'!$B$26),1,IF(ISERROR(SEARCH(PROPER('Assortiment Hoortoestellen'!$B$26),PROPER('Dataset hoortoestellen'!D29146))),0,1))","v":1}]
["Kooijman Hoortoestellen",5,"Unitron","T Insera 800 W 10A Dir","UNI-0338",{"$f":"IF(ISBLANK('Assortiment Hoortoestellen'!$B$26),1,IF(ISERROR(SEARCH(PROPER('Assortiment Hoortoestellen'!$B$26),PROPER('Dataset hoortoestellen'!D29147))),0,1))","v":1}]
["Kooijman Hoortoestellen",5,"Unitron","T Insera 800 W 312 Dir","UNI-0341",{"$f":"IF(ISBLANK('Assortiment Hoortoestellen'!$B$26),1,IF(ISERROR(SEARCH(PROPER('Assortiment Hoortoestellen'!$B$26),PROPER('Dataset hoortoestellen'!D29148))),0,1))","v":1}]
["Kooijman Hoortoestellen",4,"Unitron","DX Insera 5 10A Omni","UNI-0437",{"$f":"IF(ISBLANK('Assortiment Hoortoestellen'!$B$26),1,IF(ISERROR(SEARCH(PROPER('Assortiment Hoortoestellen'!$B$26),PROPER('Dataset hoortoestellen'!D29149))),0,1))","v":1}]
["Kooijman Hoortoestellen",5,"Unitron","T Insera 800 W 13 Dir","UNI-0340",{"$f":"IF(ISBLANK('Assortiment Hoortoestellen'!$B$26),1,IF(ISERROR(SEARCH(PROPER('Assortiment Hoortoestellen'!$B$26),PROPER('Dataset hoortoestellen'!D29150))),0,1))","v":1}]
["Kooijman Hoortoestellen",3,"Unitron","DX Insera 3 10A Omni","UNI-0434",{"$f":"IF(ISBLANK('Assortiment Hoortoestellen'!$B$26),1,IF(ISERROR(SEARCH(PROPER('Assortiment Hoortoestellen'!$B$26),PROPER('Dataset hoortoestellen'!D29151))),0,1))","v":1}]
["Kooijman Hoortoestellen",4,"Unitron","DX Insera 5 312 Omni","UNI-0438",{"$f":"IF(ISBLANK('Assortiment Hoortoestellen'!$B$26),1,IF(ISERROR(SEARCH(PROPER('Assortiment Hoortoestellen'!$B$26),PROPER('Dataset hoortoestellen'!D29152))),0,1))","v":1}]
["Kooijman Hoortoestellen",3,"Unitron","DX Insera 3 312 Omni","UNI-0435",{"$f":"IF(ISBLANK('Assortiment Hoortoestellen'!$B$26),1,IF(ISERROR(SEARCH(PROPER('Assortiment Hoortoestellen'!$B$26),PROPER('Dataset hoortoestellen'!D29153))),0,1))","v":1}]
["Kooijman Hoortoestellen",4,"Unitron","DX Insera 5 W 312 Dir","UNI-0439",{"$f":"IF(ISBLANK('Assortiment Hoortoestellen'!$B$26),1,IF(ISERROR(SEARCH(PROPER('Assortiment Hoortoestellen'!$B$26),PROPER('Dataset hoortoestellen'!D29154))),0,1))","v":1}]
["Kooijman Hoortoestellen",3,"Unitron","DX Insera 3 W 312 Dir","UNI-0436",{"$f":"IF(ISBLANK('Assortiment Hoortoestellen'!$B$26),1,IF(ISERROR(SEARCH(PROPER('Assortiment Hoortoestellen'!$B$26),PROPER('Dataset hoortoestellen'!D29155))),0,1))","v":1}]
["Kooijman Hoortoestellen",4,"Unitron","T Insera 600 W 10A Dir","UNI-0328",{"$f":"IF(ISBLANK('Assortiment Hoortoestellen'!$B$26),1,IF(ISERROR(SEARCH(PROPER('Assortiment Hoortoestellen'!$B$26),PROPER('Dataset hoortoestellen'!D29156))),0,1))","v":1}]
["Kooijman Hoortoestellen",3,"Unitron","T Insera 500 W 10A Dir","UNI-0323",{"$f":"IF(ISBLANK('Assortiment Hoortoestellen'!$B$26),1,IF(ISERROR(SEARCH(PROPER('Assortiment Hoortoestellen'!$B$26),PROPER('Dataset hoortoestellen'!D29157))),0,1))","v":1}]
["Kooijman Hoortoestellen",4,"Unitron","T Insera 600 W 312 Dir","UNI-0331",{"$f":"IF(ISBLANK('Assortiment Hoortoestellen'!$B$26),1,IF(ISERROR(SEARCH(PROPER('Assortiment Hoortoestellen'!$B$26),PROPER('Dataset hoortoestellen'!D29158))),0,1))","v":1}]
["Kooijman Hoortoestellen",3,"Unitron","T Insera 500 W 312 Dir","UNI-0326",{"$f":"IF(ISBLANK('Assortiment Hoortoestellen'!$B$26),1,IF(ISERROR(SEARCH(PROPER('Assortiment Hoortoestellen'!$B$26),PROPER('Dataset hoortoestellen'!D29159))),0,1))","v":1}]
["Kooijman Hoortoestellen",4,"Unitron","T Insera 600 W 13 Dir","UNI-0330",{"$f":"IF(ISBLANK('Assortiment Hoortoestellen'!$B$26),1,IF(ISERROR(SEARCH(PROPER('Assortiment Hoortoestellen'!$B$26),PROPER('Dataset hoortoestellen'!D29160))),0,1))","v":1}]
["Kooijman Hoortoestellen",3,"Unitron","T Insera 500 W 13 Dir","UNI-0325",{"$f":"IF(ISBLANK('Assortiment Hoortoestellen'!$B$26),1,IF(ISERROR(SEARCH(PROPER('Assortiment Hoortoestellen'!$B$26),PROPER('Dataset hoortoestellen'!D29161))),0,1))","v":1}]
["Kooijman Hoortoestellen",2,"Unitron","Shine Rev+ RIC","UNI-0432",{"$f":"IF(ISBLANK('Assortiment Hoortoestellen'!$B$26),1,IF(ISERROR(SEARCH(PROPER('Assortiment Hoortoestellen'!$B$26),PROPER('Dataset hoortoestellen'!D29162))),0,1))","v":1}]
["Kooijman Hoortoestellen",2,"Unitron","Shine Rev+ M","UNI-0430",{"$f":"IF(ISBLANK('Assortiment Hoortoestellen'!$B$26),1,IF(ISERROR(SEARCH(PROPER('Assortiment Hoortoestellen'!$B$26),PROPER('Dataset hoortoestellen'!D29163))),0,1))","v":1}]
["Kooijman Hoortoestellen",2,"Unitron","Shine Rev+ P","UNI-0431",{"$f":"IF(ISBLANK('Assortiment Hoortoestellen'!$B$26),1,IF(ISERROR(SEARCH(PROPER('Assortiment Hoortoestellen'!$B$26),PROPER('Dataset hoortoestellen'!D29164))),0,1))","v":1}]
["Kooijman Hoortoestellen",4,"Unitron","DX Moxi Fit 5","UNI-0444",{"$f":"IF(ISBLANK('Assortiment Hoortoestellen'!$B$26),1,IF(ISERROR(SEARCH(PROPER('Assortiment Hoortoestellen'!$B$26),PROPER('Dataset hoortoestellen'!D29165))),0,1))","v":1}]
["Kooijman Hoortoestellen",4,"Unitron","DX Stride M 5","UNI-0453",{"$f":"IF(ISBLANK('Assortiment Hoortoestellen'!$B$26),1,IF(ISERROR(SEARCH(PROPER('Assortiment Hoortoestellen'!$B$26),PROPER('Dataset hoortoestellen'!D29166))),0,1))","v":1}]
["Kooijman Hoortoestellen",4,"Unitron","DX Stride P R 3","UNI-0455",{"$f":"IF(ISBLANK('Assortiment Hoortoestellen'!$B$26),1,IF(ISERROR(SEARCH(PROPER('Assortiment Hoortoestellen'!$B$26),PROPER('Dataset hoortoestellen'!D29167))),0,1))","v":1}]
["Kooijman Hoortoestellen",4,"Unitron","DX Moxi Jump R T 3","UNI-0446",{"$f":"IF(ISBLANK('Assortiment Hoortoestellen'!$B$26),1,IF(ISERROR(SEARCH(PROPER('Assortiment Hoortoestellen'!$B$26),PROPER('Dataset hoortoestellen'!D29168))),0,1))","v":1}]
["Kooijman Hoortoestellen",4,"Unitron","DX Moxi Move R 3","UNI-0449",{"$f":"IF(ISBLANK('Assortiment Hoortoestellen'!$B$26),1,IF(ISERROR(SEARCH(PROPER('Assortiment Hoortoestellen'!$B$26),PROPER('Dataset hoortoestellen'!D29169))),0,1))","v":1}]
["Kooijman Hoortoestellen",4,"Unitron","T Max SP 600","UNI-0273",{"$f":"IF(ISBLANK('Assortiment Hoortoestellen'!$B$26),1,IF(ISERROR(SEARCH(PROPER('Assortiment Hoortoestellen'!$B$26),PROPER('Dataset hoortoestellen'!D29170))),0,1))","v":1}]
["Kooijman Hoortoestellen",4,"Unitron","T Max UP 600","UNI-0277",{"$f":"IF(ISBLANK('Assortiment Hoortoestellen'!$B$26),1,IF(ISERROR(SEARCH(PROPER('Assortiment Hoortoestellen'!$B$26),PROPER('Dataset hoortoestellen'!D29171))),0,1))","v":1}]
["Kooijman Hoortoestellen",3,"Unitron","DX Moxi Fit 3","UNI-0443",{"$f":"IF(ISBLANK('Assortiment Hoortoestellen'!$B$26),1,IF(ISERROR(SEARCH(PROPER('Assortiment Hoortoestellen'!$B$26),PROPER('Dataset hoortoestellen'!D29172))),0,1))","v":1}]
["Kooijman Hoortoestellen",5,"Unitron","DX Moxi Fit 7","UNI-0445",{"$f":"IF(ISBLANK('Assortiment Hoortoestellen'!$B$26),1,IF(ISERROR(SEARCH(PROPER('Assortiment Hoortoestellen'!$B$26),PROPER('Dataset hoortoestellen'!D29173))),0,1))","v":1}]
["Kooijman Hoortoestellen",3,"Unitron","DX Stride M 3","UNI-0452",{"$f":"IF(ISBLANK('Assortiment Hoortoestellen'!$B$26),1,IF(ISERROR(SEARCH(PROPER('Assortiment Hoortoestellen'!$B$26),PROPER('Dataset hoortoestellen'!D29174))),0,1))","v":1}]
["Kooijman Hoortoestellen",5,"Unitron","DX Stride M 7","UNI-0454",{"$f":"IF(ISBLANK('Assortiment Hoortoestellen'!$B$26),1,IF(ISERROR(SEARCH(PROPER('Assortiment Hoortoestellen'!$B$26),PROPER('Dataset hoortoestellen'!D29175))),0,1))","v":1}]
["Kooijman Hoortoestellen",3,"Unitron","T Stride 500 P","UNI-0305",{"$f":"IF(ISBLANK('Assortiment Hoortoestellen'!$B$26),1,IF(ISERROR(SEARCH(PROPER('Assortiment Hoortoestellen'!$B$26),PROPER('Dataset hoortoestellen'!D29176))),0,1))","v":1}]
["Kooijman Hoortoestellen",5,"Unitron","DX Stride P R 5","UNI-0456",{"$f":"IF(ISBLANK('Assortiment Hoortoestellen'!$B$26),1,IF(ISERROR(SEARCH(PROPER('Assortiment Hoortoestellen'!$B$26),PROPER('Dataset hoortoestellen'!D29177))),0,1))","v":1}]
["Kooijman Hoortoestellen",3,"Unitron","T Stride 500 M","UNI-0304",{"$f":"IF(ISBLANK('Assortiment Hoortoestellen'!$B$26),1,IF(ISERROR(SEARCH(PROPER('Assortiment Hoortoestellen'!$B$26),PROPER('Dataset hoortoestellen'!D29178))),0,1))","v":1}]
["Kooijman Hoortoestellen",5,"Unitron","DX Moxi Jump R T 5","UNI-0447",{"$f":"IF(ISBLANK('Assortiment Hoortoestellen'!$B$26),1,IF(ISERROR(SEARCH(PROPER('Assortiment Hoortoestellen'!$B$26),PROPER('Dataset hoortoestellen'!D29179))),0,1))","v":1}]
["Kooijman Hoortoestellen",3,"Unitron","T Max SP 500","UNI-0272",{"$f":"IF(ISBLANK('Assortiment Hoortoestellen'!$B$26),1,IF(ISERROR(SEARCH(PROPER('Assortiment Hoortoestellen'!$B$26),PROPER('Dataset hoortoestellen'!D29180))),0,1))","v":1}]
["Kooijman Hoortoestellen",5,"Unitron","DX Moxi Move R 5","UNI-0450",{"$f":"IF(ISBLANK('Assortiment Hoortoestellen'!$B$26),1,IF(ISERROR(SEARCH(PROPER('Assortiment Hoortoestellen'!$B$26),PROPER('Dataset hoortoestellen'!D29181))),0,1))","v":1}]
["Kooijman Hoortoestellen",3,"Unitron","T Max UP 500","UNI-0276",{"$f":"IF(ISBLANK('Assortiment Hoortoestellen'!$B$26),1,IF(ISERROR(SEARCH(PROPER('Assortiment Hoortoestellen'!$B$26),PROPER('Dataset hoortoestellen'!D29182))),0,1))","v":1}]
["Kooijman Hoortoestellen",5,"Unitron","T Max UP 800","UNI-0279",{"$f":"IF(ISBLANK('Assortiment Hoortoestellen'!$B$26),1,IF(ISERROR(SEARCH(PROPER('Assortiment Hoortoestellen'!$B$26),PROPER('Dataset hoortoestellen'!D29183))),0,1))","v":1}]
["Kooijman Hoortoestellen",3,"Unitron","Moxi B1-R","UNI-0509",{"$f":"IF(ISBLANK('Assortiment Hoortoestellen'!$B$26),1,IF(ISERROR(SEARCH(PROPER('Assortiment Hoortoestellen'!$B$26),PROPER('Dataset hoortoestellen'!D29184))),0,1))","v":1}]
["Kooijman Hoortoestellen",3,"Unitron","Moxi B1-RT","UNI-0510",{"$f":"IF(ISBLANK('Assortiment Hoortoestellen'!$B$26),1,IF(ISERROR(SEARCH(PROPER('Assortiment Hoortoestellen'!$B$26),PROPER('Dataset hoortoestellen'!D29185))),0,1))","v":1}]
["Kooijman Hoortoestellen",3,"Unitron","Stride B1-PR","UNI-0511",{"$f":"IF(ISBLANK('Assortiment Hoortoestellen'!$B$26),1,IF(ISERROR(SEARCH(PROPER('Assortiment Hoortoestellen'!$B$26),PROPER('Dataset hoortoestellen'!D29186))),0,1))","v":1}]
["Kooijman Hoortoestellen",2,"Unitron ","Shine Rev+ W 13 Dir","UNI-0474",{"$f":"IF(ISBLANK('Assortiment Hoortoestellen'!$B$26),1,IF(ISERROR(SEARCH(PROPER('Assortiment Hoortoestellen'!$B$26),PROPER('Dataset hoortoestellen'!D29187))),0,1))","v":1}]
["Kooijman Hoortoestellen",2,"Unitron ","Shine Rev+ UP","UNI-0433",{"$f":"IF(ISBLANK('Assortiment Hoortoestellen'!$B$26),1,IF(ISERROR(SEARCH(PROPER('Assortiment Hoortoestellen'!$B$26),PROPER('Dataset hoortoestellen'!D29188))),0,1))","v":1}]
["Kooijman Hoortoestellen",5,"Widex","Enjoy E-CIC 330 Links","WID-0553",{"$f":"IF(ISBLANK('Assortiment Hoortoestellen'!$B$26),1,IF(ISERROR(SEARCH(PROPER('Assortiment Hoortoestellen'!$B$26),PROPER('Dataset hoortoestellen'!D29189))),0,1))","v":1}]
["Kooijman Hoortoestellen",3,"Widex","Enjoy E-CIC 110 Links","WID-0551",{"$f":"IF(ISBLANK('Assortiment Hoortoestellen'!$B$26),1,IF(ISERROR(SEARCH(PROPER('Assortiment Hoortoestellen'!$B$26),PROPER('Dataset hoortoestellen'!D29190))),0,1))","v":1}]
["Kooijman Hoortoestellen",5,"Widex","Enjoy E-CIC 330 Rechts","WID-0658",{"$f":"IF(ISBLANK('Assortiment Hoortoestellen'!$B$26),1,IF(ISERROR(SEARCH(PROPER('Assortiment Hoortoestellen'!$B$26),PROPER('Dataset hoortoestellen'!D29191))),0,1))","v":1}]
["Kooijman Hoortoestellen",3,"Widex","Enjoy E-CIC 110 Rechts","WID-0656",{"$f":"IF(ISBLANK('Assortiment Hoortoestellen'!$B$26),1,IF(ISERROR(SEARCH(PROPER('Assortiment Hoortoestellen'!$B$26),PROPER('Dataset hoortoestellen'!D29192))),0,1))","v":1}]
["Kooijman Hoortoestellen",4,"Widex","Enjoy E-CIC 220 Links","WID-0552",{"$f":"IF(ISBLANK('Assortiment Hoortoestellen'!$B$26),1,IF(ISERROR(SEARCH(PROPER('Assortiment Hoortoestellen'!$B$26),PROPER('Dataset hoortoestellen'!D29193))),0,1))","v":1}]
["Kooijman Hoortoestellen",5,"Widex","Enjoy E-CIC M 330","WID-0559",{"$f":"IF(ISBLANK('Assortiment Hoortoestellen'!$B$26),1,IF(ISERROR(SEARCH(PROPER('Assortiment Hoortoestellen'!$B$26),PROPER('Dataset hoortoestellen'!D29194))),0,1))","v":1}]
["Kooijman Hoortoestellen",3,"Widex","Enjoy E-CIC M 110","WID-0557",{"$f":"IF(ISBLANK('Assortiment Hoortoestellen'!$B$26),1,IF(ISERROR(SEARCH(PROPER('Assortiment Hoortoestellen'!$B$26),PROPER('Dataset hoortoestellen'!D29195))),0,1))","v":1}]
["Kooijman Hoortoestellen",4,"Widex","Enjoy E-CIC 220 Rechts","WID-0657",{"$f":"IF(ISBLANK('Assortiment Hoortoestellen'!$B$26),1,IF(ISERROR(SEARCH(PROPER('Assortiment Hoortoestellen'!$B$26),PROPER('Dataset hoortoestellen'!D29196))),0,1))","v":1}]
["Kooijman Hoortoestellen",5,"Widex","Enjoy E-CIC TR 330 Links","WID-0571",{"$f":"IF(ISBLANK('Assortiment Hoortoestellen'!$B$26),1,IF(ISERROR(SEARCH(PROPER('Assortiment Hoortoestellen'!$B$26),PROPER('Dataset hoortoestellen'!D29197))),0,1))","v":1}]
["Kooijman Hoortoestellen",3,"Widex","Enjoy E-CIC M TR 110","WID-0563",{"$f":"IF(ISBLANK('Assortiment Hoortoestellen'!$B$26),1,IF(ISERROR(SEARCH(PROPER('Assortiment Hoortoestellen'!$B$26),PROPER('Dataset hoortoestellen'!D29198))),0,1))","v":1}]
["Kooijman Hoortoestellen",4,"Widex","Enjoy E-CIC M 220","WID-0558",{"$f":"IF(ISBLANK('Assortiment Hoortoestellen'!$B$26),1,IF(ISERROR(SEARCH(PROPER('Assortiment Hoortoestellen'!$B$26),PROPER('Dataset hoortoestellen'!D29199))),0,1))","v":1}]
["Kooijman Hoortoestellen",5,"Widex","Enjoy E-CIC TR 330 Rechts","WID-0663",{"$f":"IF(ISBLANK('Assortiment Hoortoestellen'!$B$26),1,IF(ISERROR(SEARCH(PROPER('Assortiment Hoortoestellen'!$B$26),PROPER('Dataset hoortoestellen'!D29200))),0,1))","v":1}]
["Kooijman Hoortoestellen",3,"Widex","Enjoy E-CIC TR 110 Links","WID-0569",{"$f":"IF(ISBLANK('Assortiment Hoortoestellen'!$B$26),1,IF(ISERROR(SEARCH(PROPER('Assortiment Hoortoestellen'!$B$26),PROPER('Dataset hoortoestellen'!D29201))),0,1))","v":1}]
["Kooijman Hoortoestellen",4,"Widex","Enjoy E-CIC TR 220 Links","WID-0570",{"$f":"IF(ISBLANK('Assortiment Hoortoestellen'!$B$26),1,IF(ISERROR(SEARCH(PROPER('Assortiment Hoortoestellen'!$B$26),PROPER('Dataset hoortoestellen'!D29202))),0,1))","v":1}]
["Kooijman Hoortoestellen",5,"Widex","Enjoy E-XP 330","WID-0653",{"$f":"IF(ISBLANK('Assortiment Hoortoestellen'!$B$26),1,IF(ISERROR(SEARCH(PROPER('Assortiment Hoortoestellen'!$B$26),PROPER('Dataset hoortoestellen'!D29203))),0,1))","v":1}]
["Kooijman Hoortoestellen",3,"Widex","Enjoy E-XP 110","WID-0651",{"$f":"IF(ISBLANK('Assortiment Hoortoestellen'!$B$26),1,IF(ISERROR(SEARCH(PROPER('Assortiment Hoortoestellen'!$B$26),PROPER('Dataset hoortoestellen'!D29204))),0,1))","v":1}]
["Kooijman Hoortoestellen",4,"Widex","Enjoy E-CIC TR 220 Rechts","WID-0662",{"$f":"IF(ISBLANK('Assortiment Hoortoestellen'!$B$26),1,IF(ISERROR(SEARCH(PROPER('Assortiment Hoortoestellen'!$B$26),PROPER('Dataset hoortoestellen'!D29205))),0,1))","v":1}]
["Kooijman Hoortoestellen",5,"Widex","U440-CIC","WID-0444",{"$f":"IF(ISBLANK('Assortiment Hoortoestellen'!$B$26),1,IF(ISERROR(SEARCH(PROPER('Assortiment Hoortoestellen'!$B$26),PROPER('Dataset hoortoestellen'!D29206))),0,1))","v":1}]
["Kooijman Hoortoestellen",3,"Widex","U110-CIC","WID-0404",{"$f":"IF(ISBLANK('Assortiment Hoortoestellen'!$B$26),1,IF(ISERROR(SEARCH(PROPER('Assortiment Hoortoestellen'!$B$26),PROPER('Dataset hoortoestellen'!D29207))),0,1))","v":1}]
["Kooijman Hoortoestellen",4,"Widex","Enjoy E-XP 220","WID-0652",{"$f":"IF(ISBLANK('Assortiment Hoortoestellen'!$B$26),1,IF(ISERROR(SEARCH(PROPER('Assortiment Hoortoestellen'!$B$26),PROPER('Dataset hoortoestellen'!D29208))),0,1))","v":1}]
["Kooijman Hoortoestellen",5,"Widex","U440-CIC-M","WID-0446",{"$f":"IF(ISBLANK('Assortiment Hoortoestellen'!$B$26),1,IF(ISERROR(SEARCH(PROPER('Assortiment Hoortoestellen'!$B$26),PROPER('Dataset hoortoestellen'!D29209))),0,1))","v":1}]
["Kooijman Hoortoestellen",3,"Widex","U110-CIC-M","WID-0406",{"$f":"IF(ISBLANK('Assortiment Hoortoestellen'!$B$26),1,IF(ISERROR(SEARCH(PROPER('Assortiment Hoortoestellen'!$B$26),PROPER('Dataset hoortoestellen'!D29210))),0,1))","v":1}]
["Kooijman Hoortoestellen",4,"Widex","U330-CIC","WID-0431",{"$f":"IF(ISBLANK('Assortiment Hoortoestellen'!$B$26),1,IF(ISERROR(SEARCH(PROPER('Assortiment Hoortoestellen'!$B$26),PROPER('Dataset hoortoestellen'!D29211))),0,1))","v":1}]
["Kooijman Hoortoestellen",5,"Widex","U440-CIC TR","WID-445",{"$f":"IF(ISBLANK('Assortiment Hoortoestellen'!$B$26),1,IF(ISERROR(SEARCH(PROPER('Assortiment Hoortoestellen'!$B$26),PROPER('Dataset hoortoestellen'!D29212))),0,1))","v":1}]
["Kooijman Hoortoestellen",3,"Widex","U110-CIC TR","WID-0405",{"$f":"IF(ISBLANK('Assortiment Hoortoestellen'!$B$26),1,IF(ISERROR(SEARCH(PROPER('Assortiment Hoortoestellen'!$B$26),PROPER('Dataset hoortoestellen'!D29213))),0,1))","v":1}]
["Kooijman Hoortoestellen",4,"Widex","U330-CIC-M","WID-0433",{"$f":"IF(ISBLANK('Assortiment Hoortoestellen'!$B$26),1,IF(ISERROR(SEARCH(PROPER('Assortiment Hoortoestellen'!$B$26),PROPER('Dataset hoortoestellen'!D29214))),0,1))","v":1}]
["Kooijman Hoortoestellen",5,"Widex","U440-CIC-M TR","WID-0447",{"$f":"IF(ISBLANK('Assortiment Hoortoestellen'!$B$26),1,IF(ISERROR(SEARCH(PROPER('Assortiment Hoortoestellen'!$B$26),PROPER('Dataset hoortoestellen'!D29215))),0,1))","v":1}]
["Kooijman Hoortoestellen",3,"Widex","U110-CIC-M TR","WID-0407",{"$f":"IF(ISBLANK('Assortiment Hoortoestellen'!$B$26),1,IF(ISERROR(SEARCH(PROPER('Assortiment Hoortoestellen'!$B$26),PROPER('Dataset hoortoestellen'!D29216))),0,1))","v":1}]
["Kooijman Hoortoestellen",4,"Widex","U330-CIC TR","WID-0432",{"$f":"IF(ISBLANK('Assortiment Hoortoestellen'!$B$26),1,IF(ISERROR(SEARCH(PROPER('Assortiment Hoortoestellen'!$B$26),PROPER('Dataset hoortoestellen'!D29217))),0,1))","v":1}]
["Kooijman Hoortoestellen",5,"Widex","U440-XP","WID-0456",{"$f":"IF(ISBLANK('Assortiment Hoortoestellen'!$B$26),1,IF(ISERROR(SEARCH(PROPER('Assortiment Hoortoestellen'!$B$26),PROPER('Dataset hoortoestellen'!D29218))),0,1))","v":1}]
["Kooijman Hoortoestellen",3,"Widex","U110-XP","WID-0417",{"$f":"IF(ISBLANK('Assortiment Hoortoestellen'!$B$26),1,IF(ISERROR(SEARCH(PROPER('Assortiment Hoortoestellen'!$B$26),PROPER('Dataset hoortoestellen'!D29219))),0,1))","v":1}]
["Kooijman Hoortoestellen",4,"Widex","U330-CIC-M TR","WID-0434",{"$f":"IF(ISBLANK('Assortiment Hoortoestellen'!$B$26),1,IF(ISERROR(SEARCH(PROPER('Assortiment Hoortoestellen'!$B$26),PROPER('Dataset hoortoestellen'!D29220))),0,1))","v":1}]
["Kooijman Hoortoestellen",3,"Widex","U220-CIC","WID-0418",{"$f":"IF(ISBLANK('Assortiment Hoortoestellen'!$B$26),1,IF(ISERROR(SEARCH(PROPER('Assortiment Hoortoestellen'!$B$26),PROPER('Dataset hoortoestellen'!D29221))),0,1))","v":1}]
["Kooijman Hoortoestellen",4,"Widex","U330-XP","WID-0443",{"$f":"IF(ISBLANK('Assortiment Hoortoestellen'!$B$26),1,IF(ISERROR(SEARCH(PROPER('Assortiment Hoortoestellen'!$B$26),PROPER('Dataset hoortoestellen'!D29222))),0,1))","v":1}]
["Kooijman Hoortoestellen",3,"Widex","U220-CIC-M","WID-0420",{"$f":"IF(ISBLANK('Assortiment Hoortoestellen'!$B$26),1,IF(ISERROR(SEARCH(PROPER('Assortiment Hoortoestellen'!$B$26),PROPER('Dataset hoortoestellen'!D29223))),0,1))","v":1}]
["Kooijman Hoortoestellen",3,"Widex","U220-CIC TR","WID-0419",{"$f":"IF(ISBLANK('Assortiment Hoortoestellen'!$B$26),1,IF(ISERROR(SEARCH(PROPER('Assortiment Hoortoestellen'!$B$26),PROPER('Dataset hoortoestellen'!D29224))),0,1))","v":1}]
["Kooijman Hoortoestellen",3,"Widex","U220-CIC-M TR","WID-0421",{"$f":"IF(ISBLANK('Assortiment Hoortoestellen'!$B$26),1,IF(ISERROR(SEARCH(PROPER('Assortiment Hoortoestellen'!$B$26),PROPER('Dataset hoortoestellen'!D29225))),0,1))","v":1}]
["Kooijman Hoortoestellen",3,"Widex","U220-XP","WID-0430",{"$f":"IF(ISBLANK('Assortiment Hoortoestellen'!$B$26),1,IF(ISERROR(SEARCH(PROPER('Assortiment Hoortoestellen'!$B$26),PROPER('Dataset hoortoestellen'!D29226))),0,1))","v":1}]
["Kooijman Hoortoestellen",2,"Widex","Enjoy E-BTE 13D 50","WID-0549",{"$f":"IF(ISBLANK('Assortiment Hoortoestellen'!$B$26),1,IF(ISERROR(SEARCH(PROPER('Assortiment Hoortoestellen'!$B$26),PROPER('Dataset hoortoestellen'!D29227))),0,1))","v":1}]
["Kooijman Hoortoestellen",2,"Widex","Enjoy E-F2 50 (HP-tel)","WID-0594",{"$f":"IF(ISBLANK('Assortiment Hoortoestellen'!$B$26),1,IF(ISERROR(SEARCH(PROPER('Assortiment Hoortoestellen'!$B$26),PROPER('Dataset hoortoestellen'!D29228))),0,1))","v":1}]
["Kooijman Hoortoestellen",2,"Widex","Enjoy E-F2 50 (M-tel)","WID-0595",{"$f":"IF(ISBLANK('Assortiment Hoortoestellen'!$B$26),1,IF(ISERROR(SEARCH(PROPER('Assortiment Hoortoestellen'!$B$26),PROPER('Dataset hoortoestellen'!D29229))),0,1))","v":1}]
["Kooijman Hoortoestellen",2,"Widex","Enjoy E-F2 50 (P-tel)","WID-0596",{"$f":"IF(ISBLANK('Assortiment Hoortoestellen'!$B$26),1,IF(ISERROR(SEARCH(PROPER('Assortiment Hoortoestellen'!$B$26),PROPER('Dataset hoortoestellen'!D29230))),0,1))","v":1}]
["Kooijman Hoortoestellen",3,"Widex","Enjoy E-BTE 13D 110","WID-0545",{"$f":"IF(ISBLANK('Assortiment Hoortoestellen'!$B$26),1,IF(ISERROR(SEARCH(PROPER('Assortiment Hoortoestellen'!$B$26),PROPER('Dataset hoortoestellen'!D29231))),0,1))","v":1}]
["Kooijman Hoortoestellen",2,"Widex","Enjoy E-F2 50 (S-tel)","WID-0597",{"$f":"IF(ISBLANK('Assortiment Hoortoestellen'!$B$26),1,IF(ISERROR(SEARCH(PROPER('Assortiment Hoortoestellen'!$B$26),PROPER('Dataset hoortoestellen'!D29232))),0,1))","v":1}]
["Kooijman Hoortoestellen",3,"Widex","Enjoy E-F2 110 (HP-tel)","WID-0578",{"$f":"IF(ISBLANK('Assortiment Hoortoestellen'!$B$26),1,IF(ISERROR(SEARCH(PROPER('Assortiment Hoortoestellen'!$B$26),PROPER('Dataset hoortoestellen'!D29233))),0,1))","v":1}]
["Kooijman Hoortoestellen",2,"Widex","Enjoy E-FA 50","WID-0603",{"$f":"IF(ISBLANK('Assortiment Hoortoestellen'!$B$26),1,IF(ISERROR(SEARCH(PROPER('Assortiment Hoortoestellen'!$B$26),PROPER('Dataset hoortoestellen'!D29234))),0,1))","v":1}]
["Kooijman Hoortoestellen",3,"Widex","Enjoy E-F2 110 (M-tel)","WID-0579",{"$f":"IF(ISBLANK('Assortiment Hoortoestellen'!$B$26),1,IF(ISERROR(SEARCH(PROPER('Assortiment Hoortoestellen'!$B$26),PROPER('Dataset hoortoestellen'!D29235))),0,1))","v":1}]
["Kooijman Hoortoestellen",2,"Widex","Enjoy E-FM 50","WID-0609",{"$f":"IF(ISBLANK('Assortiment Hoortoestellen'!$B$26),1,IF(ISERROR(SEARCH(PROPER('Assortiment Hoortoestellen'!$B$26),PROPER('Dataset hoortoestellen'!D29236))),0,1))","v":1}]
["Kooijman Hoortoestellen",3,"Widex","Enjoy E-F2 110 (P-tel)","WID-0580",{"$f":"IF(ISBLANK('Assortiment Hoortoestellen'!$B$26),1,IF(ISERROR(SEARCH(PROPER('Assortiment Hoortoestellen'!$B$26),PROPER('Dataset hoortoestellen'!D29237))),0,1))","v":1}]
["Kooijman Hoortoestellen",4,"Widex","Enjoy E-BTE 13D 220","WID-0546",{"$f":"IF(ISBLANK('Assortiment Hoortoestellen'!$B$26),1,IF(ISERROR(SEARCH(PROPER('Assortiment Hoortoestellen'!$B$26),PROPER('Dataset hoortoestellen'!D29238))),0,1))","v":1}]
["Kooijman Hoortoestellen",2,"Widex","Enjoy E-FP 50","WID-0615",{"$f":"IF(ISBLANK('Assortiment Hoortoestellen'!$B$26),1,IF(ISERROR(SEARCH(PROPER('Assortiment Hoortoestellen'!$B$26),PROPER('Dataset hoortoestellen'!D29239))),0,1))","v":1}]
["Kooijman Hoortoestellen",3,"Widex","Enjoy E-F2 110 (S-tel)","WID-0581",{"$f":"IF(ISBLANK('Assortiment Hoortoestellen'!$B$26),1,IF(ISERROR(SEARCH(PROPER('Assortiment Hoortoestellen'!$B$26),PROPER('Dataset hoortoestellen'!D29240))),0,1))","v":1}]
["Kooijman Hoortoestellen",4,"Widex","Enjoy E-F2 220 (HP-tel)","WID-0582",{"$f":"IF(ISBLANK('Assortiment Hoortoestellen'!$B$26),1,IF(ISERROR(SEARCH(PROPER('Assortiment Hoortoestellen'!$B$26),PROPER('Dataset hoortoestellen'!D29241))),0,1))","v":1}]
["Kooijman Hoortoestellen",2,"Widex","Enjoy E-FS 50 (HP-tel)","WID-0636",{"$f":"IF(ISBLANK('Assortiment Hoortoestellen'!$B$26),1,IF(ISERROR(SEARCH(PROPER('Assortiment Hoortoestellen'!$B$26),PROPER('Dataset hoortoestellen'!D29242))),0,1))","v":1}]
["Kooijman Hoortoestellen",3,"Widex","Enjoy E-FA 110","WID-0599",{"$f":"IF(ISBLANK('Assortiment Hoortoestellen'!$B$26),1,IF(ISERROR(SEARCH(PROPER('Assortiment Hoortoestellen'!$B$26),PROPER('Dataset hoortoestellen'!D29243))),0,1))","v":1}]
["Kooijman Hoortoestellen",4,"Widex","Enjoy E-F2 220 (M-tel)","WID-0583",{"$f":"IF(ISBLANK('Assortiment Hoortoestellen'!$B$26),1,IF(ISERROR(SEARCH(PROPER('Assortiment Hoortoestellen'!$B$26),PROPER('Dataset hoortoestellen'!D29244))),0,1))","v":1}]
["Kooijman Hoortoestellen",2,"Widex","Enjoy E-FS 50 (M-tel)","WID-0637",{"$f":"IF(ISBLANK('Assortiment Hoortoestellen'!$B$26),1,IF(ISERROR(SEARCH(PROPER('Assortiment Hoortoestellen'!$B$26),PROPER('Dataset hoortoestellen'!D29245))),0,1))","v":1}]
["Kooijman Hoortoestellen",3,"Widex","Enjoy E-FM 110","WID-0605",{"$f":"IF(ISBLANK('Assortiment Hoortoestellen'!$B$26),1,IF(ISERROR(SEARCH(PROPER('Assortiment Hoortoestellen'!$B$26),PROPER('Dataset hoortoestellen'!D29246))),0,1))","v":1}]
["Kooijman Hoortoestellen",4,"Widex","Enjoy E-F2 220 (P-tel)","WID-0584",{"$f":"IF(ISBLANK('Assortiment Hoortoestellen'!$B$26),1,IF(ISERROR(SEARCH(PROPER('Assortiment Hoortoestellen'!$B$26),PROPER('Dataset hoortoestellen'!D29247))),0,1))","v":1}]
["Kooijman Hoortoestellen",2,"Widex","Enjoy E-FS 50 (P-tel)","WID-0638",{"$f":"IF(ISBLANK('Assortiment Hoortoestellen'!$B$26),1,IF(ISERROR(SEARCH(PROPER('Assortiment Hoortoestellen'!$B$26),PROPER('Dataset hoortoestellen'!D29248))),0,1))","v":1}]
["Kooijman Hoortoestellen",3,"Widex","Enjoy E-FP 110","WID-0611",{"$f":"IF(ISBLANK('Assortiment Hoortoestellen'!$B$26),1,IF(ISERROR(SEARCH(PROPER('Assortiment Hoortoestellen'!$B$26),PROPER('Dataset hoortoestellen'!D29249))),0,1))","v":1}]
["Kooijman Hoortoestellen",4,"Widex","Enjoy E-F2 220 (S-tel)","WID-0585",{"$f":"IF(ISBLANK('Assortiment Hoortoestellen'!$B$26),1,IF(ISERROR(SEARCH(PROPER('Assortiment Hoortoestellen'!$B$26),PROPER('Dataset hoortoestellen'!D29250))),0,1))","v":1}]
["Kooijman Hoortoestellen",2,"Widex","Enjoy E-FS 50 (S-tel)","WID-0639",{"$f":"IF(ISBLANK('Assortiment Hoortoestellen'!$B$26),1,IF(ISERROR(SEARCH(PROPER('Assortiment Hoortoestellen'!$B$26),PROPER('Dataset hoortoestellen'!D29251))),0,1))","v":1}]
["Kooijman Hoortoestellen",3,"Widex","Enjoy E-FS 110 (HP-tel)","WID-0620",{"$f":"IF(ISBLANK('Assortiment Hoortoestellen'!$B$26),1,IF(ISERROR(SEARCH(PROPER('Assortiment Hoortoestellen'!$B$26),PROPER('Dataset hoortoestellen'!D29252))),0,1))","v":1}]
["Kooijman Hoortoestellen",4,"Widex","Enjoy E-FA 220","WID-0600",{"$f":"IF(ISBLANK('Assortiment Hoortoestellen'!$B$26),1,IF(ISERROR(SEARCH(PROPER('Assortiment Hoortoestellen'!$B$26),PROPER('Dataset hoortoestellen'!D29253))),0,1))","v":1}]
["Kooijman Hoortoestellen",3,"Widex","Enjoy E-FS 110 (M-tel)","WID-0621",{"$f":"IF(ISBLANK('Assortiment Hoortoestellen'!$B$26),1,IF(ISERROR(SEARCH(PROPER('Assortiment Hoortoestellen'!$B$26),PROPER('Dataset hoortoestellen'!D29254))),0,1))","v":1}]
["Kooijman Hoortoestellen",4,"Widex","Enjoy E-FM 220","WID-0606",{"$f":"IF(ISBLANK('Assortiment Hoortoestellen'!$B$26),1,IF(ISERROR(SEARCH(PROPER('Assortiment Hoortoestellen'!$B$26),PROPER('Dataset hoortoestellen'!D29255))),0,1))","v":1}]
["Kooijman Hoortoestellen",5,"Widex","Enjoy E-BTE 13D 330","WID-0547",{"$f":"IF(ISBLANK('Assortiment Hoortoestellen'!$B$26),1,IF(ISERROR(SEARCH(PROPER('Assortiment Hoortoestellen'!$B$26),PROPER('Dataset hoortoestellen'!D29256))),0,1))","v":1}]
["Kooijman Hoortoestellen",3,"Widex","Enjoy E-FS 110 (P-tel)","WID-0622",{"$f":"IF(ISBLANK('Assortiment Hoortoestellen'!$B$26),1,IF(ISERROR(SEARCH(PROPER('Assortiment Hoortoestellen'!$B$26),PROPER('Dataset hoortoestellen'!D29257))),0,1))","v":1}]
["Kooijman Hoortoestellen",4,"Widex","Enjoy E-FP 220","WID-0612",{"$f":"IF(ISBLANK('Assortiment Hoortoestellen'!$B$26),1,IF(ISERROR(SEARCH(PROPER('Assortiment Hoortoestellen'!$B$26),PROPER('Dataset hoortoestellen'!D29258))),0,1))","v":1}]
["Kooijman Hoortoestellen",5,"Widex","Enjoy E-F2 330 (HP-tel)","WID-0586",{"$f":"IF(ISBLANK('Assortiment Hoortoestellen'!$B$26),1,IF(ISERROR(SEARCH(PROPER('Assortiment Hoortoestellen'!$B$26),PROPER('Dataset hoortoestellen'!D29259))),0,1))","v":1}]
["Kooijman Hoortoestellen",3,"Widex","Enjoy E-FS 110 (S-tel)","WID-0623",{"$f":"IF(ISBLANK('Assortiment Hoortoestellen'!$B$26),1,IF(ISERROR(SEARCH(PROPER('Assortiment Hoortoestellen'!$B$26),PROPER('Dataset hoortoestellen'!D29260))),0,1))","v":1}]
["Kooijman Hoortoestellen",4,"Widex","Enjoy E-FS 220 (HP-tel)","WID-0624",{"$f":"IF(ISBLANK('Assortiment Hoortoestellen'!$B$26),1,IF(ISERROR(SEARCH(PROPER('Assortiment Hoortoestellen'!$B$26),PROPER('Dataset hoortoestellen'!D29261))),0,1))","v":1}]
["Kooijman Hoortoestellen",5,"Widex","Enjoy E-F2 330 (M-tel)","WID-0587",{"$f":"IF(ISBLANK('Assortiment Hoortoestellen'!$B$26),1,IF(ISERROR(SEARCH(PROPER('Assortiment Hoortoestellen'!$B$26),PROPER('Dataset hoortoestellen'!D29262))),0,1))","v":1}]
["Kooijman Hoortoestellen",3,"Widex","Enjoy E-PA 110 (M-tel)","WID-0642",{"$f":"IF(ISBLANK('Assortiment Hoortoestellen'!$B$26),1,IF(ISERROR(SEARCH(PROPER('Assortiment Hoortoestellen'!$B$26),PROPER('Dataset hoortoestellen'!D29263))),0,1))","v":1}]
["Kooijman Hoortoestellen",4,"Widex","Enjoy E-FS 220 (M-tel)","WID-0625",{"$f":"IF(ISBLANK('Assortiment Hoortoestellen'!$B$26),1,IF(ISERROR(SEARCH(PROPER('Assortiment Hoortoestellen'!$B$26),PROPER('Dataset hoortoestellen'!D29264))),0,1))","v":1}]
["Kooijman Hoortoestellen",5,"Widex","Enjoy E-F2 330 (P-tel)","WID-0588",{"$f":"IF(ISBLANK('Assortiment Hoortoestellen'!$B$26),1,IF(ISERROR(SEARCH(PROPER('Assortiment Hoortoestellen'!$B$26),PROPER('Dataset hoortoestellen'!D29265))),0,1))","v":1}]
["Kooijman Hoortoestellen",3,"Widex","Enjoy E-PA 110 (S-tel)","WID-0643",{"$f":"IF(ISBLANK('Assortiment Hoortoestellen'!$B$26),1,IF(ISERROR(SEARCH(PROPER('Assortiment Hoortoestellen'!$B$26),PROPER('Dataset hoortoestellen'!D29266))),0,1))","v":1}]
["Kooijman Hoortoestellen",4,"Widex","Enjoy E-FS 220 (P-tel)","WID-0626",{"$f":"IF(ISBLANK('Assortiment Hoortoestellen'!$B$26),1,IF(ISERROR(SEARCH(PROPER('Assortiment Hoortoestellen'!$B$26),PROPER('Dataset hoortoestellen'!D29267))),0,1))","v":1}]
["Kooijman Hoortoestellen",5,"Widex","Enjoy E-F2 330 (S-tel)","WID-0589",{"$f":"IF(ISBLANK('Assortiment Hoortoestellen'!$B$26),1,IF(ISERROR(SEARCH(PROPER('Assortiment Hoortoestellen'!$B$26),PROPER('Dataset hoortoestellen'!D29268))),0,1))","v":1}]
["Kooijman Hoortoestellen",3,"Widex","U110-FA","WID-0408",{"$f":"IF(ISBLANK('Assortiment Hoortoestellen'!$B$26),1,IF(ISERROR(SEARCH(PROPER('Assortiment Hoortoestellen'!$B$26),PROPER('Dataset hoortoestellen'!D29269))),0,1))","v":1}]
["Kooijman Hoortoestellen",4,"Widex","Enjoy E-FS 220 (S-tel)","WID-0627",{"$f":"IF(ISBLANK('Assortiment Hoortoestellen'!$B$26),1,IF(ISERROR(SEARCH(PROPER('Assortiment Hoortoestellen'!$B$26),PROPER('Dataset hoortoestellen'!D29270))),0,1))","v":1}]
["Kooijman Hoortoestellen",5,"Widex","Enjoy E-FA 330","WID-0601",{"$f":"IF(ISBLANK('Assortiment Hoortoestellen'!$B$26),1,IF(ISERROR(SEARCH(PROPER('Assortiment Hoortoestellen'!$B$26),PROPER('Dataset hoortoestellen'!D29271))),0,1))","v":1}]
["Kooijman Hoortoestellen",3,"Widex","U110-FM","WID-0409",{"$f":"IF(ISBLANK('Assortiment Hoortoestellen'!$B$26),1,IF(ISERROR(SEARCH(PROPER('Assortiment Hoortoestellen'!$B$26),PROPER('Dataset hoortoestellen'!D29272))),0,1))","v":1}]
["Kooijman Hoortoestellen",4,"Widex","Enjoy E-PA 220 (M-tel)","WID-0644",{"$f":"IF(ISBLANK('Assortiment Hoortoestellen'!$B$26),1,IF(ISERROR(SEARCH(PROPER('Assortiment Hoortoestellen'!$B$26),PROPER('Dataset hoortoestellen'!D29273))),0,1))","v":1}]
["Kooijman Hoortoestellen",5,"Widex","Enjoy E-FM 330","WID-0607",{"$f":"IF(ISBLANK('Assortiment Hoortoestellen'!$B$26),1,IF(ISERROR(SEARCH(PROPER('Assortiment Hoortoestellen'!$B$26),PROPER('Dataset hoortoestellen'!D29274))),0,1))","v":1}]
["Kooijman Hoortoestellen",3,"Widex","U110-FP","WID-0410",{"$f":"IF(ISBLANK('Assortiment Hoortoestellen'!$B$26),1,IF(ISERROR(SEARCH(PROPER('Assortiment Hoortoestellen'!$B$26),PROPER('Dataset hoortoestellen'!D29275))),0,1))","v":1}]
["Kooijman Hoortoestellen",4,"Widex","Enjoy E-PA 220 (S-tel)","WID-0645",{"$f":"IF(ISBLANK('Assortiment Hoortoestellen'!$B$26),1,IF(ISERROR(SEARCH(PROPER('Assortiment Hoortoestellen'!$B$26),PROPER('Dataset hoortoestellen'!D29276))),0,1))","v":1}]
["Kooijman Hoortoestellen",5,"Widex","Enjoy E-FP 330","WID-0613",{"$f":"IF(ISBLANK('Assortiment Hoortoestellen'!$B$26),1,IF(ISERROR(SEARCH(PROPER('Assortiment Hoortoestellen'!$B$26),PROPER('Dataset hoortoestellen'!D29277))),0,1))","v":1}]
["Kooijman Hoortoestellen",3,"Widex","U110-FS (HP-tel)","WID-0411",{"$f":"IF(ISBLANK('Assortiment Hoortoestellen'!$B$26),1,IF(ISERROR(SEARCH(PROPER('Assortiment Hoortoestellen'!$B$26),PROPER('Dataset hoortoestellen'!D29278))),0,1))","v":1}]
["Kooijman Hoortoestellen",4,"Widex","U330-FA","WID-0435",{"$f":"IF(ISBLANK('Assortiment Hoortoestellen'!$B$26),1,IF(ISERROR(SEARCH(PROPER('Assortiment Hoortoestellen'!$B$26),PROPER('Dataset hoortoestellen'!D29279))),0,1))","v":1}]
["Kooijman Hoortoestellen",5,"Widex","Enjoy E-FS 330 (HP-tel)","WID-0628",{"$f":"IF(ISBLANK('Assortiment Hoortoestellen'!$B$26),1,IF(ISERROR(SEARCH(PROPER('Assortiment Hoortoestellen'!$B$26),PROPER('Dataset hoortoestellen'!D29280))),0,1))","v":1}]
["Kooijman Hoortoestellen",3,"Widex","U110-FS (M-tel)","WID-0412",{"$f":"IF(ISBLANK('Assortiment Hoortoestellen'!$B$26),1,IF(ISERROR(SEARCH(PROPER('Assortiment Hoortoestellen'!$B$26),PROPER('Dataset hoortoestellen'!D29281))),0,1))","v":1}]
["Kooijman Hoortoestellen",4,"Widex","U330-FM","WID-0436",{"$f":"IF(ISBLANK('Assortiment Hoortoestellen'!$B$26),1,IF(ISERROR(SEARCH(PROPER('Assortiment Hoortoestellen'!$B$26),PROPER('Dataset hoortoestellen'!D29282))),0,1))","v":1}]
["Kooijman Hoortoestellen",5,"Widex","Enjoy E-FS 330 (M-tel)","WID-0629",{"$f":"IF(ISBLANK('Assortiment Hoortoestellen'!$B$26),1,IF(ISERROR(SEARCH(PROPER('Assortiment Hoortoestellen'!$B$26),PROPER('Dataset hoortoestellen'!D29283))),0,1))","v":1}]
["Kooijman Hoortoestellen",3,"Widex","U110-FS (P-tel)","WID-0413",{"$f":"IF(ISBLANK('Assortiment Hoortoestellen'!$B$26),1,IF(ISERROR(SEARCH(PROPER('Assortiment Hoortoestellen'!$B$26),PROPER('Dataset hoortoestellen'!D29284))),0,1))","v":1}]
["Kooijman Hoortoestellen",4,"Widex","U330-FP","WID-0458",{"$f":"IF(ISBLANK('Assortiment Hoortoestellen'!$B$26),1,IF(ISERROR(SEARCH(PROPER('Assortiment Hoortoestellen'!$B$26),PROPER('Dataset hoortoestellen'!D29285))),0,1))","v":1}]
["Kooijman Hoortoestellen",5,"Widex","Enjoy E-FS 330 (P-tel)","WID-0630",{"$f":"IF(ISBLANK('Assortiment Hoortoestellen'!$B$26),1,IF(ISERROR(SEARCH(PROPER('Assortiment Hoortoestellen'!$B$26),PROPER('Dataset hoortoestellen'!D29286))),0,1))","v":1}]
["Kooijman Hoortoestellen",3,"Widex","U110-FS (S-tel)","WID-0414",{"$f":"IF(ISBLANK('Assortiment Hoortoestellen'!$B$26),1,IF(ISERROR(SEARCH(PROPER('Assortiment Hoortoestellen'!$B$26),PROPER('Dataset hoortoestellen'!D29287))),0,1))","v":1}]
["Kooijman Hoortoestellen",4,"Widex","U330-FS (HP-tel)","WID-0437",{"$f":"IF(ISBLANK('Assortiment Hoortoestellen'!$B$26),1,IF(ISERROR(SEARCH(PROPER('Assortiment Hoortoestellen'!$B$26),PROPER('Dataset hoortoestellen'!D29288))),0,1))","v":1}]
["Kooijman Hoortoestellen",5,"Widex","Enjoy E-FS 330 (S-tel)","WID-0631",{"$f":"IF(ISBLANK('Assortiment Hoortoestellen'!$B$26),1,IF(ISERROR(SEARCH(PROPER('Assortiment Hoortoestellen'!$B$26),PROPER('Dataset hoortoestellen'!D29289))),0,1))","v":1}]
["Kooijman Hoortoestellen",3,"Widex","U110-PA (M-tel)","WID-0415",{"$f":"IF(ISBLANK('Assortiment Hoortoestellen'!$B$26),1,IF(ISERROR(SEARCH(PROPER('Assortiment Hoortoestellen'!$B$26),PROPER('Dataset hoortoestellen'!D29290))),0,1))","v":1}]
["Kooijman Hoortoestellen",4,"Widex","U330-FS (M-tel)","WID-0438",{"$f":"IF(ISBLANK('Assortiment Hoortoestellen'!$B$26),1,IF(ISERROR(SEARCH(PROPER('Assortiment Hoortoestellen'!$B$26),PROPER('Dataset hoortoestellen'!D29291))),0,1))","v":1}]
["Kooijman Hoortoestellen",5,"Widex","Enjoy E-PA 330 (M-tel)","WID-0646",{"$f":"IF(ISBLANK('Assortiment Hoortoestellen'!$B$26),1,IF(ISERROR(SEARCH(PROPER('Assortiment Hoortoestellen'!$B$26),PROPER('Dataset hoortoestellen'!D29292))),0,1))","v":1}]
["Kooijman Hoortoestellen",3,"Widex","U110-PA (S-tel)","WID-0416",{"$f":"IF(ISBLANK('Assortiment Hoortoestellen'!$B$26),1,IF(ISERROR(SEARCH(PROPER('Assortiment Hoortoestellen'!$B$26),PROPER('Dataset hoortoestellen'!D29293))),0,1))","v":1}]
["Kooijman Hoortoestellen",4,"Widex","U330-FS (P-tel)","WID-0439",{"$f":"IF(ISBLANK('Assortiment Hoortoestellen'!$B$26),1,IF(ISERROR(SEARCH(PROPER('Assortiment Hoortoestellen'!$B$26),PROPER('Dataset hoortoestellen'!D29294))),0,1))","v":1}]
["Kooijman Hoortoestellen",5,"Widex","Enjoy E-PA 330 (S-tel)","WID-0647",{"$f":"IF(ISBLANK('Assortiment Hoortoestellen'!$B$26),1,IF(ISERROR(SEARCH(PROPER('Assortiment Hoortoestellen'!$B$26),PROPER('Dataset hoortoestellen'!D29295))),0,1))","v":1}]
["Kooijman Hoortoestellen",3,"Widex","U220-FA","WID-0422",{"$f":"IF(ISBLANK('Assortiment Hoortoestellen'!$B$26),1,IF(ISERROR(SEARCH(PROPER('Assortiment Hoortoestellen'!$B$26),PROPER('Dataset hoortoestellen'!D29296))),0,1))","v":1}]
["Kooijman Hoortoestellen",4,"Widex","U330-FS (S-tel)","WID-0440",{"$f":"IF(ISBLANK('Assortiment Hoortoestellen'!$B$26),1,IF(ISERROR(SEARCH(PROPER('Assortiment Hoortoestellen'!$B$26),PROPER('Dataset hoortoestellen'!D29297))),0,1))","v":1}]
["Kooijman Hoortoestellen",5,"Widex","U440-FA","WID-0448",{"$f":"IF(ISBLANK('Assortiment Hoortoestellen'!$B$26),1,IF(ISERROR(SEARCH(PROPER('Assortiment Hoortoestellen'!$B$26),PROPER('Dataset hoortoestellen'!D29298))),0,1))","v":1}]
["Kooijman Hoortoestellen",3,"Widex","U220-FM","WID-0423",{"$f":"IF(ISBLANK('Assortiment Hoortoestellen'!$B$26),1,IF(ISERROR(SEARCH(PROPER('Assortiment Hoortoestellen'!$B$26),PROPER('Dataset hoortoestellen'!D29299))),0,1))","v":1}]
["Kooijman Hoortoestellen",4,"Widex","U330-PA (M-tel)","WID-0441",{"$f":"IF(ISBLANK('Assortiment Hoortoestellen'!$B$26),1,IF(ISERROR(SEARCH(PROPER('Assortiment Hoortoestellen'!$B$26),PROPER('Dataset hoortoestellen'!D29300))),0,1))","v":1}]
["Kooijman Hoortoestellen",5,"Widex","U440-FM","WID-0449",{"$f":"IF(ISBLANK('Assortiment Hoortoestellen'!$B$26),1,IF(ISERROR(SEARCH(PROPER('Assortiment Hoortoestellen'!$B$26),PROPER('Dataset hoortoestellen'!D29301))),0,1))","v":1}]
["Kooijman Hoortoestellen",3,"Widex","U220-FP","WID-0457",{"$f":"IF(ISBLANK('Assortiment Hoortoestellen'!$B$26),1,IF(ISERROR(SEARCH(PROPER('Assortiment Hoortoestellen'!$B$26),PROPER('Dataset hoortoestellen'!D29302))),0,1))","v":1}]
["Kooijman Hoortoestellen",4,"Widex","U330-PA (S-tel)","WID-0442",{"$f":"IF(ISBLANK('Assortiment Hoortoestellen'!$B$26),1,IF(ISERROR(SEARCH(PROPER('Assortiment Hoortoestellen'!$B$26),PROPER('Dataset hoortoestellen'!D29303))),0,1))","v":1}]
["Kooijman Hoortoestellen",5,"Widex","U440-FP","WID-0459",{"$f":"IF(ISBLANK('Assortiment Hoortoestellen'!$B$26),1,IF(ISERROR(SEARCH(PROPER('Assortiment Hoortoestellen'!$B$26),PROPER('Dataset hoortoestellen'!D29304))),0,1))","v":1}]
["Kooijman Hoortoestellen",3,"Widex","U220-FS (HP-tel)","WID-0424",{"$f":"IF(ISBLANK('Assortiment Hoortoestellen'!$B$26),1,IF(ISERROR(SEARCH(PROPER('Assortiment Hoortoestellen'!$B$26),PROPER('Dataset hoortoestellen'!D29305))),0,1))","v":1}]
["Kooijman Hoortoestellen",5,"Widex","U440-FS (HP-tel)","WID-0450",{"$f":"IF(ISBLANK('Assortiment Hoortoestellen'!$B$26),1,IF(ISERROR(SEARCH(PROPER('Assortiment Hoortoestellen'!$B$26),PROPER('Dataset hoortoestellen'!D29306))),0,1))","v":1}]
["Kooijman Hoortoestellen",3,"Widex","U220-FS (M-tel)","WID-0425",{"$f":"IF(ISBLANK('Assortiment Hoortoestellen'!$B$26),1,IF(ISERROR(SEARCH(PROPER('Assortiment Hoortoestellen'!$B$26),PROPER('Dataset hoortoestellen'!D29307))),0,1))","v":1}]
["Kooijman Hoortoestellen",5,"Widex","U440-FS (M-tel)","WID-0451",{"$f":"IF(ISBLANK('Assortiment Hoortoestellen'!$B$26),1,IF(ISERROR(SEARCH(PROPER('Assortiment Hoortoestellen'!$B$26),PROPER('Dataset hoortoestellen'!D29308))),0,1))","v":1}]
["Kooijman Hoortoestellen",3,"Widex","U220-FS (P-tel)","WID-0426",{"$f":"IF(ISBLANK('Assortiment Hoortoestellen'!$B$26),1,IF(ISERROR(SEARCH(PROPER('Assortiment Hoortoestellen'!$B$26),PROPER('Dataset hoortoestellen'!D29309))),0,1))","v":1}]
["Kooijman Hoortoestellen",5,"Widex","U440-FS (P-tel)","WID-0452",{"$f":"IF(ISBLANK('Assortiment Hoortoestellen'!$B$26),1,IF(ISERROR(SEARCH(PROPER('Assortiment Hoortoestellen'!$B$26),PROPER('Dataset hoortoestellen'!D29310))),0,1))","v":1}]
["Kooijman Hoortoestellen",3,"Widex","U220-FS (S-tel)","WID-0427",{"$f":"IF(ISBLANK('Assortiment Hoortoestellen'!$B$26),1,IF(ISERROR(SEARCH(PROPER('Assortiment Hoortoestellen'!$B$26),PROPER('Dataset hoortoestellen'!D29311))),0,1))","v":1}]
["Kooijman Hoortoestellen",5,"Widex","U440-FS (S-tel)","WID-0453",{"$f":"IF(ISBLANK('Assortiment Hoortoestellen'!$B$26),1,IF(ISERROR(SEARCH(PROPER('Assortiment Hoortoestellen'!$B$26),PROPER('Dataset hoortoestellen'!D29312))),0,1))","v":1}]
["Kooijman Hoortoestellen",3,"Widex","U220-PA (M-tel)","WID-0428",{"$f":"IF(ISBLANK('Assortiment Hoortoestellen'!$B$26),1,IF(ISERROR(SEARCH(PROPER('Assortiment Hoortoestellen'!$B$26),PROPER('Dataset hoortoestellen'!D29313))),0,1))","v":1}]
["Kooijman Hoortoestellen",5,"Widex","U440-PA (M-tel)","WID-0454",{"$f":"IF(ISBLANK('Assortiment Hoortoestellen'!$B$26),1,IF(ISERROR(SEARCH(PROPER('Assortiment Hoortoestellen'!$B$26),PROPER('Dataset hoortoestellen'!D29314))),0,1))","v":1}]
["Kooijman Hoortoestellen",3,"Widex","U220-PA (S-tel)","WID-0429",{"$f":"IF(ISBLANK('Assortiment Hoortoestellen'!$B$26),1,IF(ISERROR(SEARCH(PROPER('Assortiment Hoortoestellen'!$B$26),PROPER('Dataset hoortoestellen'!D29315))),0,1))","v":1}]
["Kooijman Hoortoestellen",5,"Widex","U440-PA (S-tel)","WID-0455",{"$f":"IF(ISBLANK('Assortiment Hoortoestellen'!$B$26),1,IF(ISERROR(SEARCH(PROPER('Assortiment Hoortoestellen'!$B$26),PROPER('Dataset hoortoestellen'!D29316))),0,1))","v":1}]
["HoorSucces Urk",1,"Bernafon","Nevara 1 ITC","BER-0455",{"$f":"IF(ISBLANK('Assortiment Hoortoestellen'!$B$26),1,IF(ISERROR(SEARCH(PROPER('Assortiment Hoortoestellen'!$B$26),PROPER('Dataset hoortoestellen'!D29317))),0,1))","v":1}]
["HoorSucces Urk",3,"Bernafon","Zerena 3 ITC","BER-0626",{"$f":"IF(ISBLANK('Assortiment Hoortoestellen'!$B$26),1,IF(ISERROR(SEARCH(PROPER('Assortiment Hoortoestellen'!$B$26),PROPER('Dataset hoortoestellen'!D29318))),0,1))","v":1}]
["HoorSucces Urk",5,"Bernafon","Zerena 7 ITC","BER-0642",{"$f":"IF(ISBLANK('Assortiment Hoortoestellen'!$B$26),1,IF(ISERROR(SEARCH(PROPER('Assortiment Hoortoestellen'!$B$26),PROPER('Dataset hoortoestellen'!D29319))),0,1))","v":1}]
["HoorSucces Urk",2,"Bernafon","Zerena 1 MNR T","BER-0622",{"$f":"IF(ISBLANK('Assortiment Hoortoestellen'!$B$26),1,IF(ISERROR(SEARCH(PROPER('Assortiment Hoortoestellen'!$B$26),PROPER('Dataset hoortoestellen'!D29320))),0,1))","v":1}]
["HoorSucces Urk",1,"Bernafon","Nevara 1 N","BER-0458",{"$f":"IF(ISBLANK('Assortiment Hoortoestellen'!$B$26),1,IF(ISERROR(SEARCH(PROPER('Assortiment Hoortoestellen'!$B$26),PROPER('Dataset hoortoestellen'!D29321))),0,1))","v":1}]
["HoorSucces Urk",2,"Bernafon","Zerena 1 MNR T","BER-0622",{"$f":"IF(ISBLANK('Assortiment Hoortoestellen'!$B$26),1,IF(ISERROR(SEARCH(PROPER('Assortiment Hoortoestellen'!$B$26),PROPER('Dataset hoortoestellen'!D29322))),0,1))","v":1}]
["HoorSucces Urk",5,"Bernafon","MOJO M5 RIC 10 (S-tel)","COS-0388",{"$f":"IF(ISBLANK('Assortiment Hoortoestellen'!$B$26),1,IF(ISERROR(SEARCH(PROPER('Assortiment Hoortoestellen'!$B$26),PROPER('Dataset hoortoestellen'!D29323))),0,1))","v":1}]
["HoorSucces Urk",1,"Coselgi","Dinamico 3 D-CIC","COS-0052",{"$f":"IF(ISBLANK('Assortiment Hoortoestellen'!$B$26),1,IF(ISERROR(SEARCH(PROPER('Assortiment Hoortoestellen'!$B$26),PROPER('Dataset hoortoestellen'!D29324))),0,1))","v":1}]
["HoorSucces Urk",2,"Coselgi","Effect EF2-CIC M","COS-0285",{"$f":"IF(ISBLANK('Assortiment Hoortoestellen'!$B$26),1,IF(ISERROR(SEARCH(PROPER('Assortiment Hoortoestellen'!$B$26),PROPER('Dataset hoortoestellen'!D29325))),0,1))","v":1}]
["HoorSucces Urk",3,"Coselgi","Effect EF4-CIC M","Cos-0306",{"$f":"IF(ISBLANK('Assortiment Hoortoestellen'!$B$26),1,IF(ISERROR(SEARCH(PROPER('Assortiment Hoortoestellen'!$B$26),PROPER('Dataset hoortoestellen'!D29326))),0,1))","v":1}]
["HoorSucces Urk",5,"Coselgi","Effect EF6-CIC M","COS-0348",{"$f":"IF(ISBLANK('Assortiment Hoortoestellen'!$B$26),1,IF(ISERROR(SEARCH(PROPER('Assortiment Hoortoestellen'!$B$26),PROPER('Dataset hoortoestellen'!D29327))),0,1))","v":1}]
["HoorSucces Urk",2,"Coselgi","MOJO M2 XP","COS-0406",{"$f":"IF(ISBLANK('Assortiment Hoortoestellen'!$B$26),1,IF(ISERROR(SEARCH(PROPER('Assortiment Hoortoestellen'!$B$26),PROPER('Dataset hoortoestellen'!D29328))),0,1))","v":1}]
["HoorSucces Urk",2,"Coselgi","MOJO M2 CIC","COS-0398",{"$f":"IF(ISBLANK('Assortiment Hoortoestellen'!$B$26),1,IF(ISERROR(SEARCH(PROPER('Assortiment Hoortoestellen'!$B$26),PROPER('Dataset hoortoestellen'!D29329))),0,1))","v":1}]
["HoorSucces Urk",5,"Coselgi","Effect EF6-CIC Links","COS-0347",{"$f":"IF(ISBLANK('Assortiment Hoortoestellen'!$B$26),1,IF(ISERROR(SEARCH(PROPER('Assortiment Hoortoestellen'!$B$26),PROPER('Dataset hoortoestellen'!D29330))),0,1))","v":1}]
["HoorSucces Urk",2,"Coselgi","MOJO M2 CIC-M","COS-0399",{"$f":"IF(ISBLANK('Assortiment Hoortoestellen'!$B$26),1,IF(ISERROR(SEARCH(PROPER('Assortiment Hoortoestellen'!$B$26),PROPER('Dataset hoortoestellen'!D29331))),0,1))","v":1}]
["HoorSucces Urk",4,"Coselgi","Effect EF5-CIC TR Links","COS-0330",{"$f":"IF(ISBLANK('Assortiment Hoortoestellen'!$B$26),1,IF(ISERROR(SEARCH(PROPER('Assortiment Hoortoestellen'!$B$26),PROPER('Dataset hoortoestellen'!D29332))),0,1))","v":1}]
["HoorSucces Urk",5,"Coselgi","Effect EF6-CIC Rechts","COS-0350",{"$f":"IF(ISBLANK('Assortiment Hoortoestellen'!$B$26),1,IF(ISERROR(SEARCH(PROPER('Assortiment Hoortoestellen'!$B$26),PROPER('Dataset hoortoestellen'!D29333))),0,1))","v":1}]
["HoorSucces Urk",4,"Coselgi","Effect EF5-CIC TR Rechts","COS-0331",{"$f":"IF(ISBLANK('Assortiment Hoortoestellen'!$B$26),1,IF(ISERROR(SEARCH(PROPER('Assortiment Hoortoestellen'!$B$26),PROPER('Dataset hoortoestellen'!D29334))),0,1))","v":1}]
["HoorSucces Urk",5,"Coselgi","Effect EF6-CIC TR Links","COS-0351",{"$f":"IF(ISBLANK('Assortiment Hoortoestellen'!$B$26),1,IF(ISERROR(SEARCH(PROPER('Assortiment Hoortoestellen'!$B$26),PROPER('Dataset hoortoestellen'!D29335))),0,1))","v":1}]
["HoorSucces Urk",2,"Coselgi","Effect EF2-CIC Links)","COS 0284",{"$f":"IF(ISBLANK('Assortiment Hoortoestellen'!$B$26),1,IF(ISERROR(SEARCH(PROPER('Assortiment Hoortoestellen'!$B$26),PROPER('Dataset hoortoestellen'!D29336))),0,1))","v":1}]
["HoorSucces Urk",4,"Coselgi","Effect EF5-XP","COS-0335",{"$f":"IF(ISBLANK('Assortiment Hoortoestellen'!$B$26),1,IF(ISERROR(SEARCH(PROPER('Assortiment Hoortoestellen'!$B$26),PROPER('Dataset hoortoestellen'!D29337))),0,1))","v":1}]
["HoorSucces Urk",5,"Coselgi","Mojo M5 XP","COS-0392",{"$f":"IF(ISBLANK('Assortiment Hoortoestellen'!$B$26),1,IF(ISERROR(SEARCH(PROPER('Assortiment Hoortoestellen'!$B$26),PROPER('Dataset hoortoestellen'!D29338))),0,1))","v":1}]
["HoorSucces Urk",4,"Coselgi","Mojo M4 Xp","COS-0395",{"$f":"IF(ISBLANK('Assortiment Hoortoestellen'!$B$26),1,IF(ISERROR(SEARCH(PROPER('Assortiment Hoortoestellen'!$B$26),PROPER('Dataset hoortoestellen'!D29339))),0,1))","v":1}]
["HoorSucces Urk",5,"Coselgi","Mojo M5 CIC","COS-0385",{"$f":"IF(ISBLANK('Assortiment Hoortoestellen'!$B$26),1,IF(ISERROR(SEARCH(PROPER('Assortiment Hoortoestellen'!$B$26),PROPER('Dataset hoortoestellen'!D29340))),0,1))","v":1}]
["HoorSucces Urk",4,"Coselgi","Mojo M4 cic","COS-0376",{"$f":"IF(ISBLANK('Assortiment Hoortoestellen'!$B$26),1,IF(ISERROR(SEARCH(PROPER('Assortiment Hoortoestellen'!$B$26),PROPER('Dataset hoortoestellen'!D29341))),0,1))","v":1}]
["HoorSucces Urk",5,"Coselgi","Mojo M5 -M","COS-0386",{"$f":"IF(ISBLANK('Assortiment Hoortoestellen'!$B$26),1,IF(ISERROR(SEARCH(PROPER('Assortiment Hoortoestellen'!$B$26),PROPER('Dataset hoortoestellen'!D29342))),0,1))","v":1}]
["HoorSucces Urk",4,"Coselgi","Mojo M4 cic-M","COS-0394",{"$f":"IF(ISBLANK('Assortiment Hoortoestellen'!$B$26),1,IF(ISERROR(SEARCH(PROPER('Assortiment Hoortoestellen'!$B$26),PROPER('Dataset hoortoestellen'!D29343))),0,1))","v":1}]
["HoorSucces Urk",5,"Coselgi","Effect EF6-CIC TR Rechts","COS-0352",{"$f":"IF(ISBLANK('Assortiment Hoortoestellen'!$B$26),1,IF(ISERROR(SEARCH(PROPER('Assortiment Hoortoestellen'!$B$26),PROPER('Dataset hoortoestellen'!D29344))),0,1))","v":1}]
["HoorSucces Urk",1,"Coselgi","Dinamico 3 D-FA","COS-0056",{"$f":"IF(ISBLANK('Assortiment Hoortoestellen'!$B$26),1,IF(ISERROR(SEARCH(PROPER('Assortiment Hoortoestellen'!$B$26),PROPER('Dataset hoortoestellen'!D29345))),0,1))","v":1}]
["HoorSucces Urk",2,"Coselgi","Effect EF2-F2 (HP-tel)","COS-0276",{"$f":"IF(ISBLANK('Assortiment Hoortoestellen'!$B$26),1,IF(ISERROR(SEARCH(PROPER('Assortiment Hoortoestellen'!$B$26),PROPER('Dataset hoortoestellen'!D29346))),0,1))","v":1}]
["HoorSucces Urk",5,"Coselgi","Effect EF6-F2 (HP-tel)","COS-0337",{"$f":"IF(ISBLANK('Assortiment Hoortoestellen'!$B$26),1,IF(ISERROR(SEARCH(PROPER('Assortiment Hoortoestellen'!$B$26),PROPER('Dataset hoortoestellen'!D29347))),0,1))","v":1}]
["HoorSucces Urk",2,"Coselgi","Effect EF2-F2 (M-tel)","COS-0277",{"$f":"IF(ISBLANK('Assortiment Hoortoestellen'!$B$26),1,IF(ISERROR(SEARCH(PROPER('Assortiment Hoortoestellen'!$B$26),PROPER('Dataset hoortoestellen'!D29348))),0,1))","v":1}]
["HoorSucces Urk",5,"Coselgi","Effect EF6-F2 (M-tel)","COS-0338",{"$f":"IF(ISBLANK('Assortiment Hoortoestellen'!$B$26),1,IF(ISERROR(SEARCH(PROPER('Assortiment Hoortoestellen'!$B$26),PROPER('Dataset hoortoestellen'!D29349))),0,1))","v":1}]
["HoorSucces Urk",2,"Coselgi","Effect EF2-F2 (P-tel)","COS-0278",{"$f":"IF(ISBLANK('Assortiment Hoortoestellen'!$B$26),1,IF(ISERROR(SEARCH(PROPER('Assortiment Hoortoestellen'!$B$26),PROPER('Dataset hoortoestellen'!D29350))),0,1))","v":1}]
["HoorSucces Urk",5,"Coselgi","Effect EF6-F2 (P-tel)","COS-0339",{"$f":"IF(ISBLANK('Assortiment Hoortoestellen'!$B$26),1,IF(ISERROR(SEARCH(PROPER('Assortiment Hoortoestellen'!$B$26),PROPER('Dataset hoortoestellen'!D29351))),0,1))","v":1}]
["HoorSucces Urk",5,"Coselgi","Effect EF6-F2 (S-tel)","COS-0340",{"$f":"IF(ISBLANK('Assortiment Hoortoestellen'!$B$26),1,IF(ISERROR(SEARCH(PROPER('Assortiment Hoortoestellen'!$B$26),PROPER('Dataset hoortoestellen'!D29352))),0,1))","v":1}]
["HoorSucces Urk",2,"Coselgi","Effect EF2-F2 (S-tel)","COS-0279",{"$f":"IF(ISBLANK('Assortiment Hoortoestellen'!$B$26),1,IF(ISERROR(SEARCH(PROPER('Assortiment Hoortoestellen'!$B$26),PROPER('Dataset hoortoestellen'!D29353))),0,1))","v":1}]
["HoorSucces Urk",5,"Coselgi","Effect EF6-FA","COS-0353",{"$f":"IF(ISBLANK('Assortiment Hoortoestellen'!$B$26),1,IF(ISERROR(SEARCH(PROPER('Assortiment Hoortoestellen'!$B$26),PROPER('Dataset hoortoestellen'!D29354))),0,1))","v":1}]
["HoorSucces Urk",2,"Coselgi","Effect EF2-FM","COS-0291",{"$f":"IF(ISBLANK('Assortiment Hoortoestellen'!$B$26),1,IF(ISERROR(SEARCH(PROPER('Assortiment Hoortoestellen'!$B$26),PROPER('Dataset hoortoestellen'!D29355))),0,1))","v":1}]
["HoorSucces Urk",4,"Coselgi","Effect EF5-F2 (HP-tel)","COS-0316",{"$f":"IF(ISBLANK('Assortiment Hoortoestellen'!$B$26),1,IF(ISERROR(SEARCH(PROPER('Assortiment Hoortoestellen'!$B$26),PROPER('Dataset hoortoestellen'!D29356))),0,1))","v":1}]
["HoorSucces Urk",5,"Coselgi","Effect EF6-FM","COS-0354",{"$f":"IF(ISBLANK('Assortiment Hoortoestellen'!$B$26),1,IF(ISERROR(SEARCH(PROPER('Assortiment Hoortoestellen'!$B$26),PROPER('Dataset hoortoestellen'!D29357))),0,1))","v":1}]
["HoorSucces Urk",2,"Coselgi","Effect EF2-FP","COS-0292",{"$f":"IF(ISBLANK('Assortiment Hoortoestellen'!$B$26),1,IF(ISERROR(SEARCH(PROPER('Assortiment Hoortoestellen'!$B$26),PROPER('Dataset hoortoestellen'!D29358))),0,1))","v":1}]
["HoorSucces Urk",4,"Coselgi","Effect EF5-F2 (M-tel)","COS-0317",{"$f":"IF(ISBLANK('Assortiment Hoortoestellen'!$B$26),1,IF(ISERROR(SEARCH(PROPER('Assortiment Hoortoestellen'!$B$26),PROPER('Dataset hoortoestellen'!D29359))),0,1))","v":1}]
["HoorSucces Urk",5,"Coselgi","Effect EF6-FP","COS-0355",{"$f":"IF(ISBLANK('Assortiment Hoortoestellen'!$B$26),1,IF(ISERROR(SEARCH(PROPER('Assortiment Hoortoestellen'!$B$26),PROPER('Dataset hoortoestellen'!D29360))),0,1))","v":1}]
["HoorSucces Urk",2,"Coselgi","Effect EF2-FS (M-tel)","COS-0281",{"$f":"IF(ISBLANK('Assortiment Hoortoestellen'!$B$26),1,IF(ISERROR(SEARCH(PROPER('Assortiment Hoortoestellen'!$B$26),PROPER('Dataset hoortoestellen'!D29361))),0,1))","v":1}]
["HoorSucces Urk",4,"Coselgi","Effect EF5-F2 (P-TEL)","COS-0596",{"$f":"IF(ISBLANK('Assortiment Hoortoestellen'!$B$26),1,IF(ISERROR(SEARCH(PROPER('Assortiment Hoortoestellen'!$B$26),PROPER('Dataset hoortoestellen'!D29362))),0,1))","v":1}]
["HoorSucces Urk",5,"Coselgi","Effect EF4-FS (HP-tel)","COS-0636",{"$f":"IF(ISBLANK('Assortiment Hoortoestellen'!$B$26),1,IF(ISERROR(SEARCH(PROPER('Assortiment Hoortoestellen'!$B$26),PROPER('Dataset hoortoestellen'!D29363))),0,1))","v":1}]
["HoorSucces Urk",2,"Coselgi","Effect EF2-FS (P-tel)","COS-0282",{"$f":"IF(ISBLANK('Assortiment Hoortoestellen'!$B$26),1,IF(ISERROR(SEARCH(PROPER('Assortiment Hoortoestellen'!$B$26),PROPER('Dataset hoortoestellen'!D29364))),0,1))","v":1}]
["HoorSucces Urk",4,"Coselgi","Effect EF5-F2 (P-tel)","COS-0318",{"$f":"IF(ISBLANK('Assortiment Hoortoestellen'!$B$26),1,IF(ISERROR(SEARCH(PROPER('Assortiment Hoortoestellen'!$B$26),PROPER('Dataset hoortoestellen'!D29365))),0,1))","v":1}]
["HoorSucces Urk",5,"Coselgi","Effect EF6-FS (HP-tel)","COS-0341",{"$f":"IF(ISBLANK('Assortiment Hoortoestellen'!$B$26),1,IF(ISERROR(SEARCH(PROPER('Assortiment Hoortoestellen'!$B$26),PROPER('Dataset hoortoestellen'!D29366))),0,1))","v":1}]
["HoorSucces Urk",2,"Coselgi","Effect EF2-FS (S-tel)","COS-0283",{"$f":"IF(ISBLANK('Assortiment Hoortoestellen'!$B$26),1,IF(ISERROR(SEARCH(PROPER('Assortiment Hoortoestellen'!$B$26),PROPER('Dataset hoortoestellen'!D29367))),0,1))","v":1}]
["HoorSucces Urk",4,"Coselgi","Effect EF5-FA","COS-0332",{"$f":"IF(ISBLANK('Assortiment Hoortoestellen'!$B$26),1,IF(ISERROR(SEARCH(PROPER('Assortiment Hoortoestellen'!$B$26),PROPER('Dataset hoortoestellen'!D29368))),0,1))","v":1}]
["HoorSucces Urk",5,"Coselgi","Effect EF6-FS (M-tel)","COS-0342",{"$f":"IF(ISBLANK('Assortiment Hoortoestellen'!$B$26),1,IF(ISERROR(SEARCH(PROPER('Assortiment Hoortoestellen'!$B$26),PROPER('Dataset hoortoestellen'!D29369))),0,1))","v":1}]
["HoorSucces Urk",2,"Coselgi","MOJO M2 RIC 312 D (M-TEL)","COS-0403",{"$f":"IF(ISBLANK('Assortiment Hoortoestellen'!$B$26),1,IF(ISERROR(SEARCH(PROPER('Assortiment Hoortoestellen'!$B$26),PROPER('Dataset hoortoestellen'!D29370))),0,1))","v":1}]
["HoorSucces Urk",4,"Coselgi","Effect EF5-FM","COS-0333",{"$f":"IF(ISBLANK('Assortiment Hoortoestellen'!$B$26),1,IF(ISERROR(SEARCH(PROPER('Assortiment Hoortoestellen'!$B$26),PROPER('Dataset hoortoestellen'!D29371))),0,1))","v":1}]
["HoorSucces Urk",5,"Coselgi","Effect EF6-FS (P-tel)","COS-0343",{"$f":"IF(ISBLANK('Assortiment Hoortoestellen'!$B$26),1,IF(ISERROR(SEARCH(PROPER('Assortiment Hoortoestellen'!$B$26),PROPER('Dataset hoortoestellen'!D29372))),0,1))","v":1}]
["HoorSucces Urk",2,"Coselgi","MOJO M2 RIC 312 D (P-TEL)","COS-0404",{"$f":"IF(ISBLANK('Assortiment Hoortoestellen'!$B$26),1,IF(ISERROR(SEARCH(PROPER('Assortiment Hoortoestellen'!$B$26),PROPER('Dataset hoortoestellen'!D29373))),0,1))","v":1}]
["HoorSucces Urk",4,"Coselgi","Effect EF5-FP","COS-0334",{"$f":"IF(ISBLANK('Assortiment Hoortoestellen'!$B$26),1,IF(ISERROR(SEARCH(PROPER('Assortiment Hoortoestellen'!$B$26),PROPER('Dataset hoortoestellen'!D29374))),0,1))","v":1}]
["HoorSucces Urk",5,"Coselgi","Effect EF6-FS (S-tel)","COS-0344",{"$f":"IF(ISBLANK('Assortiment Hoortoestellen'!$B$26),1,IF(ISERROR(SEARCH(PROPER('Assortiment Hoortoestellen'!$B$26),PROPER('Dataset hoortoestellen'!D29375))),0,1))","v":1}]
["HoorSucces Urk",2,"Coselgi","MOJO M2 RIC 312 D (HP-TEL)","COS-0402",{"$f":"IF(ISBLANK('Assortiment Hoortoestellen'!$B$26),1,IF(ISERROR(SEARCH(PROPER('Assortiment Hoortoestellen'!$B$26),PROPER('Dataset hoortoestellen'!D29376))),0,1))","v":1}]
["HoorSucces Urk",4,"Coselgi","Effect EF5-FS (HP-tel)","COS-0320",{"$f":"IF(ISBLANK('Assortiment Hoortoestellen'!$B$26),1,IF(ISERROR(SEARCH(PROPER('Assortiment Hoortoestellen'!$B$26),PROPER('Dataset hoortoestellen'!D29377))),0,1))","v":1}]
["HoorSucces Urk",5,"Coselgi","Effect EF6-RIC 10 (M-tel)","COS-0345",{"$f":"IF(ISBLANK('Assortiment Hoortoestellen'!$B$26),1,IF(ISERROR(SEARCH(PROPER('Assortiment Hoortoestellen'!$B$26),PROPER('Dataset hoortoestellen'!D29378))),0,1))","v":1}]
["HoorSucces Urk",2,"Coselgi","MOJO M2 RIC 312 D (S-TEL)","COS-0405",{"$f":"IF(ISBLANK('Assortiment Hoortoestellen'!$B$26),1,IF(ISERROR(SEARCH(PROPER('Assortiment Hoortoestellen'!$B$26),PROPER('Dataset hoortoestellen'!D29379))),0,1))","v":1}]
["HoorSucces Urk",4,"Coselgi","Effect EF5-FS (M-tel)","COS-0321",{"$f":"IF(ISBLANK('Assortiment Hoortoestellen'!$B$26),1,IF(ISERROR(SEARCH(PROPER('Assortiment Hoortoestellen'!$B$26),PROPER('Dataset hoortoestellen'!D29380))),0,1))","v":1}]
["HoorSucces Urk",5,"Coselgi","MOJO MRR2D M5 (m-tel)","COS-0361",{"$f":"IF(ISBLANK('Assortiment Hoortoestellen'!$B$26),1,IF(ISERROR(SEARCH(PROPER('Assortiment Hoortoestellen'!$B$26),PROPER('Dataset hoortoestellen'!D29381))),0,1))","v":1}]
["HoorSucces Urk",2,"Coselgi","MOJO M2 RIC 10 (S-TEL)","COS-0401",{"$f":"IF(ISBLANK('Assortiment Hoortoestellen'!$B$26),1,IF(ISERROR(SEARCH(PROPER('Assortiment Hoortoestellen'!$B$26),PROPER('Dataset hoortoestellen'!D29382))),0,1))","v":1}]
["HoorSucces Urk",3,"Coselgi","Effect EF4-F2 (P-tel)","COS-0296",{"$f":"IF(ISBLANK('Assortiment Hoortoestellen'!$B$26),1,IF(ISERROR(SEARCH(PROPER('Assortiment Hoortoestellen'!$B$26),PROPER('Dataset hoortoestellen'!D29383))),0,1))","v":1}]
["HoorSucces Urk",4,"Coselgi","Effect EF5-FS (P-tel)","COS-0322",{"$f":"IF(ISBLANK('Assortiment Hoortoestellen'!$B$26),1,IF(ISERROR(SEARCH(PROPER('Assortiment Hoortoestellen'!$B$26),PROPER('Dataset hoortoestellen'!D29384))),0,1))","v":1}]
["HoorSucces Urk",5,"Coselgi","MOJO MRR2D M5 (p-tel)","COS-0362",{"$f":"IF(ISBLANK('Assortiment Hoortoestellen'!$B$26),1,IF(ISERROR(SEARCH(PROPER('Assortiment Hoortoestellen'!$B$26),PROPER('Dataset hoortoestellen'!D29385))),0,1))","v":1}]
["HoorSucces Urk",2,"Coselgi","MOJO M2 RIC 10 (M-TEL)","COS-0400",{"$f":"IF(ISBLANK('Assortiment Hoortoestellen'!$B$26),1,IF(ISERROR(SEARCH(PROPER('Assortiment Hoortoestellen'!$B$26),PROPER('Dataset hoortoestellen'!D29386))),0,1))","v":1}]
["HoorSucces Urk",3,"Coselgi","Effect EF4-F2 (S-tel)","COS-0297",{"$f":"IF(ISBLANK('Assortiment Hoortoestellen'!$B$26),1,IF(ISERROR(SEARCH(PROPER('Assortiment Hoortoestellen'!$B$26),PROPER('Dataset hoortoestellen'!D29387))),0,1))","v":1}]
["HoorSucces Urk",4,"Coselgi","Effect EF5-FS (S-tel)","COS-0323",{"$f":"IF(ISBLANK('Assortiment Hoortoestellen'!$B$26),1,IF(ISERROR(SEARCH(PROPER('Assortiment Hoortoestellen'!$B$26),PROPER('Dataset hoortoestellen'!D29388))),0,1))","v":1}]
["HoorSucces Urk",5,"Coselgi","MOJO M5 RIC 312 D (M-tel)","COS-0390",{"$f":"IF(ISBLANK('Assortiment Hoortoestellen'!$B$26),1,IF(ISERROR(SEARCH(PROPER('Assortiment Hoortoestellen'!$B$26),PROPER('Dataset hoortoestellen'!D29389))),0,1))","v":1}]
["HoorSucces Urk",2,"Coselgi","MOJO M2 BTE 312","COS-0397",{"$f":"IF(ISBLANK('Assortiment Hoortoestellen'!$B$26),1,IF(ISERROR(SEARCH(PROPER('Assortiment Hoortoestellen'!$B$26),PROPER('Dataset hoortoestellen'!D29390))),0,1))","v":1}]
["HoorSucces Urk",3,"Coselgi","Effect EF4-FA","COS-0311",{"$f":"IF(ISBLANK('Assortiment Hoortoestellen'!$B$26),1,IF(ISERROR(SEARCH(PROPER('Assortiment Hoortoestellen'!$B$26),PROPER('Dataset hoortoestellen'!D29391))),0,1))","v":1}]
["HoorSucces Urk",4,"Coselgi","Effect EF5-RIC 10 (M-tel)","COS-0324",{"$f":"IF(ISBLANK('Assortiment Hoortoestellen'!$B$26),1,IF(ISERROR(SEARCH(PROPER('Assortiment Hoortoestellen'!$B$26),PROPER('Dataset hoortoestellen'!D29392))),0,1))","v":1}]
["HoorSucces Urk",5,"Coselgi","MOJO M5 RIC 312 D (P-tel)","COS-0391",{"$f":"IF(ISBLANK('Assortiment Hoortoestellen'!$B$26),1,IF(ISERROR(SEARCH(PROPER('Assortiment Hoortoestellen'!$B$26),PROPER('Dataset hoortoestellen'!D29393))),0,1))","v":1}]
["HoorSucces Urk",2,"Coselgi","MOJO M2 BTE 13 D","COS-0396",{"$f":"IF(ISBLANK('Assortiment Hoortoestellen'!$B$26),1,IF(ISERROR(SEARCH(PROPER('Assortiment Hoortoestellen'!$B$26),PROPER('Dataset hoortoestellen'!D29394))),0,1))","v":1}]
["HoorSucces Urk",3,"Coselgi","Effect EF4-FM","COS-0312",{"$f":"IF(ISBLANK('Assortiment Hoortoestellen'!$B$26),1,IF(ISERROR(SEARCH(PROPER('Assortiment Hoortoestellen'!$B$26),PROPER('Dataset hoortoestellen'!D29395))),0,1))","v":1}]
["HoorSucces Urk",4,"Coselgi","Effect EF5-RIC 10 (S-tel)","COS-0325",{"$f":"IF(ISBLANK('Assortiment Hoortoestellen'!$B$26),1,IF(ISERROR(SEARCH(PROPER('Assortiment Hoortoestellen'!$B$26),PROPER('Dataset hoortoestellen'!D29396))),0,1))","v":1}]
["HoorSucces Urk",5,"Coselgi","MOJO M5 RIC 312 D (HP-tel)","COS-0389",{"$f":"IF(ISBLANK('Assortiment Hoortoestellen'!$B$26),1,IF(ISERROR(SEARCH(PROPER('Assortiment Hoortoestellen'!$B$26),PROPER('Dataset hoortoestellen'!D29397))),0,1))","v":1}]
["HoorSucces Urk",3,"Coselgi","Effect EF4-FP","COS-0313",{"$f":"IF(ISBLANK('Assortiment Hoortoestellen'!$B$26),1,IF(ISERROR(SEARCH(PROPER('Assortiment Hoortoestellen'!$B$26),PROPER('Dataset hoortoestellen'!D29398))),0,1))","v":1}]
["HoorSucces Urk",4,"Coselgi","MOJO MRR2D M4 (m-tel)","COS-0359",{"$f":"IF(ISBLANK('Assortiment Hoortoestellen'!$B$26),1,IF(ISERROR(SEARCH(PROPER('Assortiment Hoortoestellen'!$B$26),PROPER('Dataset hoortoestellen'!D29399))),0,1))","v":1}]
["HoorSucces Urk",5,"Coselgi","MOJO M5 RIC 312 D (S-tel)","COS-0393",{"$f":"IF(ISBLANK('Assortiment Hoortoestellen'!$B$26),1,IF(ISERROR(SEARCH(PROPER('Assortiment Hoortoestellen'!$B$26),PROPER('Dataset hoortoestellen'!D29400))),0,1))","v":1}]
["HoorSucces Urk",3,"Coselgi","Effect EF4-FS (HP-tel)","COS-0299",{"$f":"IF(ISBLANK('Assortiment Hoortoestellen'!$B$26),1,IF(ISERROR(SEARCH(PROPER('Assortiment Hoortoestellen'!$B$26),PROPER('Dataset hoortoestellen'!D29401))),0,1))","v":1}]
["HoorSucces Urk",4,"Coselgi","MOJO MRR2D M4 (p-tel)","COS-0360",{"$f":"IF(ISBLANK('Assortiment Hoortoestellen'!$B$26),1,IF(ISERROR(SEARCH(PROPER('Assortiment Hoortoestellen'!$B$26),PROPER('Dataset hoortoestellen'!D29402))),0,1))","v":1}]
["HoorSucces Urk",3,"Coselgi","Effect EF4-FS (M-tel)","COS-0300",{"$f":"IF(ISBLANK('Assortiment Hoortoestellen'!$B$26),1,IF(ISERROR(SEARCH(PROPER('Assortiment Hoortoestellen'!$B$26),PROPER('Dataset hoortoestellen'!D29403))),0,1))","v":1}]
["HoorSucces Urk",4,"Coselgi","MOJO M4 RIC 312 D (M-tel)","COS-0380",{"$f":"IF(ISBLANK('Assortiment Hoortoestellen'!$B$26),1,IF(ISERROR(SEARCH(PROPER('Assortiment Hoortoestellen'!$B$26),PROPER('Dataset hoortoestellen'!D29404))),0,1))","v":1}]
["HoorSucces Urk",5,"Coselgi","MOJO M5 RIC 10 (M-tel)","COS-0387",{"$f":"IF(ISBLANK('Assortiment Hoortoestellen'!$B$26),1,IF(ISERROR(SEARCH(PROPER('Assortiment Hoortoestellen'!$B$26),PROPER('Dataset hoortoestellen'!D29405))),0,1))","v":1}]
["HoorSucces Urk",3,"Coselgi","Effect EF4-FS (P-tel)","COS-0301",{"$f":"IF(ISBLANK('Assortiment Hoortoestellen'!$B$26),1,IF(ISERROR(SEARCH(PROPER('Assortiment Hoortoestellen'!$B$26),PROPER('Dataset hoortoestellen'!D29406))),0,1))","v":1}]
["HoorSucces Urk",4,"Coselgi","MOJO M4 RIC 312 D (P-tel)","COS-0381",{"$f":"IF(ISBLANK('Assortiment Hoortoestellen'!$B$26),1,IF(ISERROR(SEARCH(PROPER('Assortiment Hoortoestellen'!$B$26),PROPER('Dataset hoortoestellen'!D29407))),0,1))","v":1}]
["HoorSucces Urk",5,"Coselgi","MOJO M5 BTE 312","COS-0384",{"$f":"IF(ISBLANK('Assortiment Hoortoestellen'!$B$26),1,IF(ISERROR(SEARCH(PROPER('Assortiment Hoortoestellen'!$B$26),PROPER('Dataset hoortoestellen'!D29408))),0,1))","v":1}]
["HoorSucces Urk",3,"Coselgi","Effect EF4-RIC 10 (M-tel)","COS-0303",{"$f":"IF(ISBLANK('Assortiment Hoortoestellen'!$B$26),1,IF(ISERROR(SEARCH(PROPER('Assortiment Hoortoestellen'!$B$26),PROPER('Dataset hoortoestellen'!D29409))),0,1))","v":1}]
["HoorSucces Urk",4,"Coselgi","MOJO M4 RIC 312 D (HP-tel)","COS-0379",{"$f":"IF(ISBLANK('Assortiment Hoortoestellen'!$B$26),1,IF(ISERROR(SEARCH(PROPER('Assortiment Hoortoestellen'!$B$26),PROPER('Dataset hoortoestellen'!D29410))),0,1))","v":1}]
["HoorSucces Urk",5,"Coselgi","MOJO M5 BTE 13 D","COS-0383",{"$f":"IF(ISBLANK('Assortiment Hoortoestellen'!$B$26),1,IF(ISERROR(SEARCH(PROPER('Assortiment Hoortoestellen'!$B$26),PROPER('Dataset hoortoestellen'!D29411))),0,1))","v":1}]
["HoorSucces Urk",3,"Coselgi","Effect EF4-RIC 10 (S-tel)","COS-0304",{"$f":"IF(ISBLANK('Assortiment Hoortoestellen'!$B$26),1,IF(ISERROR(SEARCH(PROPER('Assortiment Hoortoestellen'!$B$26),PROPER('Dataset hoortoestellen'!D29412))),0,1))","v":1}]
["HoorSucces Urk",4,"Coselgi","MOJO M4 RIC 312 D (S-tel)","COS-0382",{"$f":"IF(ISBLANK('Assortiment Hoortoestellen'!$B$26),1,IF(ISERROR(SEARCH(PROPER('Assortiment Hoortoestellen'!$B$26),PROPER('Dataset hoortoestellen'!D29413))),0,1))","v":1}]
["HoorSucces Urk",3,"Coselgi","MOJO MRR2D M3 (m-tel)","COS-0357",{"$f":"IF(ISBLANK('Assortiment Hoortoestellen'!$B$26),1,IF(ISERROR(SEARCH(PROPER('Assortiment Hoortoestellen'!$B$26),PROPER('Dataset hoortoestellen'!D29414))),0,1))","v":1}]
["HoorSucces Urk",4,"Coselgi","MOJO M4 RIC 10 (S-tel)","COS-0378",{"$f":"IF(ISBLANK('Assortiment Hoortoestellen'!$B$26),1,IF(ISERROR(SEARCH(PROPER('Assortiment Hoortoestellen'!$B$26),PROPER('Dataset hoortoestellen'!D29415))),0,1))","v":1}]
["HoorSucces Urk",3,"Coselgi","MOJO MRR2D M3 (p-tel)","COS-0358",{"$f":"IF(ISBLANK('Assortiment Hoortoestellen'!$B$26),1,IF(ISERROR(SEARCH(PROPER('Assortiment Hoortoestellen'!$B$26),PROPER('Dataset hoortoestellen'!D29416))),0,1))","v":1}]
["HoorSucces Urk",4,"Coselgi","MOJO M4 RIC 10 (M-tel)","COS-0377",{"$f":"IF(ISBLANK('Assortiment Hoortoestellen'!$B$26),1,IF(ISERROR(SEARCH(PROPER('Assortiment Hoortoestellen'!$B$26),PROPER('Dataset hoortoestellen'!D29417))),0,1))","v":1}]
["HoorSucces Urk",3,"Coselgi","MOJO M3 RIC 312 D (M-TEL)","COS-0370",{"$f":"IF(ISBLANK('Assortiment Hoortoestellen'!$B$26),1,IF(ISERROR(SEARCH(PROPER('Assortiment Hoortoestellen'!$B$26),PROPER('Dataset hoortoestellen'!D29418))),0,1))","v":1}]
["HoorSucces Urk",4,"Coselgi","Mojo M4 BTE 312","COS-0375",{"$f":"IF(ISBLANK('Assortiment Hoortoestellen'!$B$26),1,IF(ISERROR(SEARCH(PROPER('Assortiment Hoortoestellen'!$B$26),PROPER('Dataset hoortoestellen'!D29419))),0,1))","v":1}]
["HoorSucces Urk",3,"Coselgi","MOJO M3 RIC 312 D (P-TEL)","COS-0371",{"$f":"IF(ISBLANK('Assortiment Hoortoestellen'!$B$26),1,IF(ISERROR(SEARCH(PROPER('Assortiment Hoortoestellen'!$B$26),PROPER('Dataset hoortoestellen'!D29420))),0,1))","v":1}]
["HoorSucces Urk",4,"Coselgi","Mojo M4 BTE 13 D","COS-0374",{"$f":"IF(ISBLANK('Assortiment Hoortoestellen'!$B$26),1,IF(ISERROR(SEARCH(PROPER('Assortiment Hoortoestellen'!$B$26),PROPER('Dataset hoortoestellen'!D29421))),0,1))","v":1}]
["HoorSucces Urk",3,"Coselgi","MOJO M3 RIC 312 D HP-TEL)","COS-0369",{"$f":"IF(ISBLANK('Assortiment Hoortoestellen'!$B$26),1,IF(ISERROR(SEARCH(PROPER('Assortiment Hoortoestellen'!$B$26),PROPER('Dataset hoortoestellen'!D29422))),0,1))","v":1}]
["HoorSucces Urk",3,"Coselgi","MOJO M3 RIC 312 D (S-TEL)","COS-0372",{"$f":"IF(ISBLANK('Assortiment Hoortoestellen'!$B$26),1,IF(ISERROR(SEARCH(PROPER('Assortiment Hoortoestellen'!$B$26),PROPER('Dataset hoortoestellen'!D29423))),0,1))","v":1}]
["HoorSucces Urk",3,"Coselgi","MOJO M3 RIC 10 (S-TEL)","COS-0368",{"$f":"IF(ISBLANK('Assortiment Hoortoestellen'!$B$26),1,IF(ISERROR(SEARCH(PROPER('Assortiment Hoortoestellen'!$B$26),PROPER('Dataset hoortoestellen'!D29424))),0,1))","v":1}]
["HoorSucces Urk",3,"Coselgi","MOJO M3 RIC 10 (M-TEL)","COS-0367",{"$f":"IF(ISBLANK('Assortiment Hoortoestellen'!$B$26),1,IF(ISERROR(SEARCH(PROPER('Assortiment Hoortoestellen'!$B$26),PROPER('Dataset hoortoestellen'!D29425))),0,1))","v":1}]
["HoorSucces Urk",3,"Coselgi","MOJO M3 BTE 312","COS-0364",{"$f":"IF(ISBLANK('Assortiment Hoortoestellen'!$B$26),1,IF(ISERROR(SEARCH(PROPER('Assortiment Hoortoestellen'!$B$26),PROPER('Dataset hoortoestellen'!D29426))),0,1))","v":1}]
["HoorSucces Urk",3,"Coselgi","MOJO M3 BTE 13 D","COS-0363",{"$f":"IF(ISBLANK('Assortiment Hoortoestellen'!$B$26),1,IF(ISERROR(SEARCH(PROPER('Assortiment Hoortoestellen'!$B$26),PROPER('Dataset hoortoestellen'!D29427))),0,1))","v":1}]
["HoorSucces Urk",4,"Phonak","Virto M30-10 NW O","PHO-0357",{"$f":"IF(ISBLANK('Assortiment Hoortoestellen'!$B$26),1,IF(ISERROR(SEARCH(PROPER('Assortiment Hoortoestellen'!$B$26),PROPER('Dataset hoortoestellen'!D29428))),0,1))","v":1}]
["HoorSucces Urk",4,"Phonak","Virto M30-312 NW O","PHO-0359",{"$f":"IF(ISBLANK('Assortiment Hoortoestellen'!$B$26),1,IF(ISERROR(SEARCH(PROPER('Assortiment Hoortoestellen'!$B$26),PROPER('Dataset hoortoestellen'!D29429))),0,1))","v":1}]
["HoorSucces Urk",4,"Phonak","Virto M30-312","PHO-0358",{"$f":"IF(ISBLANK('Assortiment Hoortoestellen'!$B$26),1,IF(ISERROR(SEARCH(PROPER('Assortiment Hoortoestellen'!$B$26),PROPER('Dataset hoortoestellen'!D29430))),0,1))","v":1}]
["HoorSucces Urk",3,"Phonak","Audeo B 30 10","PHO-0269",{"$f":"IF(ISBLANK('Assortiment Hoortoestellen'!$B$26),1,IF(ISERROR(SEARCH(PROPER('Assortiment Hoortoestellen'!$B$26),PROPER('Dataset hoortoestellen'!D29431))),0,1))","v":1}]
["HoorSucces Urk",4,"Phonak","Bolero M30-PR","PHO-0352",{"$f":"IF(ISBLANK('Assortiment Hoortoestellen'!$B$26),1,IF(ISERROR(SEARCH(PROPER('Assortiment Hoortoestellen'!$B$26),PROPER('Dataset hoortoestellen'!D29432))),0,1))","v":1}]
["HoorSucces Urk",3,"Phonak","Audeo B 30 13","PHO-0270",{"$f":"IF(ISBLANK('Assortiment Hoortoestellen'!$B$26),1,IF(ISERROR(SEARCH(PROPER('Assortiment Hoortoestellen'!$B$26),PROPER('Dataset hoortoestellen'!D29433))),0,1))","v":1}]
["HoorSucces Urk",4,"Phonak","Naida M30-SP","PHO-0355",{"$f":"IF(ISBLANK('Assortiment Hoortoestellen'!$B$26),1,IF(ISERROR(SEARCH(PROPER('Assortiment Hoortoestellen'!$B$26),PROPER('Dataset hoortoestellen'!D29434))),0,1))","v":1}]
["HoorSucces Urk",3,"Phonak","Audeo B 30 312","PHO-0271",{"$f":"IF(ISBLANK('Assortiment Hoortoestellen'!$B$26),1,IF(ISERROR(SEARCH(PROPER('Assortiment Hoortoestellen'!$B$26),PROPER('Dataset hoortoestellen'!D29435))),0,1))","v":1}]
["HoorSucces Urk",4,"Phonak","Sky M30-M","PHO-0333",{"$f":"IF(ISBLANK('Assortiment Hoortoestellen'!$B$26),1,IF(ISERROR(SEARCH(PROPER('Assortiment Hoortoestellen'!$B$26),PROPER('Dataset hoortoestellen'!D29436))),0,1))","v":1}]
["HoorSucces Urk",3,"Phonak","Audeo B 30 312 T","PHO-0272",{"$f":"IF(ISBLANK('Assortiment Hoortoestellen'!$B$26),1,IF(ISERROR(SEARCH(PROPER('Assortiment Hoortoestellen'!$B$26),PROPER('Dataset hoortoestellen'!D29437))),0,1))","v":1}]
["HoorSucces Urk",4,"Phonak","Sky M30-SP","PHO-0335",{"$f":"IF(ISBLANK('Assortiment Hoortoestellen'!$B$26),1,IF(ISERROR(SEARCH(PROPER('Assortiment Hoortoestellen'!$B$26),PROPER('Dataset hoortoestellen'!D29438))),0,1))","v":1}]
["HoorSucces Urk",3,"Phonak","Bolero B 30 M","PHO-0283",{"$f":"IF(ISBLANK('Assortiment Hoortoestellen'!$B$26),1,IF(ISERROR(SEARCH(PROPER('Assortiment Hoortoestellen'!$B$26),PROPER('Dataset hoortoestellen'!D29439))),0,1))","v":1}]
["HoorSucces Urk",4,"Phonak","Sky M30-PR","PHO-0334",{"$f":"IF(ISBLANK('Assortiment Hoortoestellen'!$B$26),1,IF(ISERROR(SEARCH(PROPER('Assortiment Hoortoestellen'!$B$26),PROPER('Dataset hoortoestellen'!D29440))),0,1))","v":1}]
["HoorSucces Urk",3,"Phonak","Bolero B 30 P","PHO-0284",{"$f":"IF(ISBLANK('Assortiment Hoortoestellen'!$B$26),1,IF(ISERROR(SEARCH(PROPER('Assortiment Hoortoestellen'!$B$26),PROPER('Dataset hoortoestellen'!D29441))),0,1))","v":1}]
["HoorSucces Urk",3,"Phonak","Bolero B 30 SP","PHO-0285",{"$f":"IF(ISBLANK('Assortiment Hoortoestellen'!$B$26),1,IF(ISERROR(SEARCH(PROPER('Assortiment Hoortoestellen'!$B$26),PROPER('Dataset hoortoestellen'!D29442))),0,1))","v":1}]
["HoorSucces Urk",3,"Phonak","Naida B 30 SP","PHO-0299",{"$f":"IF(ISBLANK('Assortiment Hoortoestellen'!$B$26),1,IF(ISERROR(SEARCH(PROPER('Assortiment Hoortoestellen'!$B$26),PROPER('Dataset hoortoestellen'!D29443))),0,1))","v":1}]
["HoorSucces Urk",3,"Phonak","Naida B 30 UP","PHO-0300",{"$f":"IF(ISBLANK('Assortiment Hoortoestellen'!$B$26),1,IF(ISERROR(SEARCH(PROPER('Assortiment Hoortoestellen'!$B$26),PROPER('Dataset hoortoestellen'!D29444))),0,1))","v":1}]
["HoorSucces Urk",3,"Phonak","Sky B 30 M","PHO-0307",{"$f":"IF(ISBLANK('Assortiment Hoortoestellen'!$B$26),1,IF(ISERROR(SEARCH(PROPER('Assortiment Hoortoestellen'!$B$26),PROPER('Dataset hoortoestellen'!D29445))),0,1))","v":1}]
["HoorSucces Urk",3,"Phonak","Sky B 30 P","PHO-0308",{"$f":"IF(ISBLANK('Assortiment Hoortoestellen'!$B$26),1,IF(ISERROR(SEARCH(PROPER('Assortiment Hoortoestellen'!$B$26),PROPER('Dataset hoortoestellen'!D29446))),0,1))","v":1}]
["HoorSucces Urk",3,"Phonak","Sky B 30 RIC","PHO-0309",{"$f":"IF(ISBLANK('Assortiment Hoortoestellen'!$B$26),1,IF(ISERROR(SEARCH(PROPER('Assortiment Hoortoestellen'!$B$26),PROPER('Dataset hoortoestellen'!D29447))),0,1))","v":1}]
["HoorSucces Urk",3,"Phonak","Sky B 30 SP","PHO-0310",{"$f":"IF(ISBLANK('Assortiment Hoortoestellen'!$B$26),1,IF(ISERROR(SEARCH(PROPER('Assortiment Hoortoestellen'!$B$26),PROPER('Dataset hoortoestellen'!D29448))),0,1))","v":1}]
["HoorSucces Urk",3,"Phonak","Sky B 30 UP","PHO-0311",{"$f":"IF(ISBLANK('Assortiment Hoortoestellen'!$B$26),1,IF(ISERROR(SEARCH(PROPER('Assortiment Hoortoestellen'!$B$26),PROPER('Dataset hoortoestellen'!D29449))),0,1))","v":1}]
["HoorSucces Urk",5,"Phonak","Sky M50-SP","PHO-0338",{"$f":"IF(ISBLANK('Assortiment Hoortoestellen'!$B$26),1,IF(ISERROR(SEARCH(PROPER('Assortiment Hoortoestellen'!$B$26),PROPER('Dataset hoortoestellen'!D29450))),0,1))","v":1}]
["HoorSucces Urk",5,"Phonak","Sky M50-PR","PHO-0337",{"$f":"IF(ISBLANK('Assortiment Hoortoestellen'!$B$26),1,IF(ISERROR(SEARCH(PROPER('Assortiment Hoortoestellen'!$B$26),PROPER('Dataset hoortoestellen'!D29451))),0,1))","v":1}]
["HoorSucces Urk",5,"Phonak","Audéo M50-R","PHO-0349",{"$f":"IF(ISBLANK('Assortiment Hoortoestellen'!$B$26),1,IF(ISERROR(SEARCH(PROPER('Assortiment Hoortoestellen'!$B$26),PROPER('Dataset hoortoestellen'!D29452))),0,1))","v":1}]
["HoorSucces Urk",5,"Phonak","Audéo M50-RT","PHO-0350",{"$f":"IF(ISBLANK('Assortiment Hoortoestellen'!$B$26),1,IF(ISERROR(SEARCH(PROPER('Assortiment Hoortoestellen'!$B$26),PROPER('Dataset hoortoestellen'!D29453))),0,1))","v":1}]
["HoorSucces Urk",5,"Phonak","Audéo M50-312","PHO-0347",{"$f":"IF(ISBLANK('Assortiment Hoortoestellen'!$B$26),1,IF(ISERROR(SEARCH(PROPER('Assortiment Hoortoestellen'!$B$26),PROPER('Dataset hoortoestellen'!D29454))),0,1))","v":1}]
["HoorSucces Urk",4,"Phonak","Audéo M30-R","PHO-0344",{"$f":"IF(ISBLANK('Assortiment Hoortoestellen'!$B$26),1,IF(ISERROR(SEARCH(PROPER('Assortiment Hoortoestellen'!$B$26),PROPER('Dataset hoortoestellen'!D29455))),0,1))","v":1}]
["HoorSucces Urk",5,"Phonak","Audéo M50-312T","PHO-0348",{"$f":"IF(ISBLANK('Assortiment Hoortoestellen'!$B$26),1,IF(ISERROR(SEARCH(PROPER('Assortiment Hoortoestellen'!$B$26),PROPER('Dataset hoortoestellen'!D29456))),0,1))","v":1}]
["HoorSucces Urk",4,"Phonak","Audéo M30-RT","PHO-0345",{"$f":"IF(ISBLANK('Assortiment Hoortoestellen'!$B$26),1,IF(ISERROR(SEARCH(PROPER('Assortiment Hoortoestellen'!$B$26),PROPER('Dataset hoortoestellen'!D29457))),0,1))","v":1}]
["HoorSucces Urk",5,"Phonak","Audéo M50-13T","PHO-0346",{"$f":"IF(ISBLANK('Assortiment Hoortoestellen'!$B$26),1,IF(ISERROR(SEARCH(PROPER('Assortiment Hoortoestellen'!$B$26),PROPER('Dataset hoortoestellen'!D29458))),0,1))","v":1}]
["HoorSucces Urk",4,"Phonak","Audéo M30-312","PHO-0342",{"$f":"IF(ISBLANK('Assortiment Hoortoestellen'!$B$26),1,IF(ISERROR(SEARCH(PROPER('Assortiment Hoortoestellen'!$B$26),PROPER('Dataset hoortoestellen'!D29459))),0,1))","v":1}]
["HoorSucces Urk",5,"Phonak","Bolero M50-M","PHO-0353",{"$f":"IF(ISBLANK('Assortiment Hoortoestellen'!$B$26),1,IF(ISERROR(SEARCH(PROPER('Assortiment Hoortoestellen'!$B$26),PROPER('Dataset hoortoestellen'!D29460))),0,1))","v":1}]
["HoorSucces Urk",4,"Phonak","Audéo M30-312T","PHO-0343",{"$f":"IF(ISBLANK('Assortiment Hoortoestellen'!$B$26),1,IF(ISERROR(SEARCH(PROPER('Assortiment Hoortoestellen'!$B$26),PROPER('Dataset hoortoestellen'!D29461))),0,1))","v":1}]
["HoorSucces Urk",5,"Phonak","Bolero M50-PR","PHO-0354",{"$f":"IF(ISBLANK('Assortiment Hoortoestellen'!$B$26),1,IF(ISERROR(SEARCH(PROPER('Assortiment Hoortoestellen'!$B$26),PROPER('Dataset hoortoestellen'!D29462))),0,1))","v":1}]
["HoorSucces Urk",4,"Phonak","Audéo M30-13T","PHO-0341",{"$f":"IF(ISBLANK('Assortiment Hoortoestellen'!$B$26),1,IF(ISERROR(SEARCH(PROPER('Assortiment Hoortoestellen'!$B$26),PROPER('Dataset hoortoestellen'!D29463))),0,1))","v":1}]
["HoorSucces Urk",5,"Phonak","Naida M50-SP","PHO-0356",{"$f":"IF(ISBLANK('Assortiment Hoortoestellen'!$B$26),1,IF(ISERROR(SEARCH(PROPER('Assortiment Hoortoestellen'!$B$26),PROPER('Dataset hoortoestellen'!D29464))),0,1))","v":1}]
["HoorSucces Urk",4,"Phonak","Bolero M30-M","PHO-0351",{"$f":"IF(ISBLANK('Assortiment Hoortoestellen'!$B$26),1,IF(ISERROR(SEARCH(PROPER('Assortiment Hoortoestellen'!$B$26),PROPER('Dataset hoortoestellen'!D29465))),0,1))","v":1}]
["HoorSucces Urk",5,"Phonak","Sky M50-M","PHO-0336",{"$f":"IF(ISBLANK('Assortiment Hoortoestellen'!$B$26),1,IF(ISERROR(SEARCH(PROPER('Assortiment Hoortoestellen'!$B$26),PROPER('Dataset hoortoestellen'!D29466))),0,1))","v":1}]
["HoorSucces Urk",4,"Phonak","Bolero M30-PR","PHO-0352",{"$f":"IF(ISBLANK('Assortiment Hoortoestellen'!$B$26),1,IF(ISERROR(SEARCH(PROPER('Assortiment Hoortoestellen'!$B$26),PROPER('Dataset hoortoestellen'!D29467))),0,1))","v":1}]
["HoorSucces Urk",5,"Phonak","Sky M50-SP","PHO-0338",{"$f":"IF(ISBLANK('Assortiment Hoortoestellen'!$B$26),1,IF(ISERROR(SEARCH(PROPER('Assortiment Hoortoestellen'!$B$26),PROPER('Dataset hoortoestellen'!D29468))),0,1))","v":1}]
["HoorSucces Urk",4,"Phonak","Naida M30-SP","PHO-0355",{"$f":"IF(ISBLANK('Assortiment Hoortoestellen'!$B$26),1,IF(ISERROR(SEARCH(PROPER('Assortiment Hoortoestellen'!$B$26),PROPER('Dataset hoortoestellen'!D29469))),0,1))","v":1}]
["HoorSucces Urk",5,"Phonak","Sky M50-PR","PHO-0337",{"$f":"IF(ISBLANK('Assortiment Hoortoestellen'!$B$26),1,IF(ISERROR(SEARCH(PROPER('Assortiment Hoortoestellen'!$B$26),PROPER('Dataset hoortoestellen'!D29470))),0,1))","v":1}]
["HoorSucces Urk",4,"Phonak","Sky M30-M","PHO-0333",{"$f":"IF(ISBLANK('Assortiment Hoortoestellen'!$B$26),1,IF(ISERROR(SEARCH(PROPER('Assortiment Hoortoestellen'!$B$26),PROPER('Dataset hoortoestellen'!D29471))),0,1))","v":1}]
["HoorSucces Urk",4,"Phonak","Sky M30-SP","PHO-0335",{"$f":"IF(ISBLANK('Assortiment Hoortoestellen'!$B$26),1,IF(ISERROR(SEARCH(PROPER('Assortiment Hoortoestellen'!$B$26),PROPER('Dataset hoortoestellen'!D29472))),0,1))","v":1}]
["HoorSucces Urk",4,"Phonak","Sky M30-PR","PHO-0334",{"$f":"IF(ISBLANK('Assortiment Hoortoestellen'!$B$26),1,IF(ISERROR(SEARCH(PROPER('Assortiment Hoortoestellen'!$B$26),PROPER('Dataset hoortoestellen'!D29473))),0,1))","v":1}]

{"sheet":"Blad3","index":2,"n_rows":20,"n_cols":4,"rows_kept":20,"cut":false,"hidden":true,"merged":[]}
[]
[null,"HSN nummer","cat ","cat nieuw"]
[null,"INT-0028",2,1]
[null,"INT-0029",2,1]
[null,"INT-0034",3,2]
[null,"INT-0035",3,2]
[null,"INT-0032",3,2]
[null,"INT-0033",3,2]
[null,"INT-0043",4,3]
[null,"INT-0042",4,3]
[null,"INT-0040",4,3]
[null,"INT-0041",4,3]
[null,"INT-0038",4,3]
[null,"INT-0039",4,3]
[null,"INT-0049 ",5,4]
[null,"INT-0048 ",5,4]
[null,"INT-0046 ",5,4]
[null,"INT-0047",5,4]
[null,"INT-0044",5,4]
[null,"INT-0045",5,4]

{"sheet":"HSN nummer","index":3,"n_rows":1097,"n_cols":3,"rows_kept":1097,"cut":false,"hidden":true,"merged":[]}
["Merk","HSN-nummer","Model "]
["Coselgi","COS-0308","Effect EF4-CIC Rechts"]
["Coselgi","COS-0317","Effect EF5-F2 (M-tel)"]
["Coselgi","COS-0329","Effect EF5-CIC Rechts"]
["Starkey","STA-0307","Muse i1000 mRIC 312 opl"]
["Starkey","STA-0308","Muse i1000 BTE 13"]
["Starkey","STA-0347","Muse iQ 1600 ITC"]
["Starkey","STA-0352","Muse iQ i1000 CIC"]
["Starkey","STA-0354","Muse iQ i1000 ITE"]
["Starkey","STA-0362","Muse iQ i1200 CIC"]
["Starkey","STA-0387","Livio 1200 RIC R"]
["Starkey","STA-0388","Livio 1600 BTE 13"]
["Starkey","STA-0391","Livio 1600 RIC R"]
["Widex","WID-0404","U110-CIC"]
["Widex","WID-0407","U110-CIC-M TR"]
["Widex","WID-0417","U110-XP"]
["Widex","WID-0420","U220-CIC-M"]
["Widex","WID-0444","U440-CIC"]
["Widex","WID-0549","Enjoy E-BTE 13D 50"]
["Widex","WID-0655","Enjoy E-XP 50"]
["Bernafon","BER-0453","Nevara 1 CICx"]
["Bernafon","BER-0486","Nevara 1 PR"]
["Bernafon","BER-0616","Zerena 1 CIC"]
["Bernafon","BER-0621","Zerena 1 MNR"]
["Bernafon","BER-0624","Zerena 3 CIC"]
["Bernafon","BER-0632","Zerena 5 CIC"]
["Bernafon","BER-0637","Zerena 5 MNR"]
["Bernafon","BER-0640","Zerena 7 CIC"]
["Bernafon","BER-0645","Zerena 7 MNR"]
["Resound","RES-0009","Vea 180 VI"]
["Resound","RES-0011","Vea 130 -/P"]
["Resound","RES-0266","Ligo 467-DW"]
["Starkey","STA-0353","Muse iQ i1000 ITC"]
["Starkey","STA-0357","Muse iQ i1000 RIC 312"]
["Starkey","STA-0372","Muse iQ i1600 CIC"]
["Starkey","STA-0383","Livio 1000 RIC R"]
["Audio Service","AUS-0129","Duo 12 G4"]
["Audio Service","AUS-0130","Duo 8 G4"]
["Audio Service","AUS-0131","HP 12 G4"]
["Audio Service","AUS-0132","HP 8 G4"]
["Audio Service","AUS-0153","HP 4 G4"]
["Audio Service","AUS-0154","HP 6 G4"]
["Audio Service","AUS-0177","Duo 12 G5"]
["Audio Service","AUS-0178","Duo 8 G5"]
["Audio Service","AUS-0182","IHO 12 G5"]
["Audio Service","AUS-0183","IHO 8 G5"]
["Audio Service","AUS-0184","Mood 12 G5"]
["Audio Service","AUS-0185","Mood 8 G5"]
["Audio Service","AUS-0189","P 12 G5"]
["Audio Service","AUS-0190","P 8 G5"]
["Audio Service","AUS-0191","quiX 12 G5 Links"]
["Audio Service","AUS-0192","quiX 12 G5 Rechts"]
["Audio Service","AUS-0193","quiX 8 G5 Links"]
["Audio Service","AUS-0194","quiX 8 G5 Rechts"]
["Audio Service","AUS-0195","Rixx 12 G5"]
["Audio Service","AUS-0196","Rixx 8 G5"]
["Audio Service","AUS-0197","Sun 12 G5"]
["Audio Service","AUS-0198","Sun 8 G5"]
["Audio Service","AUS-0205","Duo 4 G5"]
["Audio Service","AUS-0206","Duo 6 G5"]
["Audio Service","AUS-0207","Mood 4 G5"]
["Audio Service","AUS-0208","Mood 6 G5"]
["Audio Service","AUS-0209","P 4 G5"]
["Audio Service","AUS-0210","P 6 G5"]
["Audio Service","AUS-0211","quiX 4 G5 Links"]
["Audio Service","AUS-0212","quiX 4 G5 Rechts"]
["Audio Service","AUS-0213","quiX 6  G5 Rechts"]
["Audio Service","AUS-0214","quiX 6  G5 Links"]
["Audio Service","AUS-0215","Rixx 4  G5"]
["Audio Service","AUS-0216","Rixx 6 G5"]
["Audio Service","AUS-0217","Sun 4 G5"]
["Audio Service","AUS-0218","Sun 6 G5"]
["Audio Service ","AUS-0219","Volta HP C"]
["Audio Service ","AUS-0220","Volta P C"]
["Audio Service ","AUS-0221","Volta quiX C Links"]
["Audio Service ","AUS-0225","Volta XS C"]
["Bernafon","BER-0455","Nevara 1 ITC"]
["Bernafon","BER-0460","Nevara 1 P"]
["Bernafon","BER-0615","Zerena 1 BTE 105"]
["Bernafon","BER-0617","Zerena 1 IIC"]
["Bernafon","BER-0623","Zerena 3 BTE 105"]
["Bernafon","BER-0625","Zerena 3 IIC"]
["Bernafon","BER-0629","Zerena 3 MNR"]
["Bernafon","BER-0631","Zerena 5 BTE 105"]
["Bernafon","BER-0633","Zerena 5 IIC"]
["Bernafon","BER-0639","Zerena 7 BTE 105"]
["Bernafon","BER-0641","Zerena 7 IIC"]
["Coselgi","COS-0137","U10-CIC (links)"]
["Coselgi","COS-0138","U10-CIC TR (links)"]
["Coselgi","COS-0139","U10-FA"]
["Coselgi","COS-0140","U10-FM"]
["Coselgi","COS-0141","U10-FP"]
["Coselgi","COS-0142","U10-FS (HP-tel)"]
["Coselgi","COS-0143","U10-FS (M-tel)"]
["Coselgi","COS-0144","U10-FS (P-tel)"]
["Coselgi","COS-0145","U10-FS (S-tel)"]
["Coselgi","COS-0146","U10-PA (M-tel)"]
["Coselgi","COS-0147","U10-PA (S-tel)"]
["Coselgi","COS-0148","U10-XP"]
["Coselgi","COS-0149","U10E-CIC (links)"]
["Coselgi","COS-0150","U10E-CIC TR (links)"]
["Coselgi","COS-0151","U10E-FA"]
["Coselgi","COS-0152","U10E-FM"]
["Coselgi","COS-0153","U10E-FP"]
["Coselgi","COS-0154","U10E-FS (HP-tel)"]
["Coselgi","COS-0155","U10E-FS (M-tel)"]
["Coselgi","COS-0156","U10E-FS (P-tel)"]
["Coselgi","COS-0157","U10E-FS (S-tel)"]
["Coselgi","COS-0158","U10E-PA (M-tel)"]
["Coselgi","COS-0159","U10E-PA (S-tel)"]
["Coselgi","COS-0160","U10E-XP"]
["Coselgi","COS-0161","U15-CIC (links)"]
["Coselgi","COS-0162","U15-CIC TR (links)"]
["Coselgi","COS-0163","U15-FA"]
["Coselgi","COS-0164","U15-FM"]
["Coselgi","COS-0165","U15-FP"]
["Coselgi","COS-0166","U15-FS (HP-tel)"]
["Coselgi","COS-0167","U15-FS (M-tel)"]
["Coselgi","COS-0168","U15-FS (P-tel)"]
["Coselgi","COS-0169","U15-FS (S-tel)"]
["Coselgi","COS-0170","U15-PA (M-tel)"]
["Coselgi","COS-0172","U15-XP"]
["Coselgi","COS-0241","U6-CIC (links)"]
["Coselgi","COS-0242","U6-CIC TR (links)"]
["Coselgi","COS-0243","U6-FA"]
["Coselgi","COS-0244","U6-FM"]
["Coselgi","COS-0245","U6-FP"]
["Coselgi","COS-0246","U6-FS (HP-tel)"]
["Coselgi","COS-0247","U6-FS (M-tel)"]
["Coselgi","COS-0248","U6-FS (P-tel)"]
["Coselgi","COS-0249","U6-FS (S-tel)"]
["Coselgi","COS-0250","U6-PA (M-tel)"]
["Coselgi","COS-0251","U6-PA (S-tel)"]
["Coselgi","COS-0252","U6-XP"]
["Coselgi","COS-0255","U6E-FA"]
["Coselgi","COS-0256","U6E-FM"]
["Coselgi","COS-0257","U6E-FP"]
["Coselgi","COS-0258","U6E-FS (HP-tel)"]
["Coselgi","COS-0259","U6E-FS (M-tel)"]
["Coselgi","COS-0260","U6E-FS (P-tel)"]
["Coselgi","COS-0261","U6E-FS (S-tel)"]
["Coselgi","COS-0262","U6E-PA (M-tel)"]
["Coselgi","COS-0263","U6E-PA (S-tel)"]
["Coselgi","COS-0264","U6E-XP"]
["Coselgi","COS-0271","U6-CIC (rechts)"]
["Coselgi","COS-0272","U6-CIC TR (rechts)"]
["Coselgi","COS-0276","Effect EF2-F2 (HP-tel)"]
["Coselgi","COS-0277","Effect EF2-F2 (M-tel)"]
["Coselgi","COS-0278","Effect EF2-F2 (P-tel)"]
["Coselgi","COS-0279","Effect EF2-F2 (S-tel)"]
["Coselgi","COS-0281","Effect EF2-FS (M-tel)"]
["Coselgi","COS-0282","Effect EF2-FS (P-tel)"]
["Coselgi","COS-0283","Effect EF2-FS (S-tel)"]
["Coselgi","COS-0284","Effect EF2-CIC Links"]
["Coselgi","COS-0285","Effect EF2-CIC M"]
["Coselgi","COS-0287","Effect EF2-CIC Rechts"]
["Coselgi","COS-0288","Effect EF2-CIC TR Links"]
["Coselgi","COS-0289","Effect EF2-CIC TR Rechts"]
["Coselgi","COS-0290","Effect EF2-FA"]
["Coselgi","COS-0291","Effect EF2-FM"]
["Coselgi","COS-0292","Effect EF2-FP"]
["Coselgi","COS-0293","Effect EF2-XP"]
["Coselgi","COS-0295","Effect EF4-F2 (M-tel)"]
["Coselgi","COS-0296","Effect EF4-F2 (P-tel)"]
["Coselgi","COS-0297","Effect EF4-F2 (S-tel)"]
["Coselgi","COS-0298","Effect EF4 F2(HP-tel)"]
["Coselgi","COS-0299","Effect EF4-FS (HP-tel)"]
["Coselgi","COS-0300","Effect EF4-FS (M-tel)"]
["Coselgi","COS-0301","Effect EF4-FS (P-tel)"]
["Coselgi","COS-0303","Effect EF4-RIC 10 (M-tel)"]
["Coselgi","COS-0304","Effect EF4-RIC 10 (S-tel)"]
["Coselgi","COS-0305","Effect EF4-CIC Links"]
["Coselgi","COS-0306","Effect EF4-CIC M"]
["Coselgi","COS-0309","Effect EF4-CIC TR Links"]
["Coselgi","COS-0310","Effect EF4-CIC TR Rechts"]
["Coselgi","COS-0311","Effect EF4-FA"]
["Coselgi","COS-0312","Effect EF4-FM"]
["Coselgi","COS-0313","Effect EF4-FP"]
["Coselgi","COS-0314","Effect EF4-XP"]
["Coselgi","COS-0316","Effect EF5-F2 (HP-tel)"]
["Coselgi","COS-0318","Effect EF5-F2 (P-tel)"]
["Coselgi","COS-0320","Effect EF5-FS (HP-tel)"]
["Coselgi","COS-0321","Effect EF5-FS (M-tel)"]
["Coselgi","COS-0322","Effect EF5-FS (P-tel)"]
["Coselgi","COS-0323","Effect EF5-FS (S-tel)"]
["Coselgi","COS-0324","Effect EF5-RIC 10 (M-tel)"]
["Coselgi","COS-0325","Effect EF5-RIC 10 (S-tel)"]
["Coselgi","COS-0326","Effect EF5-CIC Links"]
["Coselgi","COS-0327","Effect EF5-CIC M"]
["Coselgi","COS-0330","Effect EF5-CIC TR Links"]
["Coselgi","COS-0331","Effect EF5-CIC TR Rechts"]
["Coselgi","COS-0332","Effect EF5-FA"]
["Coselgi","COS-0333","Effect EF5-FM"]
["Coselgi","COS-0334","Effect EF5-FP"]
["Coselgi","COS-0335","Effect EF5-XP"]
["Coselgi","COS-0337","Effect EF6-F2 (HP-tel)"]
["Coselgi","COS-0338","Effect EF6-F2 (M-tel)"]
["Coselgi","COS-0339","Effect EF6-F2 (P-tel)"]
["Coselgi","COS-0340","Effect EF6-F2 (S-tel)"]
["Coselgi","COS-0341","Effect EF6-FS (HP-tel)"]
["Coselgi","COS-0342","Effect EF6-FS (M-tel)"]
["Coselgi","COS-0343","Effect EF6-FS (P-tel)"]
["Coselgi","COS-0344","Effect EF6-FS (S-tel)"]
["Coselgi","COS-0345","Effect EF6-RIC 10 (M-tel)"]
["Coselgi","COS-0347","Effect EF6-CIC Links"]
["Coselgi","COS-0348","Effect EF6-CIC M"]
["Coselgi","COS-0350","Effect EF6-CIC Rechts"]
["Coselgi","COS-0351","Effect EF6-CIC TR Links"]
["Coselgi","COS-0352","Effect EF6-CIC TR Rechts"]
["Coselgi","COS-0353","Effect EF6-FA"]
["Coselgi","COS-0354","Effect EF6-FM"]
["Coselgi","COS-0355","Effect EF6-FP"]
["Coselgi","COS-0356","Effect EF6-XP"]
["Interton","INT-0026","RD261-DRW"]
["Interton","INT-0027","RD262-DRW"]
["Interton","INT-0028","RD270-DW"]
["Interton","INT-0029","RD280-DW"]
["Interton","INT-0032","RD361-DRW"]
["Interton","INT-0033","RD362-DRW"]
["Interton","INT-0034","RD370-DW"]
["Interton","INT-0035","RD380-DW"]
["Interton","INT-0036","RD3CIC"]
["Interton","INT-0037","RD3ITC-DW"]
["Interton","INT-0038","RD461-DRW"]
["Interton","INT-0039","RD462-DRW"]
["Interton","INT-0040","RD470-DW"]
["Interton","INT-0041","RD480-DW"]
["Interton","INT-0042","RD4CIC"]
["Interton","INT-0043","RD4ITC-DW"]
["Interton","INT-0044","RD661-DRW"]
["Interton","INT-0045","RD662-DRW"]
["Interton","INT-0046","RD670-DW"]
["Interton","INT-0047","RD680-DW"]
["Interton","INT-0048","RD6CIC"]
["Interton","INT-0049","RD6ITC-DW"]
["Oticon","OTI-0064","Get"]
["Oticon","OTI-0065","Get"]
["Oticon","OTI-0066","Get"]
["Oticon","OTI-0068","Get"]
["Oticon","OTI-0340","Siya 1 CIC 75 - 85"]
["Oticon","OTI-0342","Siya 1 ITE 75 - 100"]
["Oticon","OTI-0344","Siya 1 miniRITE T 60 - 105"]
["Oticon","OTI-0349","Siya 2 ITE 75 - 100"]
["Oticon","OTI-0351","Siya 2 miniRITE T 60 - 105"]
["Oticon","OTI-0360","Opn 3 CIC 75 - 85"]
["Oticon","OTI-0362","Opn 3 ITE 75 - 100"]
["Oticon","OTI-0364","Opn 3 miniRITE T 60 - 105"]
["Oticon","OTI-0368","Ruby 1 miniRITE R 60 - 105"]
["Oticon","OTI-0373","Ruby 2 miniRITE R 60 - 105"]
["Oticon","OTI-0377","Geno 1 BTE 85"]
["Oticon","OTI-0378","Geno 1 Custom 75 - 100"]
["Oticon","OTI-0383","Geno 2 BTE 105 PP"]
["Oticon","OTI-0385","Geno 2 Custom 75 - 100"]
["Oticon","OTI-384","Geno 2 BTE 85"]
["Phonak","PHO-0260","Vitus BTE-micro"]
["Phonak","PHO-0261","Vitus BTE-P"]
["Phonak","PHO-0262","Vitus BTE-UP"]
["Phonak","PHO-0269","Audeo B 30 10"]
["Phonak","PHO-0270","Audeo B 30 13"]
["Phonak","PHO-0271","Audeo B 30 312"]
["Phonak","PHO-0272","Audeo B 30 312 T"]
["Phonak","PHO-0273","Audeo B 50 10"]
["Phonak","PHO-0274","Audeo B 50 13"]
["Phonak","PHO-0275","Audeo B 50 312"]
["Phonak","PHO-0276","Audeo B 50 312 T"]
["Phonak","PHO-0278","Audeo B 70 10"]
["Phonak","PHO-0279","Audeo B 70 13"]
["Phonak","PHO-0281","Audeo B 70 312 T"]
["Phonak","PHO-0283","Bolero B 30 M"]
["Phonak","PHO-0284","Bolero B 30 P"]
["Phonak","PHO-0285","Bolero B 30 SP"]
["Phonak","PHO-0286","Bolero B 50 M"]
["Phonak","PHO-0287","Bolero B 50 P"]
["Phonak","PHO-0289","Bolero B 50 SP"]
["Phonak","PHO-0290","Bolero B 70 M"]
["Phonak","PHO-0291","Bolero B 70 P"]
["Phonak","PHO-0293","Bolero B 70 SP"]
["Phonak","PHO-0299","Naida B 30 SP"]
["Phonak","PHO-0300","Naida B 30 UP"]
["Phonak","PHO-0302","Naida B 50 SP"]
["Phonak","PHO-0303","Naida B 50 UP"]
["Phonak","PHO-0305","Naida B 70 SP"]
["Phonak","PHO-0306","Naida B 70 UP"]
["Phonak","PHO-0307","Sky B 30 M"]
["Phonak","PHO-0308","Sky B 30 P"]
["Phonak","PHO-0309","Sky B 30 RIC"]
["Phonak","PHO-0310","Sky B 30 SP"]
["Phonak","PHO-0311","Sky B 30 UP"]
["Phonak","PHO-0312","Sky B 50 M"]
["Phonak","PHO-0313","Sky B 50 P"]
["Phonak","PHO-0315","Sky B 50 RIC"]
["Phonak","PHO-0316","Sky B 50 SP"]
["Phonak","PHO-0317","Sky B 50 UP"]
["Phonak","PHO-0318","Sky B 70 M"]
["Phonak","PHO-0319","Sky B 70 P"]
["Phonak","PHO-0321","Sky B 70 RIC"]
["Phonak","PHO-0322","Sky B 70 SP"]
["Phonak","PHO-0323","Sky B 70 UP"]
["Phonak","PHO-0324","Virto B 30 10"]
["Phonak","PHO-0325","Virto B 30 13"]
["Phonak","PHO-0326","Virto B 30 312"]
["Phonak","PHO-0327","Virto B 50 10"]
["Phonak","PHO-0328","Virto B 50 13"]
["Phonak","PHO-0329","Virto B 50 312"]
["Phonak","PHO-0330","Virto B 70 10"]
["Phonak","PHO-0332","Virto B 70 312"]
["Phonak","PHO-0333","Sky M30-M"]
["Phonak","PHO-0334","Sky M30-PR"]
["Phonak","PHO-0335","Sky M30-SP"]
["Phonak","PHO-0336","Sky M50-M"]
["Phonak","PHO-0338","Sky M50-SP"]
["ReSound","RES-0010","Vea 170 VI"]
["ReSound","RES-0212","Enya 3 ITC"]
["ReSound","RES-0213","Enya 362-DRW"]
["ReSound","RES-0214","Enya 367-DW"]
["ReSound","RES-0215","Enya 377-DW"]
["ReSound","RES-0216","Enya 388-DW"]
["ReSound","RES-0227","MagnaSP 490 DVI"]
["ReSound","RES-0262","Ligo 4 CIC"]
["ReSound","RES-0263","Ligo 4 ITC-DW"]
["ReSound","RES-0264","Ligo 461-DRW"]
["ReSound","RES-0265","Ligo 462-DRW"]
["ReSound","RES-0267","Ligo 477-DW"]
["ReSound","RES-0268","Ligo 488-DW"]
["ReSound","RES-0269","Ligo 498-DW"]
["ReSound","RES-0277","Ligo 598-DW"]
["ReSound","RES-0285","Ligo 798-DW"]
["ReSound","RES-0292","LiNX 3D 5 CIC"]
["ReSound","RES-0293","LiNX 3D 5 ITC-DW"]
["ReSound","RES-0294","LiNX 3D 561-DRW"]
["ReSound","RES-0295","LiNX 3D 562-DRW"]
["ReSound","RES-0296","LiNX 3D 567-DW"]
["ReSound","RES-0297","LiNX 3D 577-DW"]
["ReSound","RES-0298","LiNX 3D 588-DW"]
["ReSound","RES-0299","LiNX 3D 7 CIC"]
["ReSound","RES-0300","LiNX 3D 7 ITC-DW"]
["ReSound","RES-0301","LiNX 3D 761-DRW"]
["ReSound","RES-0302","LiNX 3D 762-DRW"]
["ReSound","RES-0303","LiNX 3D 767-DW"]
["ReSound","RES-0304","LiNX 3D 777-DW"]
["ReSound","RES-0305","LiNX 3D 788-DW"]
["ReSound","RES-0306","LiNX Quattro 561-DRWC"]
["Starkey","STA-0277","Muse i1000 CIC"]
["Starkey","STA-0278","Muse i1000 BTE312"]
["Starkey","STA-0279","Muse i1000 ITC"]
["Starkey","STA-0280","Muse i1000 mRIC 312"]
["Starkey","STA-0309","Muse i1000 RIC 312"]
["Starkey","STA-0330","Muse i1600  CIC"]
["Starkey","STA-0331","Muse i1000 BTE 13 PP"]
["Starkey","STA-0334","Muse iQ i1000 RIC Li-Ion"]
["Starkey","STA-0340","Muse iQ 1000 CIC"]
["Starkey","STA-0341","Muse iQ 1000 ITC"]
["Starkey","STA-0343","Muse iQ 1200 CIC"]
["Starkey","STA-0349","Muse iQ i1000 BTE 13"]
["Starkey","STA-0350","Muse iQ i1000 BTE 13 PP"]
["Starkey","STA-0351","Muse iQ i1000 BTE 312"]
["Starkey","STA-0352\n","Muse iQ i1000 CIC"]
["Starkey","STA-0355","Muse iQ i1000 mRIC"]
["Starkey","STA-0363","Muse iQ i1200 ITC"]
["Starkey","STA-0364","Muse iQ i1200 ITE"]
["Starkey","STA-0372\n","Muse iQ i1600 CIC"]
["Starkey","STA-0373","Muse iQ i1600 ITC"]
["Starkey","STA-0374","Muse iQ i1600 ITE"]
["Starkey","STA-0380","Livio 1000 BTE 13"]
["Starkey","STA-0381","Livio 1000 mRIC 312"]
["Starkey","STA-0382","Livio 1000 RIC 312"]
["Starkey","STA-0384","Livio 1200 BTE 13"]
["Starkey","STA-0385","Livio 1200 mRIC 312"]
["Starkey","STA-0386","Livio 1200 RIC 312"]
["Starkey","STA-0389","Livio 1600 mRIC 312"]
["Starkey","STA-0390","Livio 1600 RIC 312"]
["Starkey","STA-0392","Livio 1000 BTE R"]
["Starkey","STA-0393","Livio 1200 BTE R"]
["Starkey","STA-0394","Livio 1600 BTE R"]
["Unitron","UNI-0272","T Max SP 500"]
["Unitron","UNI-0273","T Max SP 600"]
["Unitron","UNI-0275","T Max SP 800"]
["Unitron","UNI-0276","T Max UP 500"]
["Unitron","UNI-0277","T Max UP 600"]
["Unitron","UNI-0279","T Max UP 800"]
["Unitron","UNI-0304","T Stride 500 M"]
["Unitron","UNI-0305","T Stride 500 P"]
["Unitron","UNI-0323","T Insera 500 W 10A Dir"]
["Unitron","UNI-0325","T Insera 500 W 13 Dir"]
["Unitron","UNI-0326","T Insera 500 W 312 Dir"]
["Unitron","UNI-0328","T Insera 600 W 10A Dir"]
["Unitron","UNI-0330","T Insera 600 W 13 Dir"]
["Unitron","UNI-0331","T Insera 600 W 312 Dir"]
["Unitron","UNI-0338","T Insera 800 W 10A Dir"]
["Unitron","UNI-0339","T Insera 800 W 10A Omni"]
["Unitron","UNI-0340","T Insera 800 W 13 Dir"]
["Unitron","UNI-0341","T Insera 800 W 312 Dir"]
["Unitron","UNI-0430","Shine Rev+ M"]
["Unitron","UNI-0431","Shine Rev+ P"]
["Unitron","UNI-0432","Shine Rev+ RIC"]
["Unitron ","UNI-0433","Shine Rev+ UP"]
["Unitron","UNI-0434","DX Insera 3 10A Omni"]
["Unitron","UNI-0435","DX Insera 3 312 Omni"]
["Unitron","UNI-0436","DX Insera 3 W 312 Dir"]
["Unitron","UNI-0437","DX Insera 5 10A Omni"]
["Unitron","UNI-0438","DX Insera 5 312 Omni"]
["Unitron","UNI-0439","DX Insera 5 W 312 Dir"]
["Unitron","UNI-0442","DX Insera 7 W 312 Dir"]
["Unitron","UNI-0443","DX Moxi Fit 3"]
["Unitron","UNI-0444","DX Moxi Fit 5"]
["Unitron","UNI-0445","DX Moxi Fit 7"]
["Unitron","UNI-0446","DX Moxi Jump R T 3"]
["Unitron","UNI-0447","DX Moxi Jump R T 5"]
["Unitron","UNI-0449","DX Moxi Move R 3"]
["Unitron","UNI-0450","DX Moxi Move R 5"]
["Unitron","UNI-0452","DX Stride M 3"]
["Unitron","UNI-0453","DX Stride M 5"]
["Unitron","UNI-0454","DX Stride M 7"]
["Unitron","UNI-0455","DX Stride P R 3"]
["Unitron","UNI-0456","DX Stride P R 5"]
["Unitron","UNI-0473","Shine Rev+ 10A Omni"]
["Unitron ","UNI-0474","Shine Rev+ W 13 Dir"]
["Unitron","UNI-0475","Shine Rev+ W 312 Dir"]
["Widex","WID-0405","U110-CIC TR"]
["Widex","WID-0406","U110-CIC-M"]
["Widex","WID-0408","U110-FA"]
["Widex","WID-0409","U110-FM"]
["Widex","WID-0410","U110-FP"]
["Widex","WID-0411","U110-FS (HP-tel)"]
["Widex","WID-0412","U110-FS (M-tel)"]
["Widex","WID-0413","U110-FS (P-tel)"]
["Widex","WID-0414","U110-FS (S-tel)"]
["Widex","WID-0415","U110-PA (M-tel)"]
["Widex","WID-0416","U110-PA (S-tel)"]
["Widex","WID-0418","U220-CIC"]
["Widex","WID-0419","U220-CIC TR"]
["Widex","WID-0421","U220-CIC-M TR"]
["Widex","WID-0422","U220-FA"]
["Widex","WID-0423","U220-FM"]
["Widex","WID-0424","U220-FS (HP-tel)"]
["Widex","WID-0425","U220-FS (M-tel)"]
["Widex","WID-0426","U220-FS (P-tel)"]
["Widex","WID-0427","U220-FS (S-tel)"]
["Widex","WID-0428","U220-PA (M-tel)"]
["Widex","WID-0429","U220-PA (S-tel)"]
["Widex","WID-0430","U220-XP"]
["Widex","WID-0431","U330-CIC"]
["Widex","WID-0432","U330-CIC TR"]
["Widex","WID-0433","U330-CIC-M"]
["Widex","WID-0434","U330-CIC-M TR"]
["Widex","WID-0435","U330-FA"]
["Widex","WID-0436","U330-FM"]
["Widex","WID-0437","U330-FS (HP-tel)"]
["Widex","WID-0438","U330-FS (M-tel)"]
["Widex","WID-0439","U330-FS (P-tel)"]
["Widex","WID-0440","U330-FS (S-tel)"]
["Widex","WID-0441","U330-PA (M-tel)"]
["Widex","WID-0442","U330-PA (S-tel)"]
["Widex","WID-0443","U330-XP"]
["Widex","WID-0446","U440-CIC-M"]
["Widex","WID-0447","U440-CIC-M TR"]
["Widex","WID-0448","U440-FA"]
["Widex","WID-0449","U440-FM"]
["Widex","WID-0450","U440-FS (HP-tel)"]
["Widex","WID-0451","U440-FS (M-tel)"]
["Widex","WID-0452","U440-FS (P-tel)"]
["Widex","WID-0453","U440-FS (S-tel)"]
["Widex","WID-0454","U440-PA (M-tel)"]
["Widex","WID-0455","U440-PA (S-tel)"]
["Widex","WID-0456","U440-XP"]
["Widex","WID-0457","U220-FP"]
["Widex","WID-0458","U330-FP"]
["Widex","WID-0459","U440-FP"]
["Widex","WID-0545","Enjoy E-BTE 13D 110"]
["Widex","WID-0546","Enjoy E-BTE 13D 220"]
["Widex","WID-0547","Enjoy E-BTE 13D 330"]
["Widex","WID-0551","Enjoy E-CIC 110 Links"]
["Widex","WID-0552","Enjoy E-CIC 220 Links"]
["Widex","WID-0553","Enjoy E-CIC 330 Links"]
["Widex","WID-0557","Enjoy E-CIC M 110"]
["Widex","WID-0558","Enjoy E-CIC M 220"]
["Widex","WID-0559","Enjoy E-CIC M 330"]
["Widex","WID-0563","Enjoy E-CIC M TR 110"]
["Widex","WID-0569","Enjoy E-CIC TR 110 Links"]
["Widex","WID-0570","Enjoy E-CIC TR 220 Links"]
["Widex","WID-0571","Enjoy E-CIC TR 330 Links"]
["Widex","WID-0578","Enjoy E-F2 110 (HP-tel)"]
["Widex","WID-0579","Enjoy E-F2 110 (M-tel)"]
["Widex","WID-0580","Enjoy E-F2 110 (P-tel)"]
["Widex","WID-0581","Enjoy E-F2 110 (S-tel)"]
["Widex","WID-0582","Enjoy E-F2 220 (HP-tel)"]
["Widex","WID-0583","Enjoy E-F2 220 (M-tel)"]
["Widex","WID-0584","Enjoy E-F2 220 (P-tel)"]
["Widex","WID-0585","Enjoy E-F2 220 (S-tel)"]
["Widex","WID-0586","Enjoy E-F2 330 (HP-tel)"]
["Widex","WID-0587","Enjoy E-F2 330 (M-tel)"]
["Widex","WID-0588","Enjoy E-F2 330 (P-tel)"]
["Widex","WID-0589","Enjoy E-F2 330 (S-tel)"]
["Widex","WID-0594","Enjoy E-F2 50 (HP-tel)"]
["Widex","WID-0595","Enjoy E-F2 50 (M-tel)"]
["Widex","WID-0596","Enjoy E-F2 50 (P-tel)"]
["Widex","WID-0597","Enjoy E-F2 50 (S-tel)"]
["Widex","WID-0599","Enjoy E-FA 110"]
["Widex","WID-0600","Enjoy E-FA 220"]
["Widex","WID-0601","Enjoy E-FA 330"]
["Widex","WID-0603","Enjoy E-FA 50"]
["Widex","WID-0605","Enjoy E-FM 110"]
["Widex","WID-0606","Enjoy E-FM 220"]
["Widex","WID-0607","Enjoy E-FM 330"]
["Widex","WID-0609","Enjoy E-FM 50"]
["Widex","WID-0611","Enjoy E-FP 110"]
["Widex","WID-0612","Enjoy E-FP 220"]
["Widex","WID-0613","Enjoy E-FP 330"]
["Widex","WID-0615","Enjoy E-FP 50"]
["Widex","WID-0620","Enjoy E-FS 110 (HP-tel)"]
["Widex","WID-0621","Enjoy E-FS 110 (M-tel)"]
["Widex","WID-0622","Enjoy E-FS 110 (P-tel)"]
["Widex","WID-0623","Enjoy E-FS 110 (S-tel)"]
["Widex","WID-0624","Enjoy E-FS 220 (HP-tel)"]
["Widex","WID-0625","Enjoy E-FS 220 (M-tel)"]
["Widex","WID-0626","Enjoy E-FS 220 (P-tel)"]
["Widex","WID-0627","Enjoy E-FS 220 (S-tel)"]
["Widex","WID-0628","Enjoy E-FS 330 (HP-tel)"]
["Widex","WID-0629","Enjoy E-FS 330 (M-tel)"]
["Widex","WID-0630","Enjoy E-FS 330 (P-tel)"]
["Widex","WID-0631","Enjoy E-FS 330 (S-tel)"]
["Widex","WID-0636","Enjoy E-FS 50 (HP-tel)"]
["Widex","WID-0637","Enjoy E-FS 50 (M-tel)"]
["Widex","WID-0638","Enjoy E-FS 50 (P-tel)"]
["Widex","WID-0639","Enjoy E-FS 50 (S-tel)"]
["Widex","WID-0642","Enjoy E-PA 110 (M-tel)"]
["Widex","WID-0643","Enjoy E-PA 110 (S-tel)"]
["Widex","WID-0644","Enjoy E-PA 220 (M-tel)"]
["Widex","WID-0645","Enjoy E-PA 220 (S-tel)"]
["Widex","WID-0646","Enjoy E-PA 330 (M-tel)"]
["Widex","WID-0647","Enjoy E-PA 330 (S-tel)"]
["Widex","WID-0651","Enjoy E-XP 110"]
["Widex","WID-0652","Enjoy E-XP 220"]
["Widex","WID-0653","Enjoy E-XP 330"]
["Widex","WID-0656","Enjoy E-CIC 110 Rechts"]
["Widex","WID-0657","Enjoy E-CIC 220 Rechts"]
["Widex","WID-0658","Enjoy E-CIC 330 Rechts"]
["Widex","WID-0662","Enjoy E-CIC TR 220 Rechts"]
["Widex","WID-0663","Enjoy E-CIC TR 330 Rechts"]
["Widex","WID-445","U440-CIC TR"]
["Audio Service","AUS-0146","Sun 12 G4"]
["Audio Service","AUS-0147","Sun 8 G4"]
["Coselgi","COS-0056","Dinamico 3 D-FA"]
["Coselgi","COS-0058","Dinamico 3 D-XP"]
["ReSound","RES-0270","Ligo 5 CIC"]
["ReSound","RES-0271","Ligo 5 ITC-DW"]
["ReSound","RES-0272","Ligo 561-DRW"]
["ReSound","RES-0273","Ligo 562-DRW"]
["ReSound","RES-0274","Ligo 567-DW"]
["ReSound","RES-0275","Ligo 577-DW"]
["ReSound","RES-0276","Ligo 588-DW"]
["ReSound","RES-0278","Ligo 7 CIC"]
["ReSound","RES-0279","Ligo 7 ITC-DW"]
["ReSound","RES-0280","Ligo 761-DRW"]
["ReSound","RES-0281","Ligo 762-DRW"]
["ReSound","RES-0282","Ligo 767-DW"]
["ReSound","RES-0283","Ligo 777-DW"]
["ReSound","RES-0284","Ligo 788-DW"]
["Widex","WID-0445","U440-CIC TR"]
["Audio Service","AUS-0169","quix 6 G4 links"]
["Widex- Coselgi","COS-0051","Dinamico 3 D-9"]
["Widex- Coselgi","COS-0052","Dinamico 3 D-CIC"]
["Widex- Coselgi","COS-0149","U10E-CIC (links)"]
["Widex- Coselgi","COS-0155","U10E-FS (M-tel)"]
["Widex- Coselgi","COS-0161","U15-CIC (links)"]
["Widex- Coselgi","COS-0167","U15-FS (M-tel)"]
["Widex- Coselgi","COS-0241","U6-CIC (links)"]
["Widex- Coselgi","COS-0247","U6-FS (M-tel)"]
["Widex- Coselgi","COS-0253","U6E-CIC (links)"]
["Widex- Coselgi","COS-0259","U6E-FS (M-tel)"]
["Starkey","STA-0365","Muse iQ i1200 mRIC"]
["Starkey","STA-0376","Muse iQ i1600 mRIC"]
["Audio Service","AUS-0188","Mood Li-Ion 8 G5"]
["Audio Service","AUS-0186","Mood Li-Ion 12 G5"]
["Audio Service","AUS-0181","DUO Li-Ion 8 G5"]
["Audio Service","AUS-0179","DUO Li-Ion 12 G5"]
["Audio Service ","AUS-0222","Volta quiX C rechts"]
["Beltone","BEL-0126","TST 9ITC-DW"]
["Beltone","BEL-0125","TST 9CIC"]
["Beltone","BEL-0123","TST 976-DW"]
["Beltone","BEL-0124","TST 986-DW"]
["Beltone","BEL-0120","TST 963-DRW"]
["Beltone","BEL-0121","TST 964-DRW"]
["Beltone","BEL-0122","TST 966-DW"]
["Bernafon","BER-0666","Viron 3 MNR T R"]
["Bernafon","BER-0670","Viron 5 MNR T R"]
["Bernafon","BER-0663","Viron 3 BTE 105"]
["Bernafon","BER-0667","Viron 5 BTE 105"]
["Bernafon","BER-0662","Viron 1 MNR T R"]
["Bernafon","BER-0659","Viron 1 BTE 105"]
["Bernafon","BER-0674","Viron 7 MNR T R"]
["Bernafon","BER-0671","Viron 7 BTE 105"]
["Coselgi","COS-0319","Effect EF5-F2 (S-tel)"]
["Coselgi","COS-0357","MOJO MRR2D M3 (m-tel)"]
["Coselgi","COS-0358","MOJO MRR2D M3 (p-tel)"]
["Coselgi","COS-0359","MOJO MRR2D M4 (m-tel)"]
["Coselgi","COS-0360","MOJO MRR2D M4 (p-tel)"]
["Coselgi","COS-0346","Effect EF6-RIC 10 (S-tel)"]
["Coselgi","COS-0361","MOJO MRR2D M5 (m-tel)"]
["Coselgi","COS-0362","MOJO MRR2D M5 (p-tel)"]
["data","BEL-0127","Amaze 663-DRWC"]
["Interton","INT-0074","MOVE 4ITC-DW"]
["Interton","INT-0073","MOVE 4CIC-W"]
["Interton","INT-0083","MOVE 6ITC-DW"]
["Interton","INT-0082","MOVE 6CIC-W"]
["Interton","INT-0055","MOVE 270-DW"]
["Interton","INT-0057","MOVE 290-DW"]
["Interton","INT-0070","MOVE 470-DW"]
["Interton","INT-0079","MOVE 670-DW"]
["Interton","INT-0071","MOVE 480-DWH"]
["Interton","INT-0080","MOVE 680-DWH"]
["Interton","INT-0066","MOVE 461-DRW"]
["Interton","INT-0075","MOVE 661-DRW"]
["Interton","INT-0068","MOVE 462-DRW"]
["Interton","INT-0077","MOVE 662-DRW"]
["Interton","INT-0069","MOVE 465-DW"]
["Interton","INT-0078","MOVE 665-DW"]
["Interton","INT-0072","MOVE 490-DW"]
["Interton","INT-0081","MOVE 690-DW"]
["Interton","INT-0067","MOVE 461-DRWC"]
["Interton","INT-0076","MOVE 661-DRWC"]
["Interton","INT-0061","MOVE 370-DW"]
["Interton","INT-0062","MOVE 380-DWH"]
["Interton","INT-0058","MOVE 361-DRW"]
["Interton","INT-0059","MOVE 362-DRW"]
["Interton","INT-0060","MOVE 365-DW"]
["Interton","INT-0063","MOVE 390-DW"]
["ReSound","RES-0316","KEY 2ITC-DW"]
["ReSound","RES-0324","KEY 3ITC-DW"]
["ReSound","RES-0323","KEY 3CIC-W"]
["ReSound","RES-0333","KEY 4ITC-DW"]
["ReSound","RES-0332","KEY 4CIC-W"]
["ReSound","RES-0334","Enzo Q 588-DWHT"]
["ReSound","RES-0335","Enzo Q 598-DWT"]
["ReSound","RES-0328","KEY 467-DW"]
["ReSound","RES-0329","KEY 477-DW"]
["ReSound","RES-0330","KEY 488-DWH"]
["ReSound","RES-0331","KEY 498-DW"]
["ReSound","RES-0325","KEY 461-DRW"]
["ReSound","RES-0327","KEY 462-DRW"]
["ReSound","RES-0326","KEY 461-DRWC"]
["Starkey","STA-0342","Muse iQ 1000 ITE"]
["Starkey","STA-0413","Livio S2 BTE 13"]
["Starkey","STA-0409","Livio AI 1200 BTE 13"]
["Starkey","STA-0401","Livio AI 1200 BTE 13"]
["Starkey","STA-0405","Livio AI 1600 BTE 13"]
["Starkey","STA-0414","Livio S2 RIC 312"]
["Starkey","STA-0412","Livio AI 1200 BTE R"]
["Starkey","STA-0410","Livio AI 1200 BTE R"]
["Starkey","STA-0411","Livio AI 1600 BTE R"]
["Starkey","STA-0398","Livio AI 1200 mRIC 312"]
["Starkey","STA-0402","Livio AI 1200 mRIC 312"]
["Starkey","STA-0406","Livio AI 1600 mRIC 312"]
["Starkey","STA-0399","Livio AI 1200 RIC 312"]
["Starkey","STA-0403","Livio AI 1200 RIC 312"]
["Starkey","STA-0407","Livio AI 1600 RIC 312"]
["Starkey","STA-0400","Livio AI 1200 RIC R"]
["Starkey","STA-0404","Livio AI 1200 RIC R"]
["Starkey","STA-0408","Livio AI 1600 RIC R"]
["Starkey","STA-0370","Muse iQ i1600 BTE 13 PP"]
["Bernafon","BER-0630","Zerena 3 MNR T"]
["Amplifon","AMP-0006","Ampli-Energy B 28C"]
["Amplifon","AMP-0007","Ampli-Energy B 48C"]
["Amplifon","AMP-0008","Ampli-Energy B 38C"]
["Amplifon","GNH-0032","Ampli-Connect R3 X3 312"]
["Amplifon","GNH-0033","Ampli-Connect R3 XQ 13T"]
["Amplifon","GNH-0034","Ampli-Connect R4 X3 312"]
["Amplifon","GNH-0035","Ampli-Connect R4 XQ 13T"]
["Amplifon","GNH-0036","Ampli-Mini I2 X2 WLD"]
["Amplifon","GNH-0037","Ampli-Mini I2 X3 10"]
["Amplifon","GNH-0038","Ampli-Mini I3 X3 10"]
["Amplifon","GNH-0039","Ampli-Mini I3 X3 WLD"]
["Amplifon","GNH-0040","Ampli-Mini I4 X3 10"]
["Amplifon","GNH-0041","Ampli-Mini I4 X3 WLD"]
["Amplifon","GNH-0042","Ampli-Mini R2 KE 13"]
["Amplifon","GNH-0043","Ampli-Mini R2 KE 312"]
["Amplifon","GNH-0044","Ampli-Energy R3 XQ R"]
["Amplifon","GNH-0045","Ampli-Energy R4 XQ R"]
["Amplifon","GNH-0046","Ampli-Energy R2 KE R"]
["Amplifon","GNH-0047","Ampli-Connect B3 X3 13"]
["Amplifon","GNH-0048","Ampli-Connect B3 X3 13P"]
["Amplifon","GNH-0049","Ampli-Connect B3 X3 312"]
["Amplifon","GNH-0050","Ampli-Connect B3 XQ 675 "]
["Amplifon","GNH-0051","Ampli-Connect B4 X3 13"]
["Amplifon","GNH-0052","Ampli-Connect B4 X3 13P"]
["Amplifon","GNH-0053","Ampli-Connect B4 X3 312"]
["Amplifon","GNH-0054","Ampli-Connect B4 XQ 675 "]
["Amplifon","GNH-0059","Ampli-Easy B2 KE 13"]
["Amplifon","GNH-0061","Ampli-Easy B2 KE 312"]
["Oticon","OTI-0382","Geno 2 BTE 100"]
["Amplifon","RES-0060","Verso 730 MW/MPW/MUW"]
["Amplifon","RES-0062","Verso 710 M/MP"]
["ReSound","RES-0308","KEY 177-DW"]
["ReSound","RES-0309","KEY 188-DWH"]
["Audio Service","AUS-0180","DUO Li-Ion 6 G5"]
["Audio Service","AUS-0187","Mood Li-Ion 6 G5"]
["Phonak","PHO-0280","Audeo B 70 312"]
["Phonak","PHO-0331","Virto B 70 13"]
["Audio Service","AUS-0219","Volta HP C"]
["Audio Service","AUS-0220","Volta P C"]
["Audio Service","AUS-0221","Volta quiX C Links"]
["Audio Service","AUS-0222","Volta quiX C rechts"]
["Audio Service","AUS-0225","Volta XS C"]
["Beltone","BEL-0001","Origin 185 VI"]
["Beltone","BEL-0002","Origin 175 VI"]
["Beltone","BEL-0011","Origin 365 DVI"]
["Beltone","BEL-0034","Promise 966 DW"]
["Beltone","BEL-0035","Promise 964 DRW"]
["Beltone","BEL-0036","Promise 963 DRW"]
["Beltone","BEL-0069","Bold 295 SP DVI"]
["Beltone","BEL-0070","Bold 395 SP DVI"]
["Beltone","BEL-0076","Promise 1764 DRW"]
["Beltone","BEL-0077","Promise 1766 DW"]
["Beltone","BEL-0078","Promise 1778 DW"]
["Beltone","BEL-0094","Origin 364 DVIR"]
["Beltone","BEL-0095","Origin 378 DVI"]
["Beltone","BEL-0099","Ally 276-DW"]
["Beltone","BEL-0100","Ally 286-DW"]
["Beltone","BEL-0102","Ally 3 ITC"]
["Beltone","BEL-0103","Ally 364-DRW"]
["Beltone","BEL-0104","Ally 366-DW"]
["Beltone","BEL-0105","Ally 376-DW"]
["Beltone","BEL-0106","Ally 386-DW"]
["Beltone","BEL-0107","Ally 4 CIC"]
["Beltone","BEL-0108","Ally 4 ITC"]
["Beltone","BEL-0109","Ally 464-DRW"]
["Beltone","BEL-0110","Ally 466-DW"]
["Beltone","BEL-0111","Ally 476-DW"]
["Beltone","BEL-0112","Ally 486-DW"]
["Bernafon","BER-0326","Juna 7 CIC"]
["Bernafon","BER-0327","Juna 7 CICP"]
["Bernafon","BER-0329","Juna 7 CP"]
["Bernafon","BER-0331","Juna 7 ITC"]
["Bernafon","BER-0336","Juna 7 N"]
["Bernafon","BER-0337","Juna 7 NR"]
["Bernafon","BER-0339","Juna 9 CIC"]
["Bernafon","BER-0340","Juna 9 CICP"]
["Bernafon","BER-0342","Juna 9 CP"]
["Bernafon","BER-0345","Juna 9 ITC"]
["Bernafon","BER-0350","Juna 9 N"]
["Bernafon","BER-0448","Juna 7 P"]
["Bernafon","BER-0449","Juna 9 P"]
["Bernafon","BER-0458","Nevara 1 N"]
["Bernafon","BER-0459","Nevara 1 NR"]
["Bernafon","BER-0618","Zerena 1 ITC"]
["Bernafon","BER-0622","Zerena 1 MNR T"]
["Bernafon","BER-0626","Zerena 3 ITC"]
["Bernafon","BER-0634","Zerena 5 ITC"]
["Bernafon","BER-0638","Zerena 5 MNR T"]
["Bernafon","BER-0642","Zerena 7 ITC"]
["Bernafon","BER-0646","Zerena 7 MNR T"]
["Bernafon","BER-0655","Leox 3 SP"]
["Bernafon","BER-0656","Leox 3 UP"]
["Bernafon","BER-0657","Leox 7 SP"]
["Bernafon","BER-0658","Leox 7 UP"]
["Oticon","OTI-0338","Siya 1 BTE 85"]
["Oticon","OTI-0339","Siya 1 BTE PP 105"]
["Oticon","OTI-0341","Siya 1 IIC 75 - 85"]
["Oticon","OTI-0343","Siya 1 miniRITE 60 - 105"]
["Oticon","OTI-0345","Siya 2 BTE 85"]
["Oticon","OTI-0346","Siya 2 BTE PP 105"]
["Oticon","OTI-0347","Siya 2 CIC 75 - 85"]
["Oticon","OTI-0348","Siya 2 IIC 75 - 85"]
["Oticon","OTI-0350","Siya 2 miniRITE 60 - 105"]
["Oticon","OTI-0352","Xceed 2 SP"]
["Oticon","OTI-0353","Xceed 2 UP"]
["Oticon","OTI-0354","Xceed 3 SP"]
["Oticon","OTI-0355","Xceed 3 UP"]
["Oticon","OTI-0359","Opn 3 BTE PP 105"]
["Oticon","OTI-0361","Opn 3 IIC 75 - 85"]
["Oticon","OTI-0363","Opn 3 miniRITE 60 - 105"]
["Oticon","OTI-0365","Ruby 1 BTE 85"]
["Oticon","OTI-0366","Ruby 1 BTE PP 105"]
["Oticon","OTI-0367","Ruby 1 miniRITE 60 - 105"]
["Oticon","OTI-0369","Ruby 1 miniRITE T 60 - 105"]
["Oticon","OTI-0370","Ruby 2 BTE 85"]
["Oticon","OTI-0371","Ruby 2 BTE PP 105"]
["Oticon","OTI-0372","Ruby 2 miniRITE 60 - 105"]
["Oticon","OTI-0374","Ruby 2 miniRITE T 60 - 105"]
["Oticon","OTI-0375","Geno 1 BTE 100"]
["Oticon","OTI-0376","Geno 1 BTE 105 PP"]
["Oticon","OTI-0379","Geno 1 miniBTE 85"]
["Oticon","OTI-0380","Geno 1 miniRITE 60 - 105"]
["Oticon","OTI-0381","Geno 1 RITE 60 - 105"]
["Oticon","OTI-0384","Geno 2 BTE 85"]
["Oticon","OTI-0386","Geno 2 miniBTE 85"]
["Oticon","OTI-0387","Geno 2 miniRITE 60 - 105"]
["Oticon","OTI-0388","Geno 2 RITE 60 - 105"]
["Phonak","PHO-0263","Vitus+ BTE-micro"]
["Phonak","PHO-0264","Vitus+ BTE-P"]
["Phonak","PHO-0265","Vitus+ BTE-UP"]
["Phonak","PHO-0266","Vitus+ RIC-312T"]
["Phonak","PHO-0277","Audeo B 50 rech."]
["Phonak","PHO-0288","Bolero B 50 PR"]
["Unitron","UNI-0280","T Insera  800 10A Omni"]
["Unitron","UNI-0291","T Moxi Fit 500"]
["Unitron","UNI-0292","T Moxi Fit 600"]
["Unitron","UNI-0294","T Moxi Fit 800"]
["Unitron","UNI-0302","T Moxi Now 800"]
["Unitron","UNI-0306","T Stride 600 M"]
["Unitron","UNI-0307","T Stride 600 P"]
["Unitron","UNI-0311","T Stride 800 P"]
["Unitron","UNI-0312","T Stride Dura 500 P"]
["Unitron","UNI-0313","T Stride Dura 600 P"]
["Unitron","UNI-0315","T Stride Dura 800 P"]
["Unitron","UNI-0320","T Moxi Now 500"]
["Unitron","UNI-0321","T Moxi Now 600"]
["Unitron","UNI-310","T Insera 80"]
["Unitron","UNI-0173","Shine Rev 3 Concha"]
["Unitron","UNI-0175","Shine Rev 3 HPm"]
["Unitron","UNI-0176","Shine Rev 3 Kanaal"]
["Unitron","UNI-0177","Shine Rev 3 S"]
["Unitron","UNI-0281","T Insera 500 10A Omni"]
["Unitron","UNI-0282","T Insera 600 10A Omni"]
["Unitron","UNI-0310","T Stride 800 M"]
["Unitron","UNI-0322","T Insera 500 312 Omni"]
["Unitron","UNI-0324","T Insera 500 W 10A Omni"]
["Unitron","UNI-0327","T Insera 600 312 Omni"]
["Unitron","UNI-0329","T Insera 600 W 10A Omni"]
["Coselgi","COS-0052","Dinamico 3 D-CIC"]
["Beltone","BEL-0127","Amaze 663-DRWC"]
["ReSound","RES-0310","KEY 261-DRW"]
["ReSound","RES-0311","KEY 262-DRW"]
["ReSound","RES-0312","KEY 267-DW"]
["ReSound","RES-0313","KEY 277-DW"]
["ReSound","RES-0314","KEY 288-DWH"]
["ReSound","RES-0315","KEY 298-DW"]
["ReSound","RES-0317","KEY 361-DRW"]
["ReSound","RES-0318","KEY 362-DRW"]
["ReSound","RES-0319","KEY 367-DW"]
["ReSound","RES-0320","KEY 377-DW"]
["ReSound","RES-0321","KEY 388-DWH"]
["ReSound","RES-0322","KEY 398-DW"]
["Starkey","STA-0335","Muse IQ i1200 Li-Ion"]
["Starkey","STA-0375","Muse iQ i1600 Li-ion"]
["Widex","WID-0264","DREAM D50-FA"]
["Audio Service","AUS-0257","quiX 8 G6 links"]
["Audio Service","AUS-0258","quiX 8 G6 rechts"]
["Audio Service","AUS-0253","quiX 4 G6 links"]
["Audio Service","AUS-0255","quiX 6 G6 links"]
["Audio Service","AUS-0254","quiX 4 G6 rechts"]
["Audio Service","AUS-0256","quiX 6 G6 rechts"]
["Audio Service","AUS-0151","Duo 6 G4"]
["Audio Service","AUS-0150","Duo 4 G4"]
["Audio Service","AUS-0241","Mood 6 G6"]
["Audio Service","AUS-0242","Mood 8 G6"]
["Audio Service","AUS-0240","Mood 4 G6"]
["Coselgi","COS-0596","Effect EF5-F2 (P-TEL)"]
["Coselgi","COS-0636","Effect EF4-FS (HP-tel)"]
["Interton","INT-0065","Move 3ITC-DW"]
["Interton","INT-0064","Move 3CIC-W"]
["Interton","INT-0050","Move 170-DW"]
["Interton","INT-0051","Move 180-DWH"]
["Interton","INT-0056","Move 280-DWH"]
["Interton","INT-0052","Move 261-DRW"]
["Interton","INT-0053","Move 262-DRW"]
["Phonak","PHO-0357","Virto M30-10 NW O"]
["Phonak","PHO-0359","Virto M30-312 NW O"]
["Phonak","PHO-0358","Virto M30-312"]
["Phonak","PHO-0344","Audéo M30-R"]
["Phonak","PHO-0345","Audéo M30-RT"]
["Phonak","PHO-0342","Audéo M30-312"]
["Phonak","PHO-0343","Audéo M30-312T"]
["Phonak","PHO-0341","Audéo M30-13T"]
["Phonak","PHO-0351","Bolero M30-M"]
["Phonak","PHO-0352","Bolero M30-PR"]
["Phonak","PHO-0337","Sky M50-PR"]
["Phonak","PHO-0355","Naida M30-SP"]
["ReSound","RES-0336","KEY 2 ITE-DW"]
["ReSound","RES-0344","LiNX Quattro 5 ITC-DW"]
["ReSound","RES-0343","LiNX Quattro 5 CIC"]
["ReSound","RES-0338","LiNX Quattro 561-DRWT"]
["ReSound","RES-0339","LiNX Quattro 562-DRW"]
["ReSound","RES-0337","KEY 361-DRWC"]
["ReSound","RES-0340","LiNX Quattro 567-DW"]
["ReSound","RES-0341","LiNX Quattro 577-DW"]
["ReSound","RES-0342","LiNX Quattro 588-DW"]
["Starkey","STA-0360","Muse iQ i1200 BTE 13 PP"]
["Unitron","UNI-0537","Insera B5-312"]
["Unitron","UNI-0530","Insera B1-10 NW O"]
["Unitron","UNI-0533","Insera B3-10 NW O"]
["Unitron","UNI-0532","Insera B1-312 NW O"]
["Unitron","UNI-0535","Insera B3-312 NW O"]
["Unitron","UNI-0531","Insera B1-312"]
["Unitron","UNI-0534","Insera B3-312"]
["Unitron","UNI-0518","Moxi B1-312"]
["Unitron","UNI-0525","Stride B1-UP"]
["Unitron","UNI-0527","Stride B3-UP"]
["Unitron","UNI-0523","Moxi B5-R"]
["Unitron","UNI-0521","Moxi B3-RT"]
["Unitron","UNI-0524","Moxi B5-RT"]
["Unitron","UNI-0519","Moxi B3-312"]
["Unitron","UNI-0522","Moxi B5-312"]
["Unitron","UNI-0526","Stride B3-PR"]
["Unitron","UNI-0528","Stride B5-PR"]
["Unitron","UNI-0509","Moxi B1-R"]
["Unitron","UNI-0520","Moxi B3-R"]
["Unitron","UNI-0529","Stride B5-UP"]
["Unitron","UNI-0510","Moxi B1-RT"]
["Unitron","UNI-0511","Stride B1-PR"]
["Rexton","REX-0111","M-Core iX-CIC 20 links"]
["Rexton","REX-0113","M-Core iX-CIC 30 links"]
["Rexton","REX-0115","M-Core iX-CIC 40 links"]
["Rexton","REX-0117","M-Core iX-CIC 60 links"]
["Rexton","REX-0112","M-Core iX-CIC 20 rechts"]
["Rexton","REX-0114","M-Core iX-CIC 30 rechts"]
["Rexton","REX-0116","M-Core iX-CIC 40 rechts"]
["Rexton","REX-0118","M-Core iX-CIC 60 rechts"]
["Rexton","REX-0080","Sterling 40 8C CIC"]
["Rexton","REX-0084","Sterling 60 8C CIC"]
["Rexton","REX-0081","Sterling 40 8C IIC"]
["Rexton","REX-0085","Sterling 60 8C IIC"]
["Rexton","REX-0082","Sterling 40 8C ITE/ITC"]
["Rexton","REX-0086","Sterling 60 8C ITE/ ITC"]
["Rexton","REX-0083","Sterling 40 8C ITE/ITC BT"]
["Rexton","REX-0087","Sterling 60 8C ITE/ITC BT"]
["Rexton","REX-0128","Mosaic M 10 E1"]
["Rexton","REX-0060","Mosaic M 20 8C"]
["Rexton","REX-0061","Mosaic M 30 8C"]
["Rexton","REX-0062","Mosaic M 40 8C"]
["Rexton","REX-0063","Mosaic M 60 8C"]
["Rexton","REX-0129","Mosaic P 10 E1"]
["Rexton","REX-0065","Mosaic P 20 8C"]
["Rexton","REX-0066","Mosaic P 30 8C"]
["Rexton","REX-0067","Mosaic P 40 8C"]
["Rexton","REX-0068","Mosaic P 60 8C"]
["Rexton","REX-0127","Mosaic HP 10 E1"]
["Rexton","REX-0123","M-Core R312 20"]
["Rexton","REX-0124","M-Core R312 30"]
["Rexton","REX-057","Mosaic HP 40 6C"]
["Rexton","REX-058","Mosaic HP 60 6C"]
["Rexton","REX-0120","M-Core R-Li 30"]
["Rexton","REX-0125","M-Core R312 40"]
["Rexton","REX-0126","M-Core R312 60"]
["Rexton","REX-0100","M-Core B-Li-M 30"]
["Rexton","REX-0121","M-Core R-Li 40"]
["Rexton","REX-0122","M-Core R-Li 60"]
["Rexton","REX-0104","M-Core B-Li-P 30"]
["Rexton","REX-0101","M-Core B-Li-M 40"]
["Rexton","REX-0102","M-Core B-Li-M 60"]
["Rexton","REX-0096","M-Core B-Li-HP 30"]
["Rexton","REX-0105","M-Core B-Li-P 40"]
["Rexton","REX-0106","M-Core B-Li-P 60"]
["Rexton","REX-0138","BICORE R312 20"]
["Rexton","REX-0097","M-Core B-Li-HP 30"]
["Rexton","REX-0098","M-Core B-Li-HP 60"]
["Rexton","REX-0135","BICORE R-Li T 20"]
["Rexton","REX-0139","BICORE R312 30"]
["Rexton","REX-0140","BICORE R312 40"]
["Rexton","REX-0076","Stellar RIC 30 8C"]
["Rexton","REX-0136","BICORE R-Li T 30"]
["Rexton","REX-0137","BICORE R-Li T 40"]
["Rexton","REX-0077","Stellar RIC 40 8C"]
["Rexton","REX-0078","Stellar RIC 60 8C"]
["Audio Service","AUS-0168","quiX 6  G4 rechts"]
["Advance (Sivantos)","SIV-0046","117 IF CIC links"]
["Advance (GN)","GNH-0003","ADV161-ITC"]
["Resound","RES-0037","Alera TS 577/87 DW"]
["Resound","RES-0050","Alera TS 762 DVIRW"]
["Resound","RES-0071","Alera TS 961 DRW"]
["Resound","RES-0077","Lex 800 links"]
["Resound","RES-0218","Enya 4 ITC"]
["Unitron","UNI-2080","T Insera 800 10A Omni"]
["Beltone","BEL-0044","Turn 375"]
["Oticon","BER-0616","Zerena 1 CIC"]
["Oticon","BER-0617","Zerena 1 IIC"]
["Oticon","BER-0624","Zerena 3 CIC"]
["Coselgi","COS-00308","Effect EF4-CIC  Rechts"]
["Coselgi","COS-00306","Effect EF4-CIC M"]
["Interton","INT-0002","Share 1.1 70"]
["Resound","RES-0015","Vea 230 D/DP"]
["Phonak","PHO-0349","Audéo M50-R"]
["Phonak","PHO-0350","Audéo M50-RT"]
["Phonak","PHO-0347","Audéo M50-312"]
["Phonak","PHO-0348","Audéo M50-312T"]
["Phonak","PHO-0346","Audéo M50-13T"]
["Phonak","PHO-0353","Bolero M50-M"]
["Phonak","PHO-0354","Bolero M50-PR"]
["Phonak","PHO-0356","Naida M50-SP"]
["NovaSense","NVS-0027","Basic 10 P13"]
["NovaSense","NVS-0028","Basic 20 HPm13"]
["Sonic Innovations","SON-0134","Enchant 20 ITE FS"]
["Sonic Innovations","SON-0135","Enchant 20 ITE HS"]
["AudioNova ","UNI-0421","Basic+ M 312"]
["AudioNova","UNI-0422","Basic+ P 13"]
["Audionova ","UNI-0458","DX 30 M 312"]
["Audionova ","UNI-0460","DX 30 R 312"]
["Audionova ","UNI-0462","DX 30 R Li T"]
["Audionova","UNI-0463","DX 50 M 312"]
["Audionova ","UNI-0467","DX 50 R Li T"]
["Audionova ","UNI-0468","DX 70 M 312"]
["AudioNova ","UNI-0501","DX 30 312 Omni"]
["AudioNova ","UNI-0502","DX 30 W 312 Dir"]
["Audionova ","UNI-0503","DX 50 10A Omni"]
["Audionova ","UNI-0505","DX 50 W 312 Dir"]
["Audionova ","UNI-0508","DX 70 W 312 Dir"]
["Advance","SIV0046","117 IF CIC links"]
["Advance","WSA-0001 ","219 IF CIC"]
["Advance","WSA-0005","319 IF CIC links"]
["Advance","WSA-0009","419 IF CIC links"]
["Advance","WSA-0013","619 IF CIC links"]
["Advance","WSA-0002","219 IF CIC rechts"]
["Advance","WSA-0006","319 IF CIC rechts"]
["Advance","WSA-0010","419 IF CIC rechts"]
["Advance","WSA-0014","619 IF CIC rechts"]
["Advance","UNI-0544","271 312 Dir"]
["Advance","UNI-0549","471 312 Dir"]
["Advance","UNI-0556","671 312 Dir"]
["Advance","SIV0049","117 OTE"]
["Advance","ADV-0027","RIC LI 280"]
["Advance","ADV-0028","RIC Li 380"]
["Advance","ADV-0029","RIC Li 480"]
["Advance","SIV0050","117 P"]
["Advance","WSA-0021","OTE LI 219"]
["Advance","WSA-0022","OTE LI 319"]
["Advance","WSA-0023","OTE LI 419"]
["Advance","WSA-0024","OTE LI 619"]
["Advance","UNI-0543","271 312"]
["Advance","UNI-0548","471 312"]
["Advance","UNI-0555","671 312"]
["Advance","ADV-0005","Specsavers 290 AO1 MNR T R"]
["Advance","ADV-0009","Specsavers 390 AO3 MNR T R"]
["Advance","ADV-0071","Specsavers 490 AO XT MNR TR"]
["Advance","ADV-0001","Specsavers 190 CZ1 B105"]
["Advance","ADV-0004","Specsavers 290 AO1 MNR T"]
["Advance","ADV-0008","Specsavers 390 AO3 MNR T"]
["Advance","ADV-0070","Specsavers 490 AO XT MNR T"]
["Advance","ADV-0003","Specsavers 290 AO1 MNB T R"]
["Advance","ADV-0007","Specsavers 390 AO3 MNB T R"]
["Advance","ADV-0069","Specsavers 490 AO XT MNB TR"]
["Advance","ADV-0002","Specsavers 290 AO1 MNB T"]
["Advance","ADV-0006","Specsavers 390 AO3 MNB T"]
["Advance","ADV-0068","Specsavers 490 AO XT MNB T"]
["Advance","UNI-0513","271 R"]
["Advance","UNI-0552","471 R"]
["Advance","UNI-0558","671 R"]
["Advance","ADV-0030","RIC Li T 280"]
["Advance","ADV-0031","RIC Li T 380"]
["Advance","ADV-0032","RIC Li T 480"]
["Audio Service","AUS-0221 ","Volta quiX C Links"]
["Coselgi","COS-0059","Dinamico 3E D-CIC"]
["Resound","RES-0224","EnzoSP 798 DW"]
["Resound","RES-0225","EnzoSP 998 DW"]
["Audika","ADK-0053","G 100 BTE 85"]
["Audika","ADK-0059","G 100 miniRITE T 60 - 105"]
["Audika","ADK-0066","G 200 miniRITE T 60 - 105"]
["Audika","ADK-0073","G300 miniRITE T 60 - 105"]
["Audika","ADK-0077","G100 S miniRITE R 60 - 105"]
["Audika","ADK-0082","G200 S miniRITE R 60 - 105"]
["Sonic","SON-0130","Enchant 20 BTE 105"]
["Sonic","SON-0131","Enchant 20 CIC"]
["Sonic","SON-0133","Enchant 20 ITC"]
["Sonic","SON-0139","Enchant 40 CIC"]
["Sonic","SON-0141","Enchant 40 ITC"]
["Sonic","SON-0144","Enchant 40 MNR"]
["Bernafon","COS-0388","MOJO M5 RIC 10 (S-tel)"]
["Coselgi","COS-0406","MOJO M2 XP"]
["Coselgi","COS-0398","MOJO M2 CIC"]
["Coselgi","COS-0399","MOJO M2 CIC-M"]
["Coselgi","COS 0284","Effect EF2-CIC Links)"]
["Coselgi","COS-0392","Mojo M5 XP"]
["Coselgi","COS-0395","Mojo M4 Xp"]
["Coselgi","COS-0385","Mojo M5 CIC"]
["Coselgi","COS-0376","Mojo M4 cic"]
["Coselgi","COS-0386","Mojo M5 -M"]
["Coselgi","COS-0394","Mojo M4 cic-M"]
["Coselgi","COS-0403","MOJO M2 RIC 312 D (M-TEL)"]
["Coselgi","COS-0404","MOJO M2 RIC 312 D (P-TEL)"]
["Coselgi","COS-0402","MOJO M2 RIC 312 D (HP-TEL)"]
["Coselgi","COS-0405","MOJO M2 RIC 312 D (S-TEL)"]
["Coselgi","COS-0401","MOJO M2 RIC 10 (S-TEL)"]
["Coselgi","COS-0400","MOJO M2 RIC 10 (M-TEL)"]
["Coselgi","COS-0390","MOJO M5 RIC 312 D (M-tel)"]
["Coselgi","COS-0397","MOJO M2 BTE 312"]
["Coselgi","COS-0391","MOJO M5 RIC 312 D (P-tel)"]
["Coselgi","COS-0396","MOJO M2 BTE 13 D"]
["Coselgi","COS-0389","MOJO M5 RIC 312 D (HP-tel)"]
["Coselgi","COS-0393","MOJO M5 RIC 312 D (S-tel)"]
["Coselgi","COS-0380","MOJO M4 RIC 312 D (M-tel)"]
["Coselgi","COS-0387","MOJO M5 RIC 10 (M-tel)"]
["Coselgi","COS-0381","MOJO M4 RIC 312 D (P-tel)"]
["Coselgi","COS-0384","MOJO M5 BTE 312"]
["Coselgi","COS-0379","MOJO M4 RIC 312 D (HP-tel)"]
["Coselgi","COS-0383","MOJO M5 BTE 13 D"]
["Coselgi","COS-0382","MOJO M4 RIC 312 D (S-tel)"]
["Coselgi","COS-0378","MOJO M4 RIC 10 (S-tel)"]
["Coselgi","COS-0377","MOJO M4 RIC 10 (M-tel)"]
["Coselgi","COS-0370","MOJO M3 RIC 312 D (M-TEL)"]
["Coselgi","COS-0375","Mojo M4 BTE 312"]
["Coselgi","COS-0371","MOJO M3 RIC 312 D (P-TEL)"]
["Coselgi","COS-0374","Mojo M4 BTE 13 D"]
["Coselgi","COS-0369","MOJO M3 RIC 312 D HP-TEL)"]
["Coselgi","COS-0372","MOJO M3 RIC 312 D (S-TEL)"]
["Coselgi","COS-0368","MOJO M3 RIC 10 (S-TEL)"]
["Coselgi","COS-0367","MOJO M3 RIC 10 (M-TEL)"]
["Coselgi","COS-0364","MOJO M3 BTE 312"]
["Coselgi","COS-0363","MOJO M3 BTE 13 D"]